{"text_format":"2","workbook":"xlsx","n_sheets":6,"sheets":["run log","Teom ugm3","Teom grams","Summary Phase Data","change log","NYSERDA permission and limits"],"not_rendered":{"charts":0,"images":1,"macros":0,"external_links":0,"defined_names":0,"comments":3,"pivot_tables":0},"unopened":[],"bounds":{"document_bytes":16777216,"sheet_cells":100000,"run_cost":"one","rows_first":2000,"rows_last":500,"rows_between":2000,"halvings":0,"cell_chars":16384,"cell_head_chars":4096},"cells_cut":0,"cells_raw":0,"read":"whole","date_system":"1900"}

{"sheet":"run log","index":0,"n_rows":0,"n_cols":0,"rows_kept":0,"cut":false,"hidden":false,"merged":[]}

{"sheet":"Teom ugm3","index":1,"n_rows":2005,"n_cols":12,"rows_kept":2005,"cut":false,"hidden":false,"merged":[[0,0,0,2]]}
["TEOM data at 20C",{"$nulls":4},"2000 minutes max test duration"]
["Average:",{"$f":"AVERAGE(B6:B2005)","v":{"$error":"#DIV/0!"}},{"$f":"AVERAGE(C6:C2005)","v":{"$error":"#DIV/0!"}},{"$f":"AVERAGE(D6:D2005)","v":{"$error":"#DIV/0!"}},null,{"$f":"AVERAGE(F6:F2005)","v":{"$error":"#DIV/0!"}},{"$f":"AVERAGE(G6:G2005)","v":{"$error":"#DIV/0!"}},{"$f":"AVERAGE(H6:H2005)","v":{"$error":"#DIV/0!"}},null,"Ratio unadj/adj:",null,{"$f":"D2/H2","v":{"$error":"#DIV/0!"}}]
[]
["Start","unadjusted","unadjusted","Unadjusted",null,"adjusted","adjusted","Adjusted"]
["Time","PM2.5","PM-c","Avg PM",null,"PM2.5","PM-c","Avg PM"]
[null,null,null,{"$f":"IF(COUNT(B6:C6)<1,\"\",AVERAGE(B6:C6))","v":""},null,{"$f":"IF(ISNUMBER(B6),IF(B6<0,0,B6),\"\")","v":""},{"$f":"IF(ISNUMBER(C6),IF(C6<0,0,C6),\"\")","v":""},{"$f":"IF(COUNT(F6:G6)<1,\"\",AVERAGE(F6:G6))","v":""}]
[null,null,null,{"$f":"IF(COUNT(B7:C7)<1,\"\",AVERAGE(B7:C7))","v":""},null,{"$f":"IF(ISNUMBER(B7),IF(B7<0,0,B7),\"\")","v":""},{"$f":"IF(ISNUMBER(C7),IF(C7<0,0,C7),\"\")","v":""},{"$f":"IF(COUNT(F7:G7)<1,\"\",AVERAGE(F7:G7))","v":""}]
[null,null,null,"",null,"","",""]
[null,null,null,"",null,"","",""]
[null,null,null,"",null,"","",""]
[null,null,null,"",null,"","",""]
[null,null,null,"",null,"","",""]
[null,null,null,"",null,"","",""]
[null,null,null,"",null,"","",""]
[null,null,null,"",null,"","",""]
[null,null,null,"",null,"","",""]
[null,null,null,"",null,"","",""]
[null,null,null,"",null,"","",""]
[null,null,null,"",null,"","",""]
[null,null,null,"",null,"","",""]
[null,null,null,"",null,"","",""]
[null,null,null,"",null,"","",""]
[null,null,null,"",null,"","",""]
[null,null,null,"",null,"","",""]
[null,null,null,"",null,"","",""]
[null,null,null,"",null,"","",""]
[null,null,null,"",null,"","",""]
[null,null,null,"",null,"","",""]
[null,null,null,"",null,"","",""]
[null,null,null,"",null,"","",""]
[null,null,null,"",null,"","",""]
[null,null,null,"",null,"","",""]
[null,null,null,"",null,"","",""]
[null,null,null,"",null,"","",""]
[null,null,null,"",null,"","",""]
[null,null,null,"",null,"","",""]
[null,null,null,"",null,"","",""]
[null,null,null,"",null,"","",""]
[null,null,null,"",null,"","",""]
[null,null,null,"",null,"","",""]
[null,null,null,"",null,"","",""]
[null,null,null,"",null,"","",""]
[null,null,null,"",null,"","",""]
[null,null,null,"",null,"","",""]
[null,null,null,"",null,"","",""]
[null,null,null,"",null,"","",""]
[null,null,null,"",null,"","",""]
[null,null,null,"",null,"","",""]
[null,null,null,"",null,"","",""]
[null,null,null,"",null,"","",""]
[null,null,null,"",null,"","",""]
[null,null,null,"",null,"","",""]
[null,null,null,"",null,"","",""]
[null,null,null,"",null,"","",""]
[null,null,null,"",null,"","",""]
[null,null,null,"",null,"","",""]
[null,null,null,"",null,"","",""]
[null,null,null,"",null,"","",""]
[null,null,null,"",null,"","",""]
[null,null,null,"",null,"","",""]
[null,null,null,"",null,"","",""]
[null,null,null,"",null,"","",""]
[null,null,null,"",null,"","",""]
[null,null,null,"",null,"","",""]
[null,null,null,"",null,"","",""]
[null,null,null,"",null,"","",""]
[null,null,null,"",null,"","",""]
[null,null,null,"",null,"","",""]
[null,null,null,"",null,"","",""]
[null,null,null,"",null,"","",""]
[null,null,null,{"$f":"IF(COUNT(B71:C71)<1,\"\",AVERAGE(B71:C71))","v":""},null,{"$f":"IF(ISNUMBER(B71),IF(B71<0,0,B71),\"\")","v":""},{"$f":"IF(ISNUMBER(C71),IF(C71<0,0,C71),\"\")","v":""},{"$f":"IF(COUNT(F71:G71)<1,\"\",AVERAGE(F71:G71))","v":""}]
[null,null,null,"",null,"","",""]
[null,null,null,"",null,"","",""]
[null,null,null,"",null,"","",""]
[null,null,null,"",null,"","",""]
[null,null,null,"",null,"","",""]
[null,null,null,"",null,"","",""]
[null,null,null,"",null,"","",""]
[null,null,null,"",null,"","",""]
[null,null,null,"",null,"","",""]
[null,null,null,"",null,"","",""]
[null,null,null,"",null,"","",""]
[null,null,null,"",null,"","",""]
[null,null,null,"",null,"","",""]
[null,null,null,"",null,"","",""]
[null,null,null,"",null,"","",""]
[null,null,null,"",null,"","",""]
[null,null,null,"",null,"","",""]
[null,null,null,"",null,"","",""]
[null,null,null,"",null,"","",""]
[null,null,null,"",null,"","",""]
[null,null,null,"",null,"","",""]
[null,null,null,"",null,"","",""]
[null,null,null,"",null,"","",""]
[null,null,null,"",null,"","",""]
[null,null,null,"",null,"","",""]
[null,null,null,"",null,"","",""]
[null,null,null,"",null,"","",""]
[null,null,null,"",null,"","",""]
[null,null,null,"",null,"","",""]
[null,null,null,"",null,"","",""]
[null,null,null,"",null,"","",""]
[null,null,null,"",null,"","",""]
[null,null,null,"",null,"","",""]
[null,null,null,"",null,"","",""]
[null,null,null,"",null,"","",""]
[null,null,null,"",null,"","",""]
[null,null,null,"",null,"","",""]
[null,null,null,"",null,"","",""]
[null,null,null,"",null,"","",""]
[null,null,null,"",null,"","",""]
[null,null,null,"",null,"","",""]
[null,null,null,"",null,"","",""]
[null,null,null,"",null,"","",""]
[null,null,null,"",null,"","",""]
[null,null,null,"",null,"","",""]
[null,null,null,"",null,"","",""]
[null,null,null,"",null,"","",""]
[null,null,null,"",null,"","",""]
[null,null,null,"",null,"","",""]
[null,null,null,"",null,"","",""]
[null,null,null,"",null,"","",""]
[null,null,null,"",null,"","",""]
[null,null,null,"",null,"","",""]
[null,null,null,"",null,"","",""]
[null,null,null,"",null,"","",""]
[null,null,null,"",null,"","",""]
[null,null,null,"",null,"","",""]
[null,null,null,"",null,"","",""]
[null,null,null,"",null,"","",""]
[null,null,null,"",null,"","",""]
[null,null,null,"",null,"","",""]
[null,null,null,"",null,"","",""]
[null,null,null,"",null,"","",""]
[null,null,null,{"$f":"IF(COUNT(B135:C135)<1,\"\",AVERAGE(B135:C135))","v":""},null,{"$f":"IF(ISNUMBER(B135),IF(B135<0,0,B135),\"\")","v":""},{"$f":"IF(ISNUMBER(C135),IF(C135<0,0,C135),\"\")","v":""},{"$f":"IF(COUNT(F135:G135)<1,\"\",AVERAGE(F135:G135))","v":""}]
[null,null,null,"",null,"","",""]
[null,null,null,"",null,"","",""]
[null,null,null,"",null,"","",""]
[null,null,null,"",null,"","",""]
[null,null,null,"",null,"","",""]
[null,null,null,"",null,"","",""]
[null,null,null,"",null,"","",""]
[null,null,null,"",null,"","",""]
[null,null,null,"",null,"","",""]
[null,null,null,"",null,"","",""]
[null,null,null,"",null,"","",""]
[null,null,null,"",null,"","",""]
[null,null,null,"",null,"","",""]
[null,null,null,"",null,"","",""]
[null,null,null,"",null,"","",""]
[null,null,null,"",null,"","",""]
[null,null,null,"",null,"","",""]
[null,null,null,"",null,"","",""]
[null,null,null,"",null,"","",""]
[null,null,null,"",null,"","",""]
[null,null,null,"",null,"","",""]
[null,null,null,"",null,"","",""]
[null,null,null,"",null,"","",""]
[null,null,null,"",null,"","",""]
[null,null,null,"",null,"","",""]
[null,null,null,"",null,"","",""]
[null,null,null,"",null,"","",""]
[null,null,null,"",null,"","",""]
[null,null,null,"",null,"","",""]
[null,null,null,"",null,"","",""]
[null,null,null,"",null,"","",""]
[null,null,null,"",null,"","",""]
[null,null,null,"",null,"","",""]
[null,null,null,"",null,"","",""]
[null,null,null,"",null,"","",""]
[null,null,null,"",null,"","",""]
[null,null,null,"",null,"","",""]
[null,null,null,"",null,"","",""]
[null,null,null,"",null,"","",""]
[null,null,null,"",null,"","",""]
[null,null,null,"",null,"","",""]
[null,null,null,"",null,"","",""]
[null,null,null,"",null,"","",""]
[null,null,null,"",null,"","",""]
[null,null,null,"",null,"","",""]
[null,null,null,"",null,"","",""]
[null,null,null,"",null,"","",""]
[null,null,null,"",null,"","",""]
[null,null,null,"",null,"","",""]
[null,null,null,"",null,"","",""]
[null,null,null,"",null,"","",""]
[null,null,null,"",null,"","",""]
[null,null,null,"",null,"","",""]
[null,null,null,"",null,"","",""]
[null,null,null,"",null,"","",""]
[null,null,null,"",null,"","",""]
[null,null,null,"",null,"","",""]
[null,null,null,"",null,"","",""]
[null,null,null,"",null,"","",""]
[null,null,null,"",null,"","",""]
[null,null,null,"",null,"","",""]
[null,null,null,"",null,"","",""]
[null,null,null,"",null,"","",""]
[null,null,null,{"$f":"IF(COUNT(B199:C199)<1,\"\",AVERAGE(B199:C199))","v":""},null,{"$f":"IF(ISNUMBER(B199),IF(B199<0,0,B199),\"\")","v":""},{"$f":"IF(ISNUMBER(C199),IF(C199<0,0,C199),\"\")","v":""},{"$f":"IF(COUNT(F199:G199)<1,\"\",AVERAGE(F199:G199))","v":""}]
[null,null,null,"",null,"","",""]
[null,null,null,"",null,"","",""]
[null,null,null,"",null,"","",""]
[null,null,null,"",null,"","",""]
[null,null,null,"",null,"","",""]
[null,null,null,"",null,"","",""]
[null,null,null,"",null,"","",""]
[null,null,null,"",null,"","",""]
[null,null,null,"",null,"","",""]
[null,null,null,"",null,"","",""]
[null,null,null,"",null,"","",""]
[null,null,null,"",null,"","",""]
[null,null,null,"",null,"","",""]
[null,null,null,"",null,"","",""]
[null,null,null,"",null,"","",""]
[null,null,null,"",null,"","",""]
[null,null,null,"",null,"","",""]
[null,null,null,"",null,"","",""]
[null,null,null,"",null,"","",""]
[null,null,null,"",null,"","",""]
[null,null,null,"",null,"","",""]
[null,null,null,"",null,"","",""]
[null,null,null,"",null,"","",""]
[null,null,null,"",null,"","",""]
[null,null,null,"",null,"","",""]
[null,null,null,"",null,"","",""]
[null,null,null,"",null,"","",""]
[null,null,null,"",null,"","",""]
[null,null,null,"",null,"","",""]
[null,null,null,"",null,"","",""]
[null,null,null,"",null,"","",""]
[null,null,null,"",null,"","",""]
[null,null,null,"",null,"","",""]
[null,null,null,"",null,"","",""]
[null,null,null,"",null,"","",""]
[null,null,null,"",null,"","",""]
[null,null,null,"",null,"","",""]
[null,null,null,"",null,"","",""]
[null,null,null,"",null,"","",""]
[null,null,null,"",null,"","",""]
[null,null,null,"",null,"","",""]
[null,null,null,"",null,"","",""]
[null,null,null,"",null,"","",""]
[null,null,null,"",null,"","",""]
[null,null,null,"",null,"","",""]
[null,null,null,"",null,"","",""]
[null,null,null,"",null,"","",""]
[null,null,null,"",null,"","",""]
[null,null,null,"",null,"","",""]
[null,null,null,"",null,"","",""]
[null,null,null,"",null,"","",""]
[null,null,null,"",null,"","",""]
[null,null,null,"",null,"","",""]
[null,null,null,"",null,"","",""]
[null,null,null,"",null,"","",""]
[null,null,null,"",null,"","",""]
[null,null,null,"",null,"","",""]
[null,null,null,"",null,"","",""]
[null,null,null,"",null,"","",""]
[null,null,null,"",null,"","",""]
[null,null,null,"",null,"","",""]
[null,null,null,"",null,"","",""]
[null,null,null,"",null,"","",""]
[null,null,null,{"$f":"IF(COUNT(B263:C263)<1,\"\",AVERAGE(B263:C263))","v":""},null,{"$f":"IF(ISNUMBER(B263),IF(B263<0,0,B263),\"\")","v":""},{"$f":"IF(ISNUMBER(C263),IF(C263<0,0,C263),\"\")","v":""},{"$f":"IF(COUNT(F263:G263)<1,\"\",AVERAGE(F263:G263))","v":""}]
[null,null,null,"",null,"","",""]
[null,null,null,"",null,"","",""]
[null,null,null,"",null,"","",""]
[null,null,null,"",null,"","",""]
[null,null,null,"",null,"","",""]
[null,null,null,"",null,"","",""]
[null,null,null,"",null,"","",""]
[null,null,null,"",null,"","",""]
[null,null,null,"",null,"","",""]
[null,null,null,"",null,"","",""]
[null,null,null,"",null,"","",""]
[null,null,null,"",null,"","",""]
[null,null,null,"",null,"","",""]
[null,null,null,"",null,"","",""]
[null,null,null,"",null,"","",""]
[null,null,null,"",null,"","",""]
[null,null,null,"",null,"","",""]
[null,null,null,"",null,"","",""]
[null,null,null,"",null,"","",""]
[null,null,null,"",null,"","",""]
[null,null,null,"",null,"","",""]
[null,null,null,"",null,"","",""]
[null,null,null,"",null,"","",""]
[null,null,null,"",null,"","",""]
[null,null,null,"",null,"","",""]
[null,null,null,"",null,"","",""]
[null,null,null,"",null,"","",""]
[null,null,null,"",null,"","",""]
[null,null,null,"",null,"","",""]
[null,null,null,"",null,"","",""]
[null,null,null,"",null,"","",""]
[null,null,null,"",null,"","",""]
[null,null,null,"",null,"","",""]
[null,null,null,"",null,"","",""]
[null,null,null,"",null,"","",""]
[null,null,null,"",null,"","",""]
[null,null,null,"",null,"","",""]
[null,null,null,"",null,"","",""]
[null,null,null,"",null,"","",""]
[null,null,null,"",null,"","",""]
[null,null,null,"",null,"","",""]
[null,null,null,"",null,"","",""]
[null,null,null,"",null,"","",""]
[null,null,null,"",null,"","",""]
[null,null,null,"",null,"","",""]
[null,null,null,"",null,"","",""]
[null,null,null,"",null,"","",""]
[null,null,null,"",null,"","",""]
[null,null,null,"",null,"","",""]
[null,null,null,"",null,"","",""]
[null,null,null,"",null,"","",""]
[null,null,null,"",null,"","",""]
[null,null,null,"",null,"","",""]
[null,null,null,"",null,"","",""]
[null,null,null,"",null,"","",""]
[null,null,null,"",null,"","",""]
[null,null,null,"",null,"","",""]
[null,null,null,"",null,"","",""]
[null,null,null,"",null,"","",""]
[null,null,null,"",null,"","",""]
[null,null,null,"",null,"","",""]
[null,null,null,"",null,"","",""]
[null,null,null,"",null,"","",""]
[null,null,null,{"$f":"IF(COUNT(B327:C327)<1,\"\",AVERAGE(B327:C327))","v":""},null,{"$f":"IF(ISNUMBER(B327),IF(B327<0,0,B327),\"\")","v":""},{"$f":"IF(ISNUMBER(C327),IF(C327<0,0,C327),\"\")","v":""},{"$f":"IF(COUNT(F327:G327)<1,\"\",AVERAGE(F327:G327))","v":""}]
[null,null,null,"",null,"","",""]
[null,null,null,"",null,"","",""]
[null,null,null,"",null,"","",""]
[null,null,null,"",null,"","",""]
[null,null,null,"",null,"","",""]
[null,null,null,"",null,"","",""]
[null,null,null,"",null,"","",""]
[null,null,null,"",null,"","",""]
[null,null,null,"",null,"","",""]
[null,null,null,"",null,"","",""]
[null,null,null,"",null,"","",""]
[null,null,null,"",null,"","",""]
[null,null,null,"",null,"","",""]
[null,null,null,"",null,"","",""]
[null,null,null,"",null,"","",""]
[null,null,null,"",null,"","",""]
[null,null,null,"",null,"","",""]
[null,null,null,"",null,"","",""]
[null,null,null,"",null,"","",""]
[null,null,null,"",null,"","",""]
[null,null,null,"",null,"","",""]
[null,null,null,"",null,"","",""]
[null,null,null,"",null,"","",""]
[null,null,null,"",null,"","",""]
[null,null,null,"",null,"","",""]
[null,null,null,"",null,"","",""]
[null,null,null,"",null,"","",""]
[null,null,null,"",null,"","",""]
[null,null,null,"",null,"","",""]
[null,null,null,"",null,"","",""]
[null,null,null,"",null,"","",""]
[null,null,null,"",null,"","",""]
[null,null,null,"",null,"","",""]
[null,null,null,"",null,"","",""]
[null,null,null,"",null,"","",""]
[null,null,null,"",null,"","",""]
[null,null,null,"",null,"","",""]
[null,null,null,"",null,"","",""]
[null,null,null,"",null,"","",""]
[null,null,null,"",null,"","",""]
[null,null,null,"",null,"","",""]
[null,null,null,"",null,"","",""]
[null,null,null,"",null,"","",""]
[null,null,null,"",null,"","",""]
[null,null,null,"",null,"","",""]
[null,null,null,"",null,"","",""]
[null,null,null,"",null,"","",""]
[null,null,null,"",null,"","",""]
[null,null,null,"",null,"","",""]
[null,null,null,"",null,"","",""]
[null,null,null,"",null,"","",""]
[null,null,null,"",null,"","",""]
[null,null,null,"",null,"","",""]
[null,null,null,"",null,"","",""]
[null,null,null,"",null,"","",""]
[null,null,null,"",null,"","",""]
[null,null,null,"",null,"","",""]
[null,null,null,"",null,"","",""]
[null,null,null,"",null,"","",""]
[null,null,null,"",null,"","",""]
[null,null,null,"",null,"","",""]
[null,null,null,"",null,"","",""]
[null,null,null,"",null,"","",""]
[null,null,null,{"$f":"IF(COUNT(B391:C391)<1,\"\",AVERAGE(B391:C391))","v":""},null,{"$f":"IF(ISNUMBER(B391),IF(B391<0,0,B391),\"\")","v":""},{"$f":"IF(ISNUMBER(C391),IF(C391<0,0,C391),\"\")","v":""},{"$f":"IF(COUNT(F391:G391)<1,\"\",AVERAGE(F391:G391))","v":""}]
[null,null,null,"",null,"","",""]
[null,null,null,"",null,"","",""]
[null,null,null,"",null,"","",""]
[null,null,null,"",null,"","",""]
[null,null,null,"",null,"","",""]
[null,null,null,"",null,"","",""]
[null,null,null,"",null,"","",""]
[null,null,null,"",null,"","",""]
[null,null,null,"",null,"","",""]
[null,null,null,"",null,"","",""]
[null,null,null,"",null,"","",""]
[null,null,null,"",null,"","",""]
[null,null,null,"",null,"","",""]
[null,null,null,"",null,"","",""]
[null,null,null,"",null,"","",""]
[null,null,null,"",null,"","",""]
[null,null,null,"",null,"","",""]
[null,null,null,"",null,"","",""]
[null,null,null,"",null,"","",""]
[null,null,null,"",null,"","",""]
[null,null,null,"",null,"","",""]
[null,null,null,"",null,"","",""]
[null,null,null,"",null,"","",""]
[null,null,null,"",null,"","",""]
[null,null,null,"",null,"","",""]
[null,null,null,"",null,"","",""]
[null,null,null,"",null,"","",""]
[null,null,null,"",null,"","",""]
[null,null,null,"",null,"","",""]
[null,null,null,"",null,"","",""]
[null,null,null,"",null,"","",""]
[null,null,null,"",null,"","",""]
[null,null,null,"",null,"","",""]
[null,null,null,"",null,"","",""]
[null,null,null,"",null,"","",""]
[null,null,null,"",null,"","",""]
[null,null,null,"",null,"","",""]
[null,null,null,"",null,"","",""]
[null,null,null,"",null,"","",""]
[null,null,null,"",null,"","",""]
[null,null,null,"",null,"","",""]
[null,null,null,"",null,"","",""]
[null,null,null,"",null,"","",""]
[null,null,null,"",null,"","",""]
[null,null,null,"",null,"","",""]
[null,null,null,"",null,"","",""]
[null,null,null,"",null,"","",""]
[null,null,null,"",null,"","",""]
[null,null,null,"",null,"","",""]
[null,null,null,"",null,"","",""]
[null,null,null,"",null,"","",""]
[null,null,null,"",null,"","",""]
[null,null,null,"",null,"","",""]
[null,null,null,"",null,"","",""]
[null,null,null,"",null,"","",""]
[null,null,null,"",null,"","",""]
[null,null,null,"",null,"","",""]
[null,null,null,"",null,"","",""]
[null,null,null,"",null,"","",""]
[null,null,null,"",null,"","",""]
[null,null,null,"",null,"","",""]
[null,null,null,"",null,"","",""]
[null,null,null,"",null,"","",""]
[null,null,null,{"$f":"IF(COUNT(B455:C455)<1,\"\",AVERAGE(B455:C455))","v":""},null,{"$f":"IF(ISNUMBER(B455),IF(B455<0,0,B455),\"\")","v":""},{"$f":"IF(ISNUMBER(C455),IF(C455<0,0,C455),\"\")","v":""},{"$f":"IF(COUNT(F455:G455)<1,\"\",AVERAGE(F455:G455))","v":""}]
[null,null,null,"",null,"","",""]
[null,null,null,"",null,"","",""]
[null,null,null,"",null,"","",""]
[null,null,null,"",null,"","",""]
[null,null,null,"",null,"","",""]
[null,null,null,"",null,"","",""]
[null,null,null,"",null,"","",""]
[null,null,null,"",null,"","",""]
[null,null,null,"",null,"","",""]
[null,null,null,"",null,"","",""]
[null,null,null,"",null,"","",""]
[null,null,null,"",null,"","",""]
[null,null,null,"",null,"","",""]
[null,null,null,"",null,"","",""]
[null,null,null,"",null,"","",""]
[null,null,null,"",null,"","",""]
[null,null,null,"",null,"","",""]
[null,null,null,"",null,"","",""]
[null,null,null,"",null,"","",""]
[null,null,null,"",null,"","",""]
[null,null,null,"",null,"","",""]
[null,null,null,"",null,"","",""]
[null,null,null,"",null,"","",""]
[null,null,null,"",null,"","",""]
[null,null,null,"",null,"","",""]
[null,null,null,"",null,"","",""]
[null,null,null,"",null,"","",""]
[null,null,null,"",null,"","",""]
[null,null,null,"",null,"","",""]
[null,null,null,"",null,"","",""]
[null,null,null,"",null,"","",""]
[null,null,null,"",null,"","",""]
[null,null,null,"",null,"","",""]
[null,null,null,"",null,"","",""]
[null,null,null,"",null,"","",""]
[null,null,null,"",null,"","",""]
[null,null,null,"",null,"","",""]
[null,null,null,"",null,"","",""]
[null,null,null,"",null,"","",""]
[null,null,null,"",null,"","",""]
[null,null,null,"",null,"","",""]
[null,null,null,"",null,"","",""]
[null,null,null,"",null,"","",""]
[null,null,null,"",null,"","",""]
[null,null,null,"",null,"","",""]
[null,null,null,"",null,"","",""]
[null,null,null,"",null,"","",""]
[null,null,null,"",null,"","",""]
[null,null,null,"",null,"","",""]
[null,null,null,"",null,"","",""]
[null,null,null,"",null,"","",""]
[null,null,null,"",null,"","",""]
[null,null,null,"",null,"","",""]
[null,null,null,"",null,"","",""]
[null,null,null,"",null,"","",""]
[null,null,null,"",null,"","",""]
[null,null,null,"",null,"","",""]
[null,null,null,"",null,"","",""]
[null,null,null,"",null,"","",""]
[null,null,null,"",null,"","",""]
[null,null,null,"",null,"","",""]
[null,null,null,"",null,"","",""]
[null,null,null,"",null,"","",""]
[null,null,null,{"$f":"IF(COUNT(B519:C519)<1,\"\",AVERAGE(B519:C519))","v":""},null,{"$f":"IF(ISNUMBER(B519),IF(B519<0,0,B519),\"\")","v":""},{"$f":"IF(ISNUMBER(C519),IF(C519<0,0,C519),\"\")","v":""},{"$f":"IF(COUNT(F519:G519)<1,\"\",AVERAGE(F519:G519))","v":""}]
[null,null,null,"",null,"","",""]
[null,null,null,"",null,"","",""]
[null,null,null,"",null,"","",""]
[null,null,null,"",null,"","",""]
[null,null,null,"",null,"","",""]
[null,null,null,"",null,"","",""]
[null,null,null,"",null,"","",""]
[null,null,null,"",null,"","",""]
[null,null,null,"",null,"","",""]
[null,null,null,"",null,"","",""]
[null,null,null,"",null,"","",""]
[null,null,null,"",null,"","",""]
[null,null,null,"",null,"","",""]
[null,null,null,"",null,"","",""]
[null,null,null,"",null,"","",""]
[null,null,null,"",null,"","",""]
[null,null,null,"",null,"","",""]
[null,null,null,"",null,"","",""]
[null,null,null,"",null,"","",""]
[null,null,null,"",null,"","",""]
[null,null,null,"",null,"","",""]
[null,null,null,"",null,"","",""]
[null,null,null,"",null,"","",""]
[null,null,null,"",null,"","",""]
[null,null,null,"",null,"","",""]
[null,null,null,"",null,"","",""]
[null,null,null,"",null,"","",""]
[null,null,null,"",null,"","",""]
[null,null,null,"",null,"","",""]
[null,null,null,{"$f":"IF(COUNT(B549:C549)<1,\"\",AVERAGE(B549:C549))","v":""},null,{"$f":"IF(ISNUMBER(B549),IF(B549<0,0,B549),\"\")","v":""},{"$f":"IF(ISNUMBER(C549),IF(C549<0,0,C549),\"\")","v":""},{"$f":"IF(COUNT(F549:G549)<1,\"\",AVERAGE(F549:G549))","v":""}]
[null,null,null,{"$f":"IF(COUNT(B550:C550)<1,\"\",AVERAGE(B550:C550))","v":""},null,{"$f":"IF(ISNUMBER(B550),IF(B550<0,0,B550),\"\")","v":""},{"$f":"IF(ISNUMBER(C550),IF(C550<0,0,C550),\"\")","v":""},{"$f":"IF(COUNT(F550:G550)<1,\"\",AVERAGE(F550:G550))","v":""}]
[null,null,null,"",null,"","",""]
[null,null,null,"",null,"","",""]
[null,null,null,"",null,"","",""]
[null,null,null,"",null,"","",""]
[null,null,null,"",null,"","",""]
[null,null,null,"",null,"","",""]
[null,null,null,"",null,"","",""]
[null,null,null,"",null,"","",""]
[null,null,null,"",null,"","",""]
[null,null,null,"",null,"","",""]
[null,null,null,"",null,"","",""]
[null,null,null,"",null,"","",""]
[null,null,null,"",null,"","",""]
[null,null,null,"",null,"","",""]
[null,null,null,"",null,"","",""]
[null,null,null,"",null,"","",""]
[null,null,null,"",null,"","",""]
[null,null,null,"",null,"","",""]
[null,null,null,"",null,"","",""]
[null,null,null,"",null,"","",""]
[null,null,null,"",null,"","",""]
[null,null,null,"",null,"","",""]
[null,null,null,"",null,"","",""]
[null,null,null,"",null,"","",""]
[null,null,null,"",null,"","",""]
[null,null,null,"",null,"","",""]
[null,null,null,"",null,"","",""]
[null,null,null,"",null,"","",""]
[null,null,null,"",null,"","",""]
[null,null,null,"",null,"","",""]
[null,null,null,"",null,"","",""]
[null,null,null,"",null,"","",""]
[null,null,null,"",null,"","",""]
[null,null,null,"",null,"","",""]
[null,null,null,"",null,"","",""]
[null,null,null,"",null,"","",""]
[null,null,null,"",null,"","",""]
[null,null,null,"",null,"","",""]
[null,null,null,"",null,"","",""]
[null,null,null,"",null,"","",""]
[null,null,null,"",null,"","",""]
[null,null,null,"",null,"","",""]
[null,null,null,"",null,"","",""]
[null,null,null,"",null,"","",""]
[null,null,null,"",null,"","",""]
[null,null,null,"",null,"","",""]
[null,null,null,"",null,"","",""]
[null,null,null,"",null,"","",""]
[null,null,null,"",null,"","",""]
[null,null,null,"",null,"","",""]
[null,null,null,"",null,"","",""]
[null,null,null,"",null,"","",""]
[null,null,null,"",null,"","",""]
[null,null,null,"",null,"","",""]
[null,null,null,"",null,"","",""]
[null,null,null,"",null,"","",""]
[null,null,null,"",null,"","",""]
[null,null,null,"",null,"","",""]
[null,null,null,"",null,"","",""]
[null,null,null,"",null,"","",""]
[null,null,null,"",null,"","",""]
[null,null,null,"",null,"","",""]
[null,null,null,"",null,"","",""]
[null,null,null,{"$f":"IF(COUNT(B614:C614)<1,\"\",AVERAGE(B614:C614))","v":""},null,{"$f":"IF(ISNUMBER(B614),IF(B614<0,0,B614),\"\")","v":""},{"$f":"IF(ISNUMBER(C614),IF(C614<0,0,C614),\"\")","v":""},{"$f":"IF(COUNT(F614:G614)<1,\"\",AVERAGE(F614:G614))","v":""}]
[null,null,null,"",null,"","",""]
[null,null,null,"",null,"","",""]
[null,null,null,"",null,"","",""]
[null,null,null,"",null,"","",""]
[null,null,null,"",null,"","",""]
[null,null,null,"",null,"","",""]
[null,null,null,"",null,"","",""]
[null,null,null,"",null,"","",""]
[null,null,null,"",null,"","",""]
[null,null,null,"",null,"","",""]
[null,null,null,"",null,"","",""]
[null,null,null,"",null,"","",""]
[null,null,null,"",null,"","",""]
[null,null,null,"",null,"","",""]
[null,null,null,"",null,"","",""]
[null,null,null,"",null,"","",""]
[null,null,null,"",null,"","",""]
[null,null,null,"",null,"","",""]
[null,null,null,"",null,"","",""]
[null,null,null,"",null,"","",""]
[null,null,null,"",null,"","",""]
[null,null,null,"",null,"","",""]
[null,null,null,"",null,"","",""]
[null,null,null,"",null,"","",""]
[null,null,null,"",null,"","",""]
[null,null,null,"",null,"","",""]
[null,null,null,"",null,"","",""]
[null,null,null,"",null,"","",""]
[null,null,null,"",null,"","",""]
[null,null,null,"",null,"","",""]
[null,null,null,"",null,"","",""]
[null,null,null,"",null,"","",""]
[null,null,null,"",null,"","",""]
[null,null,null,"",null,"","",""]
[null,null,null,"",null,"","",""]
[null,null,null,"",null,"","",""]
[null,null,null,"",null,"","",""]
[null,null,null,"",null,"","",""]
[null,null,null,"",null,"","",""]
[null,null,null,"",null,"","",""]
[null,null,null,"",null,"","",""]
[null,null,null,"",null,"","",""]
[null,null,null,"",null,"","",""]
[null,null,null,"",null,"","",""]
[null,null,null,"",null,"","",""]
[null,null,null,"",null,"","",""]
[null,null,null,"",null,"","",""]
[null,null,null,"",null,"","",""]
[null,null,null,"",null,"","",""]
[null,null,null,"",null,"","",""]
[null,null,null,"",null,"","",""]
[null,null,null,"",null,"","",""]
[null,null,null,"",null,"","",""]
[null,null,null,"",null,"","",""]
[null,null,null,"",null,"","",""]
[null,null,null,"",null,"","",""]
[null,null,null,"",null,"","",""]
[null,null,null,"",null,"","",""]
[null,null,null,"",null,"","",""]
[null,null,null,"",null,"","",""]
[null,null,null,"",null,"","",""]
[null,null,null,"",null,"","",""]
[null,null,null,"",null,"","",""]
[null,null,null,{"$f":"IF(COUNT(B678:C678)<1,\"\",AVERAGE(B678:C678))","v":""},null,{"$f":"IF(ISNUMBER(B678),IF(B678<0,0,B678),\"\")","v":""},{"$f":"IF(ISNUMBER(C678),IF(C678<0,0,C678),\"\")","v":""},{"$f":"IF(COUNT(F678:G678)<1,\"\",AVERAGE(F678:G678))","v":""}]
[null,null,null,"",null,"","",""]
[null,null,null,"",null,"","",""]
[null,null,null,"",null,"","",""]
[null,null,null,"",null,"","",""]
[null,null,null,"",null,"","",""]
[null,null,null,"",null,"","",""]
[null,null,null,"",null,"","",""]
[null,null,null,"",null,"","",""]
[null,null,null,"",null,"","",""]
[null,null,null,"",null,"","",""]
[null,null,null,"",null,"","",""]
[null,null,null,"",null,"","",""]
[null,null,null,"",null,"","",""]
[null,null,null,"",null,"","",""]
[null,null,null,"",null,"","",""]
[null,null,null,"",null,"","",""]
[null,null,null,"",null,"","",""]
[null,null,null,"",null,"","",""]
[null,null,null,"",null,"","",""]
[null,null,null,"",null,"","",""]
[null,null,null,"",null,"","",""]
[null,null,null,"",null,"","",""]
[null,null,null,"",null,"","",""]
[null,null,null,"",null,"","",""]
[null,null,null,"",null,"","",""]
[null,null,null,"",null,"","",""]
[null,null,null,"",null,"","",""]
[null,null,null,"",null,"","",""]
[null,null,null,"",null,"","",""]
[null,null,null,"",null,"","",""]
[null,null,null,"",null,"","",""]
[null,null,null,"",null,"","",""]
[null,null,null,"",null,"","",""]
[null,null,null,"",null,"","",""]
[null,null,null,"",null,"","",""]
[null,null,null,"",null,"","",""]
[null,null,null,"",null,"","",""]
[null,null,null,"",null,"","",""]
[null,null,null,"",null,"","",""]
[null,null,null,"",null,"","",""]
[null,null,null,"",null,"","",""]
[null,null,null,"",null,"","",""]
[null,null,null,"",null,"","",""]
[null,null,null,"",null,"","",""]
[null,null,null,"",null,"","",""]
[null,null,null,"",null,"","",""]
[null,null,null,"",null,"","",""]
[null,null,null,"",null,"","",""]
[null,null,null,"",null,"","",""]
[null,null,null,"",null,"","",""]
[null,null,null,"",null,"","",""]
[null,null,null,"",null,"","",""]
[null,null,null,"",null,"","",""]
[null,null,null,"",null,"","",""]
[null,null,null,"",null,"","",""]
[null,null,null,"",null,"","",""]
[null,null,null,"",null,"","",""]
[null,null,null,"",null,"","",""]
[null,null,null,"",null,"","",""]
[null,null,null,"",null,"","",""]
[null,null,null,"",null,"","",""]
[null,null,null,"",null,"","",""]
[null,null,null,"",null,"","",""]
[null,null,null,{"$f":"IF(COUNT(B742:C742)<1,\"\",AVERAGE(B742:C742))","v":""},null,{"$f":"IF(ISNUMBER(B742),IF(B742<0,0,B742),\"\")","v":""},{"$f":"IF(ISNUMBER(C742),IF(C742<0,0,C742),\"\")","v":""},{"$f":"IF(COUNT(F742:G742)<1,\"\",AVERAGE(F742:G742))","v":""}]
[null,null,null,"",null,"","",""]
[null,null,null,"",null,"","",""]
[null,null,null,"",null,"","",""]
[null,null,null,"",null,"","",""]
[null,null,null,"",null,"","",""]
[null,null,null,"",null,"","",""]
[null,null,null,"",null,"","",""]
[null,null,null,"",null,"","",""]
[null,null,null,"",null,"","",""]
[null,null,null,"",null,"","",""]
[null,null,null,"",null,"","",""]
[null,null,null,"",null,"","",""]
[null,null,null,"",null,"","",""]
[null,null,null,"",null,"","",""]
[null,null,null,"",null,"","",""]
[null,null,null,"",null,"","",""]
[null,null,null,"",null,"","",""]
[null,null,null,"",null,"","",""]
[null,null,null,"",null,"","",""]
[null,null,null,"",null,"","",""]
[null,null,null,"",null,"","",""]
[null,null,null,"",null,"","",""]
[null,null,null,"",null,"","",""]
[null,null,null,"",null,"","",""]
[null,null,null,"",null,"","",""]
[null,null,null,"",null,"","",""]
[null,null,null,"",null,"","",""]
[null,null,null,"",null,"","",""]
[null,null,null,"",null,"","",""]
[null,null,null,"",null,"","",""]
[null,null,null,"",null,"","",""]
[null,null,null,"",null,"","",""]
[null,null,null,"",null,"","",""]
[null,null,null,"",null,"","",""]
[null,null,null,"",null,"","",""]
[null,null,null,"",null,"","",""]
[null,null,null,"",null,"","",""]
[null,null,null,"",null,"","",""]
[null,null,null,"",null,"","",""]
[null,null,null,"",null,"","",""]
[null,null,null,"",null,"","",""]
[null,null,null,"",null,"","",""]
[null,null,null,"",null,"","",""]
[null,null,null,"",null,"","",""]
[null,null,null,"",null,"","",""]
[null,null,null,"",null,"","",""]
[null,null,null,"",null,"","",""]
[null,null,null,"",null,"","",""]
[null,null,null,"",null,"","",""]
[null,null,null,"",null,"","",""]
[null,null,null,"",null,"","",""]
[null,null,null,"",null,"","",""]
[null,null,null,"",null,"","",""]
[null,null,null,"",null,"","",""]
[null,null,null,"",null,"","",""]
[null,null,null,"",null,"","",""]
[null,null,null,"",null,"","",""]
[null,null,null,"",null,"","",""]
[null,null,null,"",null,"","",""]
[null,null,null,"",null,"","",""]
[null,null,null,"",null,"","",""]
[null,null,null,"",null,"","",""]
[null,null,null,"",null,"","",""]
[null,null,null,{"$f":"IF(COUNT(B806:C806)<1,\"\",AVERAGE(B806:C806))","v":""},null,{"$f":"IF(ISNUMBER(B806),IF(B806<0,0,B806),\"\")","v":""},{"$f":"IF(ISNUMBER(C806),IF(C806<0,0,C806),\"\")","v":""},{"$f":"IF(COUNT(F806:G806)<1,\"\",AVERAGE(F806:G806))","v":""}]
[null,null,null,"",null,"","",""]
[null,null,null,"",null,"","",""]
[null,null,null,"",null,"","",""]
[null,null,null,"",null,"","",""]
[null,null,null,"",null,"","",""]
[null,null,null,"",null,"","",""]
[null,null,null,"",null,"","",""]
[null,null,null,"",null,"","",""]
[null,null,null,"",null,"","",""]
[null,null,null,"",null,"","",""]
[null,null,null,"",null,"","",""]
[null,null,null,"",null,"","",""]
[null,null,null,"",null,"","",""]
[null,null,null,"",null,"","",""]
[null,null,null,"",null,"","",""]
[null,null,null,"",null,"","",""]
[null,null,null,"",null,"","",""]
[null,null,null,"",null,"","",""]
[null,null,null,"",null,"","",""]
[null,null,null,"",null,"","",""]
[null,null,null,"",null,"","",""]
[null,null,null,"",null,"","",""]
[null,null,null,"",null,"","",""]
[null,null,null,"",null,"","",""]
[null,null,null,"",null,"","",""]
[null,null,null,"",null,"","",""]
[null,null,null,"",null,"","",""]
[null,null,null,"",null,"","",""]
[null,null,null,"",null,"","",""]
[null,null,null,"",null,"","",""]
[null,null,null,"",null,"","",""]
[null,null,null,"",null,"","",""]
[null,null,null,"",null,"","",""]
[null,null,null,"",null,"","",""]
[null,null,null,"",null,"","",""]
[null,null,null,"",null,"","",""]
[null,null,null,"",null,"","",""]
[null,null,null,"",null,"","",""]
[null,null,null,"",null,"","",""]
[null,null,null,"",null,"","",""]
[null,null,null,"",null,"","",""]
[null,null,null,"",null,"","",""]
[null,null,null,"",null,"","",""]
[null,null,null,"",null,"","",""]
[null,null,null,"",null,"","",""]
[null,null,null,"",null,"","",""]
[null,null,null,"",null,"","",""]
[null,null,null,"",null,"","",""]
[null,null,null,"",null,"","",""]
[null,null,null,"",null,"","",""]
[null,null,null,"",null,"","",""]
[null,null,null,"",null,"","",""]
[null,null,null,"",null,"","",""]
[null,null,null,"",null,"","",""]
[null,null,null,"",null,"","",""]
[null,null,null,"",null,"","",""]
[null,null,null,"",null,"","",""]
[null,null,null,"",null,"","",""]
[null,null,null,"",null,"","",""]
[null,null,null,"",null,"","",""]
[null,null,null,"",null,"","",""]
[null,null,null,"",null,"","",""]
[null,null,null,"",null,"","",""]
[null,null,null,{"$f":"IF(COUNT(B870:C870)<1,\"\",AVERAGE(B870:C870))","v":""},null,{"$f":"IF(ISNUMBER(B870),IF(B870<0,0,B870),\"\")","v":""},{"$f":"IF(ISNUMBER(C870),IF(C870<0,0,C870),\"\")","v":""},{"$f":"IF(COUNT(F870:G870)<1,\"\",AVERAGE(F870:G870))","v":""}]
[null,null,null,"",null,"","",""]
[null,null,null,"",null,"","",""]
[null,null,null,"",null,"","",""]
[null,null,null,"",null,"","",""]
[null,null,null,"",null,"","",""]
[null,null,null,"",null,"","",""]
[null,null,null,"",null,"","",""]
[null,null,null,"",null,"","",""]
[null,null,null,"",null,"","",""]
[null,null,null,"",null,"","",""]
[null,null,null,"",null,"","",""]
[null,null,null,"",null,"","",""]
[null,null,null,"",null,"","",""]
[null,null,null,"",null,"","",""]
[null,null,null,"",null,"","",""]
[null,null,null,"",null,"","",""]
[null,null,null,"",null,"","",""]
[null,null,null,"",null,"","",""]
[null,null,null,"",null,"","",""]
[null,null,null,"",null,"","",""]
[null,null,null,"",null,"","",""]
[null,null,null,"",null,"","",""]
[null,null,null,"",null,"","",""]
[null,null,null,"",null,"","",""]
[null,null,null,"",null,"","",""]
[null,null,null,"",null,"","",""]
[null,null,null,"",null,"","",""]
[null,null,null,"",null,"","",""]
[null,null,null,"",null,"","",""]
[null,null,null,"",null,"","",""]
[null,null,null,"",null,"","",""]
[null,null,null,"",null,"","",""]
[null,null,null,"",null,"","",""]
[null,null,null,"",null,"","",""]
[null,null,null,"",null,"","",""]
[null,null,null,"",null,"","",""]
[null,null,null,"",null,"","",""]
[null,null,null,"",null,"","",""]
[null,null,null,"",null,"","",""]
[null,null,null,"",null,"","",""]
[null,null,null,"",null,"","",""]
[null,null,null,"",null,"","",""]
[null,null,null,"",null,"","",""]
[null,null,null,"",null,"","",""]
[null,null,null,"",null,"","",""]
[null,null,null,"",null,"","",""]
[null,null,null,"",null,"","",""]
[null,null,null,"",null,"","",""]
[null,null,null,"",null,"","",""]
[null,null,null,"",null,"","",""]
[null,null,null,"",null,"","",""]
[null,null,null,"",null,"","",""]
[null,null,null,"",null,"","",""]
[null,null,null,"",null,"","",""]
[null,null,null,"",null,"","",""]
[null,null,null,"",null,"","",""]
[null,null,null,"",null,"","",""]
[null,null,null,"",null,"","",""]
[null,null,null,"",null,"","",""]
[null,null,null,"",null,"","",""]
[null,null,null,"",null,"","",""]
[null,null,null,"",null,"","",""]
[null,null,null,"",null,"","",""]
[null,null,null,{"$f":"IF(COUNT(B934:C934)<1,\"\",AVERAGE(B934:C934))","v":""},null,{"$f":"IF(ISNUMBER(B934),IF(B934<0,0,B934),\"\")","v":""},{"$f":"IF(ISNUMBER(C934),IF(C934<0,0,C934),\"\")","v":""},{"$f":"IF(COUNT(F934:G934)<1,\"\",AVERAGE(F934:G934))","v":""}]
[null,null,null,"",null,"","",""]
[null,null,null,"",null,"","",""]
[null,null,null,"",null,"","",""]
[null,null,null,"",null,"","",""]
[null,null,null,"",null,"","",""]
[null,null,null,"",null,"","",""]
[null,null,null,"",null,"","",""]
[null,null,null,"",null,"","",""]
[null,null,null,"",null,"","",""]
[null,null,null,"",null,"","",""]
[null,null,null,"",null,"","",""]
[null,null,null,"",null,"","",""]
[null,null,null,"",null,"","",""]
[null,null,null,"",null,"","",""]
[null,null,null,"",null,"","",""]
[null,null,null,"",null,"","",""]
[null,null,null,"",null,"","",""]
[null,null,null,"",null,"","",""]
[null,null,null,"",null,"","",""]
[null,null,null,"",null,"","",""]
[null,null,null,"",null,"","",""]
[null,null,null,"",null,"","",""]
[null,null,null,"",null,"","",""]
[null,null,null,"",null,"","",""]
[null,null,null,"",null,"","",""]
[null,null,null,"",null,"","",""]
[null,null,null,"",null,"","",""]
[null,null,null,"",null,"","",""]
[null,null,null,"",null,"","",""]
[null,null,null,"",null,"","",""]
[null,null,null,"",null,"","",""]
[null,null,null,"",null,"","",""]
[null,null,null,"",null,"","",""]
[null,null,null,"",null,"","",""]
[null,null,null,"",null,"","",""]
[null,null,null,"",null,"","",""]
[null,null,null,"",null,"","",""]
[null,null,null,"",null,"","",""]
[null,null,null,"",null,"","",""]
[null,null,null,"",null,"","",""]
[null,null,null,"",null,"","",""]
[null,null,null,"",null,"","",""]
[null,null,null,"",null,"","",""]
[null,null,null,"",null,"","",""]
[null,null,null,"",null,"","",""]
[null,null,null,"",null,"","",""]
[null,null,null,"",null,"","",""]
[null,null,null,"",null,"","",""]
[null,null,null,"",null,"","",""]
[null,null,null,"",null,"","",""]
[null,null,null,"",null,"","",""]
[null,null,null,"",null,"","",""]
[null,null,null,"",null,"","",""]
[null,null,null,"",null,"","",""]
[null,null,null,"",null,"","",""]
[null,null,null,"",null,"","",""]
[null,null,null,"",null,"","",""]
[null,null,null,"",null,"","",""]
[null,null,null,"",null,"","",""]
[null,null,null,"",null,"","",""]
[null,null,null,"",null,"","",""]
[null,null,null,"",null,"","",""]
[null,null,null,"",null,"","",""]
[null,null,null,{"$f":"IF(COUNT(B998:C998)<1,\"\",AVERAGE(B998:C998))","v":""},null,{"$f":"IF(ISNUMBER(B998),IF(B998<0,0,B998),\"\")","v":""},{"$f":"IF(ISNUMBER(C998),IF(C998<0,0,C998),\"\")","v":""},{"$f":"IF(COUNT(F998:G998)<1,\"\",AVERAGE(F998:G998))","v":""}]
[null,null,null,"",null,"","",""]
[null,null,null,"",null,"","",""]
[null,null,null,"",null,"","",""]
[null,null,null,"",null,"","",""]
[null,null,null,"",null,"","",""]
[null,null,null,"",null,"","",""]
[null,null,null,"",null,"","",""]
[null,null,null,"",null,"","",""]
[null,null,null,"",null,"","",""]
[null,null,null,"",null,"","",""]
[null,null,null,"",null,"","",""]
[null,null,null,"",null,"","",""]
[null,null,null,"",null,"","",""]
[null,null,null,"",null,"","",""]
[null,null,null,"",null,"","",""]
[null,null,null,"",null,"","",""]
[null,null,null,"",null,"","",""]
[null,null,null,"",null,"","",""]
[null,null,null,"",null,"","",""]
[null,null,null,"",null,"","",""]
[null,null,null,"",null,"","",""]
[null,null,null,"",null,"","",""]
[null,null,null,"",null,"","",""]
[null,null,null,"",null,"","",""]
[null,null,null,"",null,"","",""]
[null,null,null,"",null,"","",""]
[null,null,null,"",null,"","",""]
[null,null,null,"",null,"","",""]
[null,null,null,"",null,"","",""]
[null,null,null,"",null,"","",""]
[null,null,null,"",null,"","",""]
[null,null,null,"",null,"","",""]
[null,null,null,"",null,"","",""]
[null,null,null,"",null,"","",""]
[null,null,null,"",null,"","",""]
[null,null,null,"",null,"","",""]
[null,null,null,"",null,"","",""]
[null,null,null,"",null,"","",""]
[null,null,null,"",null,"","",""]
[null,null,null,"",null,"","",""]
[null,null,null,"",null,"","",""]
[null,null,null,"",null,"","",""]
[null,null,null,"",null,"","",""]
[null,null,null,"",null,"","",""]
[null,null,null,"",null,"","",""]
[null,null,null,"",null,"","",""]
[null,null,null,"",null,"","",""]
[null,null,null,"",null,"","",""]
[null,null,null,"",null,"","",""]
[null,null,null,"",null,"","",""]
[null,null,null,"",null,"","",""]
[null,null,null,"",null,"","",""]
[null,null,null,"",null,"","",""]
[null,null,null,"",null,"","",""]
[null,null,null,"",null,"","",""]
[null,null,null,"",null,"","",""]
[null,null,null,"",null,"","",""]
[null,null,null,"",null,"","",""]
[null,null,null,"",null,"","",""]
[null,null,null,"",null,"","",""]
[null,null,null,"",null,"","",""]
[null,null,null,"",null,"","",""]
[null,null,null,"",null,"","",""]
[null,null,null,{"$f":"IF(COUNT(B1062:C1062)<1,\"\",AVERAGE(B1062:C1062))","v":""},null,{"$f":"IF(ISNUMBER(B1062),IF(B1062<0,0,B1062),\"\")","v":""},{"$f":"IF(ISNUMBER(C1062),IF(C1062<0,0,C1062),\"\")","v":""},{"$f":"IF(COUNT(F1062:G1062)<1,\"\",AVERAGE(F1062:G1062))","v":""}]
[null,null,null,"",null,"","",""]
[null,null,null,"",null,"","",""]
[null,null,null,"",null,"","",""]
[null,null,null,"",null,"","",""]
[null,null,null,"",null,"","",""]
[null,null,null,"",null,"","",""]
[null,null,null,"",null,"","",""]
[null,null,null,"",null,"","",""]
[null,null,null,"",null,"","",""]
[null,null,null,"",null,"","",""]
[null,null,null,"",null,"","",""]
[null,null,null,"",null,"","",""]
[null,null,null,"",null,"","",""]
[null,null,null,"",null,"","",""]
[null,null,null,"",null,"","",""]
[null,null,null,"",null,"","",""]
[null,null,null,"",null,"","",""]
[null,null,null,"",null,"","",""]
[null,null,null,"",null,"","",""]
[null,null,null,"",null,"","",""]
[null,null,null,"",null,"","",""]
[null,null,null,"",null,"","",""]
[null,null,null,"",null,"","",""]
[null,null,null,"",null,"","",""]
[null,null,null,"",null,"","",""]
[null,null,null,"",null,"","",""]
[null,null,null,"",null,"","",""]
[null,null,null,"",null,"","",""]
[null,null,null,"",null,"","",""]
[null,null,null,"",null,"","",""]
[null,null,null,"",null,"","",""]
[null,null,null,"",null,"","",""]
[null,null,null,"",null,"","",""]
[null,null,null,"",null,"","",""]
[null,null,null,"",null,"","",""]
[null,null,null,"",null,"","",""]
[null,null,null,"",null,"","",""]
[null,null,null,"",null,"","",""]
[null,null,null,"",null,"","",""]
[null,null,null,"",null,"","",""]
[null,null,null,"",null,"","",""]
[null,null,null,"",null,"","",""]
[null,null,null,"",null,"","",""]
[null,null,null,"",null,"","",""]
[null,null,null,"",null,"","",""]
[null,null,null,"",null,"","",""]
[null,null,null,"",null,"","",""]
[null,null,null,"",null,"","",""]
[null,null,null,"",null,"","",""]
[null,null,null,"",null,"","",""]
[null,null,null,"",null,"","",""]
[null,null,null,"",null,"","",""]
[null,null,null,"",null,"","",""]
[null,null,null,"",null,"","",""]
[null,null,null,"",null,"","",""]
[null,null,null,"",null,"","",""]
[null,null,null,"",null,"","",""]
[null,null,null,"",null,"","",""]
[null,null,null,"",null,"","",""]
[null,null,null,"",null,"","",""]
[null,null,null,"",null,"","",""]
[null,null,null,"",null,"","",""]
[null,null,null,"",null,"","",""]
[null,null,null,{"$f":"IF(COUNT(B1126:C1126)<1,\"\",AVERAGE(B1126:C1126))","v":""},null,{"$f":"IF(ISNUMBER(B1126),IF(B1126<0,0,B1126),\"\")","v":""},{"$f":"IF(ISNUMBER(C1126),IF(C1126<0,0,C1126),\"\")","v":""},{"$f":"IF(COUNT(F1126:G1126)<1,\"\",AVERAGE(F1126:G1126))","v":""}]
[null,null,null,"",null,"","",""]
[null,null,null,"",null,"","",""]
[null,null,null,"",null,"","",""]
[null,null,null,"",null,"","",""]
[null,null,null,"",null,"","",""]
[null,null,null,"",null,"","",""]
[null,null,null,"",null,"","",""]
[null,null,null,"",null,"","",""]
[null,null,null,"",null,"","",""]
[null,null,null,"",null,"","",""]
[null,null,null,"",null,"","",""]
[null,null,null,"",null,"","",""]
[null,null,null,"",null,"","",""]
[null,null,null,"",null,"","",""]
[null,null,null,"",null,"","",""]
[null,null,null,"",null,"","",""]
[null,null,null,"",null,"","",""]
[null,null,null,"",null,"","",""]
[null,null,null,"",null,"","",""]
[null,null,null,"",null,"","",""]
[null,null,null,"",null,"","",""]
[null,null,null,"",null,"","",""]
[null,null,null,"",null,"","",""]
[null,null,null,"",null,"","",""]
[null,null,null,"",null,"","",""]
[null,null,null,"",null,"","",""]
[null,null,null,"",null,"","",""]
[null,null,null,"",null,"","",""]
[null,null,null,"",null,"","",""]
[null,null,null,"",null,"","",""]
[null,null,null,"",null,"","",""]
[null,null,null,"",null,"","",""]
[null,null,null,"",null,"","",""]
[null,null,null,"",null,"","",""]
[null,null,null,"",null,"","",""]
[null,null,null,"",null,"","",""]
[null,null,null,"",null,"","",""]
[null,null,null,"",null,"","",""]
[null,null,null,"",null,"","",""]
[null,null,null,"",null,"","",""]
[null,null,null,"",null,"","",""]
[null,null,null,"",null,"","",""]
[null,null,null,"",null,"","",""]
[null,null,null,"",null,"","",""]
[null,null,null,"",null,"","",""]
[null,null,null,"",null,"","",""]
[null,null,null,"",null,"","",""]
[null,null,null,"",null,"","",""]
[null,null,null,"",null,"","",""]
[null,null,null,"",null,"","",""]
[null,null,null,"",null,"","",""]
[null,null,null,"",null,"","",""]
[null,null,null,"",null,"","",""]
[null,null,null,"",null,"","",""]
[null,null,null,"",null,"","",""]
[null,null,null,"",null,"","",""]
[null,null,null,"",null,"","",""]
[null,null,null,"",null,"","",""]
[null,null,null,"",null,"","",""]
[null,null,null,"",null,"","",""]
[null,null,null,"",null,"","",""]
[null,null,null,"",null,"","",""]
[null,null,null,"",null,"","",""]
[null,null,null,{"$f":"IF(COUNT(B1190:C1190)<1,\"\",AVERAGE(B1190:C1190))","v":""},null,{"$f":"IF(ISNUMBER(B1190),IF(B1190<0,0,B1190),\"\")","v":""},{"$f":"IF(ISNUMBER(C1190),IF(C1190<0,0,C1190),\"\")","v":""},{"$f":"IF(COUNT(F1190:G1190)<1,\"\",AVERAGE(F1190:G1190))","v":""}]
[null,null,null,"",null,"","",""]
[null,null,null,"",null,"","",""]
[null,null,null,"",null,"","",""]
[null,null,null,"",null,"","",""]
[null,null,null,"",null,"","",""]
[null,null,null,"",null,"","",""]
[null,null,null,"",null,"","",""]
[null,null,null,"",null,"","",""]
[null,null,null,"",null,"","",""]
[null,null,null,"",null,"","",""]
[null,null,null,"",null,"","",""]
[null,null,null,"",null,"","",""]
[null,null,null,"",null,"","",""]
[null,null,null,"",null,"","",""]
[null,null,null,"",null,"","",""]
[null,null,null,"",null,"","",""]
[null,null,null,"",null,"","",""]
[null,null,null,"",null,"","",""]
[null,null,null,"",null,"","",""]
[null,null,null,"",null,"","",""]
[null,null,null,"",null,"","",""]
[null,null,null,"",null,"","",""]
[null,null,null,"",null,"","",""]
[null,null,null,"",null,"","",""]
[null,null,null,"",null,"","",""]
[null,null,null,"",null,"","",""]
[null,null,null,"",null,"","",""]
[null,null,null,"",null,"","",""]
[null,null,null,"",null,"","",""]
[null,null,null,"",null,"","",""]
[null,null,null,"",null,"","",""]
[null,null,null,"",null,"","",""]
[null,null,null,"",null,"","",""]
[null,null,null,"",null,"","",""]
[null,null,null,"",null,"","",""]
[null,null,null,"",null,"","",""]
[null,null,null,"",null,"","",""]
[null,null,null,"",null,"","",""]
[null,null,null,"",null,"","",""]
[null,null,null,"",null,"","",""]
[null,null,null,"",null,"","",""]
[null,null,null,"",null,"","",""]
[null,null,null,"",null,"","",""]
[null,null,null,"",null,"","",""]
[null,null,null,"",null,"","",""]
[null,null,null,"",null,"","",""]
[null,null,null,"",null,"","",""]
[null,null,null,"",null,"","",""]
[null,null,null,"",null,"","",""]
[null,null,null,"",null,"","",""]
[null,null,null,"",null,"","",""]
[null,null,null,"",null,"","",""]
[null,null,null,"",null,"","",""]
[null,null,null,"",null,"","",""]
[null,null,null,"",null,"","",""]
[null,null,null,"",null,"","",""]
[null,null,null,"",null,"","",""]
[null,null,null,"",null,"","",""]
[null,null,null,"",null,"","",""]
[null,null,null,"",null,"","",""]
[null,null,null,"",null,"","",""]
[null,null,null,"",null,"","",""]
[null,null,null,"",null,"","",""]
[null,null,null,{"$f":"IF(COUNT(B1254:C1254)<1,\"\",AVERAGE(B1254:C1254))","v":""},null,{"$f":"IF(ISNUMBER(B1254),IF(B1254<0,0,B1254),\"\")","v":""},{"$f":"IF(ISNUMBER(C1254),IF(C1254<0,0,C1254),\"\")","v":""},{"$f":"IF(COUNT(F1254:G1254)<1,\"\",AVERAGE(F1254:G1254))","v":""}]
[null,null,null,"",null,"","",""]
[null,null,null,"",null,"","",""]
[null,null,null,"",null,"","",""]
[null,null,null,"",null,"","",""]
[null,null,null,"",null,"","",""]
[null,null,null,"",null,"","",""]
[null,null,null,"",null,"","",""]
[null,null,null,"",null,"","",""]
[null,null,null,"",null,"","",""]
[null,null,null,"",null,"","",""]
[null,null,null,"",null,"","",""]
[null,null,null,"",null,"","",""]
[null,null,null,"",null,"","",""]
[null,null,null,"",null,"","",""]
[null,null,null,"",null,"","",""]
[null,null,null,"",null,"","",""]
[null,null,null,"",null,"","",""]
[null,null,null,"",null,"","",""]
[null,null,null,"",null,"","",""]
[null,null,null,"",null,"","",""]
[null,null,null,"",null,"","",""]
[null,null,null,"",null,"","",""]
[null,null,null,"",null,"","",""]
[null,null,null,"",null,"","",""]
[null,null,null,"",null,"","",""]
[null,null,null,"",null,"","",""]
[null,null,null,"",null,"","",""]
[null,null,null,"",null,"","",""]
[null,null,null,"",null,"","",""]
[null,null,null,"",null,"","",""]
[null,null,null,"",null,"","",""]
[null,null,null,"",null,"","",""]
[null,null,null,"",null,"","",""]
[null,null,null,"",null,"","",""]
[null,null,null,"",null,"","",""]
[null,null,null,"",null,"","",""]
[null,null,null,"",null,"","",""]
[null,null,null,"",null,"","",""]
[null,null,null,"",null,"","",""]
[null,null,null,"",null,"","",""]
[null,null,null,"",null,"","",""]
[null,null,null,"",null,"","",""]
[null,null,null,"",null,"","",""]
[null,null,null,"",null,"","",""]
[null,null,null,"",null,"","",""]
[null,null,null,"",null,"","",""]
[null,null,null,"",null,"","",""]
[null,null,null,"",null,"","",""]
[null,null,null,"",null,"","",""]
[null,null,null,"",null,"","",""]
[null,null,null,"",null,"","",""]
[null,null,null,"",null,"","",""]
[null,null,null,"",null,"","",""]
[null,null,null,"",null,"","",""]
[null,null,null,"",null,"","",""]
[null,null,null,"",null,"","",""]
[null,null,null,"",null,"","",""]
[null,null,null,"",null,"","",""]
[null,null,null,"",null,"","",""]
[null,null,null,"",null,"","",""]
[null,null,null,"",null,"","",""]
[null,null,null,"",null,"","",""]
[null,null,null,"",null,"","",""]
[null,null,null,{"$f":"IF(COUNT(B1318:C1318)<1,\"\",AVERAGE(B1318:C1318))","v":""},null,{"$f":"IF(ISNUMBER(B1318),IF(B1318<0,0,B1318),\"\")","v":""},{"$f":"IF(ISNUMBER(C1318),IF(C1318<0,0,C1318),\"\")","v":""},{"$f":"IF(COUNT(F1318:G1318)<1,\"\",AVERAGE(F1318:G1318))","v":""}]
[null,null,null,"",null,"","",""]
[null,null,null,"",null,"","",""]
[null,null,null,"",null,"","",""]
[null,null,null,"",null,"","",""]
[null,null,null,"",null,"","",""]
[null,null,null,"",null,"","",""]
[null,null,null,"",null,"","",""]
[null,null,null,"",null,"","",""]
[null,null,null,"",null,"","",""]
[null,null,null,"",null,"","",""]
[null,null,null,"",null,"","",""]
[null,null,null,"",null,"","",""]
[null,null,null,"",null,"","",""]
[null,null,null,"",null,"","",""]
[null,null,null,"",null,"","",""]
[null,null,null,"",null,"","",""]
[null,null,null,"",null,"","",""]
[null,null,null,"",null,"","",""]
[null,null,null,"",null,"","",""]
[null,null,null,"",null,"","",""]
[null,null,null,"",null,"","",""]
[null,null,null,"",null,"","",""]
[null,null,null,"",null,"","",""]
[null,null,null,"",null,"","",""]
[null,null,null,"",null,"","",""]
[null,null,null,"",null,"","",""]
[null,null,null,"",null,"","",""]
[null,null,null,"",null,"","",""]
[null,null,null,"",null,"","",""]
[null,null,null,"",null,"","",""]
[null,null,null,"",null,"","",""]
[null,null,null,"",null,"","",""]
[null,null,null,"",null,"","",""]
[null,null,null,"",null,"","",""]
[null,null,null,"",null,"","",""]
[null,null,null,"",null,"","",""]
[null,null,null,"",null,"","",""]
[null,null,null,"",null,"","",""]
[null,null,null,"",null,"","",""]
[null,null,null,"",null,"","",""]
[null,null,null,"",null,"","",""]
[null,null,null,"",null,"","",""]
[null,null,null,"",null,"","",""]
[null,null,null,"",null,"","",""]
[null,null,null,"",null,"","",""]
[null,null,null,"",null,"","",""]
[null,null,null,"",null,"","",""]
[null,null,null,"",null,"","",""]
[null,null,null,"",null,"","",""]
[null,null,null,"",null,"","",""]
[null,null,null,"",null,"","",""]
[null,null,null,"",null,"","",""]
[null,null,null,"",null,"","",""]
[null,null,null,"",null,"","",""]
[null,null,null,"",null,"","",""]
[null,null,null,"",null,"","",""]
[null,null,null,"",null,"","",""]
[null,null,null,"",null,"","",""]
[null,null,null,"",null,"","",""]
[null,null,null,"",null,"","",""]
[null,null,null,"",null,"","",""]
[null,null,null,"",null,"","",""]
[null,null,null,"",null,"","",""]
[null,null,null,{"$f":"IF(COUNT(B1382:C1382)<1,\"\",AVERAGE(B1382:C1382))","v":""},null,{"$f":"IF(ISNUMBER(B1382),IF(B1382<0,0,B1382),\"\")","v":""},{"$f":"IF(ISNUMBER(C1382),IF(C1382<0,0,C1382),\"\")","v":""},{"$f":"IF(COUNT(F1382:G1382)<1,\"\",AVERAGE(F1382:G1382))","v":""}]
[null,null,null,"",null,"","",""]
[null,null,null,"",null,"","",""]
[null,null,null,"",null,"","",""]
[null,null,null,"",null,"","",""]
[null,null,null,"",null,"","",""]
[null,null,null,"",null,"","",""]
[null,null,null,"",null,"","",""]
[null,null,null,"",null,"","",""]
[null,null,null,"",null,"","",""]
[null,null,null,"",null,"","",""]
[null,null,null,"",null,"","",""]
[null,null,null,"",null,"","",""]
[null,null,null,"",null,"","",""]
[null,null,null,"",null,"","",""]
[null,null,null,"",null,"","",""]
[null,null,null,"",null,"","",""]
[null,null,null,"",null,"","",""]
[null,null,null,"",null,"","",""]
[null,null,null,"",null,"","",""]
[null,null,null,"",null,"","",""]
[null,null,null,"",null,"","",""]
[null,null,null,"",null,"","",""]
[null,null,null,"",null,"","",""]
[null,null,null,"",null,"","",""]
[null,null,null,"",null,"","",""]
[null,null,null,"",null,"","",""]
[null,null,null,"",null,"","",""]
[null,null,null,"",null,"","",""]
[null,null,null,"",null,"","",""]
[null,null,null,"",null,"","",""]
[null,null,null,"",null,"","",""]
[null,null,null,"",null,"","",""]
[null,null,null,"",null,"","",""]
[null,null,null,"",null,"","",""]
[null,null,null,"",null,"","",""]
[null,null,null,"",null,"","",""]
[null,null,null,"",null,"","",""]
[null,null,null,"",null,"","",""]
[null,null,null,"",null,"","",""]
[null,null,null,"",null,"","",""]
[null,null,null,"",null,"","",""]
[null,null,null,"",null,"","",""]
[null,null,null,"",null,"","",""]
[null,null,null,"",null,"","",""]
[null,null,null,"",null,"","",""]
[null,null,null,"",null,"","",""]
[null,null,null,"",null,"","",""]
[null,null,null,"",null,"","",""]
[null,null,null,"",null,"","",""]
[null,null,null,"",null,"","",""]
[null,null,null,"",null,"","",""]
[null,null,null,"",null,"","",""]
[null,null,null,"",null,"","",""]
[null,null,null,"",null,"","",""]
[null,null,null,"",null,"","",""]
[null,null,null,"",null,"","",""]
[null,null,null,"",null,"","",""]
[null,null,null,"",null,"","",""]
[null,null,null,"",null,"","",""]
[null,null,null,"",null,"","",""]
[null,null,null,"",null,"","",""]
[null,null,null,"",null,"","",""]
[null,null,null,"",null,"","",""]
[null,null,null,{"$f":"IF(COUNT(B1446:C1446)<1,\"\",AVERAGE(B1446:C1446))","v":""},null,{"$f":"IF(ISNUMBER(B1446),IF(B1446<0,0,B1446),\"\")","v":""},{"$f":"IF(ISNUMBER(C1446),IF(C1446<0,0,C1446),\"\")","v":""},{"$f":"IF(COUNT(F1446:G1446)<1,\"\",AVERAGE(F1446:G1446))","v":""}]
[null,null,null,"",null,"","",""]
[null,null,null,"",null,"","",""]
[null,null,null,"",null,"","",""]
[null,null,null,"",null,"","",""]
[null,null,null,"",null,"","",""]
[null,null,null,"",null,"","",""]
[null,null,null,"",null,"","",""]
[null,null,null,"",null,"","",""]
[null,null,null,"",null,"","",""]
[null,null,null,"",null,"","",""]
[null,null,null,"",null,"","",""]
[null,null,null,"",null,"","",""]
[null,null,null,"",null,"","",""]
[null,null,null,"",null,"","",""]
[null,null,null,"",null,"","",""]
[null,null,null,"",null,"","",""]
[null,null,null,"",null,"","",""]
[null,null,null,"",null,"","",""]
[null,null,null,"",null,"","",""]
[null,null,null,"",null,"","",""]
[null,null,null,"",null,"","",""]
[null,null,null,"",null,"","",""]
[null,null,null,"",null,"","",""]
[null,null,null,"",null,"","",""]
[null,null,null,"",null,"","",""]
[null,null,null,"",null,"","",""]
[null,null,null,"",null,"","",""]
[null,null,null,"",null,"","",""]
[null,null,null,"",null,"","",""]
[null,null,null,"",null,"","",""]
[null,null,null,"",null,"","",""]
[null,null,null,"",null,"","",""]
[null,null,null,"",null,"","",""]
[null,null,null,"",null,"","",""]
[null,null,null,"",null,"","",""]
[null,null,null,"",null,"","",""]
[null,null,null,"",null,"","",""]
[null,null,null,"",null,"","",""]
[null,null,null,"",null,"","",""]
[null,null,null,"",null,"","",""]
[null,null,null,"",null,"","",""]
[null,null,null,"",null,"","",""]
[null,null,null,"",null,"","",""]
[null,null,null,"",null,"","",""]
[null,null,null,"",null,"","",""]
[null,null,null,"",null,"","",""]
[null,null,null,"",null,"","",""]
[null,null,null,"",null,"","",""]
[null,null,null,"",null,"","",""]
[null,null,null,"",null,"","",""]
[null,null,null,"",null,"","",""]
[null,null,null,"",null,"","",""]
[null,null,null,"",null,"","",""]
[null,null,null,"",null,"","",""]
[null,null,null,"",null,"","",""]
[null,null,null,"",null,"","",""]
[null,null,null,"",null,"","",""]
[null,null,null,"",null,"","",""]
[null,null,null,"",null,"","",""]
[null,null,null,"",null,"","",""]
[null,null,null,"",null,"","",""]
[null,null,null,"",null,"","",""]
[null,null,null,"",null,"","",""]
[null,null,null,{"$f":"IF(COUNT(B1510:C1510)<1,\"\",AVERAGE(B1510:C1510))","v":""},null,{"$f":"IF(ISNUMBER(B1510),IF(B1510<0,0,B1510),\"\")","v":""},{"$f":"IF(ISNUMBER(C1510),IF(C1510<0,0,C1510),\"\")","v":""},{"$f":"IF(COUNT(F1510:G1510)<1,\"\",AVERAGE(F1510:G1510))","v":""}]
[null,null,null,"",null,"","",""]
[null,null,null,"",null,"","",""]
[null,null,null,"",null,"","",""]
[null,null,null,"",null,"","",""]
[null,null,null,"",null,"","",""]
[null,null,null,"",null,"","",""]
[null,null,null,"",null,"","",""]
[null,null,null,"",null,"","",""]
[null,null,null,"",null,"","",""]
[null,null,null,"",null,"","",""]
[null,null,null,"",null,"","",""]
[null,null,null,"",null,"","",""]
[null,null,null,"",null,"","",""]
[null,null,null,"",null,"","",""]
[null,null,null,"",null,"","",""]
[null,null,null,"",null,"","",""]
[null,null,null,"",null,"","",""]
[null,null,null,"",null,"","",""]
[null,null,null,"",null,"","",""]
[null,null,null,"",null,"","",""]
[null,null,null,"",null,"","",""]
[null,null,null,"",null,"","",""]
[null,null,null,"",null,"","",""]
[null,null,null,"",null,"","",""]
[null,null,null,"",null,"","",""]
[null,null,null,"",null,"","",""]
[null,null,null,"",null,"","",""]
[null,null,null,"",null,"","",""]
[null,null,null,"",null,"","",""]
[null,null,null,"",null,"","",""]
[null,null,null,"",null,"","",""]
[null,null,null,"",null,"","",""]
[null,null,null,"",null,"","",""]
[null,null,null,"",null,"","",""]
[null,null,null,"",null,"","",""]
[null,null,null,"",null,"","",""]
[null,null,null,"",null,"","",""]
[null,null,null,"",null,"","",""]
[null,null,null,"",null,"","",""]
[null,null,null,"",null,"","",""]
[null,null,null,"",null,"","",""]
[null,null,null,"",null,"","",""]
[null,null,null,"",null,"","",""]
[null,null,null,"",null,"","",""]
[null,null,null,"",null,"","",""]
[null,null,null,"",null,"","",""]
[null,null,null,"",null,"","",""]
[null,null,null,"",null,"","",""]
[null,null,null,"",null,"","",""]
[null,null,null,"",null,"","",""]
[null,null,null,"",null,"","",""]
[null,null,null,"",null,"","",""]
[null,null,null,"",null,"","",""]
[null,null,null,"",null,"","",""]
[null,null,null,"",null,"","",""]
[null,null,null,"",null,"","",""]
[null,null,null,"",null,"","",""]
[null,null,null,"",null,"","",""]
[null,null,null,"",null,"","",""]
[null,null,null,"",null,"","",""]
[null,null,null,"",null,"","",""]
[null,null,null,"",null,"","",""]
[null,null,null,"",null,"","",""]
[null,null,null,{"$f":"IF(COUNT(B1574:C1574)<1,\"\",AVERAGE(B1574:C1574))","v":""},null,{"$f":"IF(ISNUMBER(B1574),IF(B1574<0,0,B1574),\"\")","v":""},{"$f":"IF(ISNUMBER(C1574),IF(C1574<0,0,C1574),\"\")","v":""},{"$f":"IF(COUNT(F1574:G1574)<1,\"\",AVERAGE(F1574:G1574))","v":""}]
[null,null,null,"",null,"","",""]
[null,null,null,"",null,"","",""]
[null,null,null,"",null,"","",""]
[null,null,null,"",null,"","",""]
[null,null,null,"",null,"","",""]
[null,null,null,"",null,"","",""]
[null,null,null,"",null,"","",""]
[null,null,null,"",null,"","",""]
[null,null,null,"",null,"","",""]
[null,null,null,"",null,"","",""]
[null,null,null,"",null,"","",""]
[null,null,null,"",null,"","",""]
[null,null,null,"",null,"","",""]
[null,null,null,"",null,"","",""]
[null,null,null,"",null,"","",""]
[null,null,null,"",null,"","",""]
[null,null,null,"",null,"","",""]
[null,null,null,"",null,"","",""]
[null,null,null,"",null,"","",""]
[null,null,null,"",null,"","",""]
[null,null,null,"",null,"","",""]
[null,null,null,"",null,"","",""]
[null,null,null,"",null,"","",""]
[null,null,null,"",null,"","",""]
[null,null,null,"",null,"","",""]
[null,null,null,"",null,"","",""]
[null,null,null,"",null,"","",""]
[null,null,null,"",null,"","",""]
[null,null,null,"",null,"","",""]
[null,null,null,"",null,"","",""]
[null,null,null,"",null,"","",""]
[null,null,null,"",null,"","",""]
[null,null,null,"",null,"","",""]
[null,null,null,"",null,"","",""]
[null,null,null,"",null,"","",""]
[null,null,null,"",null,"","",""]
[null,null,null,"",null,"","",""]
[null,null,null,"",null,"","",""]
[null,null,null,"",null,"","",""]
[null,null,null,"",null,"","",""]
[null,null,null,"",null,"","",""]
[null,null,null,"",null,"","",""]
[null,null,null,"",null,"","",""]
[null,null,null,"",null,"","",""]
[null,null,null,"",null,"","",""]
[null,null,null,"",null,"","",""]
[null,null,null,"",null,"","",""]
[null,null,null,"",null,"","",""]
[null,null,null,"",null,"","",""]
[null,null,null,"",null,"","",""]
[null,null,null,"",null,"","",""]
[null,null,null,"",null,"","",""]
[null,null,null,"",null,"","",""]
[null,null,null,"",null,"","",""]
[null,null,null,"",null,"","",""]
[null,null,null,"",null,"","",""]
[null,null,null,"",null,"","",""]
[null,null,null,"",null,"","",""]
[null,null,null,"",null,"","",""]
[null,null,null,"",null,"","",""]
[null,null,null,"",null,"","",""]
[null,null,null,"",null,"","",""]
[null,null,null,"",null,"","",""]
[null,null,null,{"$f":"IF(COUNT(B1638:C1638)<1,\"\",AVERAGE(B1638:C1638))","v":""},null,{"$f":"IF(ISNUMBER(B1638),IF(B1638<0,0,B1638),\"\")","v":""},{"$f":"IF(ISNUMBER(C1638),IF(C1638<0,0,C1638),\"\")","v":""},{"$f":"IF(COUNT(F1638:G1638)<1,\"\",AVERAGE(F1638:G1638))","v":""}]
[null,null,null,"",null,"","",""]
[null,null,null,"",null,"","",""]
[null,null,null,"",null,"","",""]
[null,null,null,"",null,"","",""]
[null,null,null,"",null,"","",""]
[null,null,null,"",null,"","",""]
[null,null,null,"",null,"","",""]
[null,null,null,"",null,"","",""]
[null,null,null,"",null,"","",""]
[null,null,null,"",null,"","",""]
[null,null,null,"",null,"","",""]
[null,null,null,"",null,"","",""]
[null,null,null,"",null,"","",""]
[null,null,null,"",null,"","",""]
[null,null,null,"",null,"","",""]
[null,null,null,"",null,"","",""]
[null,null,null,"",null,"","",""]
[null,null,null,"",null,"","",""]
[null,null,null,"",null,"","",""]
[null,null,null,"",null,"","",""]
[null,null,null,"",null,"","",""]
[null,null,null,"",null,"","",""]
[null,null,null,"",null,"","",""]
[null,null,null,"",null,"","",""]
[null,null,null,"",null,"","",""]
[null,null,null,"",null,"","",""]
[null,null,null,"",null,"","",""]
[null,null,null,"",null,"","",""]
[null,null,null,"",null,"","",""]
[null,null,null,"",null,"","",""]
[null,null,null,"",null,"","",""]
[null,null,null,"",null,"","",""]
[null,null,null,"",null,"","",""]
[null,null,null,"",null,"","",""]
[null,null,null,"",null,"","",""]
[null,null,null,"",null,"","",""]
[null,null,null,"",null,"","",""]
[null,null,null,"",null,"","",""]
[null,null,null,"",null,"","",""]
[null,null,null,"",null,"","",""]
[null,null,null,"",null,"","",""]
[null,null,null,"",null,"","",""]
[null,null,null,"",null,"","",""]
[null,null,null,"",null,"","",""]
[null,null,null,"",null,"","",""]
[null,null,null,"",null,"","",""]
[null,null,null,"",null,"","",""]
[null,null,null,"",null,"","",""]
[null,null,null,"",null,"","",""]
[null,null,null,"",null,"","",""]
[null,null,null,"",null,"","",""]
[null,null,null,"",null,"","",""]
[null,null,null,"",null,"","",""]
[null,null,null,"",null,"","",""]
[null,null,null,"",null,"","",""]
[null,null,null,"",null,"","",""]
[null,null,null,"",null,"","",""]
[null,null,null,"",null,"","",""]
[null,null,null,"",null,"","",""]
[null,null,null,"",null,"","",""]
[null,null,null,"",null,"","",""]
[null,null,null,"",null,"","",""]
[null,null,null,"",null,"","",""]
[null,null,null,{"$f":"IF(COUNT(B1702:C1702)<1,\"\",AVERAGE(B1702:C1702))","v":""},null,{"$f":"IF(ISNUMBER(B1702),IF(B1702<0,0,B1702),\"\")","v":""},{"$f":"IF(ISNUMBER(C1702),IF(C1702<0,0,C1702),\"\")","v":""},{"$f":"IF(COUNT(F1702:G1702)<1,\"\",AVERAGE(F1702:G1702))","v":""}]
[null,null,null,"",null,"","",""]
[null,null,null,"",null,"","",""]
[null,null,null,"",null,"","",""]
[null,null,null,"",null,"","",""]
[null,null,null,"",null,"","",""]
[null,null,null,"",null,"","",""]
[null,null,null,"",null,"","",""]
[null,null,null,"",null,"","",""]
[null,null,null,"",null,"","",""]
[null,null,null,"",null,"","",""]
[null,null,null,"",null,"","",""]
[null,null,null,"",null,"","",""]
[null,null,null,"",null,"","",""]
[null,null,null,"",null,"","",""]
[null,null,null,"",null,"","",""]
[null,null,null,"",null,"","",""]
[null,null,null,"",null,"","",""]
[null,null,null,"",null,"","",""]
[null,null,null,"",null,"","",""]
[null,null,null,"",null,"","",""]
[null,null,null,"",null,"","",""]
[null,null,null,"",null,"","",""]
[null,null,null,"",null,"","",""]
[null,null,null,"",null,"","",""]
[null,null,null,"",null,"","",""]
[null,null,null,"",null,"","",""]
[null,null,null,"",null,"","",""]
[null,null,null,"",null,"","",""]
[null,null,null,"",null,"","",""]
[null,null,null,"",null,"","",""]
[null,null,null,"",null,"","",""]
[null,null,null,"",null,"","",""]
[null,null,null,"",null,"","",""]
[null,null,null,"",null,"","",""]
[null,null,null,"",null,"","",""]
[null,null,null,"",null,"","",""]
[null,null,null,"",null,"","",""]
[null,null,null,"",null,"","",""]
[null,null,null,"",null,"","",""]
[null,null,null,"",null,"","",""]
[null,null,null,"",null,"","",""]
[null,null,null,"",null,"","",""]
[null,null,null,"",null,"","",""]
[null,null,null,"",null,"","",""]
[null,null,null,"",null,"","",""]
[null,null,null,"",null,"","",""]
[null,null,null,"",null,"","",""]
[null,null,null,"",null,"","",""]
[null,null,null,"",null,"","",""]
[null,null,null,"",null,"","",""]
[null,null,null,"",null,"","",""]
[null,null,null,"",null,"","",""]
[null,null,null,"",null,"","",""]
[null,null,null,"",null,"","",""]
[null,null,null,"",null,"","",""]
[null,null,null,"",null,"","",""]
[null,null,null,"",null,"","",""]
[null,null,null,"",null,"","",""]
[null,null,null,"",null,"","",""]
[null,null,null,"",null,"","",""]
[null,null,null,"",null,"","",""]
[null,null,null,"",null,"","",""]
[null,null,null,"",null,"","",""]
[null,null,null,{"$f":"IF(COUNT(B1766:C1766)<1,\"\",AVERAGE(B1766:C1766))","v":""},null,{"$f":"IF(ISNUMBER(B1766),IF(B1766<0,0,B1766),\"\")","v":""},{"$f":"IF(ISNUMBER(C1766),IF(C1766<0,0,C1766),\"\")","v":""},{"$f":"IF(COUNT(F1766:G1766)<1,\"\",AVERAGE(F1766:G1766))","v":""}]
[null,null,null,"",null,"","",""]
[null,null,null,"",null,"","",""]
[null,null,null,"",null,"","",""]
[null,null,null,"",null,"","",""]
[null,null,null,"",null,"","",""]
[null,null,null,"",null,"","",""]
[null,null,null,"",null,"","",""]
[null,null,null,"",null,"","",""]
[null,null,null,"",null,"","",""]
[null,null,null,"",null,"","",""]
[null,null,null,"",null,"","",""]
[null,null,null,"",null,"","",""]
[null,null,null,"",null,"","",""]
[null,null,null,"",null,"","",""]
[null,null,null,"",null,"","",""]
[null,null,null,"",null,"","",""]
[null,null,null,"",null,"","",""]
[null,null,null,"",null,"","",""]
[null,null,null,"",null,"","",""]
[null,null,null,"",null,"","",""]
[null,null,null,"",null,"","",""]
[null,null,null,"",null,"","",""]
[null,null,null,"",null,"","",""]
[null,null,null,"",null,"","",""]
[null,null,null,"",null,"","",""]
[null,null,null,"",null,"","",""]
[null,null,null,"",null,"","",""]
[null,null,null,"",null,"","",""]
[null,null,null,"",null,"","",""]
[null,null,null,"",null,"","",""]
[null,null,null,"",null,"","",""]
[null,null,null,"",null,"","",""]
[null,null,null,"",null,"","",""]
[null,null,null,"",null,"","",""]
[null,null,null,"",null,"","",""]
[null,null,null,"",null,"","",""]
[null,null,null,"",null,"","",""]
[null,null,null,"",null,"","",""]
[null,null,null,"",null,"","",""]
[null,null,null,"",null,"","",""]
[null,null,null,"",null,"","",""]
[null,null,null,"",null,"","",""]
[null,null,null,"",null,"","",""]
[null,null,null,"",null,"","",""]
[null,null,null,"",null,"","",""]
[null,null,null,"",null,"","",""]
[null,null,null,"",null,"","",""]
[null,null,null,"",null,"","",""]
[null,null,null,"",null,"","",""]
[null,null,null,"",null,"","",""]
[null,null,null,"",null,"","",""]
[null,null,null,"",null,"","",""]
[null,null,null,"",null,"","",""]
[null,null,null,"",null,"","",""]
[null,null,null,"",null,"","",""]
[null,null,null,"",null,"","",""]
[null,null,null,"",null,"","",""]
[null,null,null,"",null,"","",""]
[null,null,null,"",null,"","",""]
[null,null,null,"",null,"","",""]
[null,null,null,"",null,"","",""]
[null,null,null,"",null,"","",""]
[null,null,null,"",null,"","",""]
[null,null,null,{"$f":"IF(COUNT(B1830:C1830)<1,\"\",AVERAGE(B1830:C1830))","v":""},null,{"$f":"IF(ISNUMBER(B1830),IF(B1830<0,0,B1830),\"\")","v":""},{"$f":"IF(ISNUMBER(C1830),IF(C1830<0,0,C1830),\"\")","v":""},{"$f":"IF(COUNT(F1830:G1830)<1,\"\",AVERAGE(F1830:G1830))","v":""}]
[null,null,null,"",null,"","",""]
[null,null,null,"",null,"","",""]
[null,null,null,"",null,"","",""]
[null,null,null,"",null,"","",""]
[null,null,null,"",null,"","",""]
[null,null,null,"",null,"","",""]
[null,null,null,"",null,"","",""]
[null,null,null,"",null,"","",""]
[null,null,null,"",null,"","",""]
[null,null,null,"",null,"","",""]
[null,null,null,"",null,"","",""]
[null,null,null,"",null,"","",""]
[null,null,null,"",null,"","",""]
[null,null,null,"",null,"","",""]
[null,null,null,"",null,"","",""]
[null,null,null,"",null,"","",""]
[null,null,null,"",null,"","",""]
[null,null,null,"",null,"","",""]
[null,null,null,"",null,"","",""]
[null,null,null,"",null,"","",""]
[null,null,null,"",null,"","",""]
[null,null,null,"",null,"","",""]
[null,null,null,"",null,"","",""]
[null,null,null,"",null,"","",""]
[null,null,null,"",null,"","",""]
[null,null,null,"",null,"","",""]
[null,null,null,"",null,"","",""]
[null,null,null,"",null,"","",""]
[null,null,null,"",null,"","",""]
[null,null,null,"",null,"","",""]
[null,null,null,"",null,"","",""]
[null,null,null,"",null,"","",""]
[null,null,null,"",null,"","",""]
[null,null,null,"",null,"","",""]
[null,null,null,"",null,"","",""]
[null,null,null,"",null,"","",""]
[null,null,null,"",null,"","",""]
[null,null,null,"",null,"","",""]
[null,null,null,"",null,"","",""]
[null,null,null,"",null,"","",""]
[null,null,null,"",null,"","",""]
[null,null,null,"",null,"","",""]
[null,null,null,"",null,"","",""]
[null,null,null,"",null,"","",""]
[null,null,null,"",null,"","",""]
[null,null,null,"",null,"","",""]
[null,null,null,"",null,"","",""]
[null,null,null,"",null,"","",""]
[null,null,null,"",null,"","",""]
[null,null,null,"",null,"","",""]
[null,null,null,"",null,"","",""]
[null,null,null,"",null,"","",""]
[null,null,null,"",null,"","",""]
[null,null,null,"",null,"","",""]
[null,null,null,"",null,"","",""]
[null,null,null,"",null,"","",""]
[null,null,null,"",null,"","",""]
[null,null,null,"",null,"","",""]
[null,null,null,"",null,"","",""]
[null,null,null,"",null,"","",""]
[null,null,null,"",null,"","",""]
[null,null,null,"",null,"","",""]
[null,null,null,"",null,"","",""]
[null,null,null,{"$f":"IF(COUNT(B1894:C1894)<1,\"\",AVERAGE(B1894:C1894))","v":""},null,{"$f":"IF(ISNUMBER(B1894),IF(B1894<0,0,B1894),\"\")","v":""},{"$f":"IF(ISNUMBER(C1894),IF(C1894<0,0,C1894),\"\")","v":""},{"$f":"IF(COUNT(F1894:G1894)<1,\"\",AVERAGE(F1894:G1894))","v":""}]
[null,null,null,"",null,"","",""]
[null,null,null,"",null,"","",""]
[null,null,null,"",null,"","",""]
[null,null,null,"",null,"","",""]
[null,null,null,"",null,"","",""]
[null,null,null,"",null,"","",""]
[null,null,null,"",null,"","",""]
[null,null,null,"",null,"","",""]
[null,null,null,"",null,"","",""]
[null,null,null,"",null,"","",""]
[null,null,null,"",null,"","",""]
[null,null,null,"",null,"","",""]
[null,null,null,"",null,"","",""]
[null,null,null,"",null,"","",""]
[null,null,null,"",null,"","",""]
[null,null,null,"",null,"","",""]
[null,null,null,"",null,"","",""]
[null,null,null,"",null,"","",""]
[null,null,null,"",null,"","",""]
[null,null,null,"",null,"","",""]
[null,null,null,"",null,"","",""]
[null,null,null,"",null,"","",""]
[null,null,null,"",null,"","",""]
[null,null,null,"",null,"","",""]
[null,null,null,"",null,"","",""]
[null,null,null,"",null,"","",""]
[null,null,null,"",null,"","",""]
[null,null,null,"",null,"","",""]
[null,null,null,"",null,"","",""]
[null,null,null,"",null,"","",""]
[null,null,null,"",null,"","",""]
[null,null,null,"",null,"","",""]
[null,null,null,"",null,"","",""]
[null,null,null,"",null,"","",""]
[null,null,null,"",null,"","",""]
[null,null,null,"",null,"","",""]
[null,null,null,"",null,"","",""]
[null,null,null,"",null,"","",""]
[null,null,null,"",null,"","",""]
[null,null,null,"",null,"","",""]
[null,null,null,"",null,"","",""]
[null,null,null,"",null,"","",""]
[null,null,null,"",null,"","",""]
[null,null,null,"",null,"","",""]
[null,null,null,"",null,"","",""]
[null,null,null,"",null,"","",""]
[null,null,null,"",null,"","",""]
[null,null,null,"",null,"","",""]
[null,null,null,"",null,"","",""]
[null,null,null,"",null,"","",""]
[null,null,null,"",null,"","",""]
[null,null,null,"",null,"","",""]
[null,null,null,"",null,"","",""]
[null,null,null,"",null,"","",""]
[null,null,null,"",null,"","",""]
[null,null,null,"",null,"","",""]
[null,null,null,"",null,"","",""]
[null,null,null,"",null,"","",""]
[null,null,null,"",null,"","",""]
[null,null,null,"",null,"","",""]
[null,null,null,"",null,"","",""]
[null,null,null,"",null,"","",""]
[null,null,null,"",null,"","",""]
[null,null,null,{"$f":"IF(COUNT(B1958:C1958)<1,\"\",AVERAGE(B1958:C1958))","v":""},null,{"$f":"IF(ISNUMBER(B1958),IF(B1958<0,0,B1958),\"\")","v":""},{"$f":"IF(ISNUMBER(C1958),IF(C1958<0,0,C1958),\"\")","v":""},{"$f":"IF(COUNT(F1958:G1958)<1,\"\",AVERAGE(F1958:G1958))","v":""}]
[null,null,null,"",null,"","",""]
[null,null,null,"",null,"","",""]
[null,null,null,"",null,"","",""]
[null,null,null,"",null,"","",""]
[null,null,null,"",null,"","",""]
[null,null,null,"",null,"","",""]
[null,null,null,"",null,"","",""]
[null,null,null,"",null,"","",""]
[null,null,null,"",null,"","",""]
[null,null,null,"",null,"","",""]
[null,null,null,"",null,"","",""]
[null,null,null,"",null,"","",""]
[null,null,null,"",null,"","",""]
[null,null,null,"",null,"","",""]
[null,null,null,"",null,"","",""]
[null,null,null,"",null,"","",""]
[null,null,null,"",null,"","",""]
[null,null,null,"",null,"","",""]
[null,null,null,"",null,"","",""]
[null,null,null,"",null,"","",""]
[null,null,null,"",null,"","",""]
[null,null,null,"",null,"","",""]
[null,null,null,"",null,"","",""]
[null,null,null,"",null,"","",""]
[null,null,null,"",null,"","",""]
[null,null,null,"",null,"","",""]
[null,null,null,"",null,"","",""]
[null,null,null,"",null,"","",""]
[null,null,null,"",null,"","",""]
[null,null,null,"",null,"","",""]
[null,null,null,"",null,"","",""]
[null,null,null,"",null,"","",""]
[null,null,null,"",null,"","",""]
[null,null,null,"",null,"","",""]
[null,null,null,"",null,"","",""]
[null,null,null,"",null,"","",""]
[null,null,null,"",null,"","",""]
[null,null,null,"",null,"","",""]
[null,null,null,"",null,"","",""]
[null,null,null,"",null,"","",""]
[null,null,null,"",null,"","",""]
[null,null,null,"",null,"","",""]
[null,null,null,"",null,"","",""]
[null,null,null,"",null,"","",""]
[null,null,null,"",null,"","",""]
[null,null,null,"",null,"","",""]
[null,null,null,"",null,"","",""]

{"sheet":"Teom grams","index":2,"n_rows":2003,"n_cols":21,"rows_kept":2003,"cut":false,"hidden":false,"merged":[]}
["Device ID:",null,null,"Teom s/n:","astm","wet",null,"unadj","unadj","unadj","adj","adj","adj","adj",null,"unadj","adj","adj avg",null,"unadj 1-h","adj 1-h"]
["Start Date:",null,"Test",null,"tunflow","tunflow",null,"pm2.5","pm-c","avg pm","pm2.5","pm-c","avg pm","avg g",null,"avg pm","avg pm","fill-in",null,"rolling avg","rolling avg"]
["Start time:",null,"ET","Teom start time","scfm","scfm",null,"g","g","g","g","g","g","fill-in",null,"g/h","g/h","g/h",null,"grams/h","grams/h"]
[null,null,{"$f":"IF('Teom ugm3'!A6=\"\",\"\",0)","v":""},{"$f":"IF(C4=\"\",\"\",B3)","v":""},null,{"$f":"IF(C4=\"\",\"\",E4*1.02041)","v":""},null,{"$f":"IF(ISNUMBER('Teom ugm3'!B6),('Teom ugm3'!B6*'Teom grams'!$F4*0.000000028317),\"\")","v":""},{"$f":"IF(ISNUMBER('Teom ugm3'!C6),('Teom ugm3'!C6*'Teom grams'!$F4*0.000000028317),\"\")","v":""},{"$f":"IF(ISNUMBER('Teom ugm3'!D6),('Teom ugm3'!D6*'Teom grams'!$F4*0.000000028317),\"\")","v":""},{"$f":"IF(H4<0,0,H4)","v":""},{"$f":"IF(I4<0,0,I4)","v":""},{"$f":"IF(COUNT(K4:L4)>0,AVERAGE(K4:L4),\"\")","v":""},{"$f":"M4","v":""},null,{"$f":"IF(ISNUMBER(J4),J4*60,\"\")","v":""},{"$f":"IF(ISNUMBER(M4),M4*60,\"\")","v":""},{"$f":"Q4","v":""},null,{"$f":"IF(COUNT(C4:C63)>59,AVERAGE(P4:P63),\"\")","v":""},{"$f":"IF(COUNT(C4:C63)>59,AVERAGE(Q4:Q63),\"\")","v":""}]
[null,null,{"$f":"IF('Teom ugm3'!A7=\"\",\"\",C4+1)","v":""},{"$f":"IF(C5=\"\",\"\",D4 + TIME(0, 1, 0))","v":""},null,{"$f":"IF(C5=\"\",\"\",E5*1.02041)","v":""},null,{"$f":"IF(ISNUMBER('Teom ugm3'!B7),('Teom ugm3'!B7*'Teom grams'!$F5*0.000000028317),\"\")","v":""},{"$f":"IF(ISNUMBER('Teom ugm3'!C7),('Teom ugm3'!C7*'Teom grams'!$F5*0.000000028317),\"\")","v":""},{"$f":"IF(ISNUMBER('Teom ugm3'!D7),('Teom ugm3'!D7*'Teom grams'!$F5*0.000000028317),\"\")","v":""},{"$f":"IF(H5<0,0,H5)","v":""},{"$f":"IF(I5<0,0,I5)","v":""},"","",null,{"$f":"IF(ISNUMBER(J5),J5*60,\"\")","v":""},"",{"$f":"IF(ISNUMBER(N5),N5*60,\"\")","v":""},null,"",""]
[null,null,{"$f":"IF('Teom ugm3'!A8=\"\",\"\",C5+1)","v":""},{"$f":"IF(C6=\"\",\"\",D5 + TIME(0, 1, 0))","v":""},null,"",null,{"$f":"IF(ISNUMBER('Teom ugm3'!B8),('Teom ugm3'!B8*'Teom grams'!$F6*0.000000028317),\"\")","v":""},{"$f":"IF(ISNUMBER('Teom ugm3'!C8),('Teom ugm3'!C8*'Teom grams'!$F6*0.000000028317),\"\")","v":""},{"$f":"IF(ISNUMBER('Teom ugm3'!D8),('Teom ugm3'!D8*'Teom grams'!$F6*0.000000028317),\"\")","v":""},"","","","",null,"","","",null,"",""]
[null,null,{"$f":"IF('Teom ugm3'!A9=\"\",\"\",C6+1)","v":""},"",null,"",null,{"$f":"IF(ISNUMBER('Teom ugm3'!B9),('Teom ugm3'!B9*'Teom grams'!$F7*0.000000028317),\"\")","v":""},{"$f":"IF(ISNUMBER('Teom ugm3'!C9),('Teom ugm3'!C9*'Teom grams'!$F7*0.000000028317),\"\")","v":""},{"$f":"IF(ISNUMBER('Teom ugm3'!D9),('Teom ugm3'!D9*'Teom grams'!$F7*0.000000028317),\"\")","v":""},"","","","",null,"","","",null,"",""]
["==> Trim rows after last",null,{"$f":"IF('Teom ugm3'!A10=\"\",\"\",C7+1)","v":""},"",null,"",null,{"$f":"IF(ISNUMBER('Teom ugm3'!B10),('Teom ugm3'!B10*'Teom grams'!$F8*0.000000028317),\"\")","v":""},{"$f":"IF(ISNUMBER('Teom ugm3'!C10),('Teom ugm3'!C10*'Teom grams'!$F8*0.000000028317),\"\")","v":""},{"$f":"IF(ISNUMBER('Teom ugm3'!D10),('Teom ugm3'!D10*'Teom grams'!$F8*0.000000028317),\"\")","v":""},"","","","",null,"","","",null,"",""]
["minute of test <==",null,{"$f":"IF('Teom ugm3'!A11=\"\",\"\",C8+1)","v":""},"",null,"",null,{"$f":"IF(ISNUMBER('Teom ugm3'!B11),('Teom ugm3'!B11*'Teom grams'!$F9*0.000000028317),\"\")","v":""},{"$f":"IF(ISNUMBER('Teom ugm3'!C11),('Teom ugm3'!C11*'Teom grams'!$F9*0.000000028317),\"\")","v":""},{"$f":"IF(ISNUMBER('Teom ugm3'!D11),('Teom ugm3'!D11*'Teom grams'!$F9*0.000000028317),\"\")","v":""},"","","","",null,"","","",null,"",""]
[null,null,{"$f":"IF('Teom ugm3'!A12=\"\",\"\",C9+1)","v":""},"",null,"",null,{"$f":"IF(ISNUMBER('Teom ugm3'!B12),('Teom ugm3'!B12*'Teom grams'!$F10*0.000000028317),\"\")","v":""},{"$f":"IF(ISNUMBER('Teom ugm3'!C12),('Teom ugm3'!C12*'Teom grams'!$F10*0.000000028317),\"\")","v":""},{"$f":"IF(ISNUMBER('Teom ugm3'!D12),('Teom ugm3'!D12*'Teom grams'!$F10*0.000000028317),\"\")","v":""},"","","","",null,"","","",null,"",""]
[null,null,{"$f":"IF('Teom ugm3'!A13=\"\",\"\",C10+1)","v":""},"",null,"",null,{"$f":"IF(ISNUMBER('Teom ugm3'!B13),('Teom ugm3'!B13*'Teom grams'!$F11*0.000000028317),\"\")","v":""},{"$f":"IF(ISNUMBER('Teom ugm3'!C13),('Teom ugm3'!C13*'Teom grams'!$F11*0.000000028317),\"\")","v":""},{"$f":"IF(ISNUMBER('Teom ugm3'!D13),('Teom ugm3'!D13*'Teom grams'!$F11*0.000000028317),\"\")","v":""},"","","","",null,"","","",null,"",""]
["RESULTS:",null,{"$f":"IF('Teom ugm3'!A14=\"\",\"\",C11+1)","v":""},"",null,"",null,{"$f":"IF(ISNUMBER('Teom ugm3'!B14),('Teom ugm3'!B14*'Teom grams'!$F12*0.000000028317),\"\")","v":""},{"$f":"IF(ISNUMBER('Teom ugm3'!C14),('Teom ugm3'!C14*'Teom grams'!$F12*0.000000028317),\"\")","v":""},{"$f":"IF(ISNUMBER('Teom ugm3'!D14),('Teom ugm3'!D14*'Teom grams'!$F12*0.000000028317),\"\")","v":""},"","","","",null,"","","",null,"",""]
["unadj g/h:",{"$f":"AVERAGE(P4:P2003)","v":{"$error":"#DIV/0!"}},{"$f":"IF('Teom ugm3'!A15=\"\",\"\",C12+1)","v":""},"",null,"",null,{"$f":"IF(ISNUMBER('Teom ugm3'!B15),('Teom ugm3'!B15*'Teom grams'!$F13*0.000000028317),\"\")","v":""},{"$f":"IF(ISNUMBER('Teom ugm3'!C15),('Teom ugm3'!C15*'Teom grams'!$F13*0.000000028317),\"\")","v":""},{"$f":"IF(ISNUMBER('Teom ugm3'!D15),('Teom ugm3'!D15*'Teom grams'!$F13*0.000000028317),\"\")","v":""},"","","","",null,"","","",null,"",""]
["adj g/h:",{"$f":"AVERAGE(Q4:Q2003)","v":{"$error":"#DIV/0!"}},{"$f":"IF('Teom ugm3'!A16=\"\",\"\",C13+1)","v":""},"",null,"",null,{"$f":"IF(ISNUMBER('Teom ugm3'!B16),('Teom ugm3'!B16*'Teom grams'!$F14*0.000000028317),\"\")","v":""},{"$f":"IF(ISNUMBER('Teom ugm3'!C16),('Teom ugm3'!C16*'Teom grams'!$F14*0.000000028317),\"\")","v":""},{"$f":"IF(ISNUMBER('Teom ugm3'!D16),('Teom ugm3'!D16*'Teom grams'!$F14*0.000000028317),\"\")","v":""},"","","","",null,"","","",null,"",""]
[null,null,{"$f":"IF('Teom ugm3'!A17=\"\",\"\",C14+1)","v":""},"",null,"",null,{"$f":"IF(ISNUMBER('Teom ugm3'!B17),('Teom ugm3'!B17*'Teom grams'!$F15*0.000000028317),\"\")","v":""},{"$f":"IF(ISNUMBER('Teom ugm3'!C17),('Teom ugm3'!C17*'Teom grams'!$F15*0.000000028317),\"\")","v":""},{"$f":"IF(ISNUMBER('Teom ugm3'!D17),('Teom ugm3'!D17*'Teom grams'!$F15*0.000000028317),\"\")","v":""},"","","","",null,"","","",null,"",""]
[null,null,{"$f":"IF('Teom ugm3'!A18=\"\",\"\",C15+1)","v":""},"",null,"",null,{"$f":"IF(ISNUMBER('Teom ugm3'!B18),('Teom ugm3'!B18*'Teom grams'!$F16*0.000000028317),\"\")","v":""},{"$f":"IF(ISNUMBER('Teom ugm3'!C18),('Teom ugm3'!C18*'Teom grams'!$F16*0.000000028317),\"\")","v":""},{"$f":"IF(ISNUMBER('Teom ugm3'!D18),('Teom ugm3'!D18*'Teom grams'!$F16*0.000000028317),\"\")","v":""},"","","","",null,"","","",null,"",""]
[null,null,{"$f":"IF('Teom ugm3'!A19=\"\",\"\",C16+1)","v":""},"",null,"",null,{"$f":"IF(ISNUMBER('Teom ugm3'!B19),('Teom ugm3'!B19*'Teom grams'!$F17*0.000000028317),\"\")","v":""},{"$f":"IF(ISNUMBER('Teom ugm3'!C19),('Teom ugm3'!C19*'Teom grams'!$F17*0.000000028317),\"\")","v":""},{"$f":"IF(ISNUMBER('Teom ugm3'!D19),('Teom ugm3'!D19*'Teom grams'!$F17*0.000000028317),\"\")","v":""},"","","","",null,"","","",null,"",""]
[null,null,{"$f":"IF('Teom ugm3'!A20=\"\",\"\",C17+1)","v":""},"",null,"",null,{"$f":"IF(ISNUMBER('Teom ugm3'!B20),('Teom ugm3'!B20*'Teom grams'!$F18*0.000000028317),\"\")","v":""},{"$f":"IF(ISNUMBER('Teom ugm3'!C20),('Teom ugm3'!C20*'Teom grams'!$F18*0.000000028317),\"\")","v":""},{"$f":"IF(ISNUMBER('Teom ugm3'!D20),('Teom ugm3'!D20*'Teom grams'!$F18*0.000000028317),\"\")","v":""},"","","","",null,"","","",null,"",""]
[null,null,{"$f":"IF('Teom ugm3'!A21=\"\",\"\",C18+1)","v":""},"",null,"",null,{"$f":"IF(ISNUMBER('Teom ugm3'!B21),('Teom ugm3'!B21*'Teom grams'!$F19*0.000000028317),\"\")","v":""},{"$f":"IF(ISNUMBER('Teom ugm3'!C21),('Teom ugm3'!C21*'Teom grams'!$F19*0.000000028317),\"\")","v":""},{"$f":"IF(ISNUMBER('Teom ugm3'!D21),('Teom ugm3'!D21*'Teom grams'!$F19*0.000000028317),\"\")","v":""},"","","","",null,"","","",null,"",""]
[null,null,{"$f":"IF('Teom ugm3'!A22=\"\",\"\",C19+1)","v":""},"",null,"",null,{"$f":"IF(ISNUMBER('Teom ugm3'!B22),('Teom ugm3'!B22*'Teom grams'!$F20*0.000000028317),\"\")","v":""},{"$f":"IF(ISNUMBER('Teom ugm3'!C22),('Teom ugm3'!C22*'Teom grams'!$F20*0.000000028317),\"\")","v":""},{"$f":"IF(ISNUMBER('Teom ugm3'!D22),('Teom ugm3'!D22*'Teom grams'!$F20*0.000000028317),\"\")","v":""},"","","","",null,"","","",null,"",""]
[null,null,{"$f":"IF('Teom ugm3'!A23=\"\",\"\",C20+1)","v":""},"",null,"",null,{"$f":"IF(ISNUMBER('Teom ugm3'!B23),('Teom ugm3'!B23*'Teom grams'!$F21*0.000000028317),\"\")","v":""},{"$f":"IF(ISNUMBER('Teom ugm3'!C23),('Teom ugm3'!C23*'Teom grams'!$F21*0.000000028317),\"\")","v":""},{"$f":"IF(ISNUMBER('Teom ugm3'!D23),('Teom ugm3'!D23*'Teom grams'!$F21*0.000000028317),\"\")","v":""},"","","","",null,"","","",null,"",""]
[null,null,{"$f":"IF('Teom ugm3'!A24=\"\",\"\",C21+1)","v":""},"",null,"",null,{"$f":"IF(ISNUMBER('Teom ugm3'!B24),('Teom ugm3'!B24*'Teom grams'!$F22*0.000000028317),\"\")","v":""},{"$f":"IF(ISNUMBER('Teom ugm3'!C24),('Teom ugm3'!C24*'Teom grams'!$F22*0.000000028317),\"\")","v":""},{"$f":"IF(ISNUMBER('Teom ugm3'!D24),('Teom ugm3'!D24*'Teom grams'!$F22*0.000000028317),\"\")","v":""},"","","","",null,"","","",null,"",""]
[null,null,{"$f":"IF('Teom ugm3'!A25=\"\",\"\",C22+1)","v":""},"",null,"",null,{"$f":"IF(ISNUMBER('Teom ugm3'!B25),('Teom ugm3'!B25*'Teom grams'!$F23*0.000000028317),\"\")","v":""},{"$f":"IF(ISNUMBER('Teom ugm3'!C25),('Teom ugm3'!C25*'Teom grams'!$F23*0.000000028317),\"\")","v":""},{"$f":"IF(ISNUMBER('Teom ugm3'!D25),('Teom ugm3'!D25*'Teom grams'!$F23*0.000000028317),\"\")","v":""},"","","","",null,"","","",null,"",""]
[null,null,{"$f":"IF('Teom ugm3'!A26=\"\",\"\",C23+1)","v":""},"",null,"",null,{"$f":"IF(ISNUMBER('Teom ugm3'!B26),('Teom ugm3'!B26*'Teom grams'!$F24*0.000000028317),\"\")","v":""},{"$f":"IF(ISNUMBER('Teom ugm3'!C26),('Teom ugm3'!C26*'Teom grams'!$F24*0.000000028317),\"\")","v":""},{"$f":"IF(ISNUMBER('Teom ugm3'!D26),('Teom ugm3'!D26*'Teom grams'!$F24*0.000000028317),\"\")","v":""},"","","","",null,"","","",null,"",""]
[null,null,{"$f":"IF('Teom ugm3'!A27=\"\",\"\",C24+1)","v":""},"",null,"",null,{"$f":"IF(ISNUMBER('Teom ugm3'!B27),('Teom ugm3'!B27*'Teom grams'!$F25*0.000000028317),\"\")","v":""},{"$f":"IF(ISNUMBER('Teom ugm3'!C27),('Teom ugm3'!C27*'Teom grams'!$F25*0.000000028317),\"\")","v":""},{"$f":"IF(ISNUMBER('Teom ugm3'!D27),('Teom ugm3'!D27*'Teom grams'!$F25*0.000000028317),\"\")","v":""},"","","","",null,"","","",null,"",""]
[null,null,{"$f":"IF('Teom ugm3'!A28=\"\",\"\",C25+1)","v":""},"",null,"",null,{"$f":"IF(ISNUMBER('Teom ugm3'!B28),('Teom ugm3'!B28*'Teom grams'!$F26*0.000000028317),\"\")","v":""},{"$f":"IF(ISNUMBER('Teom ugm3'!C28),('Teom ugm3'!C28*'Teom grams'!$F26*0.000000028317),\"\")","v":""},{"$f":"IF(ISNUMBER('Teom ugm3'!D28),('Teom ugm3'!D28*'Teom grams'!$F26*0.000000028317),\"\")","v":""},"","","","",null,"","","",null,"",""]
[null,null,{"$f":"IF('Teom ugm3'!A29=\"\",\"\",C26+1)","v":""},"",null,"",null,{"$f":"IF(ISNUMBER('Teom ugm3'!B29),('Teom ugm3'!B29*'Teom grams'!$F27*0.000000028317),\"\")","v":""},{"$f":"IF(ISNUMBER('Teom ugm3'!C29),('Teom ugm3'!C29*'Teom grams'!$F27*0.000000028317),\"\")","v":""},{"$f":"IF(ISNUMBER('Teom ugm3'!D29),('Teom ugm3'!D29*'Teom grams'!$F27*0.000000028317),\"\")","v":""},"","","","",null,"","","",null,"",""]
[null,null,{"$f":"IF('Teom ugm3'!A30=\"\",\"\",C27+1)","v":""},"",null,"",null,{"$f":"IF(ISNUMBER('Teom ugm3'!B30),('Teom ugm3'!B30*'Teom grams'!$F28*0.000000028317),\"\")","v":""},{"$f":"IF(ISNUMBER('Teom ugm3'!C30),('Teom ugm3'!C30*'Teom grams'!$F28*0.000000028317),\"\")","v":""},{"$f":"IF(ISNUMBER('Teom ugm3'!D30),('Teom ugm3'!D30*'Teom grams'!$F28*0.000000028317),\"\")","v":""},"","","","",null,"","","",null,"",""]
[null,null,{"$f":"IF('Teom ugm3'!A31=\"\",\"\",C28+1)","v":""},"",null,"",null,{"$f":"IF(ISNUMBER('Teom ugm3'!B31),('Teom ugm3'!B31*'Teom grams'!$F29*0.000000028317),\"\")","v":""},{"$f":"IF(ISNUMBER('Teom ugm3'!C31),('Teom ugm3'!C31*'Teom grams'!$F29*0.000000028317),\"\")","v":""},{"$f":"IF(ISNUMBER('Teom ugm3'!D31),('Teom ugm3'!D31*'Teom grams'!$F29*0.000000028317),\"\")","v":""},"","","","",null,"","","",null,"",""]
[null,null,{"$f":"IF('Teom ugm3'!A32=\"\",\"\",C29+1)","v":""},"",null,"",null,{"$f":"IF(ISNUMBER('Teom ugm3'!B32),('Teom ugm3'!B32*'Teom grams'!$F30*0.000000028317),\"\")","v":""},{"$f":"IF(ISNUMBER('Teom ugm3'!C32),('Teom ugm3'!C32*'Teom grams'!$F30*0.000000028317),\"\")","v":""},{"$f":"IF(ISNUMBER('Teom ugm3'!D32),('Teom ugm3'!D32*'Teom grams'!$F30*0.000000028317),\"\")","v":""},"","","","",null,"","","",null,"",""]
[null,null,{"$f":"IF('Teom ugm3'!A33=\"\",\"\",C30+1)","v":""},"",null,"",null,{"$f":"IF(ISNUMBER('Teom ugm3'!B33),('Teom ugm3'!B33*'Teom grams'!$F31*0.000000028317),\"\")","v":""},{"$f":"IF(ISNUMBER('Teom ugm3'!C33),('Teom ugm3'!C33*'Teom grams'!$F31*0.000000028317),\"\")","v":""},{"$f":"IF(ISNUMBER('Teom ugm3'!D33),('Teom ugm3'!D33*'Teom grams'!$F31*0.000000028317),\"\")","v":""},"","","","",null,"","","",null,"",""]
[null,null,{"$f":"IF('Teom ugm3'!A34=\"\",\"\",C31+1)","v":""},"",null,"",null,{"$f":"IF(ISNUMBER('Teom ugm3'!B34),('Teom ugm3'!B34*'Teom grams'!$F32*0.000000028317),\"\")","v":""},{"$f":"IF(ISNUMBER('Teom ugm3'!C34),('Teom ugm3'!C34*'Teom grams'!$F32*0.000000028317),\"\")","v":""},{"$f":"IF(ISNUMBER('Teom ugm3'!D34),('Teom ugm3'!D34*'Teom grams'!$F32*0.000000028317),\"\")","v":""},"","","","",null,"","","",null,"",""]
[null,null,{"$f":"IF('Teom ugm3'!A35=\"\",\"\",C32+1)","v":""},"",null,"",null,{"$f":"IF(ISNUMBER('Teom ugm3'!B35),('Teom ugm3'!B35*'Teom grams'!$F33*0.000000028317),\"\")","v":""},{"$f":"IF(ISNUMBER('Teom ugm3'!C35),('Teom ugm3'!C35*'Teom grams'!$F33*0.000000028317),\"\")","v":""},{"$f":"IF(ISNUMBER('Teom ugm3'!D35),('Teom ugm3'!D35*'Teom grams'!$F33*0.000000028317),\"\")","v":""},"","","","",null,"","","",null,"",""]
[null,null,{"$f":"IF('Teom ugm3'!A36=\"\",\"\",C33+1)","v":""},"",null,"",null,{"$f":"IF(ISNUMBER('Teom ugm3'!B36),('Teom ugm3'!B36*'Teom grams'!$F34*0.000000028317),\"\")","v":""},{"$f":"IF(ISNUMBER('Teom ugm3'!C36),('Teom ugm3'!C36*'Teom grams'!$F34*0.000000028317),\"\")","v":""},{"$f":"IF(ISNUMBER('Teom ugm3'!D36),('Teom ugm3'!D36*'Teom grams'!$F34*0.000000028317),\"\")","v":""},"","","","",null,"","","",null,"",""]
[null,null,{"$f":"IF('Teom ugm3'!A37=\"\",\"\",C34+1)","v":""},"",null,"",null,{"$f":"IF(ISNUMBER('Teom ugm3'!B37),('Teom ugm3'!B37*'Teom grams'!$F35*0.000000028317),\"\")","v":""},{"$f":"IF(ISNUMBER('Teom ugm3'!C37),('Teom ugm3'!C37*'Teom grams'!$F35*0.000000028317),\"\")","v":""},{"$f":"IF(ISNUMBER('Teom ugm3'!D37),('Teom ugm3'!D37*'Teom grams'!$F35*0.000000028317),\"\")","v":""},"","","","",null,"","","",null,"",""]
[null,null,{"$f":"IF('Teom ugm3'!A38=\"\",\"\",C35+1)","v":""},"",null,"",null,{"$f":"IF(ISNUMBER('Teom ugm3'!B38),('Teom ugm3'!B38*'Teom grams'!$F36*0.000000028317),\"\")","v":""},{"$f":"IF(ISNUMBER('Teom ugm3'!C38),('Teom ugm3'!C38*'Teom grams'!$F36*0.000000028317),\"\")","v":""},{"$f":"IF(ISNUMBER('Teom ugm3'!D38),('Teom ugm3'!D38*'Teom grams'!$F36*0.000000028317),\"\")","v":""},"","","","",null,"","","",null,"",""]
[null,null,{"$f":"IF('Teom ugm3'!A39=\"\",\"\",C36+1)","v":""},"",null,"",null,{"$f":"IF(ISNUMBER('Teom ugm3'!B39),('Teom ugm3'!B39*'Teom grams'!$F37*0.000000028317),\"\")","v":""},{"$f":"IF(ISNUMBER('Teom ugm3'!C39),('Teom ugm3'!C39*'Teom grams'!$F37*0.000000028317),\"\")","v":""},{"$f":"IF(ISNUMBER('Teom ugm3'!D39),('Teom ugm3'!D39*'Teom grams'!$F37*0.000000028317),\"\")","v":""},"","","","",null,"","","",null,"",""]
[null,null,{"$f":"IF('Teom ugm3'!A40=\"\",\"\",C37+1)","v":""},"",null,"",null,{"$f":"IF(ISNUMBER('Teom ugm3'!B40),('Teom ugm3'!B40*'Teom grams'!$F38*0.000000028317),\"\")","v":""},{"$f":"IF(ISNUMBER('Teom ugm3'!C40),('Teom ugm3'!C40*'Teom grams'!$F38*0.000000028317),\"\")","v":""},{"$f":"IF(ISNUMBER('Teom ugm3'!D40),('Teom ugm3'!D40*'Teom grams'!$F38*0.000000028317),\"\")","v":""},"","","","",null,"","","",null,"",""]
[null,null,{"$f":"IF('Teom ugm3'!A41=\"\",\"\",C38+1)","v":""},"",null,"",null,{"$f":"IF(ISNUMBER('Teom ugm3'!B41),('Teom ugm3'!B41*'Teom grams'!$F39*0.000000028317),\"\")","v":""},{"$f":"IF(ISNUMBER('Teom ugm3'!C41),('Teom ugm3'!C41*'Teom grams'!$F39*0.000000028317),\"\")","v":""},{"$f":"IF(ISNUMBER('Teom ugm3'!D41),('Teom ugm3'!D41*'Teom grams'!$F39*0.000000028317),\"\")","v":""},"","","","",null,"","","",null,"",""]
[null,null,{"$f":"IF('Teom ugm3'!A42=\"\",\"\",C39+1)","v":""},"",null,"",null,{"$f":"IF(ISNUMBER('Teom ugm3'!B42),('Teom ugm3'!B42*'Teom grams'!$F40*0.000000028317),\"\")","v":""},{"$f":"IF(ISNUMBER('Teom ugm3'!C42),('Teom ugm3'!C42*'Teom grams'!$F40*0.000000028317),\"\")","v":""},{"$f":"IF(ISNUMBER('Teom ugm3'!D42),('Teom ugm3'!D42*'Teom grams'!$F40*0.000000028317),\"\")","v":""},"","","","",null,"","","",null,"",""]
[null,null,{"$f":"IF('Teom ugm3'!A43=\"\",\"\",C40+1)","v":""},"",null,"",null,{"$f":"IF(ISNUMBER('Teom ugm3'!B43),('Teom ugm3'!B43*'Teom grams'!$F41*0.000000028317),\"\")","v":""},{"$f":"IF(ISNUMBER('Teom ugm3'!C43),('Teom ugm3'!C43*'Teom grams'!$F41*0.000000028317),\"\")","v":""},{"$f":"IF(ISNUMBER('Teom ugm3'!D43),('Teom ugm3'!D43*'Teom grams'!$F41*0.000000028317),\"\")","v":""},"","","","",null,"","","",null,"",""]
[null,null,{"$f":"IF('Teom ugm3'!A44=\"\",\"\",C41+1)","v":""},"",null,"",null,{"$f":"IF(ISNUMBER('Teom ugm3'!B44),('Teom ugm3'!B44*'Teom grams'!$F42*0.000000028317),\"\")","v":""},{"$f":"IF(ISNUMBER('Teom ugm3'!C44),('Teom ugm3'!C44*'Teom grams'!$F42*0.000000028317),\"\")","v":""},{"$f":"IF(ISNUMBER('Teom ugm3'!D44),('Teom ugm3'!D44*'Teom grams'!$F42*0.000000028317),\"\")","v":""},"","","","",null,"","","",null,"",""]
[null,null,{"$f":"IF('Teom ugm3'!A45=\"\",\"\",C42+1)","v":""},"",null,"",null,{"$f":"IF(ISNUMBER('Teom ugm3'!B45),('Teom ugm3'!B45*'Teom grams'!$F43*0.000000028317),\"\")","v":""},{"$f":"IF(ISNUMBER('Teom ugm3'!C45),('Teom ugm3'!C45*'Teom grams'!$F43*0.000000028317),\"\")","v":""},{"$f":"IF(ISNUMBER('Teom ugm3'!D45),('Teom ugm3'!D45*'Teom grams'!$F43*0.000000028317),\"\")","v":""},"","","","",null,"","","",null,"",""]
[null,null,{"$f":"IF('Teom ugm3'!A46=\"\",\"\",C43+1)","v":""},"",null,"",null,{"$f":"IF(ISNUMBER('Teom ugm3'!B46),('Teom ugm3'!B46*'Teom grams'!$F44*0.000000028317),\"\")","v":""},{"$f":"IF(ISNUMBER('Teom ugm3'!C46),('Teom ugm3'!C46*'Teom grams'!$F44*0.000000028317),\"\")","v":""},{"$f":"IF(ISNUMBER('Teom ugm3'!D46),('Teom ugm3'!D46*'Teom grams'!$F44*0.000000028317),\"\")","v":""},"","","","",null,"","","",null,"",""]
[null,null,{"$f":"IF('Teom ugm3'!A47=\"\",\"\",C44+1)","v":""},"",null,"",null,{"$f":"IF(ISNUMBER('Teom ugm3'!B47),('Teom ugm3'!B47*'Teom grams'!$F45*0.000000028317),\"\")","v":""},{"$f":"IF(ISNUMBER('Teom ugm3'!C47),('Teom ugm3'!C47*'Teom grams'!$F45*0.000000028317),\"\")","v":""},{"$f":"IF(ISNUMBER('Teom ugm3'!D47),('Teom ugm3'!D47*'Teom grams'!$F45*0.000000028317),\"\")","v":""},"","","","",null,"","","",null,"",""]
[null,null,{"$f":"IF('Teom ugm3'!A48=\"\",\"\",C45+1)","v":""},"",null,"",null,{"$f":"IF(ISNUMBER('Teom ugm3'!B48),('Teom ugm3'!B48*'Teom grams'!$F46*0.000000028317),\"\")","v":""},{"$f":"IF(ISNUMBER('Teom ugm3'!C48),('Teom ugm3'!C48*'Teom grams'!$F46*0.000000028317),\"\")","v":""},{"$f":"IF(ISNUMBER('Teom ugm3'!D48),('Teom ugm3'!D48*'Teom grams'!$F46*0.000000028317),\"\")","v":""},"","","","",null,"","","",null,"",""]
[null,null,{"$f":"IF('Teom ugm3'!A49=\"\",\"\",C46+1)","v":""},"",null,"",null,{"$f":"IF(ISNUMBER('Teom ugm3'!B49),('Teom ugm3'!B49*'Teom grams'!$F47*0.000000028317),\"\")","v":""},{"$f":"IF(ISNUMBER('Teom ugm3'!C49),('Teom ugm3'!C49*'Teom grams'!$F47*0.000000028317),\"\")","v":""},{"$f":"IF(ISNUMBER('Teom ugm3'!D49),('Teom ugm3'!D49*'Teom grams'!$F47*0.000000028317),\"\")","v":""},"","","","",null,"","","",null,"",""]
[null,null,{"$f":"IF('Teom ugm3'!A50=\"\",\"\",C47+1)","v":""},"",null,"",null,{"$f":"IF(ISNUMBER('Teom ugm3'!B50),('Teom ugm3'!B50*'Teom grams'!$F48*0.000000028317),\"\")","v":""},{"$f":"IF(ISNUMBER('Teom ugm3'!C50),('Teom ugm3'!C50*'Teom grams'!$F48*0.000000028317),\"\")","v":""},{"$f":"IF(ISNUMBER('Teom ugm3'!D50),('Teom ugm3'!D50*'Teom grams'!$F48*0.000000028317),\"\")","v":""},"","","","",null,"","","",null,"",""]
[null,null,{"$f":"IF('Teom ugm3'!A51=\"\",\"\",C48+1)","v":""},"",null,"",null,{"$f":"IF(ISNUMBER('Teom ugm3'!B51),('Teom ugm3'!B51*'Teom grams'!$F49*0.000000028317),\"\")","v":""},{"$f":"IF(ISNUMBER('Teom ugm3'!C51),('Teom ugm3'!C51*'Teom grams'!$F49*0.000000028317),\"\")","v":""},{"$f":"IF(ISNUMBER('Teom ugm3'!D51),('Teom ugm3'!D51*'Teom grams'!$F49*0.000000028317),\"\")","v":""},"","","","",null,"","","",null,"",""]
[null,null,{"$f":"IF('Teom ugm3'!A52=\"\",\"\",C49+1)","v":""},"",null,"",null,{"$f":"IF(ISNUMBER('Teom ugm3'!B52),('Teom ugm3'!B52*'Teom grams'!$F50*0.000000028317),\"\")","v":""},{"$f":"IF(ISNUMBER('Teom ugm3'!C52),('Teom ugm3'!C52*'Teom grams'!$F50*0.000000028317),\"\")","v":""},{"$f":"IF(ISNUMBER('Teom ugm3'!D52),('Teom ugm3'!D52*'Teom grams'!$F50*0.000000028317),\"\")","v":""},"","","","",null,"","","",null,"",""]
[null,null,{"$f":"IF('Teom ugm3'!A53=\"\",\"\",C50+1)","v":""},"",null,"",null,{"$f":"IF(ISNUMBER('Teom ugm3'!B53),('Teom ugm3'!B53*'Teom grams'!$F51*0.000000028317),\"\")","v":""},{"$f":"IF(ISNUMBER('Teom ugm3'!C53),('Teom ugm3'!C53*'Teom grams'!$F51*0.000000028317),\"\")","v":""},{"$f":"IF(ISNUMBER('Teom ugm3'!D53),('Teom ugm3'!D53*'Teom grams'!$F51*0.000000028317),\"\")","v":""},"","","","",null,"","","",null,"",""]
[null,null,{"$f":"IF('Teom ugm3'!A54=\"\",\"\",C51+1)","v":""},"",null,"",null,{"$f":"IF(ISNUMBER('Teom ugm3'!B54),('Teom ugm3'!B54*'Teom grams'!$F52*0.000000028317),\"\")","v":""},{"$f":"IF(ISNUMBER('Teom ugm3'!C54),('Teom ugm3'!C54*'Teom grams'!$F52*0.000000028317),\"\")","v":""},{"$f":"IF(ISNUMBER('Teom ugm3'!D54),('Teom ugm3'!D54*'Teom grams'!$F52*0.000000028317),\"\")","v":""},"","","","",null,"","","",null,"",""]
[null,null,{"$f":"IF('Teom ugm3'!A55=\"\",\"\",C52+1)","v":""},"",null,"",null,{"$f":"IF(ISNUMBER('Teom ugm3'!B55),('Teom ugm3'!B55*'Teom grams'!$F53*0.000000028317),\"\")","v":""},{"$f":"IF(ISNUMBER('Teom ugm3'!C55),('Teom ugm3'!C55*'Teom grams'!$F53*0.000000028317),\"\")","v":""},{"$f":"IF(ISNUMBER('Teom ugm3'!D55),('Teom ugm3'!D55*'Teom grams'!$F53*0.000000028317),\"\")","v":""},"","","","",null,"","","",null,"",""]
[null,null,{"$f":"IF('Teom ugm3'!A56=\"\",\"\",C53+1)","v":""},"",null,"",null,{"$f":"IF(ISNUMBER('Teom ugm3'!B56),('Teom ugm3'!B56*'Teom grams'!$F54*0.000000028317),\"\")","v":""},{"$f":"IF(ISNUMBER('Teom ugm3'!C56),('Teom ugm3'!C56*'Teom grams'!$F54*0.000000028317),\"\")","v":""},{"$f":"IF(ISNUMBER('Teom ugm3'!D56),('Teom ugm3'!D56*'Teom grams'!$F54*0.000000028317),\"\")","v":""},"","","","",null,"","","",null,"",""]
[null,null,{"$f":"IF('Teom ugm3'!A57=\"\",\"\",C54+1)","v":""},"",null,"",null,{"$f":"IF(ISNUMBER('Teom ugm3'!B57),('Teom ugm3'!B57*'Teom grams'!$F55*0.000000028317),\"\")","v":""},{"$f":"IF(ISNUMBER('Teom ugm3'!C57),('Teom ugm3'!C57*'Teom grams'!$F55*0.000000028317),\"\")","v":""},{"$f":"IF(ISNUMBER('Teom ugm3'!D57),('Teom ugm3'!D57*'Teom grams'!$F55*0.000000028317),\"\")","v":""},"","","","",null,"","","",null,"",""]
[null,null,{"$f":"IF('Teom ugm3'!A58=\"\",\"\",C55+1)","v":""},"",null,"",null,{"$f":"IF(ISNUMBER('Teom ugm3'!B58),('Teom ugm3'!B58*'Teom grams'!$F56*0.000000028317),\"\")","v":""},{"$f":"IF(ISNUMBER('Teom ugm3'!C58),('Teom ugm3'!C58*'Teom grams'!$F56*0.000000028317),\"\")","v":""},{"$f":"IF(ISNUMBER('Teom ugm3'!D58),('Teom ugm3'!D58*'Teom grams'!$F56*0.000000028317),\"\")","v":""},"","","","",null,"","","",null,"",""]
[null,null,{"$f":"IF('Teom ugm3'!A59=\"\",\"\",C56+1)","v":""},"",null,"",null,{"$f":"IF(ISNUMBER('Teom ugm3'!B59),('Teom ugm3'!B59*'Teom grams'!$F57*0.000000028317),\"\")","v":""},{"$f":"IF(ISNUMBER('Teom ugm3'!C59),('Teom ugm3'!C59*'Teom grams'!$F57*0.000000028317),\"\")","v":""},{"$f":"IF(ISNUMBER('Teom ugm3'!D59),('Teom ugm3'!D59*'Teom grams'!$F57*0.000000028317),\"\")","v":""},"","","","",null,"","","",null,"",""]
[null,null,{"$f":"IF('Teom ugm3'!A60=\"\",\"\",C57+1)","v":""},"",null,"",null,{"$f":"IF(ISNUMBER('Teom ugm3'!B60),('Teom ugm3'!B60*'Teom grams'!$F58*0.000000028317),\"\")","v":""},{"$f":"IF(ISNUMBER('Teom ugm3'!C60),('Teom ugm3'!C60*'Teom grams'!$F58*0.000000028317),\"\")","v":""},{"$f":"IF(ISNUMBER('Teom ugm3'!D60),('Teom ugm3'!D60*'Teom grams'!$F58*0.000000028317),\"\")","v":""},"","","","",null,"","","",null,"",""]
[null,null,{"$f":"IF('Teom ugm3'!A61=\"\",\"\",C58+1)","v":""},"",null,"",null,{"$f":"IF(ISNUMBER('Teom ugm3'!B61),('Teom ugm3'!B61*'Teom grams'!$F59*0.000000028317),\"\")","v":""},{"$f":"IF(ISNUMBER('Teom ugm3'!C61),('Teom ugm3'!C61*'Teom grams'!$F59*0.000000028317),\"\")","v":""},{"$f":"IF(ISNUMBER('Teom ugm3'!D61),('Teom ugm3'!D61*'Teom grams'!$F59*0.000000028317),\"\")","v":""},"","","","",null,"","","",null,"",""]
[null,null,{"$f":"IF('Teom ugm3'!A62=\"\",\"\",C59+1)","v":""},"",null,"",null,{"$f":"IF(ISNUMBER('Teom ugm3'!B62),('Teom ugm3'!B62*'Teom grams'!$F60*0.000000028317),\"\")","v":""},{"$f":"IF(ISNUMBER('Teom ugm3'!C62),('Teom ugm3'!C62*'Teom grams'!$F60*0.000000028317),\"\")","v":""},{"$f":"IF(ISNUMBER('Teom ugm3'!D62),('Teom ugm3'!D62*'Teom grams'!$F60*0.000000028317),\"\")","v":""},"","","","",null,"","","",null,"",""]
[null,null,{"$f":"IF('Teom ugm3'!A63=\"\",\"\",C60+1)","v":""},"",null,"",null,{"$f":"IF(ISNUMBER('Teom ugm3'!B63),('Teom ugm3'!B63*'Teom grams'!$F61*0.000000028317),\"\")","v":""},{"$f":"IF(ISNUMBER('Teom ugm3'!C63),('Teom ugm3'!C63*'Teom grams'!$F61*0.000000028317),\"\")","v":""},{"$f":"IF(ISNUMBER('Teom ugm3'!D63),('Teom ugm3'!D63*'Teom grams'!$F61*0.000000028317),\"\")","v":""},"","","","",null,"","","",null,"",""]
[null,null,{"$f":"IF('Teom ugm3'!A64=\"\",\"\",C61+1)","v":""},"",null,"",null,{"$f":"IF(ISNUMBER('Teom ugm3'!B64),('Teom ugm3'!B64*'Teom grams'!$F62*0.000000028317),\"\")","v":""},{"$f":"IF(ISNUMBER('Teom ugm3'!C64),('Teom ugm3'!C64*'Teom grams'!$F62*0.000000028317),\"\")","v":""},{"$f":"IF(ISNUMBER('Teom ugm3'!D64),('Teom ugm3'!D64*'Teom grams'!$F62*0.000000028317),\"\")","v":""},"","","","",null,"","","",null,"",""]
[null,null,{"$f":"IF('Teom ugm3'!A65=\"\",\"\",C62+1)","v":""},"",null,"",null,{"$f":"IF(ISNUMBER('Teom ugm3'!B65),('Teom ugm3'!B65*'Teom grams'!$F63*0.000000028317),\"\")","v":""},{"$f":"IF(ISNUMBER('Teom ugm3'!C65),('Teom ugm3'!C65*'Teom grams'!$F63*0.000000028317),\"\")","v":""},{"$f":"IF(ISNUMBER('Teom ugm3'!D65),('Teom ugm3'!D65*'Teom grams'!$F63*0.000000028317),\"\")","v":""},"","","","",null,"","","",null,"",""]
[null,null,{"$f":"IF('Teom ugm3'!A66=\"\",\"\",C63+1)","v":""},"",null,"",null,{"$f":"IF(ISNUMBER('Teom ugm3'!B66),('Teom ugm3'!B66*'Teom grams'!$F64*0.000000028317),\"\")","v":""},{"$f":"IF(ISNUMBER('Teom ugm3'!C66),('Teom ugm3'!C66*'Teom grams'!$F64*0.000000028317),\"\")","v":""},{"$f":"IF(ISNUMBER('Teom ugm3'!D66),('Teom ugm3'!D66*'Teom grams'!$F64*0.000000028317),\"\")","v":""},"","","","",null,"","","",null,"",""]
[null,null,{"$f":"IF('Teom ugm3'!A67=\"\",\"\",C64+1)","v":""},"",null,"",null,{"$f":"IF(ISNUMBER('Teom ugm3'!B67),('Teom ugm3'!B67*'Teom grams'!$F65*0.000000028317),\"\")","v":""},{"$f":"IF(ISNUMBER('Teom ugm3'!C67),('Teom ugm3'!C67*'Teom grams'!$F65*0.000000028317),\"\")","v":""},{"$f":"IF(ISNUMBER('Teom ugm3'!D67),('Teom ugm3'!D67*'Teom grams'!$F65*0.000000028317),\"\")","v":""},"","","","",null,"","","",null,"",""]
[null,null,{"$f":"IF('Teom ugm3'!A68=\"\",\"\",C65+1)","v":""},"",null,"",null,{"$f":"IF(ISNUMBER('Teom ugm3'!B68),('Teom ugm3'!B68*'Teom grams'!$F66*0.000000028317),\"\")","v":""},{"$f":"IF(ISNUMBER('Teom ugm3'!C68),('Teom ugm3'!C68*'Teom grams'!$F66*0.000000028317),\"\")","v":""},{"$f":"IF(ISNUMBER('Teom ugm3'!D68),('Teom ugm3'!D68*'Teom grams'!$F66*0.000000028317),\"\")","v":""},"","","","",null,"","","",null,"",""]
[null,null,{"$f":"IF('Teom ugm3'!A69=\"\",\"\",C66+1)","v":""},"",null,"",null,{"$f":"IF(ISNUMBER('Teom ugm3'!B69),('Teom ugm3'!B69*'Teom grams'!$F67*0.000000028317),\"\")","v":""},{"$f":"IF(ISNUMBER('Teom ugm3'!C69),('Teom ugm3'!C69*'Teom grams'!$F67*0.000000028317),\"\")","v":""},{"$f":"IF(ISNUMBER('Teom ugm3'!D69),('Teom ugm3'!D69*'Teom grams'!$F67*0.000000028317),\"\")","v":""},"","","","",null,"","","",null,"",""]
[null,null,{"$f":"IF('Teom ugm3'!A70=\"\",\"\",C67+1)","v":""},"",null,"",null,{"$f":"IF(ISNUMBER('Teom ugm3'!B70),('Teom ugm3'!B70*'Teom grams'!$F68*0.000000028317),\"\")","v":""},{"$f":"IF(ISNUMBER('Teom ugm3'!C70),('Teom ugm3'!C70*'Teom grams'!$F68*0.000000028317),\"\")","v":""},{"$f":"IF(ISNUMBER('Teom ugm3'!D70),('Teom ugm3'!D70*'Teom grams'!$F68*0.000000028317),\"\")","v":""},"","",{"$f":"IF(COUNT(K68:L68)>0,AVERAGE(K68:L68),\"\")","v":""},{"$f":"M68","v":""},null,"",{"$f":"IF(ISNUMBER(M68),M68*60,\"\")","v":""},"",null,{"$f":"IF(COUNT(C68:C127)>59,AVERAGE(P68:P127),\"\")","v":""},{"$f":"IF(COUNT(C68:C127)>59,AVERAGE(Q68:Q127),\"\")","v":""}]
[null,null,{"$f":"IF('Teom ugm3'!A71=\"\",\"\",C68+1)","v":""},"",null,{"$f":"IF(C69=\"\",\"\",E69*1.02041)","v":""},null,{"$f":"IF(ISNUMBER('Teom ugm3'!B71),('Teom ugm3'!B71*'Teom grams'!$F69*0.000000028317),\"\")","v":""},{"$f":"IF(ISNUMBER('Teom ugm3'!C71),('Teom ugm3'!C71*'Teom grams'!$F69*0.000000028317),\"\")","v":""},{"$f":"IF(ISNUMBER('Teom ugm3'!D71),('Teom ugm3'!D71*'Teom grams'!$F69*0.000000028317),\"\")","v":""},{"$f":"IF(H69<0,0,H69)","v":""},{"$f":"IF(I69<0,0,I69)","v":""},"","",null,{"$f":"IF(ISNUMBER(J69),J69*60,\"\")","v":""},"",{"$f":"IF(ISNUMBER(N69),N69*60,\"\")","v":""},null,"",""]
[null,null,{"$f":"IF('Teom ugm3'!A72=\"\",\"\",C69+1)","v":""},{"$f":"IF(C70=\"\",\"\",D69 + TIME(0, 1, 0))","v":""},null,"",null,{"$f":"IF(ISNUMBER('Teom ugm3'!B72),('Teom ugm3'!B72*'Teom grams'!$F70*0.000000028317),\"\")","v":""},{"$f":"IF(ISNUMBER('Teom ugm3'!C72),('Teom ugm3'!C72*'Teom grams'!$F70*0.000000028317),\"\")","v":""},{"$f":"IF(ISNUMBER('Teom ugm3'!D72),('Teom ugm3'!D72*'Teom grams'!$F70*0.000000028317),\"\")","v":""},"","","","",null,"","","",null,"",""]
[null,null,{"$f":"IF('Teom ugm3'!A73=\"\",\"\",C70+1)","v":""},"",null,"",null,{"$f":"IF(ISNUMBER('Teom ugm3'!B73),('Teom ugm3'!B73*'Teom grams'!$F71*0.000000028317),\"\")","v":""},{"$f":"IF(ISNUMBER('Teom ugm3'!C73),('Teom ugm3'!C73*'Teom grams'!$F71*0.000000028317),\"\")","v":""},{"$f":"IF(ISNUMBER('Teom ugm3'!D73),('Teom ugm3'!D73*'Teom grams'!$F71*0.000000028317),\"\")","v":""},"","","","",null,"","","",null,"",""]
[null,null,{"$f":"IF('Teom ugm3'!A74=\"\",\"\",C71+1)","v":""},"",null,"",null,{"$f":"IF(ISNUMBER('Teom ugm3'!B74),('Teom ugm3'!B74*'Teom grams'!$F72*0.000000028317),\"\")","v":""},{"$f":"IF(ISNUMBER('Teom ugm3'!C74),('Teom ugm3'!C74*'Teom grams'!$F72*0.000000028317),\"\")","v":""},{"$f":"IF(ISNUMBER('Teom ugm3'!D74),('Teom ugm3'!D74*'Teom grams'!$F72*0.000000028317),\"\")","v":""},"","","","",null,"","","",null,"",""]
[null,null,{"$f":"IF('Teom ugm3'!A75=\"\",\"\",C72+1)","v":""},"",null,"",null,{"$f":"IF(ISNUMBER('Teom ugm3'!B75),('Teom ugm3'!B75*'Teom grams'!$F73*0.000000028317),\"\")","v":""},{"$f":"IF(ISNUMBER('Teom ugm3'!C75),('Teom ugm3'!C75*'Teom grams'!$F73*0.000000028317),\"\")","v":""},{"$f":"IF(ISNUMBER('Teom ugm3'!D75),('Teom ugm3'!D75*'Teom grams'!$F73*0.000000028317),\"\")","v":""},"","","","",null,"","","",null,"",""]
[null,null,{"$f":"IF('Teom ugm3'!A76=\"\",\"\",C73+1)","v":""},"",null,"",null,{"$f":"IF(ISNUMBER('Teom ugm3'!B76),('Teom ugm3'!B76*'Teom grams'!$F74*0.000000028317),\"\")","v":""},{"$f":"IF(ISNUMBER('Teom ugm3'!C76),('Teom ugm3'!C76*'Teom grams'!$F74*0.000000028317),\"\")","v":""},{"$f":"IF(ISNUMBER('Teom ugm3'!D76),('Teom ugm3'!D76*'Teom grams'!$F74*0.000000028317),\"\")","v":""},"","","","",null,"","","",null,"",""]
[null,null,{"$f":"IF('Teom ugm3'!A77=\"\",\"\",C74+1)","v":""},"",null,"",null,{"$f":"IF(ISNUMBER('Teom ugm3'!B77),('Teom ugm3'!B77*'Teom grams'!$F75*0.000000028317),\"\")","v":""},{"$f":"IF(ISNUMBER('Teom ugm3'!C77),('Teom ugm3'!C77*'Teom grams'!$F75*0.000000028317),\"\")","v":""},{"$f":"IF(ISNUMBER('Teom ugm3'!D77),('Teom ugm3'!D77*'Teom grams'!$F75*0.000000028317),\"\")","v":""},"","","","",null,"","","",null,"",""]
[null,null,{"$f":"IF('Teom ugm3'!A78=\"\",\"\",C75+1)","v":""},"",null,"",null,{"$f":"IF(ISNUMBER('Teom ugm3'!B78),('Teom ugm3'!B78*'Teom grams'!$F76*0.000000028317),\"\")","v":""},{"$f":"IF(ISNUMBER('Teom ugm3'!C78),('Teom ugm3'!C78*'Teom grams'!$F76*0.000000028317),\"\")","v":""},{"$f":"IF(ISNUMBER('Teom ugm3'!D78),('Teom ugm3'!D78*'Teom grams'!$F76*0.000000028317),\"\")","v":""},"","","","",null,"","","",null,"",""]
[null,null,{"$f":"IF('Teom ugm3'!A79=\"\",\"\",C76+1)","v":""},"",null,"",null,{"$f":"IF(ISNUMBER('Teom ugm3'!B79),('Teom ugm3'!B79*'Teom grams'!$F77*0.000000028317),\"\")","v":""},{"$f":"IF(ISNUMBER('Teom ugm3'!C79),('Teom ugm3'!C79*'Teom grams'!$F77*0.000000028317),\"\")","v":""},{"$f":"IF(ISNUMBER('Teom ugm3'!D79),('Teom ugm3'!D79*'Teom grams'!$F77*0.000000028317),\"\")","v":""},"","","","",null,"","","",null,"",""]
[null,null,{"$f":"IF('Teom ugm3'!A80=\"\",\"\",C77+1)","v":""},"",null,"",null,{"$f":"IF(ISNUMBER('Teom ugm3'!B80),('Teom ugm3'!B80*'Teom grams'!$F78*0.000000028317),\"\")","v":""},{"$f":"IF(ISNUMBER('Teom ugm3'!C80),('Teom ugm3'!C80*'Teom grams'!$F78*0.000000028317),\"\")","v":""},{"$f":"IF(ISNUMBER('Teom ugm3'!D80),('Teom ugm3'!D80*'Teom grams'!$F78*0.000000028317),\"\")","v":""},"","","","",null,"","","",null,"",""]
[null,null,{"$f":"IF('Teom ugm3'!A81=\"\",\"\",C78+1)","v":""},"",null,"",null,{"$f":"IF(ISNUMBER('Teom ugm3'!B81),('Teom ugm3'!B81*'Teom grams'!$F79*0.000000028317),\"\")","v":""},{"$f":"IF(ISNUMBER('Teom ugm3'!C81),('Teom ugm3'!C81*'Teom grams'!$F79*0.000000028317),\"\")","v":""},{"$f":"IF(ISNUMBER('Teom ugm3'!D81),('Teom ugm3'!D81*'Teom grams'!$F79*0.000000028317),\"\")","v":""},"","","","",null,"","","",null,"",""]
[null,null,{"$f":"IF('Teom ugm3'!A82=\"\",\"\",C79+1)","v":""},"",null,"",null,{"$f":"IF(ISNUMBER('Teom ugm3'!B82),('Teom ugm3'!B82*'Teom grams'!$F80*0.000000028317),\"\")","v":""},{"$f":"IF(ISNUMBER('Teom ugm3'!C82),('Teom ugm3'!C82*'Teom grams'!$F80*0.000000028317),\"\")","v":""},{"$f":"IF(ISNUMBER('Teom ugm3'!D82),('Teom ugm3'!D82*'Teom grams'!$F80*0.000000028317),\"\")","v":""},"","","","",null,"","","",null,"",""]
[null,null,{"$f":"IF('Teom ugm3'!A83=\"\",\"\",C80+1)","v":""},"",null,"",null,{"$f":"IF(ISNUMBER('Teom ugm3'!B83),('Teom ugm3'!B83*'Teom grams'!$F81*0.000000028317),\"\")","v":""},{"$f":"IF(ISNUMBER('Teom ugm3'!C83),('Teom ugm3'!C83*'Teom grams'!$F81*0.000000028317),\"\")","v":""},{"$f":"IF(ISNUMBER('Teom ugm3'!D83),('Teom ugm3'!D83*'Teom grams'!$F81*0.000000028317),\"\")","v":""},"","","","",null,"","","",null,"",""]
[null,null,{"$f":"IF('Teom ugm3'!A84=\"\",\"\",C81+1)","v":""},"",null,"",null,{"$f":"IF(ISNUMBER('Teom ugm3'!B84),('Teom ugm3'!B84*'Teom grams'!$F82*0.000000028317),\"\")","v":""},{"$f":"IF(ISNUMBER('Teom ugm3'!C84),('Teom ugm3'!C84*'Teom grams'!$F82*0.000000028317),\"\")","v":""},{"$f":"IF(ISNUMBER('Teom ugm3'!D84),('Teom ugm3'!D84*'Teom grams'!$F82*0.000000028317),\"\")","v":""},"","","","",null,"","","",null,"",""]
[null,null,{"$f":"IF('Teom ugm3'!A85=\"\",\"\",C82+1)","v":""},"",null,"",null,{"$f":"IF(ISNUMBER('Teom ugm3'!B85),('Teom ugm3'!B85*'Teom grams'!$F83*0.000000028317),\"\")","v":""},{"$f":"IF(ISNUMBER('Teom ugm3'!C85),('Teom ugm3'!C85*'Teom grams'!$F83*0.000000028317),\"\")","v":""},{"$f":"IF(ISNUMBER('Teom ugm3'!D85),('Teom ugm3'!D85*'Teom grams'!$F83*0.000000028317),\"\")","v":""},"","","","",null,"","","",null,"",""]
[null,null,{"$f":"IF('Teom ugm3'!A86=\"\",\"\",C83+1)","v":""},"",null,"",null,{"$f":"IF(ISNUMBER('Teom ugm3'!B86),('Teom ugm3'!B86*'Teom grams'!$F84*0.000000028317),\"\")","v":""},{"$f":"IF(ISNUMBER('Teom ugm3'!C86),('Teom ugm3'!C86*'Teom grams'!$F84*0.000000028317),\"\")","v":""},{"$f":"IF(ISNUMBER('Teom ugm3'!D86),('Teom ugm3'!D86*'Teom grams'!$F84*0.000000028317),\"\")","v":""},"","","","",null,"","","",null,"",""]
[null,null,{"$f":"IF('Teom ugm3'!A87=\"\",\"\",C84+1)","v":""},"",null,"",null,{"$f":"IF(ISNUMBER('Teom ugm3'!B87),('Teom ugm3'!B87*'Teom grams'!$F85*0.000000028317),\"\")","v":""},{"$f":"IF(ISNUMBER('Teom ugm3'!C87),('Teom ugm3'!C87*'Teom grams'!$F85*0.000000028317),\"\")","v":""},{"$f":"IF(ISNUMBER('Teom ugm3'!D87),('Teom ugm3'!D87*'Teom grams'!$F85*0.000000028317),\"\")","v":""},"","","","",null,"","","",null,"",""]
[null,null,{"$f":"IF('Teom ugm3'!A88=\"\",\"\",C85+1)","v":""},"",null,"",null,{"$f":"IF(ISNUMBER('Teom ugm3'!B88),('Teom ugm3'!B88*'Teom grams'!$F86*0.000000028317),\"\")","v":""},{"$f":"IF(ISNUMBER('Teom ugm3'!C88),('Teom ugm3'!C88*'Teom grams'!$F86*0.000000028317),\"\")","v":""},{"$f":"IF(ISNUMBER('Teom ugm3'!D88),('Teom ugm3'!D88*'Teom grams'!$F86*0.000000028317),\"\")","v":""},"","","","",null,"","","",null,"",""]
[null,null,{"$f":"IF('Teom ugm3'!A89=\"\",\"\",C86+1)","v":""},"",null,"",null,{"$f":"IF(ISNUMBER('Teom ugm3'!B89),('Teom ugm3'!B89*'Teom grams'!$F87*0.000000028317),\"\")","v":""},{"$f":"IF(ISNUMBER('Teom ugm3'!C89),('Teom ugm3'!C89*'Teom grams'!$F87*0.000000028317),\"\")","v":""},{"$f":"IF(ISNUMBER('Teom ugm3'!D89),('Teom ugm3'!D89*'Teom grams'!$F87*0.000000028317),\"\")","v":""},"","","","",null,"","","",null,"",""]
[null,null,{"$f":"IF('Teom ugm3'!A90=\"\",\"\",C87+1)","v":""},"",null,"",null,{"$f":"IF(ISNUMBER('Teom ugm3'!B90),('Teom ugm3'!B90*'Teom grams'!$F88*0.000000028317),\"\")","v":""},{"$f":"IF(ISNUMBER('Teom ugm3'!C90),('Teom ugm3'!C90*'Teom grams'!$F88*0.000000028317),\"\")","v":""},{"$f":"IF(ISNUMBER('Teom ugm3'!D90),('Teom ugm3'!D90*'Teom grams'!$F88*0.000000028317),\"\")","v":""},"","","","",null,"","","",null,"",""]
[null,null,{"$f":"IF('Teom ugm3'!A91=\"\",\"\",C88+1)","v":""},"",null,"",null,{"$f":"IF(ISNUMBER('Teom ugm3'!B91),('Teom ugm3'!B91*'Teom grams'!$F89*0.000000028317),\"\")","v":""},{"$f":"IF(ISNUMBER('Teom ugm3'!C91),('Teom ugm3'!C91*'Teom grams'!$F89*0.000000028317),\"\")","v":""},{"$f":"IF(ISNUMBER('Teom ugm3'!D91),('Teom ugm3'!D91*'Teom grams'!$F89*0.000000028317),\"\")","v":""},"","","","",null,"","","",null,"",""]
[null,null,{"$f":"IF('Teom ugm3'!A92=\"\",\"\",C89+1)","v":""},"",null,"",null,{"$f":"IF(ISNUMBER('Teom ugm3'!B92),('Teom ugm3'!B92*'Teom grams'!$F90*0.000000028317),\"\")","v":""},{"$f":"IF(ISNUMBER('Teom ugm3'!C92),('Teom ugm3'!C92*'Teom grams'!$F90*0.000000028317),\"\")","v":""},{"$f":"IF(ISNUMBER('Teom ugm3'!D92),('Teom ugm3'!D92*'Teom grams'!$F90*0.000000028317),\"\")","v":""},"","","","",null,"","","",null,"",""]
[null,null,{"$f":"IF('Teom ugm3'!A93=\"\",\"\",C90+1)","v":""},"",null,"",null,{"$f":"IF(ISNUMBER('Teom ugm3'!B93),('Teom ugm3'!B93*'Teom grams'!$F91*0.000000028317),\"\")","v":""},{"$f":"IF(ISNUMBER('Teom ugm3'!C93),('Teom ugm3'!C93*'Teom grams'!$F91*0.000000028317),\"\")","v":""},{"$f":"IF(ISNUMBER('Teom ugm3'!D93),('Teom ugm3'!D93*'Teom grams'!$F91*0.000000028317),\"\")","v":""},"","","","",null,"","","",null,"",""]
[null,null,{"$f":"IF('Teom ugm3'!A94=\"\",\"\",C91+1)","v":""},"",null,"",null,{"$f":"IF(ISNUMBER('Teom ugm3'!B94),('Teom ugm3'!B94*'Teom grams'!$F92*0.000000028317),\"\")","v":""},{"$f":"IF(ISNUMBER('Teom ugm3'!C94),('Teom ugm3'!C94*'Teom grams'!$F92*0.000000028317),\"\")","v":""},{"$f":"IF(ISNUMBER('Teom ugm3'!D94),('Teom ugm3'!D94*'Teom grams'!$F92*0.000000028317),\"\")","v":""},"","","","",null,"","","",null,"",""]
[null,null,{"$f":"IF('Teom ugm3'!A95=\"\",\"\",C92+1)","v":""},"",null,"",null,{"$f":"IF(ISNUMBER('Teom ugm3'!B95),('Teom ugm3'!B95*'Teom grams'!$F93*0.000000028317),\"\")","v":""},{"$f":"IF(ISNUMBER('Teom ugm3'!C95),('Teom ugm3'!C95*'Teom grams'!$F93*0.000000028317),\"\")","v":""},{"$f":"IF(ISNUMBER('Teom ugm3'!D95),('Teom ugm3'!D95*'Teom grams'!$F93*0.000000028317),\"\")","v":""},"","","","",null,"","","",null,"",""]
[null,null,{"$f":"IF('Teom ugm3'!A96=\"\",\"\",C93+1)","v":""},"",null,"",null,{"$f":"IF(ISNUMBER('Teom ugm3'!B96),('Teom ugm3'!B96*'Teom grams'!$F94*0.000000028317),\"\")","v":""},{"$f":"IF(ISNUMBER('Teom ugm3'!C96),('Teom ugm3'!C96*'Teom grams'!$F94*0.000000028317),\"\")","v":""},{"$f":"IF(ISNUMBER('Teom ugm3'!D96),('Teom ugm3'!D96*'Teom grams'!$F94*0.000000028317),\"\")","v":""},"","","","",null,"","","",null,"",""]
[null,null,{"$f":"IF('Teom ugm3'!A97=\"\",\"\",C94+1)","v":""},"",null,"",null,{"$f":"IF(ISNUMBER('Teom ugm3'!B97),('Teom ugm3'!B97*'Teom grams'!$F95*0.000000028317),\"\")","v":""},{"$f":"IF(ISNUMBER('Teom ugm3'!C97),('Teom ugm3'!C97*'Teom grams'!$F95*0.000000028317),\"\")","v":""},{"$f":"IF(ISNUMBER('Teom ugm3'!D97),('Teom ugm3'!D97*'Teom grams'!$F95*0.000000028317),\"\")","v":""},"","","","",null,"","","",null,"",""]
[null,null,{"$f":"IF('Teom ugm3'!A98=\"\",\"\",C95+1)","v":""},"",null,"",null,{"$f":"IF(ISNUMBER('Teom ugm3'!B98),('Teom ugm3'!B98*'Teom grams'!$F96*0.000000028317),\"\")","v":""},{"$f":"IF(ISNUMBER('Teom ugm3'!C98),('Teom ugm3'!C98*'Teom grams'!$F96*0.000000028317),\"\")","v":""},{"$f":"IF(ISNUMBER('Teom ugm3'!D98),('Teom ugm3'!D98*'Teom grams'!$F96*0.000000028317),\"\")","v":""},"","","","",null,"","","",null,"",""]
[null,null,{"$f":"IF('Teom ugm3'!A99=\"\",\"\",C96+1)","v":""},"",null,"",null,{"$f":"IF(ISNUMBER('Teom ugm3'!B99),('Teom ugm3'!B99*'Teom grams'!$F97*0.000000028317),\"\")","v":""},{"$f":"IF(ISNUMBER('Teom ugm3'!C99),('Teom ugm3'!C99*'Teom grams'!$F97*0.000000028317),\"\")","v":""},{"$f":"IF(ISNUMBER('Teom ugm3'!D99),('Teom ugm3'!D99*'Teom grams'!$F97*0.000000028317),\"\")","v":""},"","","","",null,"","","",null,"",""]
[null,null,{"$f":"IF('Teom ugm3'!A100=\"\",\"\",C97+1)","v":""},"",null,"",null,{"$f":"IF(ISNUMBER('Teom ugm3'!B100),('Teom ugm3'!B100*'Teom grams'!$F98*0.000000028317),\"\")","v":""},{"$f":"IF(ISNUMBER('Teom ugm3'!C100),('Teom ugm3'!C100*'Teom grams'!$F98*0.000000028317),\"\")","v":""},{"$f":"IF(ISNUMBER('Teom ugm3'!D100),('Teom ugm3'!D100*'Teom grams'!$F98*0.000000028317),\"\")","v":""},"","","","",null,"","","",null,"",""]
[null,null,{"$f":"IF('Teom ugm3'!A101=\"\",\"\",C98+1)","v":""},"",null,"",null,{"$f":"IF(ISNUMBER('Teom ugm3'!B101),('Teom ugm3'!B101*'Teom grams'!$F99*0.000000028317),\"\")","v":""},{"$f":"IF(ISNUMBER('Teom ugm3'!C101),('Teom ugm3'!C101*'Teom grams'!$F99*0.000000028317),\"\")","v":""},{"$f":"IF(ISNUMBER('Teom ugm3'!D101),('Teom ugm3'!D101*'Teom grams'!$F99*0.000000028317),\"\")","v":""},"","","","",null,"","","",null,"",""]
[null,null,{"$f":"IF('Teom ugm3'!A102=\"\",\"\",C99+1)","v":""},"",null,"",null,{"$f":"IF(ISNUMBER('Teom ugm3'!B102),('Teom ugm3'!B102*'Teom grams'!$F100*0.000000028317),\"\")","v":""},{"$f":"IF(ISNUMBER('Teom ugm3'!C102),('Teom ugm3'!C102*'Teom grams'!$F100*0.000000028317),\"\")","v":""},{"$f":"IF(ISNUMBER('Teom ugm3'!D102),('Teom ugm3'!D102*'Teom grams'!$F100*0.000000028317),\"\")","v":""},"","","","",null,"","","",null,"",""]
[null,null,{"$f":"IF('Teom ugm3'!A103=\"\",\"\",C100+1)","v":""},"",null,"",null,{"$f":"IF(ISNUMBER('Teom ugm3'!B103),('Teom ugm3'!B103*'Teom grams'!$F101*0.000000028317),\"\")","v":""},{"$f":"IF(ISNUMBER('Teom ugm3'!C103),('Teom ugm3'!C103*'Teom grams'!$F101*0.000000028317),\"\")","v":""},{"$f":"IF(ISNUMBER('Teom ugm3'!D103),('Teom ugm3'!D103*'Teom grams'!$F101*0.000000028317),\"\")","v":""},"","","","",null,"","","",null,"",""]
[null,null,{"$f":"IF('Teom ugm3'!A104=\"\",\"\",C101+1)","v":""},"",null,"",null,{"$f":"IF(ISNUMBER('Teom ugm3'!B104),('Teom ugm3'!B104*'Teom grams'!$F102*0.000000028317),\"\")","v":""},{"$f":"IF(ISNUMBER('Teom ugm3'!C104),('Teom ugm3'!C104*'Teom grams'!$F102*0.000000028317),\"\")","v":""},{"$f":"IF(ISNUMBER('Teom ugm3'!D104),('Teom ugm3'!D104*'Teom grams'!$F102*0.000000028317),\"\")","v":""},"","","","",null,"","","",null,"",""]
[null,null,{"$f":"IF('Teom ugm3'!A105=\"\",\"\",C102+1)","v":""},"",null,"",null,{"$f":"IF(ISNUMBER('Teom ugm3'!B105),('Teom ugm3'!B105*'Teom grams'!$F103*0.000000028317),\"\")","v":""},{"$f":"IF(ISNUMBER('Teom ugm3'!C105),('Teom ugm3'!C105*'Teom grams'!$F103*0.000000028317),\"\")","v":""},{"$f":"IF(ISNUMBER('Teom ugm3'!D105),('Teom ugm3'!D105*'Teom grams'!$F103*0.000000028317),\"\")","v":""},"","","","",null,"","","",null,"",""]
[null,null,{"$f":"IF('Teom ugm3'!A106=\"\",\"\",C103+1)","v":""},"",null,"",null,{"$f":"IF(ISNUMBER('Teom ugm3'!B106),('Teom ugm3'!B106*'Teom grams'!$F104*0.000000028317),\"\")","v":""},{"$f":"IF(ISNUMBER('Teom ugm3'!C106),('Teom ugm3'!C106*'Teom grams'!$F104*0.000000028317),\"\")","v":""},{"$f":"IF(ISNUMBER('Teom ugm3'!D106),('Teom ugm3'!D106*'Teom grams'!$F104*0.000000028317),\"\")","v":""},"","","","",null,"","","",null,"",""]
[null,null,{"$f":"IF('Teom ugm3'!A107=\"\",\"\",C104+1)","v":""},"",null,"",null,{"$f":"IF(ISNUMBER('Teom ugm3'!B107),('Teom ugm3'!B107*'Teom grams'!$F105*0.000000028317),\"\")","v":""},{"$f":"IF(ISNUMBER('Teom ugm3'!C107),('Teom ugm3'!C107*'Teom grams'!$F105*0.000000028317),\"\")","v":""},{"$f":"IF(ISNUMBER('Teom ugm3'!D107),('Teom ugm3'!D107*'Teom grams'!$F105*0.000000028317),\"\")","v":""},"","","","",null,"","","",null,"",""]
[null,null,{"$f":"IF('Teom ugm3'!A108=\"\",\"\",C105+1)","v":""},"",null,"",null,{"$f":"IF(ISNUMBER('Teom ugm3'!B108),('Teom ugm3'!B108*'Teom grams'!$F106*0.000000028317),\"\")","v":""},{"$f":"IF(ISNUMBER('Teom ugm3'!C108),('Teom ugm3'!C108*'Teom grams'!$F106*0.000000028317),\"\")","v":""},{"$f":"IF(ISNUMBER('Teom ugm3'!D108),('Teom ugm3'!D108*'Teom grams'!$F106*0.000000028317),\"\")","v":""},"","","","",null,"","","",null,"",""]
[null,null,{"$f":"IF('Teom ugm3'!A109=\"\",\"\",C106+1)","v":""},"",null,"",null,{"$f":"IF(ISNUMBER('Teom ugm3'!B109),('Teom ugm3'!B109*'Teom grams'!$F107*0.000000028317),\"\")","v":""},{"$f":"IF(ISNUMBER('Teom ugm3'!C109),('Teom ugm3'!C109*'Teom grams'!$F107*0.000000028317),\"\")","v":""},{"$f":"IF(ISNUMBER('Teom ugm3'!D109),('Teom ugm3'!D109*'Teom grams'!$F107*0.000000028317),\"\")","v":""},"","","","",null,"","","",null,"",""]
[null,null,{"$f":"IF('Teom ugm3'!A110=\"\",\"\",C107+1)","v":""},"",null,"",null,{"$f":"IF(ISNUMBER('Teom ugm3'!B110),('Teom ugm3'!B110*'Teom grams'!$F108*0.000000028317),\"\")","v":""},{"$f":"IF(ISNUMBER('Teom ugm3'!C110),('Teom ugm3'!C110*'Teom grams'!$F108*0.000000028317),\"\")","v":""},{"$f":"IF(ISNUMBER('Teom ugm3'!D110),('Teom ugm3'!D110*'Teom grams'!$F108*0.000000028317),\"\")","v":""},"","","","",null,"","","",null,"",""]
[null,null,{"$f":"IF('Teom ugm3'!A111=\"\",\"\",C108+1)","v":""},"",null,"",null,{"$f":"IF(ISNUMBER('Teom ugm3'!B111),('Teom ugm3'!B111*'Teom grams'!$F109*0.000000028317),\"\")","v":""},{"$f":"IF(ISNUMBER('Teom ugm3'!C111),('Teom ugm3'!C111*'Teom grams'!$F109*0.000000028317),\"\")","v":""},{"$f":"IF(ISNUMBER('Teom ugm3'!D111),('Teom ugm3'!D111*'Teom grams'!$F109*0.000000028317),\"\")","v":""},"","","","",null,"","","",null,"",""]
[null,null,{"$f":"IF('Teom ugm3'!A112=\"\",\"\",C109+1)","v":""},"",null,"",null,{"$f":"IF(ISNUMBER('Teom ugm3'!B112),('Teom ugm3'!B112*'Teom grams'!$F110*0.000000028317),\"\")","v":""},{"$f":"IF(ISNUMBER('Teom ugm3'!C112),('Teom ugm3'!C112*'Teom grams'!$F110*0.000000028317),\"\")","v":""},{"$f":"IF(ISNUMBER('Teom ugm3'!D112),('Teom ugm3'!D112*'Teom grams'!$F110*0.000000028317),\"\")","v":""},"","","","",null,"","","",null,"",""]
[null,null,{"$f":"IF('Teom ugm3'!A113=\"\",\"\",C110+1)","v":""},"",null,"",null,{"$f":"IF(ISNUMBER('Teom ugm3'!B113),('Teom ugm3'!B113*'Teom grams'!$F111*0.000000028317),\"\")","v":""},{"$f":"IF(ISNUMBER('Teom ugm3'!C113),('Teom ugm3'!C113*'Teom grams'!$F111*0.000000028317),\"\")","v":""},{"$f":"IF(ISNUMBER('Teom ugm3'!D113),('Teom ugm3'!D113*'Teom grams'!$F111*0.000000028317),\"\")","v":""},"","","","",null,"","","",null,"",""]
[null,null,{"$f":"IF('Teom ugm3'!A114=\"\",\"\",C111+1)","v":""},"",null,"",null,{"$f":"IF(ISNUMBER('Teom ugm3'!B114),('Teom ugm3'!B114*'Teom grams'!$F112*0.000000028317),\"\")","v":""},{"$f":"IF(ISNUMBER('Teom ugm3'!C114),('Teom ugm3'!C114*'Teom grams'!$F112*0.000000028317),\"\")","v":""},{"$f":"IF(ISNUMBER('Teom ugm3'!D114),('Teom ugm3'!D114*'Teom grams'!$F112*0.000000028317),\"\")","v":""},"","","","",null,"","","",null,"",""]
[null,null,{"$f":"IF('Teom ugm3'!A115=\"\",\"\",C112+1)","v":""},"",null,"",null,{"$f":"IF(ISNUMBER('Teom ugm3'!B115),('Teom ugm3'!B115*'Teom grams'!$F113*0.000000028317),\"\")","v":""},{"$f":"IF(ISNUMBER('Teom ugm3'!C115),('Teom ugm3'!C115*'Teom grams'!$F113*0.000000028317),\"\")","v":""},{"$f":"IF(ISNUMBER('Teom ugm3'!D115),('Teom ugm3'!D115*'Teom grams'!$F113*0.000000028317),\"\")","v":""},"","","","",null,"","","",null,"",""]
[null,null,{"$f":"IF('Teom ugm3'!A116=\"\",\"\",C113+1)","v":""},"",null,"",null,{"$f":"IF(ISNUMBER('Teom ugm3'!B116),('Teom ugm3'!B116*'Teom grams'!$F114*0.000000028317),\"\")","v":""},{"$f":"IF(ISNUMBER('Teom ugm3'!C116),('Teom ugm3'!C116*'Teom grams'!$F114*0.000000028317),\"\")","v":""},{"$f":"IF(ISNUMBER('Teom ugm3'!D116),('Teom ugm3'!D116*'Teom grams'!$F114*0.000000028317),\"\")","v":""},"","","","",null,"","","",null,"",""]
[null,null,{"$f":"IF('Teom ugm3'!A117=\"\",\"\",C114+1)","v":""},"",null,"",null,{"$f":"IF(ISNUMBER('Teom ugm3'!B117),('Teom ugm3'!B117*'Teom grams'!$F115*0.000000028317),\"\")","v":""},{"$f":"IF(ISNUMBER('Teom ugm3'!C117),('Teom ugm3'!C117*'Teom grams'!$F115*0.000000028317),\"\")","v":""},{"$f":"IF(ISNUMBER('Teom ugm3'!D117),('Teom ugm3'!D117*'Teom grams'!$F115*0.000000028317),\"\")","v":""},"","","","",null,"","","",null,"",""]
[null,null,{"$f":"IF('Teom ugm3'!A118=\"\",\"\",C115+1)","v":""},"",null,"",null,{"$f":"IF(ISNUMBER('Teom ugm3'!B118),('Teom ugm3'!B118*'Teom grams'!$F116*0.000000028317),\"\")","v":""},{"$f":"IF(ISNUMBER('Teom ugm3'!C118),('Teom ugm3'!C118*'Teom grams'!$F116*0.000000028317),\"\")","v":""},{"$f":"IF(ISNUMBER('Teom ugm3'!D118),('Teom ugm3'!D118*'Teom grams'!$F116*0.000000028317),\"\")","v":""},"","","","",null,"","","",null,"",""]
[null,null,{"$f":"IF('Teom ugm3'!A119=\"\",\"\",C116+1)","v":""},"",null,"",null,{"$f":"IF(ISNUMBER('Teom ugm3'!B119),('Teom ugm3'!B119*'Teom grams'!$F117*0.000000028317),\"\")","v":""},{"$f":"IF(ISNUMBER('Teom ugm3'!C119),('Teom ugm3'!C119*'Teom grams'!$F117*0.000000028317),\"\")","v":""},{"$f":"IF(ISNUMBER('Teom ugm3'!D119),('Teom ugm3'!D119*'Teom grams'!$F117*0.000000028317),\"\")","v":""},"","","","",null,"","","",null,"",""]
[null,null,{"$f":"IF('Teom ugm3'!A120=\"\",\"\",C117+1)","v":""},"",null,"",null,{"$f":"IF(ISNUMBER('Teom ugm3'!B120),('Teom ugm3'!B120*'Teom grams'!$F118*0.000000028317),\"\")","v":""},{"$f":"IF(ISNUMBER('Teom ugm3'!C120),('Teom ugm3'!C120*'Teom grams'!$F118*0.000000028317),\"\")","v":""},{"$f":"IF(ISNUMBER('Teom ugm3'!D120),('Teom ugm3'!D120*'Teom grams'!$F118*0.000000028317),\"\")","v":""},"","","","",null,"","","",null,"",""]
[null,null,{"$f":"IF('Teom ugm3'!A121=\"\",\"\",C118+1)","v":""},"",null,"",null,{"$f":"IF(ISNUMBER('Teom ugm3'!B121),('Teom ugm3'!B121*'Teom grams'!$F119*0.000000028317),\"\")","v":""},{"$f":"IF(ISNUMBER('Teom ugm3'!C121),('Teom ugm3'!C121*'Teom grams'!$F119*0.000000028317),\"\")","v":""},{"$f":"IF(ISNUMBER('Teom ugm3'!D121),('Teom ugm3'!D121*'Teom grams'!$F119*0.000000028317),\"\")","v":""},"","","","",null,"","","",null,"",""]
[null,null,{"$f":"IF('Teom ugm3'!A122=\"\",\"\",C119+1)","v":""},"",null,"",null,{"$f":"IF(ISNUMBER('Teom ugm3'!B122),('Teom ugm3'!B122*'Teom grams'!$F120*0.000000028317),\"\")","v":""},{"$f":"IF(ISNUMBER('Teom ugm3'!C122),('Teom ugm3'!C122*'Teom grams'!$F120*0.000000028317),\"\")","v":""},{"$f":"IF(ISNUMBER('Teom ugm3'!D122),('Teom ugm3'!D122*'Teom grams'!$F120*0.000000028317),\"\")","v":""},"","","","",null,"","","",null,"",""]
[null,null,{"$f":"IF('Teom ugm3'!A123=\"\",\"\",C120+1)","v":""},"",null,"",null,{"$f":"IF(ISNUMBER('Teom ugm3'!B123),('Teom ugm3'!B123*'Teom grams'!$F121*0.000000028317),\"\")","v":""},{"$f":"IF(ISNUMBER('Teom ugm3'!C123),('Teom ugm3'!C123*'Teom grams'!$F121*0.000000028317),\"\")","v":""},{"$f":"IF(ISNUMBER('Teom ugm3'!D123),('Teom ugm3'!D123*'Teom grams'!$F121*0.000000028317),\"\")","v":""},"","","","",null,"","","",null,"",""]
[null,null,{"$f":"IF('Teom ugm3'!A124=\"\",\"\",C121+1)","v":""},"",null,"",null,{"$f":"IF(ISNUMBER('Teom ugm3'!B124),('Teom ugm3'!B124*'Teom grams'!$F122*0.000000028317),\"\")","v":""},{"$f":"IF(ISNUMBER('Teom ugm3'!C124),('Teom ugm3'!C124*'Teom grams'!$F122*0.000000028317),\"\")","v":""},{"$f":"IF(ISNUMBER('Teom ugm3'!D124),('Teom ugm3'!D124*'Teom grams'!$F122*0.000000028317),\"\")","v":""},"","","","",null,"","","",null,"",""]
[null,null,{"$f":"IF('Teom ugm3'!A125=\"\",\"\",C122+1)","v":""},"",null,"",null,{"$f":"IF(ISNUMBER('Teom ugm3'!B125),('Teom ugm3'!B125*'Teom grams'!$F123*0.000000028317),\"\")","v":""},{"$f":"IF(ISNUMBER('Teom ugm3'!C125),('Teom ugm3'!C125*'Teom grams'!$F123*0.000000028317),\"\")","v":""},{"$f":"IF(ISNUMBER('Teom ugm3'!D125),('Teom ugm3'!D125*'Teom grams'!$F123*0.000000028317),\"\")","v":""},"","","","",null,"","","",null,"",""]
[null,null,{"$f":"IF('Teom ugm3'!A126=\"\",\"\",C123+1)","v":""},"",null,"",null,{"$f":"IF(ISNUMBER('Teom ugm3'!B126),('Teom ugm3'!B126*'Teom grams'!$F124*0.000000028317),\"\")","v":""},{"$f":"IF(ISNUMBER('Teom ugm3'!C126),('Teom ugm3'!C126*'Teom grams'!$F124*0.000000028317),\"\")","v":""},{"$f":"IF(ISNUMBER('Teom ugm3'!D126),('Teom ugm3'!D126*'Teom grams'!$F124*0.000000028317),\"\")","v":""},"","","","",null,"","","",null,"",""]
[null,null,{"$f":"IF('Teom ugm3'!A127=\"\",\"\",C124+1)","v":""},"",null,"",null,{"$f":"IF(ISNUMBER('Teom ugm3'!B127),('Teom ugm3'!B127*'Teom grams'!$F125*0.000000028317),\"\")","v":""},{"$f":"IF(ISNUMBER('Teom ugm3'!C127),('Teom ugm3'!C127*'Teom grams'!$F125*0.000000028317),\"\")","v":""},{"$f":"IF(ISNUMBER('Teom ugm3'!D127),('Teom ugm3'!D127*'Teom grams'!$F125*0.000000028317),\"\")","v":""},"","","","",null,"","","",null,"",""]
[null,null,{"$f":"IF('Teom ugm3'!A128=\"\",\"\",C125+1)","v":""},"",null,"",null,{"$f":"IF(ISNUMBER('Teom ugm3'!B128),('Teom ugm3'!B128*'Teom grams'!$F126*0.000000028317),\"\")","v":""},{"$f":"IF(ISNUMBER('Teom ugm3'!C128),('Teom ugm3'!C128*'Teom grams'!$F126*0.000000028317),\"\")","v":""},{"$f":"IF(ISNUMBER('Teom ugm3'!D128),('Teom ugm3'!D128*'Teom grams'!$F126*0.000000028317),\"\")","v":""},"","","","",null,"","","",null,"",""]
[null,null,{"$f":"IF('Teom ugm3'!A129=\"\",\"\",C126+1)","v":""},"",null,"",null,{"$f":"IF(ISNUMBER('Teom ugm3'!B129),('Teom ugm3'!B129*'Teom grams'!$F127*0.000000028317),\"\")","v":""},{"$f":"IF(ISNUMBER('Teom ugm3'!C129),('Teom ugm3'!C129*'Teom grams'!$F127*0.000000028317),\"\")","v":""},{"$f":"IF(ISNUMBER('Teom ugm3'!D129),('Teom ugm3'!D129*'Teom grams'!$F127*0.000000028317),\"\")","v":""},"","","","",null,"","","",null,"",""]
[null,null,{"$f":"IF('Teom ugm3'!A130=\"\",\"\",C127+1)","v":""},"",null,"",null,{"$f":"IF(ISNUMBER('Teom ugm3'!B130),('Teom ugm3'!B130*'Teom grams'!$F128*0.000000028317),\"\")","v":""},{"$f":"IF(ISNUMBER('Teom ugm3'!C130),('Teom ugm3'!C130*'Teom grams'!$F128*0.000000028317),\"\")","v":""},{"$f":"IF(ISNUMBER('Teom ugm3'!D130),('Teom ugm3'!D130*'Teom grams'!$F128*0.000000028317),\"\")","v":""},"","","","",null,"","","",null,"",""]
[null,null,{"$f":"IF('Teom ugm3'!A131=\"\",\"\",C128+1)","v":""},"",null,"",null,{"$f":"IF(ISNUMBER('Teom ugm3'!B131),('Teom ugm3'!B131*'Teom grams'!$F129*0.000000028317),\"\")","v":""},{"$f":"IF(ISNUMBER('Teom ugm3'!C131),('Teom ugm3'!C131*'Teom grams'!$F129*0.000000028317),\"\")","v":""},{"$f":"IF(ISNUMBER('Teom ugm3'!D131),('Teom ugm3'!D131*'Teom grams'!$F129*0.000000028317),\"\")","v":""},"","","","",null,"","","",null,"",""]
[null,null,{"$f":"IF('Teom ugm3'!A132=\"\",\"\",C129+1)","v":""},"",null,"",null,{"$f":"IF(ISNUMBER('Teom ugm3'!B132),('Teom ugm3'!B132*'Teom grams'!$F130*0.000000028317),\"\")","v":""},{"$f":"IF(ISNUMBER('Teom ugm3'!C132),('Teom ugm3'!C132*'Teom grams'!$F130*0.000000028317),\"\")","v":""},{"$f":"IF(ISNUMBER('Teom ugm3'!D132),('Teom ugm3'!D132*'Teom grams'!$F130*0.000000028317),\"\")","v":""},"","","","",null,"","","",null,"",""]
[null,null,{"$f":"IF('Teom ugm3'!A133=\"\",\"\",C130+1)","v":""},"",null,"",null,{"$f":"IF(ISNUMBER('Teom ugm3'!B133),('Teom ugm3'!B133*'Teom grams'!$F131*0.000000028317),\"\")","v":""},{"$f":"IF(ISNUMBER('Teom ugm3'!C133),('Teom ugm3'!C133*'Teom grams'!$F131*0.000000028317),\"\")","v":""},{"$f":"IF(ISNUMBER('Teom ugm3'!D133),('Teom ugm3'!D133*'Teom grams'!$F131*0.000000028317),\"\")","v":""},"","","","",null,"","","",null,"",""]
[null,null,{"$f":"IF('Teom ugm3'!A134=\"\",\"\",C131+1)","v":""},"",null,"",null,{"$f":"IF(ISNUMBER('Teom ugm3'!B134),('Teom ugm3'!B134*'Teom grams'!$F132*0.000000028317),\"\")","v":""},{"$f":"IF(ISNUMBER('Teom ugm3'!C134),('Teom ugm3'!C134*'Teom grams'!$F132*0.000000028317),\"\")","v":""},{"$f":"IF(ISNUMBER('Teom ugm3'!D134),('Teom ugm3'!D134*'Teom grams'!$F132*0.000000028317),\"\")","v":""},"","",{"$f":"IF(COUNT(K132:L132)>0,AVERAGE(K132:L132),\"\")","v":""},{"$f":"M132","v":""},null,"",{"$f":"IF(ISNUMBER(M132),M132*60,\"\")","v":""},"",null,{"$f":"IF(COUNT(C132:C191)>59,AVERAGE(P132:P191),\"\")","v":""},{"$f":"IF(COUNT(C132:C191)>59,AVERAGE(Q132:Q191),\"\")","v":""}]
[null,null,{"$f":"IF('Teom ugm3'!A135=\"\",\"\",C132+1)","v":""},"",null,{"$f":"IF(C133=\"\",\"\",E133*1.02041)","v":""},null,{"$f":"IF(ISNUMBER('Teom ugm3'!B135),('Teom ugm3'!B135*'Teom grams'!$F133*0.000000028317),\"\")","v":""},{"$f":"IF(ISNUMBER('Teom ugm3'!C135),('Teom ugm3'!C135*'Teom grams'!$F133*0.000000028317),\"\")","v":""},{"$f":"IF(ISNUMBER('Teom ugm3'!D135),('Teom ugm3'!D135*'Teom grams'!$F133*0.000000028317),\"\")","v":""},{"$f":"IF(H133<0,0,H133)","v":""},{"$f":"IF(I133<0,0,I133)","v":""},"","",null,{"$f":"IF(ISNUMBER(J133),J133*60,\"\")","v":""},"",{"$f":"IF(ISNUMBER(N133),N133*60,\"\")","v":""},null,"",""]
[null,null,{"$f":"IF('Teom ugm3'!A136=\"\",\"\",C133+1)","v":""},{"$f":"IF(C134=\"\",\"\",D133 + TIME(0, 1, 0))","v":""},null,"",null,{"$f":"IF(ISNUMBER('Teom ugm3'!B136),('Teom ugm3'!B136*'Teom grams'!$F134*0.000000028317),\"\")","v":""},{"$f":"IF(ISNUMBER('Teom ugm3'!C136),('Teom ugm3'!C136*'Teom grams'!$F134*0.000000028317),\"\")","v":""},{"$f":"IF(ISNUMBER('Teom ugm3'!D136),('Teom ugm3'!D136*'Teom grams'!$F134*0.000000028317),\"\")","v":""},"","","","",null,"","","",null,"",""]
[null,null,{"$f":"IF('Teom ugm3'!A137=\"\",\"\",C134+1)","v":""},"",null,"",null,{"$f":"IF(ISNUMBER('Teom ugm3'!B137),('Teom ugm3'!B137*'Teom grams'!$F135*0.000000028317),\"\")","v":""},{"$f":"IF(ISNUMBER('Teom ugm3'!C137),('Teom ugm3'!C137*'Teom grams'!$F135*0.000000028317),\"\")","v":""},{"$f":"IF(ISNUMBER('Teom ugm3'!D137),('Teom ugm3'!D137*'Teom grams'!$F135*0.000000028317),\"\")","v":""},"","","","",null,"","","",null,"",""]
[null,null,{"$f":"IF('Teom ugm3'!A138=\"\",\"\",C135+1)","v":""},"",null,"",null,{"$f":"IF(ISNUMBER('Teom ugm3'!B138),('Teom ugm3'!B138*'Teom grams'!$F136*0.000000028317),\"\")","v":""},{"$f":"IF(ISNUMBER('Teom ugm3'!C138),('Teom ugm3'!C138*'Teom grams'!$F136*0.000000028317),\"\")","v":""},{"$f":"IF(ISNUMBER('Teom ugm3'!D138),('Teom ugm3'!D138*'Teom grams'!$F136*0.000000028317),\"\")","v":""},"","","","",null,"","","",null,"",""]
[null,null,{"$f":"IF('Teom ugm3'!A139=\"\",\"\",C136+1)","v":""},"",null,"",null,{"$f":"IF(ISNUMBER('Teom ugm3'!B139),('Teom ugm3'!B139*'Teom grams'!$F137*0.000000028317),\"\")","v":""},{"$f":"IF(ISNUMBER('Teom ugm3'!C139),('Teom ugm3'!C139*'Teom grams'!$F137*0.000000028317),\"\")","v":""},{"$f":"IF(ISNUMBER('Teom ugm3'!D139),('Teom ugm3'!D139*'Teom grams'!$F137*0.000000028317),\"\")","v":""},"","","","",null,"","","",null,"",""]
[null,null,{"$f":"IF('Teom ugm3'!A140=\"\",\"\",C137+1)","v":""},"",null,"",null,{"$f":"IF(ISNUMBER('Teom ugm3'!B140),('Teom ugm3'!B140*'Teom grams'!$F138*0.000000028317),\"\")","v":""},{"$f":"IF(ISNUMBER('Teom ugm3'!C140),('Teom ugm3'!C140*'Teom grams'!$F138*0.000000028317),\"\")","v":""},{"$f":"IF(ISNUMBER('Teom ugm3'!D140),('Teom ugm3'!D140*'Teom grams'!$F138*0.000000028317),\"\")","v":""},"","",{"$f":"IF(COUNT(K138:L138)>0,AVERAGE(K138:L138),\"\")","v":""},"",null,"","","",null,"",""]
[null,null,{"$f":"IF('Teom ugm3'!A141=\"\",\"\",C138+1)","v":""},"",null,"",null,{"$f":"IF(ISNUMBER('Teom ugm3'!B141),('Teom ugm3'!B141*'Teom grams'!$F139*0.000000028317),\"\")","v":""},{"$f":"IF(ISNUMBER('Teom ugm3'!C141),('Teom ugm3'!C141*'Teom grams'!$F139*0.000000028317),\"\")","v":""},{"$f":"IF(ISNUMBER('Teom ugm3'!D141),('Teom ugm3'!D141*'Teom grams'!$F139*0.000000028317),\"\")","v":""},"","",{"$f":"IF(COUNT(K139:L139)>0,AVERAGE(K139:L139),\"\")","v":""},"",null,"","","",null,"",""]
[null,null,{"$f":"IF('Teom ugm3'!A142=\"\",\"\",C139+1)","v":""},"",null,"",null,{"$f":"IF(ISNUMBER('Teom ugm3'!B142),('Teom ugm3'!B142*'Teom grams'!$F140*0.000000028317),\"\")","v":""},{"$f":"IF(ISNUMBER('Teom ugm3'!C142),('Teom ugm3'!C142*'Teom grams'!$F140*0.000000028317),\"\")","v":""},{"$f":"IF(ISNUMBER('Teom ugm3'!D142),('Teom ugm3'!D142*'Teom grams'!$F140*0.000000028317),\"\")","v":""},"","","","",null,"","","",null,"",""]
[null,null,{"$f":"IF('Teom ugm3'!A143=\"\",\"\",C140+1)","v":""},"",null,"",null,{"$f":"IF(ISNUMBER('Teom ugm3'!B143),('Teom ugm3'!B143*'Teom grams'!$F141*0.000000028317),\"\")","v":""},{"$f":"IF(ISNUMBER('Teom ugm3'!C143),('Teom ugm3'!C143*'Teom grams'!$F141*0.000000028317),\"\")","v":""},{"$f":"IF(ISNUMBER('Teom ugm3'!D143),('Teom ugm3'!D143*'Teom grams'!$F141*0.000000028317),\"\")","v":""},"","","","",null,"","","",null,"",""]
[null,null,{"$f":"IF('Teom ugm3'!A144=\"\",\"\",C141+1)","v":""},"",null,"",null,{"$f":"IF(ISNUMBER('Teom ugm3'!B144),('Teom ugm3'!B144*'Teom grams'!$F142*0.000000028317),\"\")","v":""},{"$f":"IF(ISNUMBER('Teom ugm3'!C144),('Teom ugm3'!C144*'Teom grams'!$F142*0.000000028317),\"\")","v":""},{"$f":"IF(ISNUMBER('Teom ugm3'!D144),('Teom ugm3'!D144*'Teom grams'!$F142*0.000000028317),\"\")","v":""},"","","","",null,"","","",null,"",""]
[null,null,{"$f":"IF('Teom ugm3'!A145=\"\",\"\",C142+1)","v":""},"",null,"",null,{"$f":"IF(ISNUMBER('Teom ugm3'!B145),('Teom ugm3'!B145*'Teom grams'!$F143*0.000000028317),\"\")","v":""},{"$f":"IF(ISNUMBER('Teom ugm3'!C145),('Teom ugm3'!C145*'Teom grams'!$F143*0.000000028317),\"\")","v":""},{"$f":"IF(ISNUMBER('Teom ugm3'!D145),('Teom ugm3'!D145*'Teom grams'!$F143*0.000000028317),\"\")","v":""},"","","","",null,"","","",null,"",""]
[null,null,{"$f":"IF('Teom ugm3'!A146=\"\",\"\",C143+1)","v":""},"",null,"",null,{"$f":"IF(ISNUMBER('Teom ugm3'!B146),('Teom ugm3'!B146*'Teom grams'!$F144*0.000000028317),\"\")","v":""},{"$f":"IF(ISNUMBER('Teom ugm3'!C146),('Teom ugm3'!C146*'Teom grams'!$F144*0.000000028317),\"\")","v":""},{"$f":"IF(ISNUMBER('Teom ugm3'!D146),('Teom ugm3'!D146*'Teom grams'!$F144*0.000000028317),\"\")","v":""},"","","","",null,"","","",null,"",""]
[null,null,{"$f":"IF('Teom ugm3'!A147=\"\",\"\",C144+1)","v":""},"",null,"",null,{"$f":"IF(ISNUMBER('Teom ugm3'!B147),('Teom ugm3'!B147*'Teom grams'!$F145*0.000000028317),\"\")","v":""},{"$f":"IF(ISNUMBER('Teom ugm3'!C147),('Teom ugm3'!C147*'Teom grams'!$F145*0.000000028317),\"\")","v":""},{"$f":"IF(ISNUMBER('Teom ugm3'!D147),('Teom ugm3'!D147*'Teom grams'!$F145*0.000000028317),\"\")","v":""},"","","","",null,"","","",null,"",""]
[null,null,{"$f":"IF('Teom ugm3'!A148=\"\",\"\",C145+1)","v":""},"",null,"",null,{"$f":"IF(ISNUMBER('Teom ugm3'!B148),('Teom ugm3'!B148*'Teom grams'!$F146*0.000000028317),\"\")","v":""},{"$f":"IF(ISNUMBER('Teom ugm3'!C148),('Teom ugm3'!C148*'Teom grams'!$F146*0.000000028317),\"\")","v":""},{"$f":"IF(ISNUMBER('Teom ugm3'!D148),('Teom ugm3'!D148*'Teom grams'!$F146*0.000000028317),\"\")","v":""},"","","","",null,"","","",null,"",""]
[null,null,{"$f":"IF('Teom ugm3'!A149=\"\",\"\",C146+1)","v":""},"",null,"",null,{"$f":"IF(ISNUMBER('Teom ugm3'!B149),('Teom ugm3'!B149*'Teom grams'!$F147*0.000000028317),\"\")","v":""},{"$f":"IF(ISNUMBER('Teom ugm3'!C149),('Teom ugm3'!C149*'Teom grams'!$F147*0.000000028317),\"\")","v":""},{"$f":"IF(ISNUMBER('Teom ugm3'!D149),('Teom ugm3'!D149*'Teom grams'!$F147*0.000000028317),\"\")","v":""},"","","","",null,"","","",null,"",""]
[null,null,{"$f":"IF('Teom ugm3'!A150=\"\",\"\",C147+1)","v":""},"",null,"",null,{"$f":"IF(ISNUMBER('Teom ugm3'!B150),('Teom ugm3'!B150*'Teom grams'!$F148*0.000000028317),\"\")","v":""},{"$f":"IF(ISNUMBER('Teom ugm3'!C150),('Teom ugm3'!C150*'Teom grams'!$F148*0.000000028317),\"\")","v":""},{"$f":"IF(ISNUMBER('Teom ugm3'!D150),('Teom ugm3'!D150*'Teom grams'!$F148*0.000000028317),\"\")","v":""},"","","","",null,"","","",null,"",""]
[null,null,{"$f":"IF('Teom ugm3'!A151=\"\",\"\",C148+1)","v":""},"",null,"",null,{"$f":"IF(ISNUMBER('Teom ugm3'!B151),('Teom ugm3'!B151*'Teom grams'!$F149*0.000000028317),\"\")","v":""},{"$f":"IF(ISNUMBER('Teom ugm3'!C151),('Teom ugm3'!C151*'Teom grams'!$F149*0.000000028317),\"\")","v":""},{"$f":"IF(ISNUMBER('Teom ugm3'!D151),('Teom ugm3'!D151*'Teom grams'!$F149*0.000000028317),\"\")","v":""},"","","","",null,"","","",null,"",""]
[null,null,{"$f":"IF('Teom ugm3'!A152=\"\",\"\",C149+1)","v":""},"",null,"",null,{"$f":"IF(ISNUMBER('Teom ugm3'!B152),('Teom ugm3'!B152*'Teom grams'!$F150*0.000000028317),\"\")","v":""},{"$f":"IF(ISNUMBER('Teom ugm3'!C152),('Teom ugm3'!C152*'Teom grams'!$F150*0.000000028317),\"\")","v":""},{"$f":"IF(ISNUMBER('Teom ugm3'!D152),('Teom ugm3'!D152*'Teom grams'!$F150*0.000000028317),\"\")","v":""},"","","","",null,"","","",null,"",""]
[null,null,{"$f":"IF('Teom ugm3'!A153=\"\",\"\",C150+1)","v":""},"",null,"",null,{"$f":"IF(ISNUMBER('Teom ugm3'!B153),('Teom ugm3'!B153*'Teom grams'!$F151*0.000000028317),\"\")","v":""},{"$f":"IF(ISNUMBER('Teom ugm3'!C153),('Teom ugm3'!C153*'Teom grams'!$F151*0.000000028317),\"\")","v":""},{"$f":"IF(ISNUMBER('Teom ugm3'!D153),('Teom ugm3'!D153*'Teom grams'!$F151*0.000000028317),\"\")","v":""},"","","","",null,"","","",null,"",""]
[null,null,{"$f":"IF('Teom ugm3'!A154=\"\",\"\",C151+1)","v":""},"",null,"",null,{"$f":"IF(ISNUMBER('Teom ugm3'!B154),('Teom ugm3'!B154*'Teom grams'!$F152*0.000000028317),\"\")","v":""},{"$f":"IF(ISNUMBER('Teom ugm3'!C154),('Teom ugm3'!C154*'Teom grams'!$F152*0.000000028317),\"\")","v":""},{"$f":"IF(ISNUMBER('Teom ugm3'!D154),('Teom ugm3'!D154*'Teom grams'!$F152*0.000000028317),\"\")","v":""},"","","","",null,"","","",null,"",""]
[null,null,{"$f":"IF('Teom ugm3'!A155=\"\",\"\",C152+1)","v":""},"",null,"",null,{"$f":"IF(ISNUMBER('Teom ugm3'!B155),('Teom ugm3'!B155*'Teom grams'!$F153*0.000000028317),\"\")","v":""},{"$f":"IF(ISNUMBER('Teom ugm3'!C155),('Teom ugm3'!C155*'Teom grams'!$F153*0.000000028317),\"\")","v":""},{"$f":"IF(ISNUMBER('Teom ugm3'!D155),('Teom ugm3'!D155*'Teom grams'!$F153*0.000000028317),\"\")","v":""},"","","","",null,"","","",null,"",""]
[null,null,{"$f":"IF('Teom ugm3'!A156=\"\",\"\",C153+1)","v":""},"",null,"",null,{"$f":"IF(ISNUMBER('Teom ugm3'!B156),('Teom ugm3'!B156*'Teom grams'!$F154*0.000000028317),\"\")","v":""},{"$f":"IF(ISNUMBER('Teom ugm3'!C156),('Teom ugm3'!C156*'Teom grams'!$F154*0.000000028317),\"\")","v":""},{"$f":"IF(ISNUMBER('Teom ugm3'!D156),('Teom ugm3'!D156*'Teom grams'!$F154*0.000000028317),\"\")","v":""},"","","","",null,"","","",null,"",""]
[null,null,{"$f":"IF('Teom ugm3'!A157=\"\",\"\",C154+1)","v":""},"",null,"",null,{"$f":"IF(ISNUMBER('Teom ugm3'!B157),('Teom ugm3'!B157*'Teom grams'!$F155*0.000000028317),\"\")","v":""},{"$f":"IF(ISNUMBER('Teom ugm3'!C157),('Teom ugm3'!C157*'Teom grams'!$F155*0.000000028317),\"\")","v":""},{"$f":"IF(ISNUMBER('Teom ugm3'!D157),('Teom ugm3'!D157*'Teom grams'!$F155*0.000000028317),\"\")","v":""},"","","","",null,"","","",null,"",""]
[null,null,{"$f":"IF('Teom ugm3'!A158=\"\",\"\",C155+1)","v":""},"",null,"",null,{"$f":"IF(ISNUMBER('Teom ugm3'!B158),('Teom ugm3'!B158*'Teom grams'!$F156*0.000000028317),\"\")","v":""},{"$f":"IF(ISNUMBER('Teom ugm3'!C158),('Teom ugm3'!C158*'Teom grams'!$F156*0.000000028317),\"\")","v":""},{"$f":"IF(ISNUMBER('Teom ugm3'!D158),('Teom ugm3'!D158*'Teom grams'!$F156*0.000000028317),\"\")","v":""},"","","","",null,"","","",null,"",""]
[null,null,{"$f":"IF('Teom ugm3'!A159=\"\",\"\",C156+1)","v":""},"",null,"",null,{"$f":"IF(ISNUMBER('Teom ugm3'!B159),('Teom ugm3'!B159*'Teom grams'!$F157*0.000000028317),\"\")","v":""},{"$f":"IF(ISNUMBER('Teom ugm3'!C159),('Teom ugm3'!C159*'Teom grams'!$F157*0.000000028317),\"\")","v":""},{"$f":"IF(ISNUMBER('Teom ugm3'!D159),('Teom ugm3'!D159*'Teom grams'!$F157*0.000000028317),\"\")","v":""},"","","","",null,"","","",null,"",""]
[null,null,{"$f":"IF('Teom ugm3'!A160=\"\",\"\",C157+1)","v":""},"",null,"",null,{"$f":"IF(ISNUMBER('Teom ugm3'!B160),('Teom ugm3'!B160*'Teom grams'!$F158*0.000000028317),\"\")","v":""},{"$f":"IF(ISNUMBER('Teom ugm3'!C160),('Teom ugm3'!C160*'Teom grams'!$F158*0.000000028317),\"\")","v":""},{"$f":"IF(ISNUMBER('Teom ugm3'!D160),('Teom ugm3'!D160*'Teom grams'!$F158*0.000000028317),\"\")","v":""},"","","","",null,"","","",null,"",""]
[null,null,{"$f":"IF('Teom ugm3'!A161=\"\",\"\",C158+1)","v":""},"",null,"",null,{"$f":"IF(ISNUMBER('Teom ugm3'!B161),('Teom ugm3'!B161*'Teom grams'!$F159*0.000000028317),\"\")","v":""},{"$f":"IF(ISNUMBER('Teom ugm3'!C161),('Teom ugm3'!C161*'Teom grams'!$F159*0.000000028317),\"\")","v":""},{"$f":"IF(ISNUMBER('Teom ugm3'!D161),('Teom ugm3'!D161*'Teom grams'!$F159*0.000000028317),\"\")","v":""},"","","","",null,"","","",null,"",""]
[null,null,{"$f":"IF('Teom ugm3'!A162=\"\",\"\",C159+1)","v":""},"",null,"",null,{"$f":"IF(ISNUMBER('Teom ugm3'!B162),('Teom ugm3'!B162*'Teom grams'!$F160*0.000000028317),\"\")","v":""},{"$f":"IF(ISNUMBER('Teom ugm3'!C162),('Teom ugm3'!C162*'Teom grams'!$F160*0.000000028317),\"\")","v":""},{"$f":"IF(ISNUMBER('Teom ugm3'!D162),('Teom ugm3'!D162*'Teom grams'!$F160*0.000000028317),\"\")","v":""},"","","","",null,"","","",null,"",""]
[null,null,{"$f":"IF('Teom ugm3'!A163=\"\",\"\",C160+1)","v":""},"",null,"",null,{"$f":"IF(ISNUMBER('Teom ugm3'!B163),('Teom ugm3'!B163*'Teom grams'!$F161*0.000000028317),\"\")","v":""},{"$f":"IF(ISNUMBER('Teom ugm3'!C163),('Teom ugm3'!C163*'Teom grams'!$F161*0.000000028317),\"\")","v":""},{"$f":"IF(ISNUMBER('Teom ugm3'!D163),('Teom ugm3'!D163*'Teom grams'!$F161*0.000000028317),\"\")","v":""},"","","","",null,"","","",null,"",""]
[null,null,{"$f":"IF('Teom ugm3'!A164=\"\",\"\",C161+1)","v":""},"",null,"",null,{"$f":"IF(ISNUMBER('Teom ugm3'!B164),('Teom ugm3'!B164*'Teom grams'!$F162*0.000000028317),\"\")","v":""},{"$f":"IF(ISNUMBER('Teom ugm3'!C164),('Teom ugm3'!C164*'Teom grams'!$F162*0.000000028317),\"\")","v":""},{"$f":"IF(ISNUMBER('Teom ugm3'!D164),('Teom ugm3'!D164*'Teom grams'!$F162*0.000000028317),\"\")","v":""},"","","","",null,"","","",null,"",""]
[null,null,{"$f":"IF('Teom ugm3'!A165=\"\",\"\",C162+1)","v":""},"",null,"",null,{"$f":"IF(ISNUMBER('Teom ugm3'!B165),('Teom ugm3'!B165*'Teom grams'!$F163*0.000000028317),\"\")","v":""},{"$f":"IF(ISNUMBER('Teom ugm3'!C165),('Teom ugm3'!C165*'Teom grams'!$F163*0.000000028317),\"\")","v":""},{"$f":"IF(ISNUMBER('Teom ugm3'!D165),('Teom ugm3'!D165*'Teom grams'!$F163*0.000000028317),\"\")","v":""},"","","","",null,"","","",null,"",""]
[null,null,{"$f":"IF('Teom ugm3'!A166=\"\",\"\",C163+1)","v":""},"",null,"",null,{"$f":"IF(ISNUMBER('Teom ugm3'!B166),('Teom ugm3'!B166*'Teom grams'!$F164*0.000000028317),\"\")","v":""},{"$f":"IF(ISNUMBER('Teom ugm3'!C166),('Teom ugm3'!C166*'Teom grams'!$F164*0.000000028317),\"\")","v":""},{"$f":"IF(ISNUMBER('Teom ugm3'!D166),('Teom ugm3'!D166*'Teom grams'!$F164*0.000000028317),\"\")","v":""},"","","","",null,"","","",null,"",""]
[null,null,{"$f":"IF('Teom ugm3'!A167=\"\",\"\",C164+1)","v":""},"",null,"",null,{"$f":"IF(ISNUMBER('Teom ugm3'!B167),('Teom ugm3'!B167*'Teom grams'!$F165*0.000000028317),\"\")","v":""},{"$f":"IF(ISNUMBER('Teom ugm3'!C167),('Teom ugm3'!C167*'Teom grams'!$F165*0.000000028317),\"\")","v":""},{"$f":"IF(ISNUMBER('Teom ugm3'!D167),('Teom ugm3'!D167*'Teom grams'!$F165*0.000000028317),\"\")","v":""},"","","","",null,"","","",null,"",""]
[null,null,{"$f":"IF('Teom ugm3'!A168=\"\",\"\",C165+1)","v":""},"",null,"",null,{"$f":"IF(ISNUMBER('Teom ugm3'!B168),('Teom ugm3'!B168*'Teom grams'!$F166*0.000000028317),\"\")","v":""},{"$f":"IF(ISNUMBER('Teom ugm3'!C168),('Teom ugm3'!C168*'Teom grams'!$F166*0.000000028317),\"\")","v":""},{"$f":"IF(ISNUMBER('Teom ugm3'!D168),('Teom ugm3'!D168*'Teom grams'!$F166*0.000000028317),\"\")","v":""},"","","","",null,"","","",null,"",""]
[null,null,{"$f":"IF('Teom ugm3'!A169=\"\",\"\",C166+1)","v":""},"",null,"",null,{"$f":"IF(ISNUMBER('Teom ugm3'!B169),('Teom ugm3'!B169*'Teom grams'!$F167*0.000000028317),\"\")","v":""},{"$f":"IF(ISNUMBER('Teom ugm3'!C169),('Teom ugm3'!C169*'Teom grams'!$F167*0.000000028317),\"\")","v":""},{"$f":"IF(ISNUMBER('Teom ugm3'!D169),('Teom ugm3'!D169*'Teom grams'!$F167*0.000000028317),\"\")","v":""},"","","","",null,"","","",null,"",""]
[null,null,{"$f":"IF('Teom ugm3'!A170=\"\",\"\",C167+1)","v":""},"",null,"",null,{"$f":"IF(ISNUMBER('Teom ugm3'!B170),('Teom ugm3'!B170*'Teom grams'!$F168*0.000000028317),\"\")","v":""},{"$f":"IF(ISNUMBER('Teom ugm3'!C170),('Teom ugm3'!C170*'Teom grams'!$F168*0.000000028317),\"\")","v":""},{"$f":"IF(ISNUMBER('Teom ugm3'!D170),('Teom ugm3'!D170*'Teom grams'!$F168*0.000000028317),\"\")","v":""},"","","","",null,"","","",null,"",""]
[null,null,{"$f":"IF('Teom ugm3'!A171=\"\",\"\",C168+1)","v":""},"",null,"",null,{"$f":"IF(ISNUMBER('Teom ugm3'!B171),('Teom ugm3'!B171*'Teom grams'!$F169*0.000000028317),\"\")","v":""},{"$f":"IF(ISNUMBER('Teom ugm3'!C171),('Teom ugm3'!C171*'Teom grams'!$F169*0.000000028317),\"\")","v":""},{"$f":"IF(ISNUMBER('Teom ugm3'!D171),('Teom ugm3'!D171*'Teom grams'!$F169*0.000000028317),\"\")","v":""},"","","","",null,"","","",null,"",""]
[null,null,{"$f":"IF('Teom ugm3'!A172=\"\",\"\",C169+1)","v":""},"",null,"",null,{"$f":"IF(ISNUMBER('Teom ugm3'!B172),('Teom ugm3'!B172*'Teom grams'!$F170*0.000000028317),\"\")","v":""},{"$f":"IF(ISNUMBER('Teom ugm3'!C172),('Teom ugm3'!C172*'Teom grams'!$F170*0.000000028317),\"\")","v":""},{"$f":"IF(ISNUMBER('Teom ugm3'!D172),('Teom ugm3'!D172*'Teom grams'!$F170*0.000000028317),\"\")","v":""},"","","","",null,"","","",null,"",""]
[null,null,{"$f":"IF('Teom ugm3'!A173=\"\",\"\",C170+1)","v":""},"",null,"",null,{"$f":"IF(ISNUMBER('Teom ugm3'!B173),('Teom ugm3'!B173*'Teom grams'!$F171*0.000000028317),\"\")","v":""},{"$f":"IF(ISNUMBER('Teom ugm3'!C173),('Teom ugm3'!C173*'Teom grams'!$F171*0.000000028317),\"\")","v":""},{"$f":"IF(ISNUMBER('Teom ugm3'!D173),('Teom ugm3'!D173*'Teom grams'!$F171*0.000000028317),\"\")","v":""},"","","","",null,"","","",null,"",""]
[null,null,{"$f":"IF('Teom ugm3'!A174=\"\",\"\",C171+1)","v":""},"",null,"",null,{"$f":"IF(ISNUMBER('Teom ugm3'!B174),('Teom ugm3'!B174*'Teom grams'!$F172*0.000000028317),\"\")","v":""},{"$f":"IF(ISNUMBER('Teom ugm3'!C174),('Teom ugm3'!C174*'Teom grams'!$F172*0.000000028317),\"\")","v":""},{"$f":"IF(ISNUMBER('Teom ugm3'!D174),('Teom ugm3'!D174*'Teom grams'!$F172*0.000000028317),\"\")","v":""},"","","","",null,"","","",null,"",""]
[null,null,{"$f":"IF('Teom ugm3'!A175=\"\",\"\",C172+1)","v":""},"",null,"",null,{"$f":"IF(ISNUMBER('Teom ugm3'!B175),('Teom ugm3'!B175*'Teom grams'!$F173*0.000000028317),\"\")","v":""},{"$f":"IF(ISNUMBER('Teom ugm3'!C175),('Teom ugm3'!C175*'Teom grams'!$F173*0.000000028317),\"\")","v":""},{"$f":"IF(ISNUMBER('Teom ugm3'!D175),('Teom ugm3'!D175*'Teom grams'!$F173*0.000000028317),\"\")","v":""},"","","","",null,"","","",null,"",""]
[null,null,{"$f":"IF('Teom ugm3'!A176=\"\",\"\",C173+1)","v":""},"",null,"",null,{"$f":"IF(ISNUMBER('Teom ugm3'!B176),('Teom ugm3'!B176*'Teom grams'!$F174*0.000000028317),\"\")","v":""},{"$f":"IF(ISNUMBER('Teom ugm3'!C176),('Teom ugm3'!C176*'Teom grams'!$F174*0.000000028317),\"\")","v":""},{"$f":"IF(ISNUMBER('Teom ugm3'!D176),('Teom ugm3'!D176*'Teom grams'!$F174*0.000000028317),\"\")","v":""},"","","","",null,"","","",null,"",""]
[null,null,{"$f":"IF('Teom ugm3'!A177=\"\",\"\",C174+1)","v":""},"",null,"",null,{"$f":"IF(ISNUMBER('Teom ugm3'!B177),('Teom ugm3'!B177*'Teom grams'!$F175*0.000000028317),\"\")","v":""},{"$f":"IF(ISNUMBER('Teom ugm3'!C177),('Teom ugm3'!C177*'Teom grams'!$F175*0.000000028317),\"\")","v":""},{"$f":"IF(ISNUMBER('Teom ugm3'!D177),('Teom ugm3'!D177*'Teom grams'!$F175*0.000000028317),\"\")","v":""},"","","","",null,"","","",null,"",""]
[null,null,{"$f":"IF('Teom ugm3'!A178=\"\",\"\",C175+1)","v":""},"",null,"",null,{"$f":"IF(ISNUMBER('Teom ugm3'!B178),('Teom ugm3'!B178*'Teom grams'!$F176*0.000000028317),\"\")","v":""},{"$f":"IF(ISNUMBER('Teom ugm3'!C178),('Teom ugm3'!C178*'Teom grams'!$F176*0.000000028317),\"\")","v":""},{"$f":"IF(ISNUMBER('Teom ugm3'!D178),('Teom ugm3'!D178*'Teom grams'!$F176*0.000000028317),\"\")","v":""},"","","","",null,"","","",null,"",""]
[null,null,{"$f":"IF('Teom ugm3'!A179=\"\",\"\",C176+1)","v":""},"",null,"",null,{"$f":"IF(ISNUMBER('Teom ugm3'!B179),('Teom ugm3'!B179*'Teom grams'!$F177*0.000000028317),\"\")","v":""},{"$f":"IF(ISNUMBER('Teom ugm3'!C179),('Teom ugm3'!C179*'Teom grams'!$F177*0.000000028317),\"\")","v":""},{"$f":"IF(ISNUMBER('Teom ugm3'!D179),('Teom ugm3'!D179*'Teom grams'!$F177*0.000000028317),\"\")","v":""},"","","","",null,"","","",null,"",""]
[null,null,{"$f":"IF('Teom ugm3'!A180=\"\",\"\",C177+1)","v":""},"",null,"",null,{"$f":"IF(ISNUMBER('Teom ugm3'!B180),('Teom ugm3'!B180*'Teom grams'!$F178*0.000000028317),\"\")","v":""},{"$f":"IF(ISNUMBER('Teom ugm3'!C180),('Teom ugm3'!C180*'Teom grams'!$F178*0.000000028317),\"\")","v":""},{"$f":"IF(ISNUMBER('Teom ugm3'!D180),('Teom ugm3'!D180*'Teom grams'!$F178*0.000000028317),\"\")","v":""},"","","","",null,"","","",null,"",""]
[null,null,{"$f":"IF('Teom ugm3'!A181=\"\",\"\",C178+1)","v":""},"",null,"",null,{"$f":"IF(ISNUMBER('Teom ugm3'!B181),('Teom ugm3'!B181*'Teom grams'!$F179*0.000000028317),\"\")","v":""},{"$f":"IF(ISNUMBER('Teom ugm3'!C181),('Teom ugm3'!C181*'Teom grams'!$F179*0.000000028317),\"\")","v":""},{"$f":"IF(ISNUMBER('Teom ugm3'!D181),('Teom ugm3'!D181*'Teom grams'!$F179*0.000000028317),\"\")","v":""},"","","","",null,"","","",null,"",""]
[null,null,{"$f":"IF('Teom ugm3'!A182=\"\",\"\",C179+1)","v":""},"",null,"",null,{"$f":"IF(ISNUMBER('Teom ugm3'!B182),('Teom ugm3'!B182*'Teom grams'!$F180*0.000000028317),\"\")","v":""},{"$f":"IF(ISNUMBER('Teom ugm3'!C182),('Teom ugm3'!C182*'Teom grams'!$F180*0.000000028317),\"\")","v":""},{"$f":"IF(ISNUMBER('Teom ugm3'!D182),('Teom ugm3'!D182*'Teom grams'!$F180*0.000000028317),\"\")","v":""},"","","","",null,"","","",null,"",""]
[null,null,{"$f":"IF('Teom ugm3'!A183=\"\",\"\",C180+1)","v":""},"",null,"",null,{"$f":"IF(ISNUMBER('Teom ugm3'!B183),('Teom ugm3'!B183*'Teom grams'!$F181*0.000000028317),\"\")","v":""},{"$f":"IF(ISNUMBER('Teom ugm3'!C183),('Teom ugm3'!C183*'Teom grams'!$F181*0.000000028317),\"\")","v":""},{"$f":"IF(ISNUMBER('Teom ugm3'!D183),('Teom ugm3'!D183*'Teom grams'!$F181*0.000000028317),\"\")","v":""},"","","","",null,"","","",null,"",""]
[null,null,{"$f":"IF('Teom ugm3'!A184=\"\",\"\",C181+1)","v":""},"",null,"",null,{"$f":"IF(ISNUMBER('Teom ugm3'!B184),('Teom ugm3'!B184*'Teom grams'!$F182*0.000000028317),\"\")","v":""},{"$f":"IF(ISNUMBER('Teom ugm3'!C184),('Teom ugm3'!C184*'Teom grams'!$F182*0.000000028317),\"\")","v":""},{"$f":"IF(ISNUMBER('Teom ugm3'!D184),('Teom ugm3'!D184*'Teom grams'!$F182*0.000000028317),\"\")","v":""},"","","","",null,"","","",null,"",""]
[null,null,{"$f":"IF('Teom ugm3'!A185=\"\",\"\",C182+1)","v":""},"",null,"",null,{"$f":"IF(ISNUMBER('Teom ugm3'!B185),('Teom ugm3'!B185*'Teom grams'!$F183*0.000000028317),\"\")","v":""},{"$f":"IF(ISNUMBER('Teom ugm3'!C185),('Teom ugm3'!C185*'Teom grams'!$F183*0.000000028317),\"\")","v":""},{"$f":"IF(ISNUMBER('Teom ugm3'!D185),('Teom ugm3'!D185*'Teom grams'!$F183*0.000000028317),\"\")","v":""},"","","","",null,"","","",null,"",""]
[null,null,{"$f":"IF('Teom ugm3'!A186=\"\",\"\",C183+1)","v":""},"",null,"",null,{"$f":"IF(ISNUMBER('Teom ugm3'!B186),('Teom ugm3'!B186*'Teom grams'!$F184*0.000000028317),\"\")","v":""},{"$f":"IF(ISNUMBER('Teom ugm3'!C186),('Teom ugm3'!C186*'Teom grams'!$F184*0.000000028317),\"\")","v":""},{"$f":"IF(ISNUMBER('Teom ugm3'!D186),('Teom ugm3'!D186*'Teom grams'!$F184*0.000000028317),\"\")","v":""},"","","","",null,"","","",null,"",""]
[null,null,{"$f":"IF('Teom ugm3'!A187=\"\",\"\",C184+1)","v":""},"",null,"",null,{"$f":"IF(ISNUMBER('Teom ugm3'!B187),('Teom ugm3'!B187*'Teom grams'!$F185*0.000000028317),\"\")","v":""},{"$f":"IF(ISNUMBER('Teom ugm3'!C187),('Teom ugm3'!C187*'Teom grams'!$F185*0.000000028317),\"\")","v":""},{"$f":"IF(ISNUMBER('Teom ugm3'!D187),('Teom ugm3'!D187*'Teom grams'!$F185*0.000000028317),\"\")","v":""},"","","","",null,"","","",null,"",""]
[null,null,{"$f":"IF('Teom ugm3'!A188=\"\",\"\",C185+1)","v":""},"",null,"",null,{"$f":"IF(ISNUMBER('Teom ugm3'!B188),('Teom ugm3'!B188*'Teom grams'!$F186*0.000000028317),\"\")","v":""},{"$f":"IF(ISNUMBER('Teom ugm3'!C188),('Teom ugm3'!C188*'Teom grams'!$F186*0.000000028317),\"\")","v":""},{"$f":"IF(ISNUMBER('Teom ugm3'!D188),('Teom ugm3'!D188*'Teom grams'!$F186*0.000000028317),\"\")","v":""},"","","","",null,"","","",null,"",""]
[null,null,{"$f":"IF('Teom ugm3'!A189=\"\",\"\",C186+1)","v":""},"",null,"",null,{"$f":"IF(ISNUMBER('Teom ugm3'!B189),('Teom ugm3'!B189*'Teom grams'!$F187*0.000000028317),\"\")","v":""},{"$f":"IF(ISNUMBER('Teom ugm3'!C189),('Teom ugm3'!C189*'Teom grams'!$F187*0.000000028317),\"\")","v":""},{"$f":"IF(ISNUMBER('Teom ugm3'!D189),('Teom ugm3'!D189*'Teom grams'!$F187*0.000000028317),\"\")","v":""},"","","","",null,"","","",null,"",""]
[null,null,{"$f":"IF('Teom ugm3'!A190=\"\",\"\",C187+1)","v":""},"",null,"",null,{"$f":"IF(ISNUMBER('Teom ugm3'!B190),('Teom ugm3'!B190*'Teom grams'!$F188*0.000000028317),\"\")","v":""},{"$f":"IF(ISNUMBER('Teom ugm3'!C190),('Teom ugm3'!C190*'Teom grams'!$F188*0.000000028317),\"\")","v":""},{"$f":"IF(ISNUMBER('Teom ugm3'!D190),('Teom ugm3'!D190*'Teom grams'!$F188*0.000000028317),\"\")","v":""},"","","","",null,"","","",null,"",""]
[null,null,{"$f":"IF('Teom ugm3'!A191=\"\",\"\",C188+1)","v":""},"",null,"",null,{"$f":"IF(ISNUMBER('Teom ugm3'!B191),('Teom ugm3'!B191*'Teom grams'!$F189*0.000000028317),\"\")","v":""},{"$f":"IF(ISNUMBER('Teom ugm3'!C191),('Teom ugm3'!C191*'Teom grams'!$F189*0.000000028317),\"\")","v":""},{"$f":"IF(ISNUMBER('Teom ugm3'!D191),('Teom ugm3'!D191*'Teom grams'!$F189*0.000000028317),\"\")","v":""},"","","","",null,"","","",null,"",""]
[null,null,{"$f":"IF('Teom ugm3'!A192=\"\",\"\",C189+1)","v":""},"",null,"",null,{"$f":"IF(ISNUMBER('Teom ugm3'!B192),('Teom ugm3'!B192*'Teom grams'!$F190*0.000000028317),\"\")","v":""},{"$f":"IF(ISNUMBER('Teom ugm3'!C192),('Teom ugm3'!C192*'Teom grams'!$F190*0.000000028317),\"\")","v":""},{"$f":"IF(ISNUMBER('Teom ugm3'!D192),('Teom ugm3'!D192*'Teom grams'!$F190*0.000000028317),\"\")","v":""},"","","","",null,"","","",null,"",""]
[null,null,{"$f":"IF('Teom ugm3'!A193=\"\",\"\",C190+1)","v":""},"",null,"",null,{"$f":"IF(ISNUMBER('Teom ugm3'!B193),('Teom ugm3'!B193*'Teom grams'!$F191*0.000000028317),\"\")","v":""},{"$f":"IF(ISNUMBER('Teom ugm3'!C193),('Teom ugm3'!C193*'Teom grams'!$F191*0.000000028317),\"\")","v":""},{"$f":"IF(ISNUMBER('Teom ugm3'!D193),('Teom ugm3'!D193*'Teom grams'!$F191*0.000000028317),\"\")","v":""},"","","","",null,"","","",null,"",""]
[null,null,{"$f":"IF('Teom ugm3'!A194=\"\",\"\",C191+1)","v":""},"",null,"",null,{"$f":"IF(ISNUMBER('Teom ugm3'!B194),('Teom ugm3'!B194*'Teom grams'!$F192*0.000000028317),\"\")","v":""},{"$f":"IF(ISNUMBER('Teom ugm3'!C194),('Teom ugm3'!C194*'Teom grams'!$F192*0.000000028317),\"\")","v":""},{"$f":"IF(ISNUMBER('Teom ugm3'!D194),('Teom ugm3'!D194*'Teom grams'!$F192*0.000000028317),\"\")","v":""},"","","","",null,"","","",null,"",""]
[null,null,{"$f":"IF('Teom ugm3'!A195=\"\",\"\",C192+1)","v":""},"",null,"",null,{"$f":"IF(ISNUMBER('Teom ugm3'!B195),('Teom ugm3'!B195*'Teom grams'!$F193*0.000000028317),\"\")","v":""},{"$f":"IF(ISNUMBER('Teom ugm3'!C195),('Teom ugm3'!C195*'Teom grams'!$F193*0.000000028317),\"\")","v":""},{"$f":"IF(ISNUMBER('Teom ugm3'!D195),('Teom ugm3'!D195*'Teom grams'!$F193*0.000000028317),\"\")","v":""},"","","","",null,"","","",null,"",""]
[null,null,{"$f":"IF('Teom ugm3'!A196=\"\",\"\",C193+1)","v":""},"",null,"",null,{"$f":"IF(ISNUMBER('Teom ugm3'!B196),('Teom ugm3'!B196*'Teom grams'!$F194*0.000000028317),\"\")","v":""},{"$f":"IF(ISNUMBER('Teom ugm3'!C196),('Teom ugm3'!C196*'Teom grams'!$F194*0.000000028317),\"\")","v":""},{"$f":"IF(ISNUMBER('Teom ugm3'!D196),('Teom ugm3'!D196*'Teom grams'!$F194*0.000000028317),\"\")","v":""},"","","","",null,"","","",null,"",""]
[null,null,{"$f":"IF('Teom ugm3'!A197=\"\",\"\",C194+1)","v":""},"",null,"",null,{"$f":"IF(ISNUMBER('Teom ugm3'!B197),('Teom ugm3'!B197*'Teom grams'!$F195*0.000000028317),\"\")","v":""},{"$f":"IF(ISNUMBER('Teom ugm3'!C197),('Teom ugm3'!C197*'Teom grams'!$F195*0.000000028317),\"\")","v":""},{"$f":"IF(ISNUMBER('Teom ugm3'!D197),('Teom ugm3'!D197*'Teom grams'!$F195*0.000000028317),\"\")","v":""},"","","","",null,"","","",null,"",""]
[null,null,{"$f":"IF('Teom ugm3'!A198=\"\",\"\",C195+1)","v":""},"",null,"",null,{"$f":"IF(ISNUMBER('Teom ugm3'!B198),('Teom ugm3'!B198*'Teom grams'!$F196*0.000000028317),\"\")","v":""},{"$f":"IF(ISNUMBER('Teom ugm3'!C198),('Teom ugm3'!C198*'Teom grams'!$F196*0.000000028317),\"\")","v":""},{"$f":"IF(ISNUMBER('Teom ugm3'!D198),('Teom ugm3'!D198*'Teom grams'!$F196*0.000000028317),\"\")","v":""},"","","",{"$f":"M196","v":""},null,"",{"$f":"IF(ISNUMBER(M196),M196*60,\"\")","v":""},"",null,{"$f":"IF(COUNT(C196:C255)>59,AVERAGE(P196:P255),\"\")","v":""},{"$f":"IF(COUNT(C196:C255)>59,AVERAGE(Q196:Q255),\"\")","v":""}]
[null,null,{"$f":"IF('Teom ugm3'!A199=\"\",\"\",C196+1)","v":""},"",null,{"$f":"IF(C197=\"\",\"\",E197*1.02041)","v":""},null,{"$f":"IF(ISNUMBER('Teom ugm3'!B199),('Teom ugm3'!B199*'Teom grams'!$F197*0.000000028317),\"\")","v":""},{"$f":"IF(ISNUMBER('Teom ugm3'!C199),('Teom ugm3'!C199*'Teom grams'!$F197*0.000000028317),\"\")","v":""},{"$f":"IF(ISNUMBER('Teom ugm3'!D199),('Teom ugm3'!D199*'Teom grams'!$F197*0.000000028317),\"\")","v":""},{"$f":"IF(H197<0,0,H197)","v":""},{"$f":"IF(I197<0,0,I197)","v":""},"","",null,{"$f":"IF(ISNUMBER(J197),J197*60,\"\")","v":""},"",{"$f":"IF(ISNUMBER(N197),N197*60,\"\")","v":""},null,"",""]
[null,null,{"$f":"IF('Teom ugm3'!A200=\"\",\"\",C197+1)","v":""},{"$f":"IF(C198=\"\",\"\",D197 + TIME(0, 1, 0))","v":""},null,"",null,{"$f":"IF(ISNUMBER('Teom ugm3'!B200),('Teom ugm3'!B200*'Teom grams'!$F198*0.000000028317),\"\")","v":""},{"$f":"IF(ISNUMBER('Teom ugm3'!C200),('Teom ugm3'!C200*'Teom grams'!$F198*0.000000028317),\"\")","v":""},{"$f":"IF(ISNUMBER('Teom ugm3'!D200),('Teom ugm3'!D200*'Teom grams'!$F198*0.000000028317),\"\")","v":""},"","","","",null,"","","",null,"",""]
[null,null,{"$f":"IF('Teom ugm3'!A201=\"\",\"\",C198+1)","v":""},"",null,"",null,{"$f":"IF(ISNUMBER('Teom ugm3'!B201),('Teom ugm3'!B201*'Teom grams'!$F199*0.000000028317),\"\")","v":""},{"$f":"IF(ISNUMBER('Teom ugm3'!C201),('Teom ugm3'!C201*'Teom grams'!$F199*0.000000028317),\"\")","v":""},{"$f":"IF(ISNUMBER('Teom ugm3'!D201),('Teom ugm3'!D201*'Teom grams'!$F199*0.000000028317),\"\")","v":""},"","","","",null,"","","",null,"",""]
[null,null,{"$f":"IF('Teom ugm3'!A202=\"\",\"\",C199+1)","v":""},"",null,"",null,{"$f":"IF(ISNUMBER('Teom ugm3'!B202),('Teom ugm3'!B202*'Teom grams'!$F200*0.000000028317),\"\")","v":""},{"$f":"IF(ISNUMBER('Teom ugm3'!C202),('Teom ugm3'!C202*'Teom grams'!$F200*0.000000028317),\"\")","v":""},{"$f":"IF(ISNUMBER('Teom ugm3'!D202),('Teom ugm3'!D202*'Teom grams'!$F200*0.000000028317),\"\")","v":""},"","","","",null,"","","",null,"",""]
[null,null,{"$f":"IF('Teom ugm3'!A203=\"\",\"\",C200+1)","v":""},"",null,"",null,{"$f":"IF(ISNUMBER('Teom ugm3'!B203),('Teom ugm3'!B203*'Teom grams'!$F201*0.000000028317),\"\")","v":""},{"$f":"IF(ISNUMBER('Teom ugm3'!C203),('Teom ugm3'!C203*'Teom grams'!$F201*0.000000028317),\"\")","v":""},{"$f":"IF(ISNUMBER('Teom ugm3'!D203),('Teom ugm3'!D203*'Teom grams'!$F201*0.000000028317),\"\")","v":""},"","","","",null,"","","",null,"",""]
[null,null,{"$f":"IF('Teom ugm3'!A204=\"\",\"\",C201+1)","v":""},"",null,"",null,{"$f":"IF(ISNUMBER('Teom ugm3'!B204),('Teom ugm3'!B204*'Teom grams'!$F202*0.000000028317),\"\")","v":""},{"$f":"IF(ISNUMBER('Teom ugm3'!C204),('Teom ugm3'!C204*'Teom grams'!$F202*0.000000028317),\"\")","v":""},{"$f":"IF(ISNUMBER('Teom ugm3'!D204),('Teom ugm3'!D204*'Teom grams'!$F202*0.000000028317),\"\")","v":""},"","","","",null,"","","",null,"",""]
[null,null,{"$f":"IF('Teom ugm3'!A205=\"\",\"\",C202+1)","v":""},"",null,"",null,{"$f":"IF(ISNUMBER('Teom ugm3'!B205),('Teom ugm3'!B205*'Teom grams'!$F203*0.000000028317),\"\")","v":""},{"$f":"IF(ISNUMBER('Teom ugm3'!C205),('Teom ugm3'!C205*'Teom grams'!$F203*0.000000028317),\"\")","v":""},{"$f":"IF(ISNUMBER('Teom ugm3'!D205),('Teom ugm3'!D205*'Teom grams'!$F203*0.000000028317),\"\")","v":""},"","",{"$f":"IF(COUNT(K203:L203)>0,AVERAGE(K203:L203),\"\")","v":""},"",null,"","","",null,"",""]
[null,null,{"$f":"IF('Teom ugm3'!A206=\"\",\"\",C203+1)","v":""},"",null,"",null,{"$f":"IF(ISNUMBER('Teom ugm3'!B206),('Teom ugm3'!B206*'Teom grams'!$F204*0.000000028317),\"\")","v":""},{"$f":"IF(ISNUMBER('Teom ugm3'!C206),('Teom ugm3'!C206*'Teom grams'!$F204*0.000000028317),\"\")","v":""},{"$f":"IF(ISNUMBER('Teom ugm3'!D206),('Teom ugm3'!D206*'Teom grams'!$F204*0.000000028317),\"\")","v":""},"","","","",null,"","","",null,"",""]
[null,null,{"$f":"IF('Teom ugm3'!A207=\"\",\"\",C204+1)","v":""},"",null,"",null,{"$f":"IF(ISNUMBER('Teom ugm3'!B207),('Teom ugm3'!B207*'Teom grams'!$F205*0.000000028317),\"\")","v":""},{"$f":"IF(ISNUMBER('Teom ugm3'!C207),('Teom ugm3'!C207*'Teom grams'!$F205*0.000000028317),\"\")","v":""},{"$f":"IF(ISNUMBER('Teom ugm3'!D207),('Teom ugm3'!D207*'Teom grams'!$F205*0.000000028317),\"\")","v":""},"","","","",null,"","","",null,"",""]
[null,null,{"$f":"IF('Teom ugm3'!A208=\"\",\"\",C205+1)","v":""},"",null,"",null,{"$f":"IF(ISNUMBER('Teom ugm3'!B208),('Teom ugm3'!B208*'Teom grams'!$F206*0.000000028317),\"\")","v":""},{"$f":"IF(ISNUMBER('Teom ugm3'!C208),('Teom ugm3'!C208*'Teom grams'!$F206*0.000000028317),\"\")","v":""},{"$f":"IF(ISNUMBER('Teom ugm3'!D208),('Teom ugm3'!D208*'Teom grams'!$F206*0.000000028317),\"\")","v":""},"","","","",null,"","","",null,"",""]
[null,null,{"$f":"IF('Teom ugm3'!A209=\"\",\"\",C206+1)","v":""},"",null,"",null,{"$f":"IF(ISNUMBER('Teom ugm3'!B209),('Teom ugm3'!B209*'Teom grams'!$F207*0.000000028317),\"\")","v":""},{"$f":"IF(ISNUMBER('Teom ugm3'!C209),('Teom ugm3'!C209*'Teom grams'!$F207*0.000000028317),\"\")","v":""},{"$f":"IF(ISNUMBER('Teom ugm3'!D209),('Teom ugm3'!D209*'Teom grams'!$F207*0.000000028317),\"\")","v":""},"","","","",null,"","","",null,"",""]
[null,null,{"$f":"IF('Teom ugm3'!A210=\"\",\"\",C207+1)","v":""},"",null,"",null,{"$f":"IF(ISNUMBER('Teom ugm3'!B210),('Teom ugm3'!B210*'Teom grams'!$F208*0.000000028317),\"\")","v":""},{"$f":"IF(ISNUMBER('Teom ugm3'!C210),('Teom ugm3'!C210*'Teom grams'!$F208*0.000000028317),\"\")","v":""},{"$f":"IF(ISNUMBER('Teom ugm3'!D210),('Teom ugm3'!D210*'Teom grams'!$F208*0.000000028317),\"\")","v":""},"","","","",null,"","","",null,"",""]
[null,null,{"$f":"IF('Teom ugm3'!A211=\"\",\"\",C208+1)","v":""},"",null,"",null,{"$f":"IF(ISNUMBER('Teom ugm3'!B211),('Teom ugm3'!B211*'Teom grams'!$F209*0.000000028317),\"\")","v":""},{"$f":"IF(ISNUMBER('Teom ugm3'!C211),('Teom ugm3'!C211*'Teom grams'!$F209*0.000000028317),\"\")","v":""},{"$f":"IF(ISNUMBER('Teom ugm3'!D211),('Teom ugm3'!D211*'Teom grams'!$F209*0.000000028317),\"\")","v":""},"","","","",null,"","","",null,"",""]
[null,null,{"$f":"IF('Teom ugm3'!A212=\"\",\"\",C209+1)","v":""},"",null,"",null,{"$f":"IF(ISNUMBER('Teom ugm3'!B212),('Teom ugm3'!B212*'Teom grams'!$F210*0.000000028317),\"\")","v":""},{"$f":"IF(ISNUMBER('Teom ugm3'!C212),('Teom ugm3'!C212*'Teom grams'!$F210*0.000000028317),\"\")","v":""},{"$f":"IF(ISNUMBER('Teom ugm3'!D212),('Teom ugm3'!D212*'Teom grams'!$F210*0.000000028317),\"\")","v":""},"","","","",null,"","","",null,"",""]
[null,null,{"$f":"IF('Teom ugm3'!A213=\"\",\"\",C210+1)","v":""},"",null,"",null,{"$f":"IF(ISNUMBER('Teom ugm3'!B213),('Teom ugm3'!B213*'Teom grams'!$F211*0.000000028317),\"\")","v":""},{"$f":"IF(ISNUMBER('Teom ugm3'!C213),('Teom ugm3'!C213*'Teom grams'!$F211*0.000000028317),\"\")","v":""},{"$f":"IF(ISNUMBER('Teom ugm3'!D213),('Teom ugm3'!D213*'Teom grams'!$F211*0.000000028317),\"\")","v":""},"","","","",null,"","","",null,"",""]
[null,null,{"$f":"IF('Teom ugm3'!A214=\"\",\"\",C211+1)","v":""},"",null,"",null,{"$f":"IF(ISNUMBER('Teom ugm3'!B214),('Teom ugm3'!B214*'Teom grams'!$F212*0.000000028317),\"\")","v":""},{"$f":"IF(ISNUMBER('Teom ugm3'!C214),('Teom ugm3'!C214*'Teom grams'!$F212*0.000000028317),\"\")","v":""},{"$f":"IF(ISNUMBER('Teom ugm3'!D214),('Teom ugm3'!D214*'Teom grams'!$F212*0.000000028317),\"\")","v":""},"","","","",null,"","","",null,"",""]
[null,null,{"$f":"IF('Teom ugm3'!A215=\"\",\"\",C212+1)","v":""},"",null,"",null,{"$f":"IF(ISNUMBER('Teom ugm3'!B215),('Teom ugm3'!B215*'Teom grams'!$F213*0.000000028317),\"\")","v":""},{"$f":"IF(ISNUMBER('Teom ugm3'!C215),('Teom ugm3'!C215*'Teom grams'!$F213*0.000000028317),\"\")","v":""},{"$f":"IF(ISNUMBER('Teom ugm3'!D215),('Teom ugm3'!D215*'Teom grams'!$F213*0.000000028317),\"\")","v":""},"","","","",null,"","","",null,"",""]
[null,null,{"$f":"IF('Teom ugm3'!A216=\"\",\"\",C213+1)","v":""},"",null,"",null,{"$f":"IF(ISNUMBER('Teom ugm3'!B216),('Teom ugm3'!B216*'Teom grams'!$F214*0.000000028317),\"\")","v":""},{"$f":"IF(ISNUMBER('Teom ugm3'!C216),('Teom ugm3'!C216*'Teom grams'!$F214*0.000000028317),\"\")","v":""},{"$f":"IF(ISNUMBER('Teom ugm3'!D216),('Teom ugm3'!D216*'Teom grams'!$F214*0.000000028317),\"\")","v":""},"","","","",null,"","","",null,"",""]
[null,null,{"$f":"IF('Teom ugm3'!A217=\"\",\"\",C214+1)","v":""},"",null,"",null,{"$f":"IF(ISNUMBER('Teom ugm3'!B217),('Teom ugm3'!B217*'Teom grams'!$F215*0.000000028317),\"\")","v":""},{"$f":"IF(ISNUMBER('Teom ugm3'!C217),('Teom ugm3'!C217*'Teom grams'!$F215*0.000000028317),\"\")","v":""},{"$f":"IF(ISNUMBER('Teom ugm3'!D217),('Teom ugm3'!D217*'Teom grams'!$F215*0.000000028317),\"\")","v":""},"","","","",null,"","","",null,"",""]
[null,null,{"$f":"IF('Teom ugm3'!A218=\"\",\"\",C215+1)","v":""},"",null,"",null,{"$f":"IF(ISNUMBER('Teom ugm3'!B218),('Teom ugm3'!B218*'Teom grams'!$F216*0.000000028317),\"\")","v":""},{"$f":"IF(ISNUMBER('Teom ugm3'!C218),('Teom ugm3'!C218*'Teom grams'!$F216*0.000000028317),\"\")","v":""},{"$f":"IF(ISNUMBER('Teom ugm3'!D218),('Teom ugm3'!D218*'Teom grams'!$F216*0.000000028317),\"\")","v":""},"","","","",null,"","","",null,"",""]
[null,null,{"$f":"IF('Teom ugm3'!A219=\"\",\"\",C216+1)","v":""},"",null,"",null,{"$f":"IF(ISNUMBER('Teom ugm3'!B219),('Teom ugm3'!B219*'Teom grams'!$F217*0.000000028317),\"\")","v":""},{"$f":"IF(ISNUMBER('Teom ugm3'!C219),('Teom ugm3'!C219*'Teom grams'!$F217*0.000000028317),\"\")","v":""},{"$f":"IF(ISNUMBER('Teom ugm3'!D219),('Teom ugm3'!D219*'Teom grams'!$F217*0.000000028317),\"\")","v":""},"","","","",null,"","","",null,"",""]
[null,null,{"$f":"IF('Teom ugm3'!A220=\"\",\"\",C217+1)","v":""},"",null,"",null,{"$f":"IF(ISNUMBER('Teom ugm3'!B220),('Teom ugm3'!B220*'Teom grams'!$F218*0.000000028317),\"\")","v":""},{"$f":"IF(ISNUMBER('Teom ugm3'!C220),('Teom ugm3'!C220*'Teom grams'!$F218*0.000000028317),\"\")","v":""},{"$f":"IF(ISNUMBER('Teom ugm3'!D220),('Teom ugm3'!D220*'Teom grams'!$F218*0.000000028317),\"\")","v":""},"","","","",null,"","","",null,"",""]
[null,null,{"$f":"IF('Teom ugm3'!A221=\"\",\"\",C218+1)","v":""},"",null,"",null,{"$f":"IF(ISNUMBER('Teom ugm3'!B221),('Teom ugm3'!B221*'Teom grams'!$F219*0.000000028317),\"\")","v":""},{"$f":"IF(ISNUMBER('Teom ugm3'!C221),('Teom ugm3'!C221*'Teom grams'!$F219*0.000000028317),\"\")","v":""},{"$f":"IF(ISNUMBER('Teom ugm3'!D221),('Teom ugm3'!D221*'Teom grams'!$F219*0.000000028317),\"\")","v":""},"","","","",null,"","","",null,"",""]
[null,null,{"$f":"IF('Teom ugm3'!A222=\"\",\"\",C219+1)","v":""},"",null,"",null,{"$f":"IF(ISNUMBER('Teom ugm3'!B222),('Teom ugm3'!B222*'Teom grams'!$F220*0.000000028317),\"\")","v":""},{"$f":"IF(ISNUMBER('Teom ugm3'!C222),('Teom ugm3'!C222*'Teom grams'!$F220*0.000000028317),\"\")","v":""},{"$f":"IF(ISNUMBER('Teom ugm3'!D222),('Teom ugm3'!D222*'Teom grams'!$F220*0.000000028317),\"\")","v":""},"","","","",null,"","","",null,"",""]
[null,null,{"$f":"IF('Teom ugm3'!A223=\"\",\"\",C220+1)","v":""},"",null,"",null,{"$f":"IF(ISNUMBER('Teom ugm3'!B223),('Teom ugm3'!B223*'Teom grams'!$F221*0.000000028317),\"\")","v":""},{"$f":"IF(ISNUMBER('Teom ugm3'!C223),('Teom ugm3'!C223*'Teom grams'!$F221*0.000000028317),\"\")","v":""},{"$f":"IF(ISNUMBER('Teom ugm3'!D223),('Teom ugm3'!D223*'Teom grams'!$F221*0.000000028317),\"\")","v":""},"","","","",null,"","","",null,"",""]
[null,null,{"$f":"IF('Teom ugm3'!A224=\"\",\"\",C221+1)","v":""},"",null,"",null,{"$f":"IF(ISNUMBER('Teom ugm3'!B224),('Teom ugm3'!B224*'Teom grams'!$F222*0.000000028317),\"\")","v":""},{"$f":"IF(ISNUMBER('Teom ugm3'!C224),('Teom ugm3'!C224*'Teom grams'!$F222*0.000000028317),\"\")","v":""},{"$f":"IF(ISNUMBER('Teom ugm3'!D224),('Teom ugm3'!D224*'Teom grams'!$F222*0.000000028317),\"\")","v":""},"","","","",null,"","","",null,"",""]
[null,null,{"$f":"IF('Teom ugm3'!A225=\"\",\"\",C222+1)","v":""},"",null,"",null,{"$f":"IF(ISNUMBER('Teom ugm3'!B225),('Teom ugm3'!B225*'Teom grams'!$F223*0.000000028317),\"\")","v":""},{"$f":"IF(ISNUMBER('Teom ugm3'!C225),('Teom ugm3'!C225*'Teom grams'!$F223*0.000000028317),\"\")","v":""},{"$f":"IF(ISNUMBER('Teom ugm3'!D225),('Teom ugm3'!D225*'Teom grams'!$F223*0.000000028317),\"\")","v":""},"","","","",null,"","","",null,"",""]
[null,null,{"$f":"IF('Teom ugm3'!A226=\"\",\"\",C223+1)","v":""},"",null,"",null,{"$f":"IF(ISNUMBER('Teom ugm3'!B226),('Teom ugm3'!B226*'Teom grams'!$F224*0.000000028317),\"\")","v":""},{"$f":"IF(ISNUMBER('Teom ugm3'!C226),('Teom ugm3'!C226*'Teom grams'!$F224*0.000000028317),\"\")","v":""},{"$f":"IF(ISNUMBER('Teom ugm3'!D226),('Teom ugm3'!D226*'Teom grams'!$F224*0.000000028317),\"\")","v":""},"","","","",null,"","","",null,"",""]
[null,null,{"$f":"IF('Teom ugm3'!A227=\"\",\"\",C224+1)","v":""},"",null,"",null,{"$f":"IF(ISNUMBER('Teom ugm3'!B227),('Teom ugm3'!B227*'Teom grams'!$F225*0.000000028317),\"\")","v":""},{"$f":"IF(ISNUMBER('Teom ugm3'!C227),('Teom ugm3'!C227*'Teom grams'!$F225*0.000000028317),\"\")","v":""},{"$f":"IF(ISNUMBER('Teom ugm3'!D227),('Teom ugm3'!D227*'Teom grams'!$F225*0.000000028317),\"\")","v":""},"","","","",null,"","","",null,"",""]
[null,null,{"$f":"IF('Teom ugm3'!A228=\"\",\"\",C225+1)","v":""},"",null,"",null,{"$f":"IF(ISNUMBER('Teom ugm3'!B228),('Teom ugm3'!B228*'Teom grams'!$F226*0.000000028317),\"\")","v":""},{"$f":"IF(ISNUMBER('Teom ugm3'!C228),('Teom ugm3'!C228*'Teom grams'!$F226*0.000000028317),\"\")","v":""},{"$f":"IF(ISNUMBER('Teom ugm3'!D228),('Teom ugm3'!D228*'Teom grams'!$F226*0.000000028317),\"\")","v":""},"","","","",null,"","","",null,"",""]
[null,null,{"$f":"IF('Teom ugm3'!A229=\"\",\"\",C226+1)","v":""},"",null,"",null,{"$f":"IF(ISNUMBER('Teom ugm3'!B229),('Teom ugm3'!B229*'Teom grams'!$F227*0.000000028317),\"\")","v":""},{"$f":"IF(ISNUMBER('Teom ugm3'!C229),('Teom ugm3'!C229*'Teom grams'!$F227*0.000000028317),\"\")","v":""},{"$f":"IF(ISNUMBER('Teom ugm3'!D229),('Teom ugm3'!D229*'Teom grams'!$F227*0.000000028317),\"\")","v":""},"","","","",null,"","","",null,"",""]
[null,null,{"$f":"IF('Teom ugm3'!A230=\"\",\"\",C227+1)","v":""},"",null,"",null,{"$f":"IF(ISNUMBER('Teom ugm3'!B230),('Teom ugm3'!B230*'Teom grams'!$F228*0.000000028317),\"\")","v":""},{"$f":"IF(ISNUMBER('Teom ugm3'!C230),('Teom ugm3'!C230*'Teom grams'!$F228*0.000000028317),\"\")","v":""},{"$f":"IF(ISNUMBER('Teom ugm3'!D230),('Teom ugm3'!D230*'Teom grams'!$F228*0.000000028317),\"\")","v":""},"","","","",null,"","","",null,"",""]
[null,null,{"$f":"IF('Teom ugm3'!A231=\"\",\"\",C228+1)","v":""},"",null,"",null,{"$f":"IF(ISNUMBER('Teom ugm3'!B231),('Teom ugm3'!B231*'Teom grams'!$F229*0.000000028317),\"\")","v":""},{"$f":"IF(ISNUMBER('Teom ugm3'!C231),('Teom ugm3'!C231*'Teom grams'!$F229*0.000000028317),\"\")","v":""},{"$f":"IF(ISNUMBER('Teom ugm3'!D231),('Teom ugm3'!D231*'Teom grams'!$F229*0.000000028317),\"\")","v":""},"","","","",null,"","","",null,"",""]
[null,null,{"$f":"IF('Teom ugm3'!A232=\"\",\"\",C229+1)","v":""},"",null,"",null,{"$f":"IF(ISNUMBER('Teom ugm3'!B232),('Teom ugm3'!B232*'Teom grams'!$F230*0.000000028317),\"\")","v":""},{"$f":"IF(ISNUMBER('Teom ugm3'!C232),('Teom ugm3'!C232*'Teom grams'!$F230*0.000000028317),\"\")","v":""},{"$f":"IF(ISNUMBER('Teom ugm3'!D232),('Teom ugm3'!D232*'Teom grams'!$F230*0.000000028317),\"\")","v":""},"","","","",null,"","","",null,"",""]
[null,null,{"$f":"IF('Teom ugm3'!A233=\"\",\"\",C230+1)","v":""},"",null,"",null,{"$f":"IF(ISNUMBER('Teom ugm3'!B233),('Teom ugm3'!B233*'Teom grams'!$F231*0.000000028317),\"\")","v":""},{"$f":"IF(ISNUMBER('Teom ugm3'!C233),('Teom ugm3'!C233*'Teom grams'!$F231*0.000000028317),\"\")","v":""},{"$f":"IF(ISNUMBER('Teom ugm3'!D233),('Teom ugm3'!D233*'Teom grams'!$F231*0.000000028317),\"\")","v":""},"","","","",null,"","","",null,"",""]
[null,null,{"$f":"IF('Teom ugm3'!A234=\"\",\"\",C231+1)","v":""},"",null,"",null,{"$f":"IF(ISNUMBER('Teom ugm3'!B234),('Teom ugm3'!B234*'Teom grams'!$F232*0.000000028317),\"\")","v":""},{"$f":"IF(ISNUMBER('Teom ugm3'!C234),('Teom ugm3'!C234*'Teom grams'!$F232*0.000000028317),\"\")","v":""},{"$f":"IF(ISNUMBER('Teom ugm3'!D234),('Teom ugm3'!D234*'Teom grams'!$F232*0.000000028317),\"\")","v":""},"","","","",null,"","","",null,"",""]
[null,null,{"$f":"IF('Teom ugm3'!A235=\"\",\"\",C232+1)","v":""},"",null,"",null,{"$f":"IF(ISNUMBER('Teom ugm3'!B235),('Teom ugm3'!B235*'Teom grams'!$F233*0.000000028317),\"\")","v":""},{"$f":"IF(ISNUMBER('Teom ugm3'!C235),('Teom ugm3'!C235*'Teom grams'!$F233*0.000000028317),\"\")","v":""},{"$f":"IF(ISNUMBER('Teom ugm3'!D235),('Teom ugm3'!D235*'Teom grams'!$F233*0.000000028317),\"\")","v":""},"","","","",null,"","","",null,"",""]
[null,null,{"$f":"IF('Teom ugm3'!A236=\"\",\"\",C233+1)","v":""},"",null,"",null,{"$f":"IF(ISNUMBER('Teom ugm3'!B236),('Teom ugm3'!B236*'Teom grams'!$F234*0.000000028317),\"\")","v":""},{"$f":"IF(ISNUMBER('Teom ugm3'!C236),('Teom ugm3'!C236*'Teom grams'!$F234*0.000000028317),\"\")","v":""},{"$f":"IF(ISNUMBER('Teom ugm3'!D236),('Teom ugm3'!D236*'Teom grams'!$F234*0.000000028317),\"\")","v":""},"","","","",null,"","","",null,"",""]
[null,null,{"$f":"IF('Teom ugm3'!A237=\"\",\"\",C234+1)","v":""},"",null,"",null,{"$f":"IF(ISNUMBER('Teom ugm3'!B237),('Teom ugm3'!B237*'Teom grams'!$F235*0.000000028317),\"\")","v":""},{"$f":"IF(ISNUMBER('Teom ugm3'!C237),('Teom ugm3'!C237*'Teom grams'!$F235*0.000000028317),\"\")","v":""},{"$f":"IF(ISNUMBER('Teom ugm3'!D237),('Teom ugm3'!D237*'Teom grams'!$F235*0.000000028317),\"\")","v":""},"","","","",null,"","","",null,"",""]
[null,null,{"$f":"IF('Teom ugm3'!A238=\"\",\"\",C235+1)","v":""},"",null,"",null,{"$f":"IF(ISNUMBER('Teom ugm3'!B238),('Teom ugm3'!B238*'Teom grams'!$F236*0.000000028317),\"\")","v":""},{"$f":"IF(ISNUMBER('Teom ugm3'!C238),('Teom ugm3'!C238*'Teom grams'!$F236*0.000000028317),\"\")","v":""},{"$f":"IF(ISNUMBER('Teom ugm3'!D238),('Teom ugm3'!D238*'Teom grams'!$F236*0.000000028317),\"\")","v":""},"","","","",null,"","","",null,"",""]
[null,null,{"$f":"IF('Teom ugm3'!A239=\"\",\"\",C236+1)","v":""},"",null,"",null,{"$f":"IF(ISNUMBER('Teom ugm3'!B239),('Teom ugm3'!B239*'Teom grams'!$F237*0.000000028317),\"\")","v":""},{"$f":"IF(ISNUMBER('Teom ugm3'!C239),('Teom ugm3'!C239*'Teom grams'!$F237*0.000000028317),\"\")","v":""},{"$f":"IF(ISNUMBER('Teom ugm3'!D239),('Teom ugm3'!D239*'Teom grams'!$F237*0.000000028317),\"\")","v":""},"","","","",null,"","","",null,"",""]
[null,null,{"$f":"IF('Teom ugm3'!A240=\"\",\"\",C237+1)","v":""},"",null,"",null,{"$f":"IF(ISNUMBER('Teom ugm3'!B240),('Teom ugm3'!B240*'Teom grams'!$F238*0.000000028317),\"\")","v":""},{"$f":"IF(ISNUMBER('Teom ugm3'!C240),('Teom ugm3'!C240*'Teom grams'!$F238*0.000000028317),\"\")","v":""},{"$f":"IF(ISNUMBER('Teom ugm3'!D240),('Teom ugm3'!D240*'Teom grams'!$F238*0.000000028317),\"\")","v":""},"","","","",null,"","","",null,"",""]
[null,null,{"$f":"IF('Teom ugm3'!A241=\"\",\"\",C238+1)","v":""},"",null,"",null,{"$f":"IF(ISNUMBER('Teom ugm3'!B241),('Teom ugm3'!B241*'Teom grams'!$F239*0.000000028317),\"\")","v":""},{"$f":"IF(ISNUMBER('Teom ugm3'!C241),('Teom ugm3'!C241*'Teom grams'!$F239*0.000000028317),\"\")","v":""},{"$f":"IF(ISNUMBER('Teom ugm3'!D241),('Teom ugm3'!D241*'Teom grams'!$F239*0.000000028317),\"\")","v":""},"","","","",null,"","","",null,"",""]
[null,null,{"$f":"IF('Teom ugm3'!A242=\"\",\"\",C239+1)","v":""},"",null,"",null,{"$f":"IF(ISNUMBER('Teom ugm3'!B242),('Teom ugm3'!B242*'Teom grams'!$F240*0.000000028317),\"\")","v":""},{"$f":"IF(ISNUMBER('Teom ugm3'!C242),('Teom ugm3'!C242*'Teom grams'!$F240*0.000000028317),\"\")","v":""},{"$f":"IF(ISNUMBER('Teom ugm3'!D242),('Teom ugm3'!D242*'Teom grams'!$F240*0.000000028317),\"\")","v":""},"","","","",null,"","","",null,"",""]
[null,null,{"$f":"IF('Teom ugm3'!A243=\"\",\"\",C240+1)","v":""},"",null,"",null,{"$f":"IF(ISNUMBER('Teom ugm3'!B243),('Teom ugm3'!B243*'Teom grams'!$F241*0.000000028317),\"\")","v":""},{"$f":"IF(ISNUMBER('Teom ugm3'!C243),('Teom ugm3'!C243*'Teom grams'!$F241*0.000000028317),\"\")","v":""},{"$f":"IF(ISNUMBER('Teom ugm3'!D243),('Teom ugm3'!D243*'Teom grams'!$F241*0.000000028317),\"\")","v":""},"","","","",null,"","","",null,"",""]
[null,null,{"$f":"IF('Teom ugm3'!A244=\"\",\"\",C241+1)","v":""},"",null,"",null,{"$f":"IF(ISNUMBER('Teom ugm3'!B244),('Teom ugm3'!B244*'Teom grams'!$F242*0.000000028317),\"\")","v":""},{"$f":"IF(ISNUMBER('Teom ugm3'!C244),('Teom ugm3'!C244*'Teom grams'!$F242*0.000000028317),\"\")","v":""},{"$f":"IF(ISNUMBER('Teom ugm3'!D244),('Teom ugm3'!D244*'Teom grams'!$F242*0.000000028317),\"\")","v":""},"","","","",null,"","","",null,"",""]
[null,null,{"$f":"IF('Teom ugm3'!A245=\"\",\"\",C242+1)","v":""},"",null,"",null,{"$f":"IF(ISNUMBER('Teom ugm3'!B245),('Teom ugm3'!B245*'Teom grams'!$F243*0.000000028317),\"\")","v":""},{"$f":"IF(ISNUMBER('Teom ugm3'!C245),('Teom ugm3'!C245*'Teom grams'!$F243*0.000000028317),\"\")","v":""},{"$f":"IF(ISNUMBER('Teom ugm3'!D245),('Teom ugm3'!D245*'Teom grams'!$F243*0.000000028317),\"\")","v":""},"","","","",null,"","","",null,"",""]
[null,null,{"$f":"IF('Teom ugm3'!A246=\"\",\"\",C243+1)","v":""},"",null,"",null,{"$f":"IF(ISNUMBER('Teom ugm3'!B246),('Teom ugm3'!B246*'Teom grams'!$F244*0.000000028317),\"\")","v":""},{"$f":"IF(ISNUMBER('Teom ugm3'!C246),('Teom ugm3'!C246*'Teom grams'!$F244*0.000000028317),\"\")","v":""},{"$f":"IF(ISNUMBER('Teom ugm3'!D246),('Teom ugm3'!D246*'Teom grams'!$F244*0.000000028317),\"\")","v":""},"","","","",null,"","","",null,"",""]
[null,null,{"$f":"IF('Teom ugm3'!A247=\"\",\"\",C244+1)","v":""},"",null,"",null,{"$f":"IF(ISNUMBER('Teom ugm3'!B247),('Teom ugm3'!B247*'Teom grams'!$F245*0.000000028317),\"\")","v":""},{"$f":"IF(ISNUMBER('Teom ugm3'!C247),('Teom ugm3'!C247*'Teom grams'!$F245*0.000000028317),\"\")","v":""},{"$f":"IF(ISNUMBER('Teom ugm3'!D247),('Teom ugm3'!D247*'Teom grams'!$F245*0.000000028317),\"\")","v":""},"","","","",null,"","","",null,"",""]
[null,null,{"$f":"IF('Teom ugm3'!A248=\"\",\"\",C245+1)","v":""},"",null,"",null,{"$f":"IF(ISNUMBER('Teom ugm3'!B248),('Teom ugm3'!B248*'Teom grams'!$F246*0.000000028317),\"\")","v":""},{"$f":"IF(ISNUMBER('Teom ugm3'!C248),('Teom ugm3'!C248*'Teom grams'!$F246*0.000000028317),\"\")","v":""},{"$f":"IF(ISNUMBER('Teom ugm3'!D248),('Teom ugm3'!D248*'Teom grams'!$F246*0.000000028317),\"\")","v":""},"","","","",null,"","","",null,"",""]
[null,null,{"$f":"IF('Teom ugm3'!A249=\"\",\"\",C246+1)","v":""},"",null,"",null,{"$f":"IF(ISNUMBER('Teom ugm3'!B249),('Teom ugm3'!B249*'Teom grams'!$F247*0.000000028317),\"\")","v":""},{"$f":"IF(ISNUMBER('Teom ugm3'!C249),('Teom ugm3'!C249*'Teom grams'!$F247*0.000000028317),\"\")","v":""},{"$f":"IF(ISNUMBER('Teom ugm3'!D249),('Teom ugm3'!D249*'Teom grams'!$F247*0.000000028317),\"\")","v":""},"","","","",null,"","","",null,"",""]
[null,null,{"$f":"IF('Teom ugm3'!A250=\"\",\"\",C247+1)","v":""},"",null,"",null,{"$f":"IF(ISNUMBER('Teom ugm3'!B250),('Teom ugm3'!B250*'Teom grams'!$F248*0.000000028317),\"\")","v":""},{"$f":"IF(ISNUMBER('Teom ugm3'!C250),('Teom ugm3'!C250*'Teom grams'!$F248*0.000000028317),\"\")","v":""},{"$f":"IF(ISNUMBER('Teom ugm3'!D250),('Teom ugm3'!D250*'Teom grams'!$F248*0.000000028317),\"\")","v":""},"","","","",null,"","","",null,"",""]
[null,null,{"$f":"IF('Teom ugm3'!A251=\"\",\"\",C248+1)","v":""},"",null,"",null,{"$f":"IF(ISNUMBER('Teom ugm3'!B251),('Teom ugm3'!B251*'Teom grams'!$F249*0.000000028317),\"\")","v":""},{"$f":"IF(ISNUMBER('Teom ugm3'!C251),('Teom ugm3'!C251*'Teom grams'!$F249*0.000000028317),\"\")","v":""},{"$f":"IF(ISNUMBER('Teom ugm3'!D251),('Teom ugm3'!D251*'Teom grams'!$F249*0.000000028317),\"\")","v":""},"","","","",null,"","","",null,"",""]
[null,null,{"$f":"IF('Teom ugm3'!A252=\"\",\"\",C249+1)","v":""},"",null,"",null,{"$f":"IF(ISNUMBER('Teom ugm3'!B252),('Teom ugm3'!B252*'Teom grams'!$F250*0.000000028317),\"\")","v":""},{"$f":"IF(ISNUMBER('Teom ugm3'!C252),('Teom ugm3'!C252*'Teom grams'!$F250*0.000000028317),\"\")","v":""},{"$f":"IF(ISNUMBER('Teom ugm3'!D252),('Teom ugm3'!D252*'Teom grams'!$F250*0.000000028317),\"\")","v":""},"","","","",null,"","","",null,"",""]
[null,null,{"$f":"IF('Teom ugm3'!A253=\"\",\"\",C250+1)","v":""},"",null,"",null,{"$f":"IF(ISNUMBER('Teom ugm3'!B253),('Teom ugm3'!B253*'Teom grams'!$F251*0.000000028317),\"\")","v":""},{"$f":"IF(ISNUMBER('Teom ugm3'!C253),('Teom ugm3'!C253*'Teom grams'!$F251*0.000000028317),\"\")","v":""},{"$f":"IF(ISNUMBER('Teom ugm3'!D253),('Teom ugm3'!D253*'Teom grams'!$F251*0.000000028317),\"\")","v":""},"","","","",null,"","","",null,"",""]
[null,null,{"$f":"IF('Teom ugm3'!A254=\"\",\"\",C251+1)","v":""},"",null,"",null,{"$f":"IF(ISNUMBER('Teom ugm3'!B254),('Teom ugm3'!B254*'Teom grams'!$F252*0.000000028317),\"\")","v":""},{"$f":"IF(ISNUMBER('Teom ugm3'!C254),('Teom ugm3'!C254*'Teom grams'!$F252*0.000000028317),\"\")","v":""},{"$f":"IF(ISNUMBER('Teom ugm3'!D254),('Teom ugm3'!D254*'Teom grams'!$F252*0.000000028317),\"\")","v":""},"","","","",null,"","","",null,"",""]
[null,null,{"$f":"IF('Teom ugm3'!A255=\"\",\"\",C252+1)","v":""},"",null,"",null,{"$f":"IF(ISNUMBER('Teom ugm3'!B255),('Teom ugm3'!B255*'Teom grams'!$F253*0.000000028317),\"\")","v":""},{"$f":"IF(ISNUMBER('Teom ugm3'!C255),('Teom ugm3'!C255*'Teom grams'!$F253*0.000000028317),\"\")","v":""},{"$f":"IF(ISNUMBER('Teom ugm3'!D255),('Teom ugm3'!D255*'Teom grams'!$F253*0.000000028317),\"\")","v":""},"","","","",null,"","","",null,"",""]
[null,null,{"$f":"IF('Teom ugm3'!A256=\"\",\"\",C253+1)","v":""},"",null,"",null,{"$f":"IF(ISNUMBER('Teom ugm3'!B256),('Teom ugm3'!B256*'Teom grams'!$F254*0.000000028317),\"\")","v":""},{"$f":"IF(ISNUMBER('Teom ugm3'!C256),('Teom ugm3'!C256*'Teom grams'!$F254*0.000000028317),\"\")","v":""},{"$f":"IF(ISNUMBER('Teom ugm3'!D256),('Teom ugm3'!D256*'Teom grams'!$F254*0.000000028317),\"\")","v":""},"","","","",null,"","","",null,"",""]
[null,null,{"$f":"IF('Teom ugm3'!A257=\"\",\"\",C254+1)","v":""},"",null,"",null,{"$f":"IF(ISNUMBER('Teom ugm3'!B257),('Teom ugm3'!B257*'Teom grams'!$F255*0.000000028317),\"\")","v":""},{"$f":"IF(ISNUMBER('Teom ugm3'!C257),('Teom ugm3'!C257*'Teom grams'!$F255*0.000000028317),\"\")","v":""},{"$f":"IF(ISNUMBER('Teom ugm3'!D257),('Teom ugm3'!D257*'Teom grams'!$F255*0.000000028317),\"\")","v":""},"","","","",null,"","","",null,"",""]
[null,null,{"$f":"IF('Teom ugm3'!A258=\"\",\"\",C255+1)","v":""},"",null,"",null,{"$f":"IF(ISNUMBER('Teom ugm3'!B258),('Teom ugm3'!B258*'Teom grams'!$F256*0.000000028317),\"\")","v":""},{"$f":"IF(ISNUMBER('Teom ugm3'!C258),('Teom ugm3'!C258*'Teom grams'!$F256*0.000000028317),\"\")","v":""},{"$f":"IF(ISNUMBER('Teom ugm3'!D258),('Teom ugm3'!D258*'Teom grams'!$F256*0.000000028317),\"\")","v":""},"","","","",null,"","","",null,"",""]
[null,null,{"$f":"IF('Teom ugm3'!A259=\"\",\"\",C256+1)","v":""},"",null,"",null,{"$f":"IF(ISNUMBER('Teom ugm3'!B259),('Teom ugm3'!B259*'Teom grams'!$F257*0.000000028317),\"\")","v":""},{"$f":"IF(ISNUMBER('Teom ugm3'!C259),('Teom ugm3'!C259*'Teom grams'!$F257*0.000000028317),\"\")","v":""},{"$f":"IF(ISNUMBER('Teom ugm3'!D259),('Teom ugm3'!D259*'Teom grams'!$F257*0.000000028317),\"\")","v":""},"","","","",null,"","","",null,"",""]
[null,null,{"$f":"IF('Teom ugm3'!A260=\"\",\"\",C257+1)","v":""},"",null,"",null,{"$f":"IF(ISNUMBER('Teom ugm3'!B260),('Teom ugm3'!B260*'Teom grams'!$F258*0.000000028317),\"\")","v":""},{"$f":"IF(ISNUMBER('Teom ugm3'!C260),('Teom ugm3'!C260*'Teom grams'!$F258*0.000000028317),\"\")","v":""},{"$f":"IF(ISNUMBER('Teom ugm3'!D260),('Teom ugm3'!D260*'Teom grams'!$F258*0.000000028317),\"\")","v":""},"","","","",null,"","","",null,"",""]
[null,null,{"$f":"IF('Teom ugm3'!A261=\"\",\"\",C258+1)","v":""},"",null,"",null,{"$f":"IF(ISNUMBER('Teom ugm3'!B261),('Teom ugm3'!B261*'Teom grams'!$F259*0.000000028317),\"\")","v":""},{"$f":"IF(ISNUMBER('Teom ugm3'!C261),('Teom ugm3'!C261*'Teom grams'!$F259*0.000000028317),\"\")","v":""},{"$f":"IF(ISNUMBER('Teom ugm3'!D261),('Teom ugm3'!D261*'Teom grams'!$F259*0.000000028317),\"\")","v":""},"","","","",null,"","","",null,"",""]
[null,null,{"$f":"IF('Teom ugm3'!A262=\"\",\"\",C259+1)","v":""},"",null,"",null,{"$f":"IF(ISNUMBER('Teom ugm3'!B262),('Teom ugm3'!B262*'Teom grams'!$F260*0.000000028317),\"\")","v":""},{"$f":"IF(ISNUMBER('Teom ugm3'!C262),('Teom ugm3'!C262*'Teom grams'!$F260*0.000000028317),\"\")","v":""},{"$f":"IF(ISNUMBER('Teom ugm3'!D262),('Teom ugm3'!D262*'Teom grams'!$F260*0.000000028317),\"\")","v":""},"","","",{"$f":"M260","v":""},null,"",{"$f":"IF(ISNUMBER(M260),M260*60,\"\")","v":""},"",null,{"$f":"IF(COUNT(C260:C319)>59,AVERAGE(P260:P319),\"\")","v":""},{"$f":"IF(COUNT(C260:C319)>59,AVERAGE(Q260:Q319),\"\")","v":""}]
[null,null,{"$f":"IF('Teom ugm3'!A263=\"\",\"\",C260+1)","v":""},"",null,{"$f":"IF(C261=\"\",\"\",E261*1.02041)","v":""},null,{"$f":"IF(ISNUMBER('Teom ugm3'!B263),('Teom ugm3'!B263*'Teom grams'!$F261*0.000000028317),\"\")","v":""},{"$f":"IF(ISNUMBER('Teom ugm3'!C263),('Teom ugm3'!C263*'Teom grams'!$F261*0.000000028317),\"\")","v":""},{"$f":"IF(ISNUMBER('Teom ugm3'!D263),('Teom ugm3'!D263*'Teom grams'!$F261*0.000000028317),\"\")","v":""},{"$f":"IF(H261<0,0,H261)","v":""},{"$f":"IF(I261<0,0,I261)","v":""},"","",null,{"$f":"IF(ISNUMBER(J261),J261*60,\"\")","v":""},"",{"$f":"IF(ISNUMBER(N261),N261*60,\"\")","v":""},null,"",""]
[null,null,{"$f":"IF('Teom ugm3'!A264=\"\",\"\",C261+1)","v":""},{"$f":"IF(C262=\"\",\"\",D261 + TIME(0, 1, 0))","v":""},null,"",null,{"$f":"IF(ISNUMBER('Teom ugm3'!B264),('Teom ugm3'!B264*'Teom grams'!$F262*0.000000028317),\"\")","v":""},{"$f":"IF(ISNUMBER('Teom ugm3'!C264),('Teom ugm3'!C264*'Teom grams'!$F262*0.000000028317),\"\")","v":""},{"$f":"IF(ISNUMBER('Teom ugm3'!D264),('Teom ugm3'!D264*'Teom grams'!$F262*0.000000028317),\"\")","v":""},"","","","",null,"","","",null,"",""]
[null,null,{"$f":"IF('Teom ugm3'!A265=\"\",\"\",C262+1)","v":""},"",null,"",null,{"$f":"IF(ISNUMBER('Teom ugm3'!B265),('Teom ugm3'!B265*'Teom grams'!$F263*0.000000028317),\"\")","v":""},{"$f":"IF(ISNUMBER('Teom ugm3'!C265),('Teom ugm3'!C265*'Teom grams'!$F263*0.000000028317),\"\")","v":""},{"$f":"IF(ISNUMBER('Teom ugm3'!D265),('Teom ugm3'!D265*'Teom grams'!$F263*0.000000028317),\"\")","v":""},"","","","",null,"","","",null,"",""]
[null,null,{"$f":"IF('Teom ugm3'!A266=\"\",\"\",C263+1)","v":""},"",null,"",null,{"$f":"IF(ISNUMBER('Teom ugm3'!B266),('Teom ugm3'!B266*'Teom grams'!$F264*0.000000028317),\"\")","v":""},{"$f":"IF(ISNUMBER('Teom ugm3'!C266),('Teom ugm3'!C266*'Teom grams'!$F264*0.000000028317),\"\")","v":""},{"$f":"IF(ISNUMBER('Teom ugm3'!D266),('Teom ugm3'!D266*'Teom grams'!$F264*0.000000028317),\"\")","v":""},"","","","",null,"","","",null,"",""]
[null,null,{"$f":"IF('Teom ugm3'!A267=\"\",\"\",C264+1)","v":""},"",null,"",null,{"$f":"IF(ISNUMBER('Teom ugm3'!B267),('Teom ugm3'!B267*'Teom grams'!$F265*0.000000028317),\"\")","v":""},{"$f":"IF(ISNUMBER('Teom ugm3'!C267),('Teom ugm3'!C267*'Teom grams'!$F265*0.000000028317),\"\")","v":""},{"$f":"IF(ISNUMBER('Teom ugm3'!D267),('Teom ugm3'!D267*'Teom grams'!$F265*0.000000028317),\"\")","v":""},"","","","",null,"","","",null,"",""]
[null,null,{"$f":"IF('Teom ugm3'!A268=\"\",\"\",C265+1)","v":""},"",null,"",null,{"$f":"IF(ISNUMBER('Teom ugm3'!B268),('Teom ugm3'!B268*'Teom grams'!$F266*0.000000028317),\"\")","v":""},{"$f":"IF(ISNUMBER('Teom ugm3'!C268),('Teom ugm3'!C268*'Teom grams'!$F266*0.000000028317),\"\")","v":""},{"$f":"IF(ISNUMBER('Teom ugm3'!D268),('Teom ugm3'!D268*'Teom grams'!$F266*0.000000028317),\"\")","v":""},"","","","",null,"","","",null,"",""]
[null,null,{"$f":"IF('Teom ugm3'!A269=\"\",\"\",C266+1)","v":""},"",null,"",null,{"$f":"IF(ISNUMBER('Teom ugm3'!B269),('Teom ugm3'!B269*'Teom grams'!$F267*0.000000028317),\"\")","v":""},{"$f":"IF(ISNUMBER('Teom ugm3'!C269),('Teom ugm3'!C269*'Teom grams'!$F267*0.000000028317),\"\")","v":""},{"$f":"IF(ISNUMBER('Teom ugm3'!D269),('Teom ugm3'!D269*'Teom grams'!$F267*0.000000028317),\"\")","v":""},"","",{"$f":"IF(COUNT(K267:L267)>0,AVERAGE(K267:L267),\"\")","v":""},"",null,"","","",null,"",""]
[null,null,{"$f":"IF('Teom ugm3'!A270=\"\",\"\",C267+1)","v":""},"",null,"",null,{"$f":"IF(ISNUMBER('Teom ugm3'!B270),('Teom ugm3'!B270*'Teom grams'!$F268*0.000000028317),\"\")","v":""},{"$f":"IF(ISNUMBER('Teom ugm3'!C270),('Teom ugm3'!C270*'Teom grams'!$F268*0.000000028317),\"\")","v":""},{"$f":"IF(ISNUMBER('Teom ugm3'!D270),('Teom ugm3'!D270*'Teom grams'!$F268*0.000000028317),\"\")","v":""},"","","","",null,"","","",null,"",""]
[null,null,{"$f":"IF('Teom ugm3'!A271=\"\",\"\",C268+1)","v":""},"",null,"",null,{"$f":"IF(ISNUMBER('Teom ugm3'!B271),('Teom ugm3'!B271*'Teom grams'!$F269*0.000000028317),\"\")","v":""},{"$f":"IF(ISNUMBER('Teom ugm3'!C271),('Teom ugm3'!C271*'Teom grams'!$F269*0.000000028317),\"\")","v":""},{"$f":"IF(ISNUMBER('Teom ugm3'!D271),('Teom ugm3'!D271*'Teom grams'!$F269*0.000000028317),\"\")","v":""},"","","","",null,"","","",null,"",""]
[null,null,{"$f":"IF('Teom ugm3'!A272=\"\",\"\",C269+1)","v":""},"",null,"",null,{"$f":"IF(ISNUMBER('Teom ugm3'!B272),('Teom ugm3'!B272*'Teom grams'!$F270*0.000000028317),\"\")","v":""},{"$f":"IF(ISNUMBER('Teom ugm3'!C272),('Teom ugm3'!C272*'Teom grams'!$F270*0.000000028317),\"\")","v":""},{"$f":"IF(ISNUMBER('Teom ugm3'!D272),('Teom ugm3'!D272*'Teom grams'!$F270*0.000000028317),\"\")","v":""},"","","","",null,"","","",null,"",""]
[null,null,{"$f":"IF('Teom ugm3'!A273=\"\",\"\",C270+1)","v":""},"",null,"",null,{"$f":"IF(ISNUMBER('Teom ugm3'!B273),('Teom ugm3'!B273*'Teom grams'!$F271*0.000000028317),\"\")","v":""},{"$f":"IF(ISNUMBER('Teom ugm3'!C273),('Teom ugm3'!C273*'Teom grams'!$F271*0.000000028317),\"\")","v":""},{"$f":"IF(ISNUMBER('Teom ugm3'!D273),('Teom ugm3'!D273*'Teom grams'!$F271*0.000000028317),\"\")","v":""},"","","","",null,"","","",null,"",""]
[null,null,{"$f":"IF('Teom ugm3'!A274=\"\",\"\",C271+1)","v":""},"",null,"",null,{"$f":"IF(ISNUMBER('Teom ugm3'!B274),('Teom ugm3'!B274*'Teom grams'!$F272*0.000000028317),\"\")","v":""},{"$f":"IF(ISNUMBER('Teom ugm3'!C274),('Teom ugm3'!C274*'Teom grams'!$F272*0.000000028317),\"\")","v":""},{"$f":"IF(ISNUMBER('Teom ugm3'!D274),('Teom ugm3'!D274*'Teom grams'!$F272*0.000000028317),\"\")","v":""},"","","","",null,"","","",null,"",""]
[null,null,{"$f":"IF('Teom ugm3'!A275=\"\",\"\",C272+1)","v":""},"",null,"",null,{"$f":"IF(ISNUMBER('Teom ugm3'!B275),('Teom ugm3'!B275*'Teom grams'!$F273*0.000000028317),\"\")","v":""},{"$f":"IF(ISNUMBER('Teom ugm3'!C275),('Teom ugm3'!C275*'Teom grams'!$F273*0.000000028317),\"\")","v":""},{"$f":"IF(ISNUMBER('Teom ugm3'!D275),('Teom ugm3'!D275*'Teom grams'!$F273*0.000000028317),\"\")","v":""},"","","","",null,"","","",null,"",""]
[null,null,{"$f":"IF('Teom ugm3'!A276=\"\",\"\",C273+1)","v":""},"",null,"",null,{"$f":"IF(ISNUMBER('Teom ugm3'!B276),('Teom ugm3'!B276*'Teom grams'!$F274*0.000000028317),\"\")","v":""},{"$f":"IF(ISNUMBER('Teom ugm3'!C276),('Teom ugm3'!C276*'Teom grams'!$F274*0.000000028317),\"\")","v":""},{"$f":"IF(ISNUMBER('Teom ugm3'!D276),('Teom ugm3'!D276*'Teom grams'!$F274*0.000000028317),\"\")","v":""},"","","","",null,"","","",null,"",""]
[null,null,{"$f":"IF('Teom ugm3'!A277=\"\",\"\",C274+1)","v":""},"",null,"",null,{"$f":"IF(ISNUMBER('Teom ugm3'!B277),('Teom ugm3'!B277*'Teom grams'!$F275*0.000000028317),\"\")","v":""},{"$f":"IF(ISNUMBER('Teom ugm3'!C277),('Teom ugm3'!C277*'Teom grams'!$F275*0.000000028317),\"\")","v":""},{"$f":"IF(ISNUMBER('Teom ugm3'!D277),('Teom ugm3'!D277*'Teom grams'!$F275*0.000000028317),\"\")","v":""},"","","","",null,"","","",null,"",""]
[null,null,{"$f":"IF('Teom ugm3'!A278=\"\",\"\",C275+1)","v":""},"",null,"",null,{"$f":"IF(ISNUMBER('Teom ugm3'!B278),('Teom ugm3'!B278*'Teom grams'!$F276*0.000000028317),\"\")","v":""},{"$f":"IF(ISNUMBER('Teom ugm3'!C278),('Teom ugm3'!C278*'Teom grams'!$F276*0.000000028317),\"\")","v":""},{"$f":"IF(ISNUMBER('Teom ugm3'!D278),('Teom ugm3'!D278*'Teom grams'!$F276*0.000000028317),\"\")","v":""},"","","","",null,"","","",null,"",""]
[null,null,{"$f":"IF('Teom ugm3'!A279=\"\",\"\",C276+1)","v":""},"",null,"",null,{"$f":"IF(ISNUMBER('Teom ugm3'!B279),('Teom ugm3'!B279*'Teom grams'!$F277*0.000000028317),\"\")","v":""},{"$f":"IF(ISNUMBER('Teom ugm3'!C279),('Teom ugm3'!C279*'Teom grams'!$F277*0.000000028317),\"\")","v":""},{"$f":"IF(ISNUMBER('Teom ugm3'!D279),('Teom ugm3'!D279*'Teom grams'!$F277*0.000000028317),\"\")","v":""},"","","","",null,"","","",null,"",""]
[null,null,{"$f":"IF('Teom ugm3'!A280=\"\",\"\",C277+1)","v":""},"",null,"",null,{"$f":"IF(ISNUMBER('Teom ugm3'!B280),('Teom ugm3'!B280*'Teom grams'!$F278*0.000000028317),\"\")","v":""},{"$f":"IF(ISNUMBER('Teom ugm3'!C280),('Teom ugm3'!C280*'Teom grams'!$F278*0.000000028317),\"\")","v":""},{"$f":"IF(ISNUMBER('Teom ugm3'!D280),('Teom ugm3'!D280*'Teom grams'!$F278*0.000000028317),\"\")","v":""},"","","","",null,"","","",null,"",""]
[null,null,{"$f":"IF('Teom ugm3'!A281=\"\",\"\",C278+1)","v":""},"",null,"",null,{"$f":"IF(ISNUMBER('Teom ugm3'!B281),('Teom ugm3'!B281*'Teom grams'!$F279*0.000000028317),\"\")","v":""},{"$f":"IF(ISNUMBER('Teom ugm3'!C281),('Teom ugm3'!C281*'Teom grams'!$F279*0.000000028317),\"\")","v":""},{"$f":"IF(ISNUMBER('Teom ugm3'!D281),('Teom ugm3'!D281*'Teom grams'!$F279*0.000000028317),\"\")","v":""},"","","","",null,"","","",null,"",""]
[null,null,{"$f":"IF('Teom ugm3'!A282=\"\",\"\",C279+1)","v":""},"",null,"",null,{"$f":"IF(ISNUMBER('Teom ugm3'!B282),('Teom ugm3'!B282*'Teom grams'!$F280*0.000000028317),\"\")","v":""},{"$f":"IF(ISNUMBER('Teom ugm3'!C282),('Teom ugm3'!C282*'Teom grams'!$F280*0.000000028317),\"\")","v":""},{"$f":"IF(ISNUMBER('Teom ugm3'!D282),('Teom ugm3'!D282*'Teom grams'!$F280*0.000000028317),\"\")","v":""},"","","","",null,"","","",null,"",""]
[null,null,{"$f":"IF('Teom ugm3'!A283=\"\",\"\",C280+1)","v":""},"",null,"",null,{"$f":"IF(ISNUMBER('Teom ugm3'!B283),('Teom ugm3'!B283*'Teom grams'!$F281*0.000000028317),\"\")","v":""},{"$f":"IF(ISNUMBER('Teom ugm3'!C283),('Teom ugm3'!C283*'Teom grams'!$F281*0.000000028317),\"\")","v":""},{"$f":"IF(ISNUMBER('Teom ugm3'!D283),('Teom ugm3'!D283*'Teom grams'!$F281*0.000000028317),\"\")","v":""},"","","","",null,"","","",null,"",""]
[null,null,{"$f":"IF('Teom ugm3'!A284=\"\",\"\",C281+1)","v":""},"",null,"",null,{"$f":"IF(ISNUMBER('Teom ugm3'!B284),('Teom ugm3'!B284*'Teom grams'!$F282*0.000000028317),\"\")","v":""},{"$f":"IF(ISNUMBER('Teom ugm3'!C284),('Teom ugm3'!C284*'Teom grams'!$F282*0.000000028317),\"\")","v":""},{"$f":"IF(ISNUMBER('Teom ugm3'!D284),('Teom ugm3'!D284*'Teom grams'!$F282*0.000000028317),\"\")","v":""},"","","","",null,"","","",null,"",""]
[null,null,{"$f":"IF('Teom ugm3'!A285=\"\",\"\",C282+1)","v":""},"",null,"",null,{"$f":"IF(ISNUMBER('Teom ugm3'!B285),('Teom ugm3'!B285*'Teom grams'!$F283*0.000000028317),\"\")","v":""},{"$f":"IF(ISNUMBER('Teom ugm3'!C285),('Teom ugm3'!C285*'Teom grams'!$F283*0.000000028317),\"\")","v":""},{"$f":"IF(ISNUMBER('Teom ugm3'!D285),('Teom ugm3'!D285*'Teom grams'!$F283*0.000000028317),\"\")","v":""},"","","","",null,"","","",null,"",""]
[null,null,{"$f":"IF('Teom ugm3'!A286=\"\",\"\",C283+1)","v":""},"",null,"",null,{"$f":"IF(ISNUMBER('Teom ugm3'!B286),('Teom ugm3'!B286*'Teom grams'!$F284*0.000000028317),\"\")","v":""},{"$f":"IF(ISNUMBER('Teom ugm3'!C286),('Teom ugm3'!C286*'Teom grams'!$F284*0.000000028317),\"\")","v":""},{"$f":"IF(ISNUMBER('Teom ugm3'!D286),('Teom ugm3'!D286*'Teom grams'!$F284*0.000000028317),\"\")","v":""},"","","","",null,"","","",null,"",""]
[null,null,{"$f":"IF('Teom ugm3'!A287=\"\",\"\",C284+1)","v":""},"",null,"",null,{"$f":"IF(ISNUMBER('Teom ugm3'!B287),('Teom ugm3'!B287*'Teom grams'!$F285*0.000000028317),\"\")","v":""},{"$f":"IF(ISNUMBER('Teom ugm3'!C287),('Teom ugm3'!C287*'Teom grams'!$F285*0.000000028317),\"\")","v":""},{"$f":"IF(ISNUMBER('Teom ugm3'!D287),('Teom ugm3'!D287*'Teom grams'!$F285*0.000000028317),\"\")","v":""},"","","","",null,"","","",null,"",""]
[null,null,{"$f":"IF('Teom ugm3'!A288=\"\",\"\",C285+1)","v":""},"",null,"",null,{"$f":"IF(ISNUMBER('Teom ugm3'!B288),('Teom ugm3'!B288*'Teom grams'!$F286*0.000000028317),\"\")","v":""},{"$f":"IF(ISNUMBER('Teom ugm3'!C288),('Teom ugm3'!C288*'Teom grams'!$F286*0.000000028317),\"\")","v":""},{"$f":"IF(ISNUMBER('Teom ugm3'!D288),('Teom ugm3'!D288*'Teom grams'!$F286*0.000000028317),\"\")","v":""},"","","","",null,"","","",null,"",""]
[null,null,{"$f":"IF('Teom ugm3'!A289=\"\",\"\",C286+1)","v":""},"",null,"",null,{"$f":"IF(ISNUMBER('Teom ugm3'!B289),('Teom ugm3'!B289*'Teom grams'!$F287*0.000000028317),\"\")","v":""},{"$f":"IF(ISNUMBER('Teom ugm3'!C289),('Teom ugm3'!C289*'Teom grams'!$F287*0.000000028317),\"\")","v":""},{"$f":"IF(ISNUMBER('Teom ugm3'!D289),('Teom ugm3'!D289*'Teom grams'!$F287*0.000000028317),\"\")","v":""},"","","","",null,"","","",null,"",""]
[null,null,{"$f":"IF('Teom ugm3'!A290=\"\",\"\",C287+1)","v":""},"",null,"",null,{"$f":"IF(ISNUMBER('Teom ugm3'!B290),('Teom ugm3'!B290*'Teom grams'!$F288*0.000000028317),\"\")","v":""},{"$f":"IF(ISNUMBER('Teom ugm3'!C290),('Teom ugm3'!C290*'Teom grams'!$F288*0.000000028317),\"\")","v":""},{"$f":"IF(ISNUMBER('Teom ugm3'!D290),('Teom ugm3'!D290*'Teom grams'!$F288*0.000000028317),\"\")","v":""},"","","","",null,"","","",null,"",""]
[null,null,{"$f":"IF('Teom ugm3'!A291=\"\",\"\",C288+1)","v":""},"",null,"",null,{"$f":"IF(ISNUMBER('Teom ugm3'!B291),('Teom ugm3'!B291*'Teom grams'!$F289*0.000000028317),\"\")","v":""},{"$f":"IF(ISNUMBER('Teom ugm3'!C291),('Teom ugm3'!C291*'Teom grams'!$F289*0.000000028317),\"\")","v":""},{"$f":"IF(ISNUMBER('Teom ugm3'!D291),('Teom ugm3'!D291*'Teom grams'!$F289*0.000000028317),\"\")","v":""},"","","","",null,"","","",null,"",""]
[null,null,{"$f":"IF('Teom ugm3'!A292=\"\",\"\",C289+1)","v":""},"",null,"",null,{"$f":"IF(ISNUMBER('Teom ugm3'!B292),('Teom ugm3'!B292*'Teom grams'!$F290*0.000000028317),\"\")","v":""},{"$f":"IF(ISNUMBER('Teom ugm3'!C292),('Teom ugm3'!C292*'Teom grams'!$F290*0.000000028317),\"\")","v":""},{"$f":"IF(ISNUMBER('Teom ugm3'!D292),('Teom ugm3'!D292*'Teom grams'!$F290*0.000000028317),\"\")","v":""},"","","","",null,"","","",null,"",""]
[null,null,{"$f":"IF('Teom ugm3'!A293=\"\",\"\",C290+1)","v":""},"",null,"",null,{"$f":"IF(ISNUMBER('Teom ugm3'!B293),('Teom ugm3'!B293*'Teom grams'!$F291*0.000000028317),\"\")","v":""},{"$f":"IF(ISNUMBER('Teom ugm3'!C293),('Teom ugm3'!C293*'Teom grams'!$F291*0.000000028317),\"\")","v":""},{"$f":"IF(ISNUMBER('Teom ugm3'!D293),('Teom ugm3'!D293*'Teom grams'!$F291*0.000000028317),\"\")","v":""},"","","","",null,"","","",null,"",""]
[null,null,{"$f":"IF('Teom ugm3'!A294=\"\",\"\",C291+1)","v":""},"",null,"",null,{"$f":"IF(ISNUMBER('Teom ugm3'!B294),('Teom ugm3'!B294*'Teom grams'!$F292*0.000000028317),\"\")","v":""},{"$f":"IF(ISNUMBER('Teom ugm3'!C294),('Teom ugm3'!C294*'Teom grams'!$F292*0.000000028317),\"\")","v":""},{"$f":"IF(ISNUMBER('Teom ugm3'!D294),('Teom ugm3'!D294*'Teom grams'!$F292*0.000000028317),\"\")","v":""},"","","","",null,"","","",null,"",""]
[null,null,{"$f":"IF('Teom ugm3'!A295=\"\",\"\",C292+1)","v":""},"",null,"",null,{"$f":"IF(ISNUMBER('Teom ugm3'!B295),('Teom ugm3'!B295*'Teom grams'!$F293*0.000000028317),\"\")","v":""},{"$f":"IF(ISNUMBER('Teom ugm3'!C295),('Teom ugm3'!C295*'Teom grams'!$F293*0.000000028317),\"\")","v":""},{"$f":"IF(ISNUMBER('Teom ugm3'!D295),('Teom ugm3'!D295*'Teom grams'!$F293*0.000000028317),\"\")","v":""},"","","","",null,"","","",null,"",""]
[null,null,{"$f":"IF('Teom ugm3'!A296=\"\",\"\",C293+1)","v":""},"",null,"",null,{"$f":"IF(ISNUMBER('Teom ugm3'!B296),('Teom ugm3'!B296*'Teom grams'!$F294*0.000000028317),\"\")","v":""},{"$f":"IF(ISNUMBER('Teom ugm3'!C296),('Teom ugm3'!C296*'Teom grams'!$F294*0.000000028317),\"\")","v":""},{"$f":"IF(ISNUMBER('Teom ugm3'!D296),('Teom ugm3'!D296*'Teom grams'!$F294*0.000000028317),\"\")","v":""},"","","","",null,"","","",null,"",""]
[null,null,{"$f":"IF('Teom ugm3'!A297=\"\",\"\",C294+1)","v":""},"",null,"",null,{"$f":"IF(ISNUMBER('Teom ugm3'!B297),('Teom ugm3'!B297*'Teom grams'!$F295*0.000000028317),\"\")","v":""},{"$f":"IF(ISNUMBER('Teom ugm3'!C297),('Teom ugm3'!C297*'Teom grams'!$F295*0.000000028317),\"\")","v":""},{"$f":"IF(ISNUMBER('Teom ugm3'!D297),('Teom ugm3'!D297*'Teom grams'!$F295*0.000000028317),\"\")","v":""},"","","","",null,"","","",null,"",""]
[null,null,{"$f":"IF('Teom ugm3'!A298=\"\",\"\",C295+1)","v":""},"",null,"",null,{"$f":"IF(ISNUMBER('Teom ugm3'!B298),('Teom ugm3'!B298*'Teom grams'!$F296*0.000000028317),\"\")","v":""},{"$f":"IF(ISNUMBER('Teom ugm3'!C298),('Teom ugm3'!C298*'Teom grams'!$F296*0.000000028317),\"\")","v":""},{"$f":"IF(ISNUMBER('Teom ugm3'!D298),('Teom ugm3'!D298*'Teom grams'!$F296*0.000000028317),\"\")","v":""},"","","","",null,"","","",null,"",""]
[null,null,{"$f":"IF('Teom ugm3'!A299=\"\",\"\",C296+1)","v":""},"",null,"",null,{"$f":"IF(ISNUMBER('Teom ugm3'!B299),('Teom ugm3'!B299*'Teom grams'!$F297*0.000000028317),\"\")","v":""},{"$f":"IF(ISNUMBER('Teom ugm3'!C299),('Teom ugm3'!C299*'Teom grams'!$F297*0.000000028317),\"\")","v":""},{"$f":"IF(ISNUMBER('Teom ugm3'!D299),('Teom ugm3'!D299*'Teom grams'!$F297*0.000000028317),\"\")","v":""},"","","","",null,"","","",null,"",""]
[null,null,{"$f":"IF('Teom ugm3'!A300=\"\",\"\",C297+1)","v":""},"",null,"",null,{"$f":"IF(ISNUMBER('Teom ugm3'!B300),('Teom ugm3'!B300*'Teom grams'!$F298*0.000000028317),\"\")","v":""},{"$f":"IF(ISNUMBER('Teom ugm3'!C300),('Teom ugm3'!C300*'Teom grams'!$F298*0.000000028317),\"\")","v":""},{"$f":"IF(ISNUMBER('Teom ugm3'!D300),('Teom ugm3'!D300*'Teom grams'!$F298*0.000000028317),\"\")","v":""},"","","","",null,"","","",null,"",""]
[null,null,{"$f":"IF('Teom ugm3'!A301=\"\",\"\",C298+1)","v":""},"",null,"",null,{"$f":"IF(ISNUMBER('Teom ugm3'!B301),('Teom ugm3'!B301*'Teom grams'!$F299*0.000000028317),\"\")","v":""},{"$f":"IF(ISNUMBER('Teom ugm3'!C301),('Teom ugm3'!C301*'Teom grams'!$F299*0.000000028317),\"\")","v":""},{"$f":"IF(ISNUMBER('Teom ugm3'!D301),('Teom ugm3'!D301*'Teom grams'!$F299*0.000000028317),\"\")","v":""},"","","","",null,"","","",null,"",""]
[null,null,{"$f":"IF('Teom ugm3'!A302=\"\",\"\",C299+1)","v":""},"",null,"",null,{"$f":"IF(ISNUMBER('Teom ugm3'!B302),('Teom ugm3'!B302*'Teom grams'!$F300*0.000000028317),\"\")","v":""},{"$f":"IF(ISNUMBER('Teom ugm3'!C302),('Teom ugm3'!C302*'Teom grams'!$F300*0.000000028317),\"\")","v":""},{"$f":"IF(ISNUMBER('Teom ugm3'!D302),('Teom ugm3'!D302*'Teom grams'!$F300*0.000000028317),\"\")","v":""},"","","","",null,"","","",null,"",""]
[null,null,{"$f":"IF('Teom ugm3'!A303=\"\",\"\",C300+1)","v":""},"",null,"",null,{"$f":"IF(ISNUMBER('Teom ugm3'!B303),('Teom ugm3'!B303*'Teom grams'!$F301*0.000000028317),\"\")","v":""},{"$f":"IF(ISNUMBER('Teom ugm3'!C303),('Teom ugm3'!C303*'Teom grams'!$F301*0.000000028317),\"\")","v":""},{"$f":"IF(ISNUMBER('Teom ugm3'!D303),('Teom ugm3'!D303*'Teom grams'!$F301*0.000000028317),\"\")","v":""},"","","","",null,"","","",null,"",""]
[null,null,{"$f":"IF('Teom ugm3'!A304=\"\",\"\",C301+1)","v":""},"",null,"",null,{"$f":"IF(ISNUMBER('Teom ugm3'!B304),('Teom ugm3'!B304*'Teom grams'!$F302*0.000000028317),\"\")","v":""},{"$f":"IF(ISNUMBER('Teom ugm3'!C304),('Teom ugm3'!C304*'Teom grams'!$F302*0.000000028317),\"\")","v":""},{"$f":"IF(ISNUMBER('Teom ugm3'!D304),('Teom ugm3'!D304*'Teom grams'!$F302*0.000000028317),\"\")","v":""},"","","","",null,"","","",null,"",""]
[null,null,{"$f":"IF('Teom ugm3'!A305=\"\",\"\",C302+1)","v":""},"",null,"",null,{"$f":"IF(ISNUMBER('Teom ugm3'!B305),('Teom ugm3'!B305*'Teom grams'!$F303*0.000000028317),\"\")","v":""},{"$f":"IF(ISNUMBER('Teom ugm3'!C305),('Teom ugm3'!C305*'Teom grams'!$F303*0.000000028317),\"\")","v":""},{"$f":"IF(ISNUMBER('Teom ugm3'!D305),('Teom ugm3'!D305*'Teom grams'!$F303*0.000000028317),\"\")","v":""},"","","","",null,"","","",null,"",""]
[null,null,{"$f":"IF('Teom ugm3'!A306=\"\",\"\",C303+1)","v":""},"",null,"",null,{"$f":"IF(ISNUMBER('Teom ugm3'!B306),('Teom ugm3'!B306*'Teom grams'!$F304*0.000000028317),\"\")","v":""},{"$f":"IF(ISNUMBER('Teom ugm3'!C306),('Teom ugm3'!C306*'Teom grams'!$F304*0.000000028317),\"\")","v":""},{"$f":"IF(ISNUMBER('Teom ugm3'!D306),('Teom ugm3'!D306*'Teom grams'!$F304*0.000000028317),\"\")","v":""},"","","","",null,"","","",null,"",""]
[null,null,{"$f":"IF('Teom ugm3'!A307=\"\",\"\",C304+1)","v":""},"",null,"",null,{"$f":"IF(ISNUMBER('Teom ugm3'!B307),('Teom ugm3'!B307*'Teom grams'!$F305*0.000000028317),\"\")","v":""},{"$f":"IF(ISNUMBER('Teom ugm3'!C307),('Teom ugm3'!C307*'Teom grams'!$F305*0.000000028317),\"\")","v":""},{"$f":"IF(ISNUMBER('Teom ugm3'!D307),('Teom ugm3'!D307*'Teom grams'!$F305*0.000000028317),\"\")","v":""},"","","","",null,"","","",null,"",""]
[null,null,{"$f":"IF('Teom ugm3'!A308=\"\",\"\",C305+1)","v":""},"",null,"",null,{"$f":"IF(ISNUMBER('Teom ugm3'!B308),('Teom ugm3'!B308*'Teom grams'!$F306*0.000000028317),\"\")","v":""},{"$f":"IF(ISNUMBER('Teom ugm3'!C308),('Teom ugm3'!C308*'Teom grams'!$F306*0.000000028317),\"\")","v":""},{"$f":"IF(ISNUMBER('Teom ugm3'!D308),('Teom ugm3'!D308*'Teom grams'!$F306*0.000000028317),\"\")","v":""},"","","","",null,"","","",null,"",""]
[null,null,{"$f":"IF('Teom ugm3'!A309=\"\",\"\",C306+1)","v":""},"",null,"",null,{"$f":"IF(ISNUMBER('Teom ugm3'!B309),('Teom ugm3'!B309*'Teom grams'!$F307*0.000000028317),\"\")","v":""},{"$f":"IF(ISNUMBER('Teom ugm3'!C309),('Teom ugm3'!C309*'Teom grams'!$F307*0.000000028317),\"\")","v":""},{"$f":"IF(ISNUMBER('Teom ugm3'!D309),('Teom ugm3'!D309*'Teom grams'!$F307*0.000000028317),\"\")","v":""},"","","","",null,"","","",null,"",""]
[null,null,{"$f":"IF('Teom ugm3'!A310=\"\",\"\",C307+1)","v":""},"",null,"",null,{"$f":"IF(ISNUMBER('Teom ugm3'!B310),('Teom ugm3'!B310*'Teom grams'!$F308*0.000000028317),\"\")","v":""},{"$f":"IF(ISNUMBER('Teom ugm3'!C310),('Teom ugm3'!C310*'Teom grams'!$F308*0.000000028317),\"\")","v":""},{"$f":"IF(ISNUMBER('Teom ugm3'!D310),('Teom ugm3'!D310*'Teom grams'!$F308*0.000000028317),\"\")","v":""},"","","","",null,"","","",null,"",""]
[null,null,{"$f":"IF('Teom ugm3'!A311=\"\",\"\",C308+1)","v":""},"",null,"",null,{"$f":"IF(ISNUMBER('Teom ugm3'!B311),('Teom ugm3'!B311*'Teom grams'!$F309*0.000000028317),\"\")","v":""},{"$f":"IF(ISNUMBER('Teom ugm3'!C311),('Teom ugm3'!C311*'Teom grams'!$F309*0.000000028317),\"\")","v":""},{"$f":"IF(ISNUMBER('Teom ugm3'!D311),('Teom ugm3'!D311*'Teom grams'!$F309*0.000000028317),\"\")","v":""},"","","","",null,"","","",null,"",""]
[null,null,{"$f":"IF('Teom ugm3'!A312=\"\",\"\",C309+1)","v":""},"",null,"",null,{"$f":"IF(ISNUMBER('Teom ugm3'!B312),('Teom ugm3'!B312*'Teom grams'!$F310*0.000000028317),\"\")","v":""},{"$f":"IF(ISNUMBER('Teom ugm3'!C312),('Teom ugm3'!C312*'Teom grams'!$F310*0.000000028317),\"\")","v":""},{"$f":"IF(ISNUMBER('Teom ugm3'!D312),('Teom ugm3'!D312*'Teom grams'!$F310*0.000000028317),\"\")","v":""},"","","","",null,"","","",null,"",""]
[null,null,{"$f":"IF('Teom ugm3'!A313=\"\",\"\",C310+1)","v":""},"",null,"",null,{"$f":"IF(ISNUMBER('Teom ugm3'!B313),('Teom ugm3'!B313*'Teom grams'!$F311*0.000000028317),\"\")","v":""},{"$f":"IF(ISNUMBER('Teom ugm3'!C313),('Teom ugm3'!C313*'Teom grams'!$F311*0.000000028317),\"\")","v":""},{"$f":"IF(ISNUMBER('Teom ugm3'!D313),('Teom ugm3'!D313*'Teom grams'!$F311*0.000000028317),\"\")","v":""},"","","","",null,"","","",null,"",""]
[null,null,{"$f":"IF('Teom ugm3'!A314=\"\",\"\",C311+1)","v":""},"",null,"",null,{"$f":"IF(ISNUMBER('Teom ugm3'!B314),('Teom ugm3'!B314*'Teom grams'!$F312*0.000000028317),\"\")","v":""},{"$f":"IF(ISNUMBER('Teom ugm3'!C314),('Teom ugm3'!C314*'Teom grams'!$F312*0.000000028317),\"\")","v":""},{"$f":"IF(ISNUMBER('Teom ugm3'!D314),('Teom ugm3'!D314*'Teom grams'!$F312*0.000000028317),\"\")","v":""},"","","","",null,"","","",null,"",""]
[null,null,{"$f":"IF('Teom ugm3'!A315=\"\",\"\",C312+1)","v":""},"",null,"",null,{"$f":"IF(ISNUMBER('Teom ugm3'!B315),('Teom ugm3'!B315*'Teom grams'!$F313*0.000000028317),\"\")","v":""},{"$f":"IF(ISNUMBER('Teom ugm3'!C315),('Teom ugm3'!C315*'Teom grams'!$F313*0.000000028317),\"\")","v":""},{"$f":"IF(ISNUMBER('Teom ugm3'!D315),('Teom ugm3'!D315*'Teom grams'!$F313*0.000000028317),\"\")","v":""},"","","","",null,"","","",null,"",""]
[null,null,{"$f":"IF('Teom ugm3'!A316=\"\",\"\",C313+1)","v":""},"",null,"",null,{"$f":"IF(ISNUMBER('Teom ugm3'!B316),('Teom ugm3'!B316*'Teom grams'!$F314*0.000000028317),\"\")","v":""},{"$f":"IF(ISNUMBER('Teom ugm3'!C316),('Teom ugm3'!C316*'Teom grams'!$F314*0.000000028317),\"\")","v":""},{"$f":"IF(ISNUMBER('Teom ugm3'!D316),('Teom ugm3'!D316*'Teom grams'!$F314*0.000000028317),\"\")","v":""},"","","","",null,"","","",null,"",""]
[null,null,{"$f":"IF('Teom ugm3'!A317=\"\",\"\",C314+1)","v":""},"",null,"",null,{"$f":"IF(ISNUMBER('Teom ugm3'!B317),('Teom ugm3'!B317*'Teom grams'!$F315*0.000000028317),\"\")","v":""},{"$f":"IF(ISNUMBER('Teom ugm3'!C317),('Teom ugm3'!C317*'Teom grams'!$F315*0.000000028317),\"\")","v":""},{"$f":"IF(ISNUMBER('Teom ugm3'!D317),('Teom ugm3'!D317*'Teom grams'!$F315*0.000000028317),\"\")","v":""},"","","","",null,"","","",null,"",""]
[null,null,{"$f":"IF('Teom ugm3'!A318=\"\",\"\",C315+1)","v":""},"",null,"",null,{"$f":"IF(ISNUMBER('Teom ugm3'!B318),('Teom ugm3'!B318*'Teom grams'!$F316*0.000000028317),\"\")","v":""},{"$f":"IF(ISNUMBER('Teom ugm3'!C318),('Teom ugm3'!C318*'Teom grams'!$F316*0.000000028317),\"\")","v":""},{"$f":"IF(ISNUMBER('Teom ugm3'!D318),('Teom ugm3'!D318*'Teom grams'!$F316*0.000000028317),\"\")","v":""},"","","","",null,"","","",null,"",""]
[null,null,{"$f":"IF('Teom ugm3'!A319=\"\",\"\",C316+1)","v":""},"",null,"",null,{"$f":"IF(ISNUMBER('Teom ugm3'!B319),('Teom ugm3'!B319*'Teom grams'!$F317*0.000000028317),\"\")","v":""},{"$f":"IF(ISNUMBER('Teom ugm3'!C319),('Teom ugm3'!C319*'Teom grams'!$F317*0.000000028317),\"\")","v":""},{"$f":"IF(ISNUMBER('Teom ugm3'!D319),('Teom ugm3'!D319*'Teom grams'!$F317*0.000000028317),\"\")","v":""},"","","","",null,"","","",null,"",""]
[null,null,{"$f":"IF('Teom ugm3'!A320=\"\",\"\",C317+1)","v":""},"",null,"",null,{"$f":"IF(ISNUMBER('Teom ugm3'!B320),('Teom ugm3'!B320*'Teom grams'!$F318*0.000000028317),\"\")","v":""},{"$f":"IF(ISNUMBER('Teom ugm3'!C320),('Teom ugm3'!C320*'Teom grams'!$F318*0.000000028317),\"\")","v":""},{"$f":"IF(ISNUMBER('Teom ugm3'!D320),('Teom ugm3'!D320*'Teom grams'!$F318*0.000000028317),\"\")","v":""},"","","","",null,"","","",null,"",""]
[null,null,{"$f":"IF('Teom ugm3'!A321=\"\",\"\",C318+1)","v":""},"",null,"",null,{"$f":"IF(ISNUMBER('Teom ugm3'!B321),('Teom ugm3'!B321*'Teom grams'!$F319*0.000000028317),\"\")","v":""},{"$f":"IF(ISNUMBER('Teom ugm3'!C321),('Teom ugm3'!C321*'Teom grams'!$F319*0.000000028317),\"\")","v":""},{"$f":"IF(ISNUMBER('Teom ugm3'!D321),('Teom ugm3'!D321*'Teom grams'!$F319*0.000000028317),\"\")","v":""},"","","","",null,"","","",null,"",""]
[null,null,{"$f":"IF('Teom ugm3'!A322=\"\",\"\",C319+1)","v":""},"",null,"",null,{"$f":"IF(ISNUMBER('Teom ugm3'!B322),('Teom ugm3'!B322*'Teom grams'!$F320*0.000000028317),\"\")","v":""},{"$f":"IF(ISNUMBER('Teom ugm3'!C322),('Teom ugm3'!C322*'Teom grams'!$F320*0.000000028317),\"\")","v":""},{"$f":"IF(ISNUMBER('Teom ugm3'!D322),('Teom ugm3'!D322*'Teom grams'!$F320*0.000000028317),\"\")","v":""},"","","","",null,"","","",null,"",""]
[null,null,{"$f":"IF('Teom ugm3'!A323=\"\",\"\",C320+1)","v":""},"",null,"",null,{"$f":"IF(ISNUMBER('Teom ugm3'!B323),('Teom ugm3'!B323*'Teom grams'!$F321*0.000000028317),\"\")","v":""},{"$f":"IF(ISNUMBER('Teom ugm3'!C323),('Teom ugm3'!C323*'Teom grams'!$F321*0.000000028317),\"\")","v":""},{"$f":"IF(ISNUMBER('Teom ugm3'!D323),('Teom ugm3'!D323*'Teom grams'!$F321*0.000000028317),\"\")","v":""},"","","","",null,"","","",null,"",""]
[null,null,{"$f":"IF('Teom ugm3'!A324=\"\",\"\",C321+1)","v":""},"",null,"",null,{"$f":"IF(ISNUMBER('Teom ugm3'!B324),('Teom ugm3'!B324*'Teom grams'!$F322*0.000000028317),\"\")","v":""},{"$f":"IF(ISNUMBER('Teom ugm3'!C324),('Teom ugm3'!C324*'Teom grams'!$F322*0.000000028317),\"\")","v":""},{"$f":"IF(ISNUMBER('Teom ugm3'!D324),('Teom ugm3'!D324*'Teom grams'!$F322*0.000000028317),\"\")","v":""},"","","","",null,"","","",null,"",""]
[null,null,{"$f":"IF('Teom ugm3'!A325=\"\",\"\",C322+1)","v":""},"",null,"",null,{"$f":"IF(ISNUMBER('Teom ugm3'!B325),('Teom ugm3'!B325*'Teom grams'!$F323*0.000000028317),\"\")","v":""},{"$f":"IF(ISNUMBER('Teom ugm3'!C325),('Teom ugm3'!C325*'Teom grams'!$F323*0.000000028317),\"\")","v":""},{"$f":"IF(ISNUMBER('Teom ugm3'!D325),('Teom ugm3'!D325*'Teom grams'!$F323*0.000000028317),\"\")","v":""},"","","","",null,"","","",null,"",""]
[null,null,{"$f":"IF('Teom ugm3'!A326=\"\",\"\",C323+1)","v":""},"",null,"",null,{"$f":"IF(ISNUMBER('Teom ugm3'!B326),('Teom ugm3'!B326*'Teom grams'!$F324*0.000000028317),\"\")","v":""},{"$f":"IF(ISNUMBER('Teom ugm3'!C326),('Teom ugm3'!C326*'Teom grams'!$F324*0.000000028317),\"\")","v":""},{"$f":"IF(ISNUMBER('Teom ugm3'!D326),('Teom ugm3'!D326*'Teom grams'!$F324*0.000000028317),\"\")","v":""},"","","",{"$f":"M324","v":""},null,"",{"$f":"IF(ISNUMBER(M324),M324*60,\"\")","v":""},"",null,{"$f":"IF(COUNT(C324:C383)>59,AVERAGE(P324:P383),\"\")","v":""},{"$f":"IF(COUNT(C324:C383)>59,AVERAGE(Q324:Q383),\"\")","v":""}]
[null,null,{"$f":"IF('Teom ugm3'!A327=\"\",\"\",C324+1)","v":""},"",null,{"$f":"IF(C325=\"\",\"\",E325*1.02041)","v":""},null,{"$f":"IF(ISNUMBER('Teom ugm3'!B327),('Teom ugm3'!B327*'Teom grams'!$F325*0.000000028317),\"\")","v":""},{"$f":"IF(ISNUMBER('Teom ugm3'!C327),('Teom ugm3'!C327*'Teom grams'!$F325*0.000000028317),\"\")","v":""},{"$f":"IF(ISNUMBER('Teom ugm3'!D327),('Teom ugm3'!D327*'Teom grams'!$F325*0.000000028317),\"\")","v":""},{"$f":"IF(H325<0,0,H325)","v":""},{"$f":"IF(I325<0,0,I325)","v":""},"","",null,{"$f":"IF(ISNUMBER(J325),J325*60,\"\")","v":""},"",{"$f":"IF(ISNUMBER(N325),N325*60,\"\")","v":""},null,"",""]
[null,null,{"$f":"IF('Teom ugm3'!A328=\"\",\"\",C325+1)","v":""},{"$f":"IF(C326=\"\",\"\",D325 + TIME(0, 1, 0))","v":""},null,"",null,{"$f":"IF(ISNUMBER('Teom ugm3'!B328),('Teom ugm3'!B328*'Teom grams'!$F326*0.000000028317),\"\")","v":""},{"$f":"IF(ISNUMBER('Teom ugm3'!C328),('Teom ugm3'!C328*'Teom grams'!$F326*0.000000028317),\"\")","v":""},{"$f":"IF(ISNUMBER('Teom ugm3'!D328),('Teom ugm3'!D328*'Teom grams'!$F326*0.000000028317),\"\")","v":""},"","","","",null,"","","",null,"",""]
[null,null,{"$f":"IF('Teom ugm3'!A329=\"\",\"\",C326+1)","v":""},"",null,"",null,{"$f":"IF(ISNUMBER('Teom ugm3'!B329),('Teom ugm3'!B329*'Teom grams'!$F327*0.000000028317),\"\")","v":""},{"$f":"IF(ISNUMBER('Teom ugm3'!C329),('Teom ugm3'!C329*'Teom grams'!$F327*0.000000028317),\"\")","v":""},{"$f":"IF(ISNUMBER('Teom ugm3'!D329),('Teom ugm3'!D329*'Teom grams'!$F327*0.000000028317),\"\")","v":""},"","","","",null,"","","",null,"",""]
[null,null,{"$f":"IF('Teom ugm3'!A330=\"\",\"\",C327+1)","v":""},"",null,"",null,{"$f":"IF(ISNUMBER('Teom ugm3'!B330),('Teom ugm3'!B330*'Teom grams'!$F328*0.000000028317),\"\")","v":""},{"$f":"IF(ISNUMBER('Teom ugm3'!C330),('Teom ugm3'!C330*'Teom grams'!$F328*0.000000028317),\"\")","v":""},{"$f":"IF(ISNUMBER('Teom ugm3'!D330),('Teom ugm3'!D330*'Teom grams'!$F328*0.000000028317),\"\")","v":""},"","","","",null,"","","",null,"",""]
[null,null,{"$f":"IF('Teom ugm3'!A331=\"\",\"\",C328+1)","v":""},"",null,"",null,{"$f":"IF(ISNUMBER('Teom ugm3'!B331),('Teom ugm3'!B331*'Teom grams'!$F329*0.000000028317),\"\")","v":""},{"$f":"IF(ISNUMBER('Teom ugm3'!C331),('Teom ugm3'!C331*'Teom grams'!$F329*0.000000028317),\"\")","v":""},{"$f":"IF(ISNUMBER('Teom ugm3'!D331),('Teom ugm3'!D331*'Teom grams'!$F329*0.000000028317),\"\")","v":""},"","","","",null,"","","",null,"",""]
[null,null,{"$f":"IF('Teom ugm3'!A332=\"\",\"\",C329+1)","v":""},"",null,"",null,{"$f":"IF(ISNUMBER('Teom ugm3'!B332),('Teom ugm3'!B332*'Teom grams'!$F330*0.000000028317),\"\")","v":""},{"$f":"IF(ISNUMBER('Teom ugm3'!C332),('Teom ugm3'!C332*'Teom grams'!$F330*0.000000028317),\"\")","v":""},{"$f":"IF(ISNUMBER('Teom ugm3'!D332),('Teom ugm3'!D332*'Teom grams'!$F330*0.000000028317),\"\")","v":""},"","","","",null,"","","",null,"",""]
[null,null,{"$f":"IF('Teom ugm3'!A333=\"\",\"\",C330+1)","v":""},"",null,"",null,{"$f":"IF(ISNUMBER('Teom ugm3'!B333),('Teom ugm3'!B333*'Teom grams'!$F331*0.000000028317),\"\")","v":""},{"$f":"IF(ISNUMBER('Teom ugm3'!C333),('Teom ugm3'!C333*'Teom grams'!$F331*0.000000028317),\"\")","v":""},{"$f":"IF(ISNUMBER('Teom ugm3'!D333),('Teom ugm3'!D333*'Teom grams'!$F331*0.000000028317),\"\")","v":""},"","",{"$f":"IF(COUNT(K331:L331)>0,AVERAGE(K331:L331),\"\")","v":""},"",null,"","","",null,"",""]
[null,null,{"$f":"IF('Teom ugm3'!A334=\"\",\"\",C331+1)","v":""},"",null,"",null,{"$f":"IF(ISNUMBER('Teom ugm3'!B334),('Teom ugm3'!B334*'Teom grams'!$F332*0.000000028317),\"\")","v":""},{"$f":"IF(ISNUMBER('Teom ugm3'!C334),('Teom ugm3'!C334*'Teom grams'!$F332*0.000000028317),\"\")","v":""},{"$f":"IF(ISNUMBER('Teom ugm3'!D334),('Teom ugm3'!D334*'Teom grams'!$F332*0.000000028317),\"\")","v":""},"","","","",null,"","","",null,"",""]
[null,null,{"$f":"IF('Teom ugm3'!A335=\"\",\"\",C332+1)","v":""},"",null,"",null,{"$f":"IF(ISNUMBER('Teom ugm3'!B335),('Teom ugm3'!B335*'Teom grams'!$F333*0.000000028317),\"\")","v":""},{"$f":"IF(ISNUMBER('Teom ugm3'!C335),('Teom ugm3'!C335*'Teom grams'!$F333*0.000000028317),\"\")","v":""},{"$f":"IF(ISNUMBER('Teom ugm3'!D335),('Teom ugm3'!D335*'Teom grams'!$F333*0.000000028317),\"\")","v":""},"","","","",null,"","","",null,"",""]
[null,null,{"$f":"IF('Teom ugm3'!A336=\"\",\"\",C333+1)","v":""},"",null,"",null,{"$f":"IF(ISNUMBER('Teom ugm3'!B336),('Teom ugm3'!B336*'Teom grams'!$F334*0.000000028317),\"\")","v":""},{"$f":"IF(ISNUMBER('Teom ugm3'!C336),('Teom ugm3'!C336*'Teom grams'!$F334*0.000000028317),\"\")","v":""},{"$f":"IF(ISNUMBER('Teom ugm3'!D336),('Teom ugm3'!D336*'Teom grams'!$F334*0.000000028317),\"\")","v":""},"","","","",null,"","","",null,"",""]
[null,null,{"$f":"IF('Teom ugm3'!A337=\"\",\"\",C334+1)","v":""},"",null,"",null,{"$f":"IF(ISNUMBER('Teom ugm3'!B337),('Teom ugm3'!B337*'Teom grams'!$F335*0.000000028317),\"\")","v":""},{"$f":"IF(ISNUMBER('Teom ugm3'!C337),('Teom ugm3'!C337*'Teom grams'!$F335*0.000000028317),\"\")","v":""},{"$f":"IF(ISNUMBER('Teom ugm3'!D337),('Teom ugm3'!D337*'Teom grams'!$F335*0.000000028317),\"\")","v":""},"","","","",null,"","","",null,"",""]
[null,null,{"$f":"IF('Teom ugm3'!A338=\"\",\"\",C335+1)","v":""},"",null,"",null,{"$f":"IF(ISNUMBER('Teom ugm3'!B338),('Teom ugm3'!B338*'Teom grams'!$F336*0.000000028317),\"\")","v":""},{"$f":"IF(ISNUMBER('Teom ugm3'!C338),('Teom ugm3'!C338*'Teom grams'!$F336*0.000000028317),\"\")","v":""},{"$f":"IF(ISNUMBER('Teom ugm3'!D338),('Teom ugm3'!D338*'Teom grams'!$F336*0.000000028317),\"\")","v":""},"","","","",null,"","","",null,"",""]
[null,null,{"$f":"IF('Teom ugm3'!A339=\"\",\"\",C336+1)","v":""},"",null,"",null,{"$f":"IF(ISNUMBER('Teom ugm3'!B339),('Teom ugm3'!B339*'Teom grams'!$F337*0.000000028317),\"\")","v":""},{"$f":"IF(ISNUMBER('Teom ugm3'!C339),('Teom ugm3'!C339*'Teom grams'!$F337*0.000000028317),\"\")","v":""},{"$f":"IF(ISNUMBER('Teom ugm3'!D339),('Teom ugm3'!D339*'Teom grams'!$F337*0.000000028317),\"\")","v":""},"","","","",null,"","","",null,"",""]
[null,null,{"$f":"IF('Teom ugm3'!A340=\"\",\"\",C337+1)","v":""},"",null,"",null,{"$f":"IF(ISNUMBER('Teom ugm3'!B340),('Teom ugm3'!B340*'Teom grams'!$F338*0.000000028317),\"\")","v":""},{"$f":"IF(ISNUMBER('Teom ugm3'!C340),('Teom ugm3'!C340*'Teom grams'!$F338*0.000000028317),\"\")","v":""},{"$f":"IF(ISNUMBER('Teom ugm3'!D340),('Teom ugm3'!D340*'Teom grams'!$F338*0.000000028317),\"\")","v":""},"","","","",null,"","","",null,"",""]
[null,null,{"$f":"IF('Teom ugm3'!A341=\"\",\"\",C338+1)","v":""},"",null,"",null,{"$f":"IF(ISNUMBER('Teom ugm3'!B341),('Teom ugm3'!B341*'Teom grams'!$F339*0.000000028317),\"\")","v":""},{"$f":"IF(ISNUMBER('Teom ugm3'!C341),('Teom ugm3'!C341*'Teom grams'!$F339*0.000000028317),\"\")","v":""},{"$f":"IF(ISNUMBER('Teom ugm3'!D341),('Teom ugm3'!D341*'Teom grams'!$F339*0.000000028317),\"\")","v":""},"","","","",null,"","","",null,"",""]
[null,null,{"$f":"IF('Teom ugm3'!A342=\"\",\"\",C339+1)","v":""},"",null,"",null,{"$f":"IF(ISNUMBER('Teom ugm3'!B342),('Teom ugm3'!B342*'Teom grams'!$F340*0.000000028317),\"\")","v":""},{"$f":"IF(ISNUMBER('Teom ugm3'!C342),('Teom ugm3'!C342*'Teom grams'!$F340*0.000000028317),\"\")","v":""},{"$f":"IF(ISNUMBER('Teom ugm3'!D342),('Teom ugm3'!D342*'Teom grams'!$F340*0.000000028317),\"\")","v":""},"","","","",null,"","","",null,"",""]
[null,null,{"$f":"IF('Teom ugm3'!A343=\"\",\"\",C340+1)","v":""},"",null,"",null,{"$f":"IF(ISNUMBER('Teom ugm3'!B343),('Teom ugm3'!B343*'Teom grams'!$F341*0.000000028317),\"\")","v":""},{"$f":"IF(ISNUMBER('Teom ugm3'!C343),('Teom ugm3'!C343*'Teom grams'!$F341*0.000000028317),\"\")","v":""},{"$f":"IF(ISNUMBER('Teom ugm3'!D343),('Teom ugm3'!D343*'Teom grams'!$F341*0.000000028317),\"\")","v":""},"","","","",null,"","","",null,"",""]
[null,null,{"$f":"IF('Teom ugm3'!A344=\"\",\"\",C341+1)","v":""},"",null,"",null,{"$f":"IF(ISNUMBER('Teom ugm3'!B344),('Teom ugm3'!B344*'Teom grams'!$F342*0.000000028317),\"\")","v":""},{"$f":"IF(ISNUMBER('Teom ugm3'!C344),('Teom ugm3'!C344*'Teom grams'!$F342*0.000000028317),\"\")","v":""},{"$f":"IF(ISNUMBER('Teom ugm3'!D344),('Teom ugm3'!D344*'Teom grams'!$F342*0.000000028317),\"\")","v":""},"","","","",null,"","","",null,"",""]
[null,null,{"$f":"IF('Teom ugm3'!A345=\"\",\"\",C342+1)","v":""},"",null,"",null,{"$f":"IF(ISNUMBER('Teom ugm3'!B345),('Teom ugm3'!B345*'Teom grams'!$F343*0.000000028317),\"\")","v":""},{"$f":"IF(ISNUMBER('Teom ugm3'!C345),('Teom ugm3'!C345*'Teom grams'!$F343*0.000000028317),\"\")","v":""},{"$f":"IF(ISNUMBER('Teom ugm3'!D345),('Teom ugm3'!D345*'Teom grams'!$F343*0.000000028317),\"\")","v":""},"","","","",null,"","","",null,"",""]
[null,null,{"$f":"IF('Teom ugm3'!A346=\"\",\"\",C343+1)","v":""},"",null,"",null,{"$f":"IF(ISNUMBER('Teom ugm3'!B346),('Teom ugm3'!B346*'Teom grams'!$F344*0.000000028317),\"\")","v":""},{"$f":"IF(ISNUMBER('Teom ugm3'!C346),('Teom ugm3'!C346*'Teom grams'!$F344*0.000000028317),\"\")","v":""},{"$f":"IF(ISNUMBER('Teom ugm3'!D346),('Teom ugm3'!D346*'Teom grams'!$F344*0.000000028317),\"\")","v":""},"","","","",null,"","","",null,"",""]
[null,null,{"$f":"IF('Teom ugm3'!A347=\"\",\"\",C344+1)","v":""},"",null,"",null,{"$f":"IF(ISNUMBER('Teom ugm3'!B347),('Teom ugm3'!B347*'Teom grams'!$F345*0.000000028317),\"\")","v":""},{"$f":"IF(ISNUMBER('Teom ugm3'!C347),('Teom ugm3'!C347*'Teom grams'!$F345*0.000000028317),\"\")","v":""},{"$f":"IF(ISNUMBER('Teom ugm3'!D347),('Teom ugm3'!D347*'Teom grams'!$F345*0.000000028317),\"\")","v":""},"","","","",null,"","","",null,"",""]
[null,null,{"$f":"IF('Teom ugm3'!A348=\"\",\"\",C345+1)","v":""},"",null,"",null,{"$f":"IF(ISNUMBER('Teom ugm3'!B348),('Teom ugm3'!B348*'Teom grams'!$F346*0.000000028317),\"\")","v":""},{"$f":"IF(ISNUMBER('Teom ugm3'!C348),('Teom ugm3'!C348*'Teom grams'!$F346*0.000000028317),\"\")","v":""},{"$f":"IF(ISNUMBER('Teom ugm3'!D348),('Teom ugm3'!D348*'Teom grams'!$F346*0.000000028317),\"\")","v":""},"","","","",null,"","","",null,"",""]
[null,null,{"$f":"IF('Teom ugm3'!A349=\"\",\"\",C346+1)","v":""},"",null,"",null,{"$f":"IF(ISNUMBER('Teom ugm3'!B349),('Teom ugm3'!B349*'Teom grams'!$F347*0.000000028317),\"\")","v":""},{"$f":"IF(ISNUMBER('Teom ugm3'!C349),('Teom ugm3'!C349*'Teom grams'!$F347*0.000000028317),\"\")","v":""},{"$f":"IF(ISNUMBER('Teom ugm3'!D349),('Teom ugm3'!D349*'Teom grams'!$F347*0.000000028317),\"\")","v":""},"","","","",null,"","","",null,"",""]
[null,null,{"$f":"IF('Teom ugm3'!A350=\"\",\"\",C347+1)","v":""},"",null,"",null,{"$f":"IF(ISNUMBER('Teom ugm3'!B350),('Teom ugm3'!B350*'Teom grams'!$F348*0.000000028317),\"\")","v":""},{"$f":"IF(ISNUMBER('Teom ugm3'!C350),('Teom ugm3'!C350*'Teom grams'!$F348*0.000000028317),\"\")","v":""},{"$f":"IF(ISNUMBER('Teom ugm3'!D350),('Teom ugm3'!D350*'Teom grams'!$F348*0.000000028317),\"\")","v":""},"","","","",null,"","","",null,"",""]
[null,null,{"$f":"IF('Teom ugm3'!A351=\"\",\"\",C348+1)","v":""},"",null,"",null,{"$f":"IF(ISNUMBER('Teom ugm3'!B351),('Teom ugm3'!B351*'Teom grams'!$F349*0.000000028317),\"\")","v":""},{"$f":"IF(ISNUMBER('Teom ugm3'!C351),('Teom ugm3'!C351*'Teom grams'!$F349*0.000000028317),\"\")","v":""},{"$f":"IF(ISNUMBER('Teom ugm3'!D351),('Teom ugm3'!D351*'Teom grams'!$F349*0.000000028317),\"\")","v":""},"","","","",null,"","","",null,"",""]
[null,null,{"$f":"IF('Teom ugm3'!A352=\"\",\"\",C349+1)","v":""},"",null,"",null,{"$f":"IF(ISNUMBER('Teom ugm3'!B352),('Teom ugm3'!B352*'Teom grams'!$F350*0.000000028317),\"\")","v":""},{"$f":"IF(ISNUMBER('Teom ugm3'!C352),('Teom ugm3'!C352*'Teom grams'!$F350*0.000000028317),\"\")","v":""},{"$f":"IF(ISNUMBER('Teom ugm3'!D352),('Teom ugm3'!D352*'Teom grams'!$F350*0.000000028317),\"\")","v":""},"","","","",null,"","","",null,"",""]
[null,null,{"$f":"IF('Teom ugm3'!A353=\"\",\"\",C350+1)","v":""},"",null,"",null,{"$f":"IF(ISNUMBER('Teom ugm3'!B353),('Teom ugm3'!B353*'Teom grams'!$F351*0.000000028317),\"\")","v":""},{"$f":"IF(ISNUMBER('Teom ugm3'!C353),('Teom ugm3'!C353*'Teom grams'!$F351*0.000000028317),\"\")","v":""},{"$f":"IF(ISNUMBER('Teom ugm3'!D353),('Teom ugm3'!D353*'Teom grams'!$F351*0.000000028317),\"\")","v":""},"","","","",null,"","","",null,"",""]
[null,null,{"$f":"IF('Teom ugm3'!A354=\"\",\"\",C351+1)","v":""},"",null,"",null,{"$f":"IF(ISNUMBER('Teom ugm3'!B354),('Teom ugm3'!B354*'Teom grams'!$F352*0.000000028317),\"\")","v":""},{"$f":"IF(ISNUMBER('Teom ugm3'!C354),('Teom ugm3'!C354*'Teom grams'!$F352*0.000000028317),\"\")","v":""},{"$f":"IF(ISNUMBER('Teom ugm3'!D354),('Teom ugm3'!D354*'Teom grams'!$F352*0.000000028317),\"\")","v":""},"","","","",null,"","","",null,"",""]
[null,null,{"$f":"IF('Teom ugm3'!A355=\"\",\"\",C352+1)","v":""},"",null,"",null,{"$f":"IF(ISNUMBER('Teom ugm3'!B355),('Teom ugm3'!B355*'Teom grams'!$F353*0.000000028317),\"\")","v":""},{"$f":"IF(ISNUMBER('Teom ugm3'!C355),('Teom ugm3'!C355*'Teom grams'!$F353*0.000000028317),\"\")","v":""},{"$f":"IF(ISNUMBER('Teom ugm3'!D355),('Teom ugm3'!D355*'Teom grams'!$F353*0.000000028317),\"\")","v":""},"","","","",null,"","","",null,"",""]
[null,null,{"$f":"IF('Teom ugm3'!A356=\"\",\"\",C353+1)","v":""},"",null,"",null,{"$f":"IF(ISNUMBER('Teom ugm3'!B356),('Teom ugm3'!B356*'Teom grams'!$F354*0.000000028317),\"\")","v":""},{"$f":"IF(ISNUMBER('Teom ugm3'!C356),('Teom ugm3'!C356*'Teom grams'!$F354*0.000000028317),\"\")","v":""},{"$f":"IF(ISNUMBER('Teom ugm3'!D356),('Teom ugm3'!D356*'Teom grams'!$F354*0.000000028317),\"\")","v":""},"","","","",null,"","","",null,"",""]
[null,null,{"$f":"IF('Teom ugm3'!A357=\"\",\"\",C354+1)","v":""},"",null,"",null,{"$f":"IF(ISNUMBER('Teom ugm3'!B357),('Teom ugm3'!B357*'Teom grams'!$F355*0.000000028317),\"\")","v":""},{"$f":"IF(ISNUMBER('Teom ugm3'!C357),('Teom ugm3'!C357*'Teom grams'!$F355*0.000000028317),\"\")","v":""},{"$f":"IF(ISNUMBER('Teom ugm3'!D357),('Teom ugm3'!D357*'Teom grams'!$F355*0.000000028317),\"\")","v":""},"","","","",null,"","","",null,"",""]
[null,null,{"$f":"IF('Teom ugm3'!A358=\"\",\"\",C355+1)","v":""},"",null,"",null,{"$f":"IF(ISNUMBER('Teom ugm3'!B358),('Teom ugm3'!B358*'Teom grams'!$F356*0.000000028317),\"\")","v":""},{"$f":"IF(ISNUMBER('Teom ugm3'!C358),('Teom ugm3'!C358*'Teom grams'!$F356*0.000000028317),\"\")","v":""},{"$f":"IF(ISNUMBER('Teom ugm3'!D358),('Teom ugm3'!D358*'Teom grams'!$F356*0.000000028317),\"\")","v":""},"","","","",null,"","","",null,"",""]
[null,null,{"$f":"IF('Teom ugm3'!A359=\"\",\"\",C356+1)","v":""},"",null,"",null,{"$f":"IF(ISNUMBER('Teom ugm3'!B359),('Teom ugm3'!B359*'Teom grams'!$F357*0.000000028317),\"\")","v":""},{"$f":"IF(ISNUMBER('Teom ugm3'!C359),('Teom ugm3'!C359*'Teom grams'!$F357*0.000000028317),\"\")","v":""},{"$f":"IF(ISNUMBER('Teom ugm3'!D359),('Teom ugm3'!D359*'Teom grams'!$F357*0.000000028317),\"\")","v":""},"","","","",null,"","","",null,"",""]
[null,null,{"$f":"IF('Teom ugm3'!A360=\"\",\"\",C357+1)","v":""},"",null,"",null,{"$f":"IF(ISNUMBER('Teom ugm3'!B360),('Teom ugm3'!B360*'Teom grams'!$F358*0.000000028317),\"\")","v":""},{"$f":"IF(ISNUMBER('Teom ugm3'!C360),('Teom ugm3'!C360*'Teom grams'!$F358*0.000000028317),\"\")","v":""},{"$f":"IF(ISNUMBER('Teom ugm3'!D360),('Teom ugm3'!D360*'Teom grams'!$F358*0.000000028317),\"\")","v":""},"","","","",null,"","","",null,"",""]
[null,null,{"$f":"IF('Teom ugm3'!A361=\"\",\"\",C358+1)","v":""},"",null,"",null,{"$f":"IF(ISNUMBER('Teom ugm3'!B361),('Teom ugm3'!B361*'Teom grams'!$F359*0.000000028317),\"\")","v":""},{"$f":"IF(ISNUMBER('Teom ugm3'!C361),('Teom ugm3'!C361*'Teom grams'!$F359*0.000000028317),\"\")","v":""},{"$f":"IF(ISNUMBER('Teom ugm3'!D361),('Teom ugm3'!D361*'Teom grams'!$F359*0.000000028317),\"\")","v":""},"","","","",null,"","","",null,"",""]
[null,null,{"$f":"IF('Teom ugm3'!A362=\"\",\"\",C359+1)","v":""},"",null,"",null,{"$f":"IF(ISNUMBER('Teom ugm3'!B362),('Teom ugm3'!B362*'Teom grams'!$F360*0.000000028317),\"\")","v":""},{"$f":"IF(ISNUMBER('Teom ugm3'!C362),('Teom ugm3'!C362*'Teom grams'!$F360*0.000000028317),\"\")","v":""},{"$f":"IF(ISNUMBER('Teom ugm3'!D362),('Teom ugm3'!D362*'Teom grams'!$F360*0.000000028317),\"\")","v":""},"","","","",null,"","","",null,"",""]
[null,null,{"$f":"IF('Teom ugm3'!A363=\"\",\"\",C360+1)","v":""},"",null,"",null,{"$f":"IF(ISNUMBER('Teom ugm3'!B363),('Teom ugm3'!B363*'Teom grams'!$F361*0.000000028317),\"\")","v":""},{"$f":"IF(ISNUMBER('Teom ugm3'!C363),('Teom ugm3'!C363*'Teom grams'!$F361*0.000000028317),\"\")","v":""},{"$f":"IF(ISNUMBER('Teom ugm3'!D363),('Teom ugm3'!D363*'Teom grams'!$F361*0.000000028317),\"\")","v":""},"","","","",null,"","","",null,"",""]
[null,null,{"$f":"IF('Teom ugm3'!A364=\"\",\"\",C361+1)","v":""},"",null,"",null,{"$f":"IF(ISNUMBER('Teom ugm3'!B364),('Teom ugm3'!B364*'Teom grams'!$F362*0.000000028317),\"\")","v":""},{"$f":"IF(ISNUMBER('Teom ugm3'!C364),('Teom ugm3'!C364*'Teom grams'!$F362*0.000000028317),\"\")","v":""},{"$f":"IF(ISNUMBER('Teom ugm3'!D364),('Teom ugm3'!D364*'Teom grams'!$F362*0.000000028317),\"\")","v":""},"","","","",null,"","","",null,"",""]
[null,null,{"$f":"IF('Teom ugm3'!A365=\"\",\"\",C362+1)","v":""},"",null,"",null,{"$f":"IF(ISNUMBER('Teom ugm3'!B365),('Teom ugm3'!B365*'Teom grams'!$F363*0.000000028317),\"\")","v":""},{"$f":"IF(ISNUMBER('Teom ugm3'!C365),('Teom ugm3'!C365*'Teom grams'!$F363*0.000000028317),\"\")","v":""},{"$f":"IF(ISNUMBER('Teom ugm3'!D365),('Teom ugm3'!D365*'Teom grams'!$F363*0.000000028317),\"\")","v":""},"","","","",null,"","","",null,"",""]
[null,null,{"$f":"IF('Teom ugm3'!A366=\"\",\"\",C363+1)","v":""},"",null,"",null,{"$f":"IF(ISNUMBER('Teom ugm3'!B366),('Teom ugm3'!B366*'Teom grams'!$F364*0.000000028317),\"\")","v":""},{"$f":"IF(ISNUMBER('Teom ugm3'!C366),('Teom ugm3'!C366*'Teom grams'!$F364*0.000000028317),\"\")","v":""},{"$f":"IF(ISNUMBER('Teom ugm3'!D366),('Teom ugm3'!D366*'Teom grams'!$F364*0.000000028317),\"\")","v":""},"","","","",null,"","","",null,"",""]
[null,null,{"$f":"IF('Teom ugm3'!A367=\"\",\"\",C364+1)","v":""},"",null,"",null,{"$f":"IF(ISNUMBER('Teom ugm3'!B367),('Teom ugm3'!B367*'Teom grams'!$F365*0.000000028317),\"\")","v":""},{"$f":"IF(ISNUMBER('Teom ugm3'!C367),('Teom ugm3'!C367*'Teom grams'!$F365*0.000000028317),\"\")","v":""},{"$f":"IF(ISNUMBER('Teom ugm3'!D367),('Teom ugm3'!D367*'Teom grams'!$F365*0.000000028317),\"\")","v":""},"","","","",null,"","","",null,"",""]
[null,null,{"$f":"IF('Teom ugm3'!A368=\"\",\"\",C365+1)","v":""},"",null,"",null,{"$f":"IF(ISNUMBER('Teom ugm3'!B368),('Teom ugm3'!B368*'Teom grams'!$F366*0.000000028317),\"\")","v":""},{"$f":"IF(ISNUMBER('Teom ugm3'!C368),('Teom ugm3'!C368*'Teom grams'!$F366*0.000000028317),\"\")","v":""},{"$f":"IF(ISNUMBER('Teom ugm3'!D368),('Teom ugm3'!D368*'Teom grams'!$F366*0.000000028317),\"\")","v":""},"","","","",null,"","","",null,"",""]
[null,null,{"$f":"IF('Teom ugm3'!A369=\"\",\"\",C366+1)","v":""},"",null,"",null,{"$f":"IF(ISNUMBER('Teom ugm3'!B369),('Teom ugm3'!B369*'Teom grams'!$F367*0.000000028317),\"\")","v":""},{"$f":"IF(ISNUMBER('Teom ugm3'!C369),('Teom ugm3'!C369*'Teom grams'!$F367*0.000000028317),\"\")","v":""},{"$f":"IF(ISNUMBER('Teom ugm3'!D369),('Teom ugm3'!D369*'Teom grams'!$F367*0.000000028317),\"\")","v":""},"","","","",null,"","","",null,"",""]
[null,null,{"$f":"IF('Teom ugm3'!A370=\"\",\"\",C367+1)","v":""},"",null,"",null,{"$f":"IF(ISNUMBER('Teom ugm3'!B370),('Teom ugm3'!B370*'Teom grams'!$F368*0.000000028317),\"\")","v":""},{"$f":"IF(ISNUMBER('Teom ugm3'!C370),('Teom ugm3'!C370*'Teom grams'!$F368*0.000000028317),\"\")","v":""},{"$f":"IF(ISNUMBER('Teom ugm3'!D370),('Teom ugm3'!D370*'Teom grams'!$F368*0.000000028317),\"\")","v":""},"","","","",null,"","","",null,"",""]
[null,null,{"$f":"IF('Teom ugm3'!A371=\"\",\"\",C368+1)","v":""},"",null,"",null,{"$f":"IF(ISNUMBER('Teom ugm3'!B371),('Teom ugm3'!B371*'Teom grams'!$F369*0.000000028317),\"\")","v":""},{"$f":"IF(ISNUMBER('Teom ugm3'!C371),('Teom ugm3'!C371*'Teom grams'!$F369*0.000000028317),\"\")","v":""},{"$f":"IF(ISNUMBER('Teom ugm3'!D371),('Teom ugm3'!D371*'Teom grams'!$F369*0.000000028317),\"\")","v":""},"","","","",null,"","","",null,"",""]
[null,null,{"$f":"IF('Teom ugm3'!A372=\"\",\"\",C369+1)","v":""},"",null,"",null,{"$f":"IF(ISNUMBER('Teom ugm3'!B372),('Teom ugm3'!B372*'Teom grams'!$F370*0.000000028317),\"\")","v":""},{"$f":"IF(ISNUMBER('Teom ugm3'!C372),('Teom ugm3'!C372*'Teom grams'!$F370*0.000000028317),\"\")","v":""},{"$f":"IF(ISNUMBER('Teom ugm3'!D372),('Teom ugm3'!D372*'Teom grams'!$F370*0.000000028317),\"\")","v":""},"","","","",null,"","","",null,"",""]
[null,null,{"$f":"IF('Teom ugm3'!A373=\"\",\"\",C370+1)","v":""},"",null,"",null,{"$f":"IF(ISNUMBER('Teom ugm3'!B373),('Teom ugm3'!B373*'Teom grams'!$F371*0.000000028317),\"\")","v":""},{"$f":"IF(ISNUMBER('Teom ugm3'!C373),('Teom ugm3'!C373*'Teom grams'!$F371*0.000000028317),\"\")","v":""},{"$f":"IF(ISNUMBER('Teom ugm3'!D373),('Teom ugm3'!D373*'Teom grams'!$F371*0.000000028317),\"\")","v":""},"","","","",null,"","","",null,"",""]
[null,null,{"$f":"IF('Teom ugm3'!A374=\"\",\"\",C371+1)","v":""},"",null,"",null,{"$f":"IF(ISNUMBER('Teom ugm3'!B374),('Teom ugm3'!B374*'Teom grams'!$F372*0.000000028317),\"\")","v":""},{"$f":"IF(ISNUMBER('Teom ugm3'!C374),('Teom ugm3'!C374*'Teom grams'!$F372*0.000000028317),\"\")","v":""},{"$f":"IF(ISNUMBER('Teom ugm3'!D374),('Teom ugm3'!D374*'Teom grams'!$F372*0.000000028317),\"\")","v":""},"","","","",null,"","","",null,"",""]
[null,null,{"$f":"IF('Teom ugm3'!A375=\"\",\"\",C372+1)","v":""},"",null,"",null,{"$f":"IF(ISNUMBER('Teom ugm3'!B375),('Teom ugm3'!B375*'Teom grams'!$F373*0.000000028317),\"\")","v":""},{"$f":"IF(ISNUMBER('Teom ugm3'!C375),('Teom ugm3'!C375*'Teom grams'!$F373*0.000000028317),\"\")","v":""},{"$f":"IF(ISNUMBER('Teom ugm3'!D375),('Teom ugm3'!D375*'Teom grams'!$F373*0.000000028317),\"\")","v":""},"","","","",null,"","","",null,"",""]
[null,null,{"$f":"IF('Teom ugm3'!A376=\"\",\"\",C373+1)","v":""},"",null,"",null,{"$f":"IF(ISNUMBER('Teom ugm3'!B376),('Teom ugm3'!B376*'Teom grams'!$F374*0.000000028317),\"\")","v":""},{"$f":"IF(ISNUMBER('Teom ugm3'!C376),('Teom ugm3'!C376*'Teom grams'!$F374*0.000000028317),\"\")","v":""},{"$f":"IF(ISNUMBER('Teom ugm3'!D376),('Teom ugm3'!D376*'Teom grams'!$F374*0.000000028317),\"\")","v":""},"","","","",null,"","","",null,"",""]
[null,null,{"$f":"IF('Teom ugm3'!A377=\"\",\"\",C374+1)","v":""},"",null,"",null,{"$f":"IF(ISNUMBER('Teom ugm3'!B377),('Teom ugm3'!B377*'Teom grams'!$F375*0.000000028317),\"\")","v":""},{"$f":"IF(ISNUMBER('Teom ugm3'!C377),('Teom ugm3'!C377*'Teom grams'!$F375*0.000000028317),\"\")","v":""},{"$f":"IF(ISNUMBER('Teom ugm3'!D377),('Teom ugm3'!D377*'Teom grams'!$F375*0.000000028317),\"\")","v":""},"","","","",null,"","","",null,"",""]
[null,null,{"$f":"IF('Teom ugm3'!A378=\"\",\"\",C375+1)","v":""},"",null,"",null,{"$f":"IF(ISNUMBER('Teom ugm3'!B378),('Teom ugm3'!B378*'Teom grams'!$F376*0.000000028317),\"\")","v":""},{"$f":"IF(ISNUMBER('Teom ugm3'!C378),('Teom ugm3'!C378*'Teom grams'!$F376*0.000000028317),\"\")","v":""},{"$f":"IF(ISNUMBER('Teom ugm3'!D378),('Teom ugm3'!D378*'Teom grams'!$F376*0.000000028317),\"\")","v":""},"","","","",null,"","","",null,"",""]
[null,null,{"$f":"IF('Teom ugm3'!A379=\"\",\"\",C376+1)","v":""},"",null,"",null,{"$f":"IF(ISNUMBER('Teom ugm3'!B379),('Teom ugm3'!B379*'Teom grams'!$F377*0.000000028317),\"\")","v":""},{"$f":"IF(ISNUMBER('Teom ugm3'!C379),('Teom ugm3'!C379*'Teom grams'!$F377*0.000000028317),\"\")","v":""},{"$f":"IF(ISNUMBER('Teom ugm3'!D379),('Teom ugm3'!D379*'Teom grams'!$F377*0.000000028317),\"\")","v":""},"","","","",null,"","","",null,"",""]
[null,null,{"$f":"IF('Teom ugm3'!A380=\"\",\"\",C377+1)","v":""},"",null,"",null,{"$f":"IF(ISNUMBER('Teom ugm3'!B380),('Teom ugm3'!B380*'Teom grams'!$F378*0.000000028317),\"\")","v":""},{"$f":"IF(ISNUMBER('Teom ugm3'!C380),('Teom ugm3'!C380*'Teom grams'!$F378*0.000000028317),\"\")","v":""},{"$f":"IF(ISNUMBER('Teom ugm3'!D380),('Teom ugm3'!D380*'Teom grams'!$F378*0.000000028317),\"\")","v":""},"","","","",null,"","","",null,"",""]
[null,null,{"$f":"IF('Teom ugm3'!A381=\"\",\"\",C378+1)","v":""},"",null,"",null,{"$f":"IF(ISNUMBER('Teom ugm3'!B381),('Teom ugm3'!B381*'Teom grams'!$F379*0.000000028317),\"\")","v":""},{"$f":"IF(ISNUMBER('Teom ugm3'!C381),('Teom ugm3'!C381*'Teom grams'!$F379*0.000000028317),\"\")","v":""},{"$f":"IF(ISNUMBER('Teom ugm3'!D381),('Teom ugm3'!D381*'Teom grams'!$F379*0.000000028317),\"\")","v":""},"","","","",null,"","","",null,"",""]
[null,null,{"$f":"IF('Teom ugm3'!A382=\"\",\"\",C379+1)","v":""},"",null,"",null,{"$f":"IF(ISNUMBER('Teom ugm3'!B382),('Teom ugm3'!B382*'Teom grams'!$F380*0.000000028317),\"\")","v":""},{"$f":"IF(ISNUMBER('Teom ugm3'!C382),('Teom ugm3'!C382*'Teom grams'!$F380*0.000000028317),\"\")","v":""},{"$f":"IF(ISNUMBER('Teom ugm3'!D382),('Teom ugm3'!D382*'Teom grams'!$F380*0.000000028317),\"\")","v":""},"","","","",null,"","","",null,"",""]
[null,null,{"$f":"IF('Teom ugm3'!A383=\"\",\"\",C380+1)","v":""},"",null,"",null,{"$f":"IF(ISNUMBER('Teom ugm3'!B383),('Teom ugm3'!B383*'Teom grams'!$F381*0.000000028317),\"\")","v":""},{"$f":"IF(ISNUMBER('Teom ugm3'!C383),('Teom ugm3'!C383*'Teom grams'!$F381*0.000000028317),\"\")","v":""},{"$f":"IF(ISNUMBER('Teom ugm3'!D383),('Teom ugm3'!D383*'Teom grams'!$F381*0.000000028317),\"\")","v":""},"","","","",null,"","","",null,"",""]
[null,null,{"$f":"IF('Teom ugm3'!A384=\"\",\"\",C381+1)","v":""},"",null,"",null,{"$f":"IF(ISNUMBER('Teom ugm3'!B384),('Teom ugm3'!B384*'Teom grams'!$F382*0.000000028317),\"\")","v":""},{"$f":"IF(ISNUMBER('Teom ugm3'!C384),('Teom ugm3'!C384*'Teom grams'!$F382*0.000000028317),\"\")","v":""},{"$f":"IF(ISNUMBER('Teom ugm3'!D384),('Teom ugm3'!D384*'Teom grams'!$F382*0.000000028317),\"\")","v":""},"","","","",null,"","","",null,"",""]
[null,null,{"$f":"IF('Teom ugm3'!A385=\"\",\"\",C382+1)","v":""},"",null,"",null,{"$f":"IF(ISNUMBER('Teom ugm3'!B385),('Teom ugm3'!B385*'Teom grams'!$F383*0.000000028317),\"\")","v":""},{"$f":"IF(ISNUMBER('Teom ugm3'!C385),('Teom ugm3'!C385*'Teom grams'!$F383*0.000000028317),\"\")","v":""},{"$f":"IF(ISNUMBER('Teom ugm3'!D385),('Teom ugm3'!D385*'Teom grams'!$F383*0.000000028317),\"\")","v":""},"","","","",null,"","","",null,"",""]
[null,null,{"$f":"IF('Teom ugm3'!A386=\"\",\"\",C383+1)","v":""},"",null,"",null,{"$f":"IF(ISNUMBER('Teom ugm3'!B386),('Teom ugm3'!B386*'Teom grams'!$F384*0.000000028317),\"\")","v":""},{"$f":"IF(ISNUMBER('Teom ugm3'!C386),('Teom ugm3'!C386*'Teom grams'!$F384*0.000000028317),\"\")","v":""},{"$f":"IF(ISNUMBER('Teom ugm3'!D386),('Teom ugm3'!D386*'Teom grams'!$F384*0.000000028317),\"\")","v":""},"","","","",null,"","","",null,"",""]
[null,null,{"$f":"IF('Teom ugm3'!A387=\"\",\"\",C384+1)","v":""},"",null,"",null,{"$f":"IF(ISNUMBER('Teom ugm3'!B387),('Teom ugm3'!B387*'Teom grams'!$F385*0.000000028317),\"\")","v":""},{"$f":"IF(ISNUMBER('Teom ugm3'!C387),('Teom ugm3'!C387*'Teom grams'!$F385*0.000000028317),\"\")","v":""},{"$f":"IF(ISNUMBER('Teom ugm3'!D387),('Teom ugm3'!D387*'Teom grams'!$F385*0.000000028317),\"\")","v":""},"","","","",null,"","","",null,"",""]
[null,null,{"$f":"IF('Teom ugm3'!A388=\"\",\"\",C385+1)","v":""},"",null,"",null,{"$f":"IF(ISNUMBER('Teom ugm3'!B388),('Teom ugm3'!B388*'Teom grams'!$F386*0.000000028317),\"\")","v":""},{"$f":"IF(ISNUMBER('Teom ugm3'!C388),('Teom ugm3'!C388*'Teom grams'!$F386*0.000000028317),\"\")","v":""},{"$f":"IF(ISNUMBER('Teom ugm3'!D388),('Teom ugm3'!D388*'Teom grams'!$F386*0.000000028317),\"\")","v":""},"","","","",null,"","","",null,"",""]
[null,null,{"$f":"IF('Teom ugm3'!A389=\"\",\"\",C386+1)","v":""},"",null,"",null,{"$f":"IF(ISNUMBER('Teom ugm3'!B389),('Teom ugm3'!B389*'Teom grams'!$F387*0.000000028317),\"\")","v":""},{"$f":"IF(ISNUMBER('Teom ugm3'!C389),('Teom ugm3'!C389*'Teom grams'!$F387*0.000000028317),\"\")","v":""},{"$f":"IF(ISNUMBER('Teom ugm3'!D389),('Teom ugm3'!D389*'Teom grams'!$F387*0.000000028317),\"\")","v":""},"","","","",null,"","","",null,"",""]
[null,null,{"$f":"IF('Teom ugm3'!A390=\"\",\"\",C387+1)","v":""},"",null,"",null,{"$f":"IF(ISNUMBER('Teom ugm3'!B390),('Teom ugm3'!B390*'Teom grams'!$F388*0.000000028317),\"\")","v":""},{"$f":"IF(ISNUMBER('Teom ugm3'!C390),('Teom ugm3'!C390*'Teom grams'!$F388*0.000000028317),\"\")","v":""},{"$f":"IF(ISNUMBER('Teom ugm3'!D390),('Teom ugm3'!D390*'Teom grams'!$F388*0.000000028317),\"\")","v":""},"","","",{"$f":"M388","v":""},null,"",{"$f":"IF(ISNUMBER(M388),M388*60,\"\")","v":""},"",null,{"$f":"IF(COUNT(C388:C447)>59,AVERAGE(P388:P447),\"\")","v":""},{"$f":"IF(COUNT(C388:C447)>59,AVERAGE(Q388:Q447),\"\")","v":""}]
[null,null,{"$f":"IF('Teom ugm3'!A391=\"\",\"\",C388+1)","v":""},"",null,{"$f":"IF(C389=\"\",\"\",E389*1.02041)","v":""},null,{"$f":"IF(ISNUMBER('Teom ugm3'!B391),('Teom ugm3'!B391*'Teom grams'!$F389*0.000000028317),\"\")","v":""},{"$f":"IF(ISNUMBER('Teom ugm3'!C391),('Teom ugm3'!C391*'Teom grams'!$F389*0.000000028317),\"\")","v":""},{"$f":"IF(ISNUMBER('Teom ugm3'!D391),('Teom ugm3'!D391*'Teom grams'!$F389*0.000000028317),\"\")","v":""},{"$f":"IF(H389<0,0,H389)","v":""},{"$f":"IF(I389<0,0,I389)","v":""},"","",null,{"$f":"IF(ISNUMBER(J389),J389*60,\"\")","v":""},"",{"$f":"IF(ISNUMBER(N389),N389*60,\"\")","v":""},null,"",""]
[null,null,{"$f":"IF('Teom ugm3'!A392=\"\",\"\",C389+1)","v":""},{"$f":"IF(C390=\"\",\"\",D389 + TIME(0, 1, 0))","v":""},null,"",null,{"$f":"IF(ISNUMBER('Teom ugm3'!B392),('Teom ugm3'!B392*'Teom grams'!$F390*0.000000028317),\"\")","v":""},{"$f":"IF(ISNUMBER('Teom ugm3'!C392),('Teom ugm3'!C392*'Teom grams'!$F390*0.000000028317),\"\")","v":""},{"$f":"IF(ISNUMBER('Teom ugm3'!D392),('Teom ugm3'!D392*'Teom grams'!$F390*0.000000028317),\"\")","v":""},"","","","",null,"","","",null,"",""]
[null,null,{"$f":"IF('Teom ugm3'!A393=\"\",\"\",C390+1)","v":""},"",null,"",null,{"$f":"IF(ISNUMBER('Teom ugm3'!B393),('Teom ugm3'!B393*'Teom grams'!$F391*0.000000028317),\"\")","v":""},{"$f":"IF(ISNUMBER('Teom ugm3'!C393),('Teom ugm3'!C393*'Teom grams'!$F391*0.000000028317),\"\")","v":""},{"$f":"IF(ISNUMBER('Teom ugm3'!D393),('Teom ugm3'!D393*'Teom grams'!$F391*0.000000028317),\"\")","v":""},"","","","",null,"","","",null,"",""]
[null,null,{"$f":"IF('Teom ugm3'!A394=\"\",\"\",C391+1)","v":""},"",null,"",null,{"$f":"IF(ISNUMBER('Teom ugm3'!B394),('Teom ugm3'!B394*'Teom grams'!$F392*0.000000028317),\"\")","v":""},{"$f":"IF(ISNUMBER('Teom ugm3'!C394),('Teom ugm3'!C394*'Teom grams'!$F392*0.000000028317),\"\")","v":""},{"$f":"IF(ISNUMBER('Teom ugm3'!D394),('Teom ugm3'!D394*'Teom grams'!$F392*0.000000028317),\"\")","v":""},"","","","",null,"","","",null,"",""]
[null,null,{"$f":"IF('Teom ugm3'!A395=\"\",\"\",C392+1)","v":""},"",null,"",null,{"$f":"IF(ISNUMBER('Teom ugm3'!B395),('Teom ugm3'!B395*'Teom grams'!$F393*0.000000028317),\"\")","v":""},{"$f":"IF(ISNUMBER('Teom ugm3'!C395),('Teom ugm3'!C395*'Teom grams'!$F393*0.000000028317),\"\")","v":""},{"$f":"IF(ISNUMBER('Teom ugm3'!D395),('Teom ugm3'!D395*'Teom grams'!$F393*0.000000028317),\"\")","v":""},"","","","",null,"","","",null,"",""]
[null,null,{"$f":"IF('Teom ugm3'!A396=\"\",\"\",C393+1)","v":""},"",null,"",null,{"$f":"IF(ISNUMBER('Teom ugm3'!B396),('Teom ugm3'!B396*'Teom grams'!$F394*0.000000028317),\"\")","v":""},{"$f":"IF(ISNUMBER('Teom ugm3'!C396),('Teom ugm3'!C396*'Teom grams'!$F394*0.000000028317),\"\")","v":""},{"$f":"IF(ISNUMBER('Teom ugm3'!D396),('Teom ugm3'!D396*'Teom grams'!$F394*0.000000028317),\"\")","v":""},"","","","",null,"","","",null,"",""]
[null,null,{"$f":"IF('Teom ugm3'!A397=\"\",\"\",C394+1)","v":""},"",null,"",null,{"$f":"IF(ISNUMBER('Teom ugm3'!B397),('Teom ugm3'!B397*'Teom grams'!$F395*0.000000028317),\"\")","v":""},{"$f":"IF(ISNUMBER('Teom ugm3'!C397),('Teom ugm3'!C397*'Teom grams'!$F395*0.000000028317),\"\")","v":""},{"$f":"IF(ISNUMBER('Teom ugm3'!D397),('Teom ugm3'!D397*'Teom grams'!$F395*0.000000028317),\"\")","v":""},"","",{"$f":"IF(COUNT(K395:L395)>0,AVERAGE(K395:L395),\"\")","v":""},"",null,"","","",null,"",""]
[null,null,{"$f":"IF('Teom ugm3'!A398=\"\",\"\",C395+1)","v":""},"",null,"",null,{"$f":"IF(ISNUMBER('Teom ugm3'!B398),('Teom ugm3'!B398*'Teom grams'!$F396*0.000000028317),\"\")","v":""},{"$f":"IF(ISNUMBER('Teom ugm3'!C398),('Teom ugm3'!C398*'Teom grams'!$F396*0.000000028317),\"\")","v":""},{"$f":"IF(ISNUMBER('Teom ugm3'!D398),('Teom ugm3'!D398*'Teom grams'!$F396*0.000000028317),\"\")","v":""},"","","","",null,"","","",null,"",""]
[null,null,{"$f":"IF('Teom ugm3'!A399=\"\",\"\",C396+1)","v":""},"",null,"",null,{"$f":"IF(ISNUMBER('Teom ugm3'!B399),('Teom ugm3'!B399*'Teom grams'!$F397*0.000000028317),\"\")","v":""},{"$f":"IF(ISNUMBER('Teom ugm3'!C399),('Teom ugm3'!C399*'Teom grams'!$F397*0.000000028317),\"\")","v":""},{"$f":"IF(ISNUMBER('Teom ugm3'!D399),('Teom ugm3'!D399*'Teom grams'!$F397*0.000000028317),\"\")","v":""},"","","","",null,"","","",null,"",""]
[null,null,{"$f":"IF('Teom ugm3'!A400=\"\",\"\",C397+1)","v":""},"",null,"",null,{"$f":"IF(ISNUMBER('Teom ugm3'!B400),('Teom ugm3'!B400*'Teom grams'!$F398*0.000000028317),\"\")","v":""},{"$f":"IF(ISNUMBER('Teom ugm3'!C400),('Teom ugm3'!C400*'Teom grams'!$F398*0.000000028317),\"\")","v":""},{"$f":"IF(ISNUMBER('Teom ugm3'!D400),('Teom ugm3'!D400*'Teom grams'!$F398*0.000000028317),\"\")","v":""},"","","","",null,"","","",null,"",""]
[null,null,{"$f":"IF('Teom ugm3'!A401=\"\",\"\",C398+1)","v":""},"",null,"",null,{"$f":"IF(ISNUMBER('Teom ugm3'!B401),('Teom ugm3'!B401*'Teom grams'!$F399*0.000000028317),\"\")","v":""},{"$f":"IF(ISNUMBER('Teom ugm3'!C401),('Teom ugm3'!C401*'Teom grams'!$F399*0.000000028317),\"\")","v":""},{"$f":"IF(ISNUMBER('Teom ugm3'!D401),('Teom ugm3'!D401*'Teom grams'!$F399*0.000000028317),\"\")","v":""},"","","","",null,"","","",null,"",""]
[null,null,{"$f":"IF('Teom ugm3'!A402=\"\",\"\",C399+1)","v":""},"",null,"",null,{"$f":"IF(ISNUMBER('Teom ugm3'!B402),('Teom ugm3'!B402*'Teom grams'!$F400*0.000000028317),\"\")","v":""},{"$f":"IF(ISNUMBER('Teom ugm3'!C402),('Teom ugm3'!C402*'Teom grams'!$F400*0.000000028317),\"\")","v":""},{"$f":"IF(ISNUMBER('Teom ugm3'!D402),('Teom ugm3'!D402*'Teom grams'!$F400*0.000000028317),\"\")","v":""},"","","","",null,"","","",null,"",""]
[null,null,{"$f":"IF('Teom ugm3'!A403=\"\",\"\",C400+1)","v":""},"",null,"",null,{"$f":"IF(ISNUMBER('Teom ugm3'!B403),('Teom ugm3'!B403*'Teom grams'!$F401*0.000000028317),\"\")","v":""},{"$f":"IF(ISNUMBER('Teom ugm3'!C403),('Teom ugm3'!C403*'Teom grams'!$F401*0.000000028317),\"\")","v":""},{"$f":"IF(ISNUMBER('Teom ugm3'!D403),('Teom ugm3'!D403*'Teom grams'!$F401*0.000000028317),\"\")","v":""},"","","","",null,"","","",null,"",""]
[null,null,{"$f":"IF('Teom ugm3'!A404=\"\",\"\",C401+1)","v":""},"",null,"",null,{"$f":"IF(ISNUMBER('Teom ugm3'!B404),('Teom ugm3'!B404*'Teom grams'!$F402*0.000000028317),\"\")","v":""},{"$f":"IF(ISNUMBER('Teom ugm3'!C404),('Teom ugm3'!C404*'Teom grams'!$F402*0.000000028317),\"\")","v":""},{"$f":"IF(ISNUMBER('Teom ugm3'!D404),('Teom ugm3'!D404*'Teom grams'!$F402*0.000000028317),\"\")","v":""},"","","","",null,"","","",null,"",""]
[null,null,{"$f":"IF('Teom ugm3'!A405=\"\",\"\",C402+1)","v":""},"",null,"",null,{"$f":"IF(ISNUMBER('Teom ugm3'!B405),('Teom ugm3'!B405*'Teom grams'!$F403*0.000000028317),\"\")","v":""},{"$f":"IF(ISNUMBER('Teom ugm3'!C405),('Teom ugm3'!C405*'Teom grams'!$F403*0.000000028317),\"\")","v":""},{"$f":"IF(ISNUMBER('Teom ugm3'!D405),('Teom ugm3'!D405*'Teom grams'!$F403*0.000000028317),\"\")","v":""},"","","","",null,"","","",null,"",""]
[null,null,{"$f":"IF('Teom ugm3'!A406=\"\",\"\",C403+1)","v":""},"",null,"",null,{"$f":"IF(ISNUMBER('Teom ugm3'!B406),('Teom ugm3'!B406*'Teom grams'!$F404*0.000000028317),\"\")","v":""},{"$f":"IF(ISNUMBER('Teom ugm3'!C406),('Teom ugm3'!C406*'Teom grams'!$F404*0.000000028317),\"\")","v":""},{"$f":"IF(ISNUMBER('Teom ugm3'!D406),('Teom ugm3'!D406*'Teom grams'!$F404*0.000000028317),\"\")","v":""},"","","","",null,"","","",null,"",""]
[null,null,{"$f":"IF('Teom ugm3'!A407=\"\",\"\",C404+1)","v":""},"",null,"",null,{"$f":"IF(ISNUMBER('Teom ugm3'!B407),('Teom ugm3'!B407*'Teom grams'!$F405*0.000000028317),\"\")","v":""},{"$f":"IF(ISNUMBER('Teom ugm3'!C407),('Teom ugm3'!C407*'Teom grams'!$F405*0.000000028317),\"\")","v":""},{"$f":"IF(ISNUMBER('Teom ugm3'!D407),('Teom ugm3'!D407*'Teom grams'!$F405*0.000000028317),\"\")","v":""},"","","","",null,"","","",null,"",""]
[null,null,{"$f":"IF('Teom ugm3'!A408=\"\",\"\",C405+1)","v":""},"",null,"",null,{"$f":"IF(ISNUMBER('Teom ugm3'!B408),('Teom ugm3'!B408*'Teom grams'!$F406*0.000000028317),\"\")","v":""},{"$f":"IF(ISNUMBER('Teom ugm3'!C408),('Teom ugm3'!C408*'Teom grams'!$F406*0.000000028317),\"\")","v":""},{"$f":"IF(ISNUMBER('Teom ugm3'!D408),('Teom ugm3'!D408*'Teom grams'!$F406*0.000000028317),\"\")","v":""},"","","","",null,"","","",null,"",""]
[null,null,{"$f":"IF('Teom ugm3'!A409=\"\",\"\",C406+1)","v":""},"",null,"",null,{"$f":"IF(ISNUMBER('Teom ugm3'!B409),('Teom ugm3'!B409*'Teom grams'!$F407*0.000000028317),\"\")","v":""},{"$f":"IF(ISNUMBER('Teom ugm3'!C409),('Teom ugm3'!C409*'Teom grams'!$F407*0.000000028317),\"\")","v":""},{"$f":"IF(ISNUMBER('Teom ugm3'!D409),('Teom ugm3'!D409*'Teom grams'!$F407*0.000000028317),\"\")","v":""},"","","","",null,"","","",null,"",""]
[null,null,{"$f":"IF('Teom ugm3'!A410=\"\",\"\",C407+1)","v":""},"",null,"",null,{"$f":"IF(ISNUMBER('Teom ugm3'!B410),('Teom ugm3'!B410*'Teom grams'!$F408*0.000000028317),\"\")","v":""},{"$f":"IF(ISNUMBER('Teom ugm3'!C410),('Teom ugm3'!C410*'Teom grams'!$F408*0.000000028317),\"\")","v":""},{"$f":"IF(ISNUMBER('Teom ugm3'!D410),('Teom ugm3'!D410*'Teom grams'!$F408*0.000000028317),\"\")","v":""},"","","","",null,"","","",null,"",""]
[null,null,{"$f":"IF('Teom ugm3'!A411=\"\",\"\",C408+1)","v":""},"",null,"",null,{"$f":"IF(ISNUMBER('Teom ugm3'!B411),('Teom ugm3'!B411*'Teom grams'!$F409*0.000000028317),\"\")","v":""},{"$f":"IF(ISNUMBER('Teom ugm3'!C411),('Teom ugm3'!C411*'Teom grams'!$F409*0.000000028317),\"\")","v":""},{"$f":"IF(ISNUMBER('Teom ugm3'!D411),('Teom ugm3'!D411*'Teom grams'!$F409*0.000000028317),\"\")","v":""},"","","","",null,"","","",null,"",""]
[null,null,{"$f":"IF('Teom ugm3'!A412=\"\",\"\",C409+1)","v":""},"",null,"",null,{"$f":"IF(ISNUMBER('Teom ugm3'!B412),('Teom ugm3'!B412*'Teom grams'!$F410*0.000000028317),\"\")","v":""},{"$f":"IF(ISNUMBER('Teom ugm3'!C412),('Teom ugm3'!C412*'Teom grams'!$F410*0.000000028317),\"\")","v":""},{"$f":"IF(ISNUMBER('Teom ugm3'!D412),('Teom ugm3'!D412*'Teom grams'!$F410*0.000000028317),\"\")","v":""},"","","","",null,"","","",null,"",""]
[null,null,{"$f":"IF('Teom ugm3'!A413=\"\",\"\",C410+1)","v":""},"",null,"",null,{"$f":"IF(ISNUMBER('Teom ugm3'!B413),('Teom ugm3'!B413*'Teom grams'!$F411*0.000000028317),\"\")","v":""},{"$f":"IF(ISNUMBER('Teom ugm3'!C413),('Teom ugm3'!C413*'Teom grams'!$F411*0.000000028317),\"\")","v":""},{"$f":"IF(ISNUMBER('Teom ugm3'!D413),('Teom ugm3'!D413*'Teom grams'!$F411*0.000000028317),\"\")","v":""},"","","","",null,"","","",null,"",""]
[null,null,{"$f":"IF('Teom ugm3'!A414=\"\",\"\",C411+1)","v":""},"",null,"",null,{"$f":"IF(ISNUMBER('Teom ugm3'!B414),('Teom ugm3'!B414*'Teom grams'!$F412*0.000000028317),\"\")","v":""},{"$f":"IF(ISNUMBER('Teom ugm3'!C414),('Teom ugm3'!C414*'Teom grams'!$F412*0.000000028317),\"\")","v":""},{"$f":"IF(ISNUMBER('Teom ugm3'!D414),('Teom ugm3'!D414*'Teom grams'!$F412*0.000000028317),\"\")","v":""},"","","","",null,"","","",null,"",""]
[null,null,{"$f":"IF('Teom ugm3'!A415=\"\",\"\",C412+1)","v":""},"",null,"",null,{"$f":"IF(ISNUMBER('Teom ugm3'!B415),('Teom ugm3'!B415*'Teom grams'!$F413*0.000000028317),\"\")","v":""},{"$f":"IF(ISNUMBER('Teom ugm3'!C415),('Teom ugm3'!C415*'Teom grams'!$F413*0.000000028317),\"\")","v":""},{"$f":"IF(ISNUMBER('Teom ugm3'!D415),('Teom ugm3'!D415*'Teom grams'!$F413*0.000000028317),\"\")","v":""},"","","","",null,"","","",null,"",""]
[null,null,{"$f":"IF('Teom ugm3'!A416=\"\",\"\",C413+1)","v":""},"",null,"",null,{"$f":"IF(ISNUMBER('Teom ugm3'!B416),('Teom ugm3'!B416*'Teom grams'!$F414*0.000000028317),\"\")","v":""},{"$f":"IF(ISNUMBER('Teom ugm3'!C416),('Teom ugm3'!C416*'Teom grams'!$F414*0.000000028317),\"\")","v":""},{"$f":"IF(ISNUMBER('Teom ugm3'!D416),('Teom ugm3'!D416*'Teom grams'!$F414*0.000000028317),\"\")","v":""},"","","","",null,"","","",null,"",""]
[null,null,{"$f":"IF('Teom ugm3'!A417=\"\",\"\",C414+1)","v":""},"",null,"",null,{"$f":"IF(ISNUMBER('Teom ugm3'!B417),('Teom ugm3'!B417*'Teom grams'!$F415*0.000000028317),\"\")","v":""},{"$f":"IF(ISNUMBER('Teom ugm3'!C417),('Teom ugm3'!C417*'Teom grams'!$F415*0.000000028317),\"\")","v":""},{"$f":"IF(ISNUMBER('Teom ugm3'!D417),('Teom ugm3'!D417*'Teom grams'!$F415*0.000000028317),\"\")","v":""},"","","","",null,"","","",null,"",""]
[null,null,{"$f":"IF('Teom ugm3'!A418=\"\",\"\",C415+1)","v":""},"",null,"",null,{"$f":"IF(ISNUMBER('Teom ugm3'!B418),('Teom ugm3'!B418*'Teom grams'!$F416*0.000000028317),\"\")","v":""},{"$f":"IF(ISNUMBER('Teom ugm3'!C418),('Teom ugm3'!C418*'Teom grams'!$F416*0.000000028317),\"\")","v":""},{"$f":"IF(ISNUMBER('Teom ugm3'!D418),('Teom ugm3'!D418*'Teom grams'!$F416*0.000000028317),\"\")","v":""},"","","","",null,"","","",null,"",""]
[null,null,{"$f":"IF('Teom ugm3'!A419=\"\",\"\",C416+1)","v":""},"",null,"",null,{"$f":"IF(ISNUMBER('Teom ugm3'!B419),('Teom ugm3'!B419*'Teom grams'!$F417*0.000000028317),\"\")","v":""},{"$f":"IF(ISNUMBER('Teom ugm3'!C419),('Teom ugm3'!C419*'Teom grams'!$F417*0.000000028317),\"\")","v":""},{"$f":"IF(ISNUMBER('Teom ugm3'!D419),('Teom ugm3'!D419*'Teom grams'!$F417*0.000000028317),\"\")","v":""},"","","","",null,"","","",null,"",""]
[null,null,{"$f":"IF('Teom ugm3'!A420=\"\",\"\",C417+1)","v":""},"",null,"",null,{"$f":"IF(ISNUMBER('Teom ugm3'!B420),('Teom ugm3'!B420*'Teom grams'!$F418*0.000000028317),\"\")","v":""},{"$f":"IF(ISNUMBER('Teom ugm3'!C420),('Teom ugm3'!C420*'Teom grams'!$F418*0.000000028317),\"\")","v":""},{"$f":"IF(ISNUMBER('Teom ugm3'!D420),('Teom ugm3'!D420*'Teom grams'!$F418*0.000000028317),\"\")","v":""},"","","","",null,"","","",null,"",""]
[null,null,{"$f":"IF('Teom ugm3'!A421=\"\",\"\",C418+1)","v":""},"",null,"",null,{"$f":"IF(ISNUMBER('Teom ugm3'!B421),('Teom ugm3'!B421*'Teom grams'!$F419*0.000000028317),\"\")","v":""},{"$f":"IF(ISNUMBER('Teom ugm3'!C421),('Teom ugm3'!C421*'Teom grams'!$F419*0.000000028317),\"\")","v":""},{"$f":"IF(ISNUMBER('Teom ugm3'!D421),('Teom ugm3'!D421*'Teom grams'!$F419*0.000000028317),\"\")","v":""},"","","","",null,"","","",null,"",""]
[null,null,{"$f":"IF('Teom ugm3'!A422=\"\",\"\",C419+1)","v":""},"",null,"",null,{"$f":"IF(ISNUMBER('Teom ugm3'!B422),('Teom ugm3'!B422*'Teom grams'!$F420*0.000000028317),\"\")","v":""},{"$f":"IF(ISNUMBER('Teom ugm3'!C422),('Teom ugm3'!C422*'Teom grams'!$F420*0.000000028317),\"\")","v":""},{"$f":"IF(ISNUMBER('Teom ugm3'!D422),('Teom ugm3'!D422*'Teom grams'!$F420*0.000000028317),\"\")","v":""},"","","","",null,"","","",null,"",""]
[null,null,{"$f":"IF('Teom ugm3'!A423=\"\",\"\",C420+1)","v":""},"",null,"",null,{"$f":"IF(ISNUMBER('Teom ugm3'!B423),('Teom ugm3'!B423*'Teom grams'!$F421*0.000000028317),\"\")","v":""},{"$f":"IF(ISNUMBER('Teom ugm3'!C423),('Teom ugm3'!C423*'Teom grams'!$F421*0.000000028317),\"\")","v":""},{"$f":"IF(ISNUMBER('Teom ugm3'!D423),('Teom ugm3'!D423*'Teom grams'!$F421*0.000000028317),\"\")","v":""},"","","","",null,"","","",null,"",""]
[null,null,{"$f":"IF('Teom ugm3'!A424=\"\",\"\",C421+1)","v":""},"",null,"",null,{"$f":"IF(ISNUMBER('Teom ugm3'!B424),('Teom ugm3'!B424*'Teom grams'!$F422*0.000000028317),\"\")","v":""},{"$f":"IF(ISNUMBER('Teom ugm3'!C424),('Teom ugm3'!C424*'Teom grams'!$F422*0.000000028317),\"\")","v":""},{"$f":"IF(ISNUMBER('Teom ugm3'!D424),('Teom ugm3'!D424*'Teom grams'!$F422*0.000000028317),\"\")","v":""},"","","","",null,"","","",null,"",""]
[null,null,{"$f":"IF('Teom ugm3'!A425=\"\",\"\",C422+1)","v":""},"",null,"",null,{"$f":"IF(ISNUMBER('Teom ugm3'!B425),('Teom ugm3'!B425*'Teom grams'!$F423*0.000000028317),\"\")","v":""},{"$f":"IF(ISNUMBER('Teom ugm3'!C425),('Teom ugm3'!C425*'Teom grams'!$F423*0.000000028317),\"\")","v":""},{"$f":"IF(ISNUMBER('Teom ugm3'!D425),('Teom ugm3'!D425*'Teom grams'!$F423*0.000000028317),\"\")","v":""},"","","","",null,"","","",null,"",""]
[null,null,{"$f":"IF('Teom ugm3'!A426=\"\",\"\",C423+1)","v":""},"",null,"",null,{"$f":"IF(ISNUMBER('Teom ugm3'!B426),('Teom ugm3'!B426*'Teom grams'!$F424*0.000000028317),\"\")","v":""},{"$f":"IF(ISNUMBER('Teom ugm3'!C426),('Teom ugm3'!C426*'Teom grams'!$F424*0.000000028317),\"\")","v":""},{"$f":"IF(ISNUMBER('Teom ugm3'!D426),('Teom ugm3'!D426*'Teom grams'!$F424*0.000000028317),\"\")","v":""},"","","","",null,"","","",null,"",""]
[null,null,{"$f":"IF('Teom ugm3'!A427=\"\",\"\",C424+1)","v":""},"",null,"",null,{"$f":"IF(ISNUMBER('Teom ugm3'!B427),('Teom ugm3'!B427*'Teom grams'!$F425*0.000000028317),\"\")","v":""},{"$f":"IF(ISNUMBER('Teom ugm3'!C427),('Teom ugm3'!C427*'Teom grams'!$F425*0.000000028317),\"\")","v":""},{"$f":"IF(ISNUMBER('Teom ugm3'!D427),('Teom ugm3'!D427*'Teom grams'!$F425*0.000000028317),\"\")","v":""},"","","","",null,"","","",null,"",""]
[null,null,{"$f":"IF('Teom ugm3'!A428=\"\",\"\",C425+1)","v":""},"",null,"",null,{"$f":"IF(ISNUMBER('Teom ugm3'!B428),('Teom ugm3'!B428*'Teom grams'!$F426*0.000000028317),\"\")","v":""},{"$f":"IF(ISNUMBER('Teom ugm3'!C428),('Teom ugm3'!C428*'Teom grams'!$F426*0.000000028317),\"\")","v":""},{"$f":"IF(ISNUMBER('Teom ugm3'!D428),('Teom ugm3'!D428*'Teom grams'!$F426*0.000000028317),\"\")","v":""},"","","","",null,"","","",null,"",""]
[null,null,{"$f":"IF('Teom ugm3'!A429=\"\",\"\",C426+1)","v":""},"",null,"",null,{"$f":"IF(ISNUMBER('Teom ugm3'!B429),('Teom ugm3'!B429*'Teom grams'!$F427*0.000000028317),\"\")","v":""},{"$f":"IF(ISNUMBER('Teom ugm3'!C429),('Teom ugm3'!C429*'Teom grams'!$F427*0.000000028317),\"\")","v":""},{"$f":"IF(ISNUMBER('Teom ugm3'!D429),('Teom ugm3'!D429*'Teom grams'!$F427*0.000000028317),\"\")","v":""},"","","","",null,"","","",null,"",""]
[null,null,{"$f":"IF('Teom ugm3'!A430=\"\",\"\",C427+1)","v":""},"",null,"",null,{"$f":"IF(ISNUMBER('Teom ugm3'!B430),('Teom ugm3'!B430*'Teom grams'!$F428*0.000000028317),\"\")","v":""},{"$f":"IF(ISNUMBER('Teom ugm3'!C430),('Teom ugm3'!C430*'Teom grams'!$F428*0.000000028317),\"\")","v":""},{"$f":"IF(ISNUMBER('Teom ugm3'!D430),('Teom ugm3'!D430*'Teom grams'!$F428*0.000000028317),\"\")","v":""},"","","","",null,"","","",null,"",""]
[null,null,{"$f":"IF('Teom ugm3'!A431=\"\",\"\",C428+1)","v":""},"",null,"",null,{"$f":"IF(ISNUMBER('Teom ugm3'!B431),('Teom ugm3'!B431*'Teom grams'!$F429*0.000000028317),\"\")","v":""},{"$f":"IF(ISNUMBER('Teom ugm3'!C431),('Teom ugm3'!C431*'Teom grams'!$F429*0.000000028317),\"\")","v":""},{"$f":"IF(ISNUMBER('Teom ugm3'!D431),('Teom ugm3'!D431*'Teom grams'!$F429*0.000000028317),\"\")","v":""},"","","","",null,"","","",null,"",""]
[null,null,{"$f":"IF('Teom ugm3'!A432=\"\",\"\",C429+1)","v":""},"",null,"",null,{"$f":"IF(ISNUMBER('Teom ugm3'!B432),('Teom ugm3'!B432*'Teom grams'!$F430*0.000000028317),\"\")","v":""},{"$f":"IF(ISNUMBER('Teom ugm3'!C432),('Teom ugm3'!C432*'Teom grams'!$F430*0.000000028317),\"\")","v":""},{"$f":"IF(ISNUMBER('Teom ugm3'!D432),('Teom ugm3'!D432*'Teom grams'!$F430*0.000000028317),\"\")","v":""},"","","","",null,"","","",null,"",""]
[null,null,{"$f":"IF('Teom ugm3'!A433=\"\",\"\",C430+1)","v":""},"",null,"",null,{"$f":"IF(ISNUMBER('Teom ugm3'!B433),('Teom ugm3'!B433*'Teom grams'!$F431*0.000000028317),\"\")","v":""},{"$f":"IF(ISNUMBER('Teom ugm3'!C433),('Teom ugm3'!C433*'Teom grams'!$F431*0.000000028317),\"\")","v":""},{"$f":"IF(ISNUMBER('Teom ugm3'!D433),('Teom ugm3'!D433*'Teom grams'!$F431*0.000000028317),\"\")","v":""},"","","","",null,"","","",null,"",""]
[null,null,{"$f":"IF('Teom ugm3'!A434=\"\",\"\",C431+1)","v":""},"",null,"",null,{"$f":"IF(ISNUMBER('Teom ugm3'!B434),('Teom ugm3'!B434*'Teom grams'!$F432*0.000000028317),\"\")","v":""},{"$f":"IF(ISNUMBER('Teom ugm3'!C434),('Teom ugm3'!C434*'Teom grams'!$F432*0.000000028317),\"\")","v":""},{"$f":"IF(ISNUMBER('Teom ugm3'!D434),('Teom ugm3'!D434*'Teom grams'!$F432*0.000000028317),\"\")","v":""},"","","","",null,"","","",null,"",""]
[null,null,{"$f":"IF('Teom ugm3'!A435=\"\",\"\",C432+1)","v":""},"",null,"",null,{"$f":"IF(ISNUMBER('Teom ugm3'!B435),('Teom ugm3'!B435*'Teom grams'!$F433*0.000000028317),\"\")","v":""},{"$f":"IF(ISNUMBER('Teom ugm3'!C435),('Teom ugm3'!C435*'Teom grams'!$F433*0.000000028317),\"\")","v":""},{"$f":"IF(ISNUMBER('Teom ugm3'!D435),('Teom ugm3'!D435*'Teom grams'!$F433*0.000000028317),\"\")","v":""},"","","","",null,"","","",null,"",""]
[null,null,{"$f":"IF('Teom ugm3'!A436=\"\",\"\",C433+1)","v":""},"",null,"",null,{"$f":"IF(ISNUMBER('Teom ugm3'!B436),('Teom ugm3'!B436*'Teom grams'!$F434*0.000000028317),\"\")","v":""},{"$f":"IF(ISNUMBER('Teom ugm3'!C436),('Teom ugm3'!C436*'Teom grams'!$F434*0.000000028317),\"\")","v":""},{"$f":"IF(ISNUMBER('Teom ugm3'!D436),('Teom ugm3'!D436*'Teom grams'!$F434*0.000000028317),\"\")","v":""},"","","","",null,"","","",null,"",""]
[null,null,{"$f":"IF('Teom ugm3'!A437=\"\",\"\",C434+1)","v":""},"",null,"",null,{"$f":"IF(ISNUMBER('Teom ugm3'!B437),('Teom ugm3'!B437*'Teom grams'!$F435*0.000000028317),\"\")","v":""},{"$f":"IF(ISNUMBER('Teom ugm3'!C437),('Teom ugm3'!C437*'Teom grams'!$F435*0.000000028317),\"\")","v":""},{"$f":"IF(ISNUMBER('Teom ugm3'!D437),('Teom ugm3'!D437*'Teom grams'!$F435*0.000000028317),\"\")","v":""},"","","","",null,"","","",null,"",""]
[null,null,{"$f":"IF('Teom ugm3'!A438=\"\",\"\",C435+1)","v":""},"",null,"",null,{"$f":"IF(ISNUMBER('Teom ugm3'!B438),('Teom ugm3'!B438*'Teom grams'!$F436*0.000000028317),\"\")","v":""},{"$f":"IF(ISNUMBER('Teom ugm3'!C438),('Teom ugm3'!C438*'Teom grams'!$F436*0.000000028317),\"\")","v":""},{"$f":"IF(ISNUMBER('Teom ugm3'!D438),('Teom ugm3'!D438*'Teom grams'!$F436*0.000000028317),\"\")","v":""},"","","","",null,"","","",null,"",""]
[null,null,{"$f":"IF('Teom ugm3'!A439=\"\",\"\",C436+1)","v":""},"",null,"",null,{"$f":"IF(ISNUMBER('Teom ugm3'!B439),('Teom ugm3'!B439*'Teom grams'!$F437*0.000000028317),\"\")","v":""},{"$f":"IF(ISNUMBER('Teom ugm3'!C439),('Teom ugm3'!C439*'Teom grams'!$F437*0.000000028317),\"\")","v":""},{"$f":"IF(ISNUMBER('Teom ugm3'!D439),('Teom ugm3'!D439*'Teom grams'!$F437*0.000000028317),\"\")","v":""},"","","","",null,"","","",null,"",""]
[null,null,{"$f":"IF('Teom ugm3'!A440=\"\",\"\",C437+1)","v":""},"",null,"",null,{"$f":"IF(ISNUMBER('Teom ugm3'!B440),('Teom ugm3'!B440*'Teom grams'!$F438*0.000000028317),\"\")","v":""},{"$f":"IF(ISNUMBER('Teom ugm3'!C440),('Teom ugm3'!C440*'Teom grams'!$F438*0.000000028317),\"\")","v":""},{"$f":"IF(ISNUMBER('Teom ugm3'!D440),('Teom ugm3'!D440*'Teom grams'!$F438*0.000000028317),\"\")","v":""},"","","","",null,"","","",null,"",""]
[null,null,{"$f":"IF('Teom ugm3'!A441=\"\",\"\",C438+1)","v":""},"",null,"",null,{"$f":"IF(ISNUMBER('Teom ugm3'!B441),('Teom ugm3'!B441*'Teom grams'!$F439*0.000000028317),\"\")","v":""},{"$f":"IF(ISNUMBER('Teom ugm3'!C441),('Teom ugm3'!C441*'Teom grams'!$F439*0.000000028317),\"\")","v":""},{"$f":"IF(ISNUMBER('Teom ugm3'!D441),('Teom ugm3'!D441*'Teom grams'!$F439*0.000000028317),\"\")","v":""},"","","","",null,"","","",null,"",""]
[null,null,{"$f":"IF('Teom ugm3'!A442=\"\",\"\",C439+1)","v":""},"",null,"",null,{"$f":"IF(ISNUMBER('Teom ugm3'!B442),('Teom ugm3'!B442*'Teom grams'!$F440*0.000000028317),\"\")","v":""},{"$f":"IF(ISNUMBER('Teom ugm3'!C442),('Teom ugm3'!C442*'Teom grams'!$F440*0.000000028317),\"\")","v":""},{"$f":"IF(ISNUMBER('Teom ugm3'!D442),('Teom ugm3'!D442*'Teom grams'!$F440*0.000000028317),\"\")","v":""},"","","","",null,"","","",null,"",""]
[null,null,{"$f":"IF('Teom ugm3'!A443=\"\",\"\",C440+1)","v":""},"",null,"",null,{"$f":"IF(ISNUMBER('Teom ugm3'!B443),('Teom ugm3'!B443*'Teom grams'!$F441*0.000000028317),\"\")","v":""},{"$f":"IF(ISNUMBER('Teom ugm3'!C443),('Teom ugm3'!C443*'Teom grams'!$F441*0.000000028317),\"\")","v":""},{"$f":"IF(ISNUMBER('Teom ugm3'!D443),('Teom ugm3'!D443*'Teom grams'!$F441*0.000000028317),\"\")","v":""},"","","","",null,"","","",null,"",""]
[null,null,{"$f":"IF('Teom ugm3'!A444=\"\",\"\",C441+1)","v":""},"",null,"",null,{"$f":"IF(ISNUMBER('Teom ugm3'!B444),('Teom ugm3'!B444*'Teom grams'!$F442*0.000000028317),\"\")","v":""},{"$f":"IF(ISNUMBER('Teom ugm3'!C444),('Teom ugm3'!C444*'Teom grams'!$F442*0.000000028317),\"\")","v":""},{"$f":"IF(ISNUMBER('Teom ugm3'!D444),('Teom ugm3'!D444*'Teom grams'!$F442*0.000000028317),\"\")","v":""},"","","","",null,"","","",null,"",""]
[null,null,{"$f":"IF('Teom ugm3'!A445=\"\",\"\",C442+1)","v":""},"",null,"",null,{"$f":"IF(ISNUMBER('Teom ugm3'!B445),('Teom ugm3'!B445*'Teom grams'!$F443*0.000000028317),\"\")","v":""},{"$f":"IF(ISNUMBER('Teom ugm3'!C445),('Teom ugm3'!C445*'Teom grams'!$F443*0.000000028317),\"\")","v":""},{"$f":"IF(ISNUMBER('Teom ugm3'!D445),('Teom ugm3'!D445*'Teom grams'!$F443*0.000000028317),\"\")","v":""},"","","","",null,"","","",null,"",""]
[null,null,{"$f":"IF('Teom ugm3'!A446=\"\",\"\",C443+1)","v":""},"",null,"",null,{"$f":"IF(ISNUMBER('Teom ugm3'!B446),('Teom ugm3'!B446*'Teom grams'!$F444*0.000000028317),\"\")","v":""},{"$f":"IF(ISNUMBER('Teom ugm3'!C446),('Teom ugm3'!C446*'Teom grams'!$F444*0.000000028317),\"\")","v":""},{"$f":"IF(ISNUMBER('Teom ugm3'!D446),('Teom ugm3'!D446*'Teom grams'!$F444*0.000000028317),\"\")","v":""},"","","","",null,"","","",null,"",""]
[null,null,{"$f":"IF('Teom ugm3'!A447=\"\",\"\",C444+1)","v":""},"",null,"",null,{"$f":"IF(ISNUMBER('Teom ugm3'!B447),('Teom ugm3'!B447*'Teom grams'!$F445*0.000000028317),\"\")","v":""},{"$f":"IF(ISNUMBER('Teom ugm3'!C447),('Teom ugm3'!C447*'Teom grams'!$F445*0.000000028317),\"\")","v":""},{"$f":"IF(ISNUMBER('Teom ugm3'!D447),('Teom ugm3'!D447*'Teom grams'!$F445*0.000000028317),\"\")","v":""},"","","","",null,"","","",null,"",""]
[null,null,{"$f":"IF('Teom ugm3'!A448=\"\",\"\",C445+1)","v":""},"",null,"",null,{"$f":"IF(ISNUMBER('Teom ugm3'!B448),('Teom ugm3'!B448*'Teom grams'!$F446*0.000000028317),\"\")","v":""},{"$f":"IF(ISNUMBER('Teom ugm3'!C448),('Teom ugm3'!C448*'Teom grams'!$F446*0.000000028317),\"\")","v":""},{"$f":"IF(ISNUMBER('Teom ugm3'!D448),('Teom ugm3'!D448*'Teom grams'!$F446*0.000000028317),\"\")","v":""},"","","","",null,"","","",null,"",""]
[null,null,{"$f":"IF('Teom ugm3'!A449=\"\",\"\",C446+1)","v":""},"",null,"",null,{"$f":"IF(ISNUMBER('Teom ugm3'!B449),('Teom ugm3'!B449*'Teom grams'!$F447*0.000000028317),\"\")","v":""},{"$f":"IF(ISNUMBER('Teom ugm3'!C449),('Teom ugm3'!C449*'Teom grams'!$F447*0.000000028317),\"\")","v":""},{"$f":"IF(ISNUMBER('Teom ugm3'!D449),('Teom ugm3'!D449*'Teom grams'!$F447*0.000000028317),\"\")","v":""},"","","","",null,"","","",null,"",""]
[null,null,{"$f":"IF('Teom ugm3'!A450=\"\",\"\",C447+1)","v":""},"",null,"",null,{"$f":"IF(ISNUMBER('Teom ugm3'!B450),('Teom ugm3'!B450*'Teom grams'!$F448*0.000000028317),\"\")","v":""},{"$f":"IF(ISNUMBER('Teom ugm3'!C450),('Teom ugm3'!C450*'Teom grams'!$F448*0.000000028317),\"\")","v":""},{"$f":"IF(ISNUMBER('Teom ugm3'!D450),('Teom ugm3'!D450*'Teom grams'!$F448*0.000000028317),\"\")","v":""},"","","","",null,"","","",null,"",""]
[null,null,{"$f":"IF('Teom ugm3'!A451=\"\",\"\",C448+1)","v":""},"",null,"",null,{"$f":"IF(ISNUMBER('Teom ugm3'!B451),('Teom ugm3'!B451*'Teom grams'!$F449*0.000000028317),\"\")","v":""},{"$f":"IF(ISNUMBER('Teom ugm3'!C451),('Teom ugm3'!C451*'Teom grams'!$F449*0.000000028317),\"\")","v":""},{"$f":"IF(ISNUMBER('Teom ugm3'!D451),('Teom ugm3'!D451*'Teom grams'!$F449*0.000000028317),\"\")","v":""},"","","","",null,"","","",null,"",""]
[null,null,{"$f":"IF('Teom ugm3'!A452=\"\",\"\",C449+1)","v":""},"",null,"",null,{"$f":"IF(ISNUMBER('Teom ugm3'!B452),('Teom ugm3'!B452*'Teom grams'!$F450*0.000000028317),\"\")","v":""},{"$f":"IF(ISNUMBER('Teom ugm3'!C452),('Teom ugm3'!C452*'Teom grams'!$F450*0.000000028317),\"\")","v":""},{"$f":"IF(ISNUMBER('Teom ugm3'!D452),('Teom ugm3'!D452*'Teom grams'!$F450*0.000000028317),\"\")","v":""},"","","","",null,"","","",null,"",""]
[null,null,{"$f":"IF('Teom ugm3'!A453=\"\",\"\",C450+1)","v":""},"",null,"",null,{"$f":"IF(ISNUMBER('Teom ugm3'!B453),('Teom ugm3'!B453*'Teom grams'!$F451*0.000000028317),\"\")","v":""},{"$f":"IF(ISNUMBER('Teom ugm3'!C453),('Teom ugm3'!C453*'Teom grams'!$F451*0.000000028317),\"\")","v":""},{"$f":"IF(ISNUMBER('Teom ugm3'!D453),('Teom ugm3'!D453*'Teom grams'!$F451*0.000000028317),\"\")","v":""},"","","","",null,"","","",null,"",""]
[null,null,{"$f":"IF('Teom ugm3'!A454=\"\",\"\",C451+1)","v":""},"",null,"",null,{"$f":"IF(ISNUMBER('Teom ugm3'!B454),('Teom ugm3'!B454*'Teom grams'!$F452*0.000000028317),\"\")","v":""},{"$f":"IF(ISNUMBER('Teom ugm3'!C454),('Teom ugm3'!C454*'Teom grams'!$F452*0.000000028317),\"\")","v":""},{"$f":"IF(ISNUMBER('Teom ugm3'!D454),('Teom ugm3'!D454*'Teom grams'!$F452*0.000000028317),\"\")","v":""},"","","",{"$f":"M452","v":""},null,"",{"$f":"IF(ISNUMBER(M452),M452*60,\"\")","v":""},"",null,{"$f":"IF(COUNT(C452:C511)>59,AVERAGE(P452:P511),\"\")","v":""},{"$f":"IF(COUNT(C452:C511)>59,AVERAGE(Q452:Q511),\"\")","v":""}]
[null,null,{"$f":"IF('Teom ugm3'!A455=\"\",\"\",C452+1)","v":""},"",null,{"$f":"IF(C453=\"\",\"\",E453*1.02041)","v":""},null,{"$f":"IF(ISNUMBER('Teom ugm3'!B455),('Teom ugm3'!B455*'Teom grams'!$F453*0.000000028317),\"\")","v":""},{"$f":"IF(ISNUMBER('Teom ugm3'!C455),('Teom ugm3'!C455*'Teom grams'!$F453*0.000000028317),\"\")","v":""},{"$f":"IF(ISNUMBER('Teom ugm3'!D455),('Teom ugm3'!D455*'Teom grams'!$F453*0.000000028317),\"\")","v":""},{"$f":"IF(H453<0,0,H453)","v":""},{"$f":"IF(I453<0,0,I453)","v":""},"","",null,{"$f":"IF(ISNUMBER(J453),J453*60,\"\")","v":""},"",{"$f":"IF(ISNUMBER(N453),N453*60,\"\")","v":""},null,"",""]
[null,null,{"$f":"IF('Teom ugm3'!A456=\"\",\"\",C453+1)","v":""},{"$f":"IF(C454=\"\",\"\",D453 + TIME(0, 1, 0))","v":""},null,"",null,{"$f":"IF(ISNUMBER('Teom ugm3'!B456),('Teom ugm3'!B456*'Teom grams'!$F454*0.000000028317),\"\")","v":""},{"$f":"IF(ISNUMBER('Teom ugm3'!C456),('Teom ugm3'!C456*'Teom grams'!$F454*0.000000028317),\"\")","v":""},{"$f":"IF(ISNUMBER('Teom ugm3'!D456),('Teom ugm3'!D456*'Teom grams'!$F454*0.000000028317),\"\")","v":""},"","","","",null,"","","",null,"",""]
[null,null,{"$f":"IF('Teom ugm3'!A457=\"\",\"\",C454+1)","v":""},"",null,"",null,{"$f":"IF(ISNUMBER('Teom ugm3'!B457),('Teom ugm3'!B457*'Teom grams'!$F455*0.000000028317),\"\")","v":""},{"$f":"IF(ISNUMBER('Teom ugm3'!C457),('Teom ugm3'!C457*'Teom grams'!$F455*0.000000028317),\"\")","v":""},{"$f":"IF(ISNUMBER('Teom ugm3'!D457),('Teom ugm3'!D457*'Teom grams'!$F455*0.000000028317),\"\")","v":""},"","","","",null,"","","",null,"",""]
[null,null,{"$f":"IF('Teom ugm3'!A458=\"\",\"\",C455+1)","v":""},"",null,"",null,{"$f":"IF(ISNUMBER('Teom ugm3'!B458),('Teom ugm3'!B458*'Teom grams'!$F456*0.000000028317),\"\")","v":""},{"$f":"IF(ISNUMBER('Teom ugm3'!C458),('Teom ugm3'!C458*'Teom grams'!$F456*0.000000028317),\"\")","v":""},{"$f":"IF(ISNUMBER('Teom ugm3'!D458),('Teom ugm3'!D458*'Teom grams'!$F456*0.000000028317),\"\")","v":""},"","","","",null,"","","",null,"",""]
[null,null,{"$f":"IF('Teom ugm3'!A459=\"\",\"\",C456+1)","v":""},"",null,"",null,{"$f":"IF(ISNUMBER('Teom ugm3'!B459),('Teom ugm3'!B459*'Teom grams'!$F457*0.000000028317),\"\")","v":""},{"$f":"IF(ISNUMBER('Teom ugm3'!C459),('Teom ugm3'!C459*'Teom grams'!$F457*0.000000028317),\"\")","v":""},{"$f":"IF(ISNUMBER('Teom ugm3'!D459),('Teom ugm3'!D459*'Teom grams'!$F457*0.000000028317),\"\")","v":""},"","","","",null,"","","",null,"",""]
[null,null,{"$f":"IF('Teom ugm3'!A460=\"\",\"\",C457+1)","v":""},"",null,"",null,{"$f":"IF(ISNUMBER('Teom ugm3'!B460),('Teom ugm3'!B460*'Teom grams'!$F458*0.000000028317),\"\")","v":""},{"$f":"IF(ISNUMBER('Teom ugm3'!C460),('Teom ugm3'!C460*'Teom grams'!$F458*0.000000028317),\"\")","v":""},{"$f":"IF(ISNUMBER('Teom ugm3'!D460),('Teom ugm3'!D460*'Teom grams'!$F458*0.000000028317),\"\")","v":""},"","","","",null,"","","",null,"",""]
[null,null,{"$f":"IF('Teom ugm3'!A461=\"\",\"\",C458+1)","v":""},"",null,"",null,{"$f":"IF(ISNUMBER('Teom ugm3'!B461),('Teom ugm3'!B461*'Teom grams'!$F459*0.000000028317),\"\")","v":""},{"$f":"IF(ISNUMBER('Teom ugm3'!C461),('Teom ugm3'!C461*'Teom grams'!$F459*0.000000028317),\"\")","v":""},{"$f":"IF(ISNUMBER('Teom ugm3'!D461),('Teom ugm3'!D461*'Teom grams'!$F459*0.000000028317),\"\")","v":""},"","",{"$f":"IF(COUNT(K459:L459)>0,AVERAGE(K459:L459),\"\")","v":""},"",null,"","","",null,"",""]
[null,null,{"$f":"IF('Teom ugm3'!A462=\"\",\"\",C459+1)","v":""},"",null,"",null,{"$f":"IF(ISNUMBER('Teom ugm3'!B462),('Teom ugm3'!B462*'Teom grams'!$F460*0.000000028317),\"\")","v":""},{"$f":"IF(ISNUMBER('Teom ugm3'!C462),('Teom ugm3'!C462*'Teom grams'!$F460*0.000000028317),\"\")","v":""},{"$f":"IF(ISNUMBER('Teom ugm3'!D462),('Teom ugm3'!D462*'Teom grams'!$F460*0.000000028317),\"\")","v":""},"","","","",null,"","","",null,"",""]
[null,null,{"$f":"IF('Teom ugm3'!A463=\"\",\"\",C460+1)","v":""},"",null,"",null,{"$f":"IF(ISNUMBER('Teom ugm3'!B463),('Teom ugm3'!B463*'Teom grams'!$F461*0.000000028317),\"\")","v":""},{"$f":"IF(ISNUMBER('Teom ugm3'!C463),('Teom ugm3'!C463*'Teom grams'!$F461*0.000000028317),\"\")","v":""},{"$f":"IF(ISNUMBER('Teom ugm3'!D463),('Teom ugm3'!D463*'Teom grams'!$F461*0.000000028317),\"\")","v":""},"","","","",null,"","","",null,"",""]
[null,null,{"$f":"IF('Teom ugm3'!A464=\"\",\"\",C461+1)","v":""},"",null,"",null,{"$f":"IF(ISNUMBER('Teom ugm3'!B464),('Teom ugm3'!B464*'Teom grams'!$F462*0.000000028317),\"\")","v":""},{"$f":"IF(ISNUMBER('Teom ugm3'!C464),('Teom ugm3'!C464*'Teom grams'!$F462*0.000000028317),\"\")","v":""},{"$f":"IF(ISNUMBER('Teom ugm3'!D464),('Teom ugm3'!D464*'Teom grams'!$F462*0.000000028317),\"\")","v":""},"","","","",null,"","","",null,"",""]
[null,null,{"$f":"IF('Teom ugm3'!A465=\"\",\"\",C462+1)","v":""},"",null,"",null,{"$f":"IF(ISNUMBER('Teom ugm3'!B465),('Teom ugm3'!B465*'Teom grams'!$F463*0.000000028317),\"\")","v":""},{"$f":"IF(ISNUMBER('Teom ugm3'!C465),('Teom ugm3'!C465*'Teom grams'!$F463*0.000000028317),\"\")","v":""},{"$f":"IF(ISNUMBER('Teom ugm3'!D465),('Teom ugm3'!D465*'Teom grams'!$F463*0.000000028317),\"\")","v":""},"","","","",null,"","","",null,"",""]
[null,null,{"$f":"IF('Teom ugm3'!A466=\"\",\"\",C463+1)","v":""},"",null,"",null,{"$f":"IF(ISNUMBER('Teom ugm3'!B466),('Teom ugm3'!B466*'Teom grams'!$F464*0.000000028317),\"\")","v":""},{"$f":"IF(ISNUMBER('Teom ugm3'!C466),('Teom ugm3'!C466*'Teom grams'!$F464*0.000000028317),\"\")","v":""},{"$f":"IF(ISNUMBER('Teom ugm3'!D466),('Teom ugm3'!D466*'Teom grams'!$F464*0.000000028317),\"\")","v":""},"","","","",null,"","","",null,"",""]
[null,null,{"$f":"IF('Teom ugm3'!A467=\"\",\"\",C464+1)","v":""},"",null,"",null,{"$f":"IF(ISNUMBER('Teom ugm3'!B467),('Teom ugm3'!B467*'Teom grams'!$F465*0.000000028317),\"\")","v":""},{"$f":"IF(ISNUMBER('Teom ugm3'!C467),('Teom ugm3'!C467*'Teom grams'!$F465*0.000000028317),\"\")","v":""},{"$f":"IF(ISNUMBER('Teom ugm3'!D467),('Teom ugm3'!D467*'Teom grams'!$F465*0.000000028317),\"\")","v":""},"","","","",null,"","","",null,"",""]
[null,null,{"$f":"IF('Teom ugm3'!A468=\"\",\"\",C465+1)","v":""},"",null,"",null,{"$f":"IF(ISNUMBER('Teom ugm3'!B468),('Teom ugm3'!B468*'Teom grams'!$F466*0.000000028317),\"\")","v":""},{"$f":"IF(ISNUMBER('Teom ugm3'!C468),('Teom ugm3'!C468*'Teom grams'!$F466*0.000000028317),\"\")","v":""},{"$f":"IF(ISNUMBER('Teom ugm3'!D468),('Teom ugm3'!D468*'Teom grams'!$F466*0.000000028317),\"\")","v":""},"","","","",null,"","","",null,"",""]
[null,null,{"$f":"IF('Teom ugm3'!A469=\"\",\"\",C466+1)","v":""},"",null,"",null,{"$f":"IF(ISNUMBER('Teom ugm3'!B469),('Teom ugm3'!B469*'Teom grams'!$F467*0.000000028317),\"\")","v":""},{"$f":"IF(ISNUMBER('Teom ugm3'!C469),('Teom ugm3'!C469*'Teom grams'!$F467*0.000000028317),\"\")","v":""},{"$f":"IF(ISNUMBER('Teom ugm3'!D469),('Teom ugm3'!D469*'Teom grams'!$F467*0.000000028317),\"\")","v":""},"","","","",null,"","","",null,"",""]
[null,null,{"$f":"IF('Teom ugm3'!A470=\"\",\"\",C467+1)","v":""},"",null,"",null,{"$f":"IF(ISNUMBER('Teom ugm3'!B470),('Teom ugm3'!B470*'Teom grams'!$F468*0.000000028317),\"\")","v":""},{"$f":"IF(ISNUMBER('Teom ugm3'!C470),('Teom ugm3'!C470*'Teom grams'!$F468*0.000000028317),\"\")","v":""},{"$f":"IF(ISNUMBER('Teom ugm3'!D470),('Teom ugm3'!D470*'Teom grams'!$F468*0.000000028317),\"\")","v":""},"","","","",null,"","","",null,"",""]
[null,null,{"$f":"IF('Teom ugm3'!A471=\"\",\"\",C468+1)","v":""},"",null,"",null,{"$f":"IF(ISNUMBER('Teom ugm3'!B471),('Teom ugm3'!B471*'Teom grams'!$F469*0.000000028317),\"\")","v":""},{"$f":"IF(ISNUMBER('Teom ugm3'!C471),('Teom ugm3'!C471*'Teom grams'!$F469*0.000000028317),\"\")","v":""},{"$f":"IF(ISNUMBER('Teom ugm3'!D471),('Teom ugm3'!D471*'Teom grams'!$F469*0.000000028317),\"\")","v":""},"","","","",null,"","","",null,"",""]
[null,null,{"$f":"IF('Teom ugm3'!A472=\"\",\"\",C469+1)","v":""},"",null,"",null,{"$f":"IF(ISNUMBER('Teom ugm3'!B472),('Teom ugm3'!B472*'Teom grams'!$F470*0.000000028317),\"\")","v":""},{"$f":"IF(ISNUMBER('Teom ugm3'!C472),('Teom ugm3'!C472*'Teom grams'!$F470*0.000000028317),\"\")","v":""},{"$f":"IF(ISNUMBER('Teom ugm3'!D472),('Teom ugm3'!D472*'Teom grams'!$F470*0.000000028317),\"\")","v":""},"","","","",null,"","","",null,"",""]
[null,null,{"$f":"IF('Teom ugm3'!A473=\"\",\"\",C470+1)","v":""},"",null,"",null,{"$f":"IF(ISNUMBER('Teom ugm3'!B473),('Teom ugm3'!B473*'Teom grams'!$F471*0.000000028317),\"\")","v":""},{"$f":"IF(ISNUMBER('Teom ugm3'!C473),('Teom ugm3'!C473*'Teom grams'!$F471*0.000000028317),\"\")","v":""},{"$f":"IF(ISNUMBER('Teom ugm3'!D473),('Teom ugm3'!D473*'Teom grams'!$F471*0.000000028317),\"\")","v":""},"","","","",null,"","","",null,"",""]
[null,null,{"$f":"IF('Teom ugm3'!A474=\"\",\"\",C471+1)","v":""},"",null,"",null,{"$f":"IF(ISNUMBER('Teom ugm3'!B474),('Teom ugm3'!B474*'Teom grams'!$F472*0.000000028317),\"\")","v":""},{"$f":"IF(ISNUMBER('Teom ugm3'!C474),('Teom ugm3'!C474*'Teom grams'!$F472*0.000000028317),\"\")","v":""},{"$f":"IF(ISNUMBER('Teom ugm3'!D474),('Teom ugm3'!D474*'Teom grams'!$F472*0.000000028317),\"\")","v":""},"","","","",null,"","","",null,"",""]
[null,null,{"$f":"IF('Teom ugm3'!A475=\"\",\"\",C472+1)","v":""},"",null,"",null,{"$f":"IF(ISNUMBER('Teom ugm3'!B475),('Teom ugm3'!B475*'Teom grams'!$F473*0.000000028317),\"\")","v":""},{"$f":"IF(ISNUMBER('Teom ugm3'!C475),('Teom ugm3'!C475*'Teom grams'!$F473*0.000000028317),\"\")","v":""},{"$f":"IF(ISNUMBER('Teom ugm3'!D475),('Teom ugm3'!D475*'Teom grams'!$F473*0.000000028317),\"\")","v":""},"","","","",null,"","","",null,"",""]
[null,null,{"$f":"IF('Teom ugm3'!A476=\"\",\"\",C473+1)","v":""},"",null,"",null,{"$f":"IF(ISNUMBER('Teom ugm3'!B476),('Teom ugm3'!B476*'Teom grams'!$F474*0.000000028317),\"\")","v":""},{"$f":"IF(ISNUMBER('Teom ugm3'!C476),('Teom ugm3'!C476*'Teom grams'!$F474*0.000000028317),\"\")","v":""},{"$f":"IF(ISNUMBER('Teom ugm3'!D476),('Teom ugm3'!D476*'Teom grams'!$F474*0.000000028317),\"\")","v":""},"","","","",null,"","","",null,"",""]
[null,null,{"$f":"IF('Teom ugm3'!A477=\"\",\"\",C474+1)","v":""},"",null,"",null,{"$f":"IF(ISNUMBER('Teom ugm3'!B477),('Teom ugm3'!B477*'Teom grams'!$F475*0.000000028317),\"\")","v":""},{"$f":"IF(ISNUMBER('Teom ugm3'!C477),('Teom ugm3'!C477*'Teom grams'!$F475*0.000000028317),\"\")","v":""},{"$f":"IF(ISNUMBER('Teom ugm3'!D477),('Teom ugm3'!D477*'Teom grams'!$F475*0.000000028317),\"\")","v":""},"","","","",null,"","","",null,"",""]
[null,null,{"$f":"IF('Teom ugm3'!A478=\"\",\"\",C475+1)","v":""},"",null,"",null,{"$f":"IF(ISNUMBER('Teom ugm3'!B478),('Teom ugm3'!B478*'Teom grams'!$F476*0.000000028317),\"\")","v":""},{"$f":"IF(ISNUMBER('Teom ugm3'!C478),('Teom ugm3'!C478*'Teom grams'!$F476*0.000000028317),\"\")","v":""},{"$f":"IF(ISNUMBER('Teom ugm3'!D478),('Teom ugm3'!D478*'Teom grams'!$F476*0.000000028317),\"\")","v":""},"","","","",null,"","","",null,"",""]
[null,null,{"$f":"IF('Teom ugm3'!A479=\"\",\"\",C476+1)","v":""},"",null,"",null,{"$f":"IF(ISNUMBER('Teom ugm3'!B479),('Teom ugm3'!B479*'Teom grams'!$F477*0.000000028317),\"\")","v":""},{"$f":"IF(ISNUMBER('Teom ugm3'!C479),('Teom ugm3'!C479*'Teom grams'!$F477*0.000000028317),\"\")","v":""},{"$f":"IF(ISNUMBER('Teom ugm3'!D479),('Teom ugm3'!D479*'Teom grams'!$F477*0.000000028317),\"\")","v":""},"","","","",null,"","","",null,"",""]
[null,null,{"$f":"IF('Teom ugm3'!A480=\"\",\"\",C477+1)","v":""},"",null,"",null,{"$f":"IF(ISNUMBER('Teom ugm3'!B480),('Teom ugm3'!B480*'Teom grams'!$F478*0.000000028317),\"\")","v":""},{"$f":"IF(ISNUMBER('Teom ugm3'!C480),('Teom ugm3'!C480*'Teom grams'!$F478*0.000000028317),\"\")","v":""},{"$f":"IF(ISNUMBER('Teom ugm3'!D480),('Teom ugm3'!D480*'Teom grams'!$F478*0.000000028317),\"\")","v":""},"","","","",null,"","","",null,"",""]
[null,null,{"$f":"IF('Teom ugm3'!A481=\"\",\"\",C478+1)","v":""},"",null,"",null,{"$f":"IF(ISNUMBER('Teom ugm3'!B481),('Teom ugm3'!B481*'Teom grams'!$F479*0.000000028317),\"\")","v":""},{"$f":"IF(ISNUMBER('Teom ugm3'!C481),('Teom ugm3'!C481*'Teom grams'!$F479*0.000000028317),\"\")","v":""},{"$f":"IF(ISNUMBER('Teom ugm3'!D481),('Teom ugm3'!D481*'Teom grams'!$F479*0.000000028317),\"\")","v":""},"","","","",null,"","","",null,"",""]
[null,null,{"$f":"IF('Teom ugm3'!A482=\"\",\"\",C479+1)","v":""},"",null,"",null,{"$f":"IF(ISNUMBER('Teom ugm3'!B482),('Teom ugm3'!B482*'Teom grams'!$F480*0.000000028317),\"\")","v":""},{"$f":"IF(ISNUMBER('Teom ugm3'!C482),('Teom ugm3'!C482*'Teom grams'!$F480*0.000000028317),\"\")","v":""},{"$f":"IF(ISNUMBER('Teom ugm3'!D482),('Teom ugm3'!D482*'Teom grams'!$F480*0.000000028317),\"\")","v":""},"","","","",null,"","","",null,"",""]
[null,null,{"$f":"IF('Teom ugm3'!A483=\"\",\"\",C480+1)","v":""},"",null,"",null,{"$f":"IF(ISNUMBER('Teom ugm3'!B483),('Teom ugm3'!B483*'Teom grams'!$F481*0.000000028317),\"\")","v":""},{"$f":"IF(ISNUMBER('Teom ugm3'!C483),('Teom ugm3'!C483*'Teom grams'!$F481*0.000000028317),\"\")","v":""},{"$f":"IF(ISNUMBER('Teom ugm3'!D483),('Teom ugm3'!D483*'Teom grams'!$F481*0.000000028317),\"\")","v":""},"","","","",null,"","","",null,"",""]
[null,null,{"$f":"IF('Teom ugm3'!A484=\"\",\"\",C481+1)","v":""},"",null,"",null,{"$f":"IF(ISNUMBER('Teom ugm3'!B484),('Teom ugm3'!B484*'Teom grams'!$F482*0.000000028317),\"\")","v":""},{"$f":"IF(ISNUMBER('Teom ugm3'!C484),('Teom ugm3'!C484*'Teom grams'!$F482*0.000000028317),\"\")","v":""},{"$f":"IF(ISNUMBER('Teom ugm3'!D484),('Teom ugm3'!D484*'Teom grams'!$F482*0.000000028317),\"\")","v":""},"","","","",null,"","","",null,"",""]
[null,null,{"$f":"IF('Teom ugm3'!A485=\"\",\"\",C482+1)","v":""},"",null,"",null,{"$f":"IF(ISNUMBER('Teom ugm3'!B485),('Teom ugm3'!B485*'Teom grams'!$F483*0.000000028317),\"\")","v":""},{"$f":"IF(ISNUMBER('Teom ugm3'!C485),('Teom ugm3'!C485*'Teom grams'!$F483*0.000000028317),\"\")","v":""},{"$f":"IF(ISNUMBER('Teom ugm3'!D485),('Teom ugm3'!D485*'Teom grams'!$F483*0.000000028317),\"\")","v":""},"","","","",null,"","","",null,"",""]
[null,null,{"$f":"IF('Teom ugm3'!A486=\"\",\"\",C483+1)","v":""},"",null,"",null,{"$f":"IF(ISNUMBER('Teom ugm3'!B486),('Teom ugm3'!B486*'Teom grams'!$F484*0.000000028317),\"\")","v":""},{"$f":"IF(ISNUMBER('Teom ugm3'!C486),('Teom ugm3'!C486*'Teom grams'!$F484*0.000000028317),\"\")","v":""},{"$f":"IF(ISNUMBER('Teom ugm3'!D486),('Teom ugm3'!D486*'Teom grams'!$F484*0.000000028317),\"\")","v":""},"","","","",null,"","","",null,"",""]
[null,null,{"$f":"IF('Teom ugm3'!A487=\"\",\"\",C484+1)","v":""},"",null,"",null,{"$f":"IF(ISNUMBER('Teom ugm3'!B487),('Teom ugm3'!B487*'Teom grams'!$F485*0.000000028317),\"\")","v":""},{"$f":"IF(ISNUMBER('Teom ugm3'!C487),('Teom ugm3'!C487*'Teom grams'!$F485*0.000000028317),\"\")","v":""},{"$f":"IF(ISNUMBER('Teom ugm3'!D487),('Teom ugm3'!D487*'Teom grams'!$F485*0.000000028317),\"\")","v":""},"","","","",null,"","","",null,"",""]
[null,null,{"$f":"IF('Teom ugm3'!A488=\"\",\"\",C485+1)","v":""},"",null,"",null,{"$f":"IF(ISNUMBER('Teom ugm3'!B488),('Teom ugm3'!B488*'Teom grams'!$F486*0.000000028317),\"\")","v":""},{"$f":"IF(ISNUMBER('Teom ugm3'!C488),('Teom ugm3'!C488*'Teom grams'!$F486*0.000000028317),\"\")","v":""},{"$f":"IF(ISNUMBER('Teom ugm3'!D488),('Teom ugm3'!D488*'Teom grams'!$F486*0.000000028317),\"\")","v":""},"","","","",null,"","","",null,"",""]
[null,null,{"$f":"IF('Teom ugm3'!A489=\"\",\"\",C486+1)","v":""},"",null,"",null,{"$f":"IF(ISNUMBER('Teom ugm3'!B489),('Teom ugm3'!B489*'Teom grams'!$F487*0.000000028317),\"\")","v":""},{"$f":"IF(ISNUMBER('Teom ugm3'!C489),('Teom ugm3'!C489*'Teom grams'!$F487*0.000000028317),\"\")","v":""},{"$f":"IF(ISNUMBER('Teom ugm3'!D489),('Teom ugm3'!D489*'Teom grams'!$F487*0.000000028317),\"\")","v":""},"","","","",null,"","","",null,"",""]
[null,null,{"$f":"IF('Teom ugm3'!A490=\"\",\"\",C487+1)","v":""},"",null,"",null,{"$f":"IF(ISNUMBER('Teom ugm3'!B490),('Teom ugm3'!B490*'Teom grams'!$F488*0.000000028317),\"\")","v":""},{"$f":"IF(ISNUMBER('Teom ugm3'!C490),('Teom ugm3'!C490*'Teom grams'!$F488*0.000000028317),\"\")","v":""},{"$f":"IF(ISNUMBER('Teom ugm3'!D490),('Teom ugm3'!D490*'Teom grams'!$F488*0.000000028317),\"\")","v":""},"","","","",null,"","","",null,"",""]
[null,null,{"$f":"IF('Teom ugm3'!A491=\"\",\"\",C488+1)","v":""},"",null,"",null,{"$f":"IF(ISNUMBER('Teom ugm3'!B491),('Teom ugm3'!B491*'Teom grams'!$F489*0.000000028317),\"\")","v":""},{"$f":"IF(ISNUMBER('Teom ugm3'!C491),('Teom ugm3'!C491*'Teom grams'!$F489*0.000000028317),\"\")","v":""},{"$f":"IF(ISNUMBER('Teom ugm3'!D491),('Teom ugm3'!D491*'Teom grams'!$F489*0.000000028317),\"\")","v":""},"","","","",null,"","","",null,"",""]
[null,null,{"$f":"IF('Teom ugm3'!A492=\"\",\"\",C489+1)","v":""},"",null,"",null,{"$f":"IF(ISNUMBER('Teom ugm3'!B492),('Teom ugm3'!B492*'Teom grams'!$F490*0.000000028317),\"\")","v":""},{"$f":"IF(ISNUMBER('Teom ugm3'!C492),('Teom ugm3'!C492*'Teom grams'!$F490*0.000000028317),\"\")","v":""},{"$f":"IF(ISNUMBER('Teom ugm3'!D492),('Teom ugm3'!D492*'Teom grams'!$F490*0.000000028317),\"\")","v":""},"","","","",null,"","","",null,"",""]
[null,null,{"$f":"IF('Teom ugm3'!A493=\"\",\"\",C490+1)","v":""},"",null,"",null,{"$f":"IF(ISNUMBER('Teom ugm3'!B493),('Teom ugm3'!B493*'Teom grams'!$F491*0.000000028317),\"\")","v":""},{"$f":"IF(ISNUMBER('Teom ugm3'!C493),('Teom ugm3'!C493*'Teom grams'!$F491*0.000000028317),\"\")","v":""},{"$f":"IF(ISNUMBER('Teom ugm3'!D493),('Teom ugm3'!D493*'Teom grams'!$F491*0.000000028317),\"\")","v":""},"","","","",null,"","","",null,"",""]
[null,null,{"$f":"IF('Teom ugm3'!A494=\"\",\"\",C491+1)","v":""},"",null,"",null,{"$f":"IF(ISNUMBER('Teom ugm3'!B494),('Teom ugm3'!B494*'Teom grams'!$F492*0.000000028317),\"\")","v":""},{"$f":"IF(ISNUMBER('Teom ugm3'!C494),('Teom ugm3'!C494*'Teom grams'!$F492*0.000000028317),\"\")","v":""},{"$f":"IF(ISNUMBER('Teom ugm3'!D494),('Teom ugm3'!D494*'Teom grams'!$F492*0.000000028317),\"\")","v":""},"","","","",null,"","","",null,"",""]
[null,null,{"$f":"IF('Teom ugm3'!A495=\"\",\"\",C492+1)","v":""},"",null,"",null,{"$f":"IF(ISNUMBER('Teom ugm3'!B495),('Teom ugm3'!B495*'Teom grams'!$F493*0.000000028317),\"\")","v":""},{"$f":"IF(ISNUMBER('Teom ugm3'!C495),('Teom ugm3'!C495*'Teom grams'!$F493*0.000000028317),\"\")","v":""},{"$f":"IF(ISNUMBER('Teom ugm3'!D495),('Teom ugm3'!D495*'Teom grams'!$F493*0.000000028317),\"\")","v":""},"","","","",null,"","","",null,"",""]
[null,null,{"$f":"IF('Teom ugm3'!A496=\"\",\"\",C493+1)","v":""},"",null,"",null,{"$f":"IF(ISNUMBER('Teom ugm3'!B496),('Teom ugm3'!B496*'Teom grams'!$F494*0.000000028317),\"\")","v":""},{"$f":"IF(ISNUMBER('Teom ugm3'!C496),('Teom ugm3'!C496*'Teom grams'!$F494*0.000000028317),\"\")","v":""},{"$f":"IF(ISNUMBER('Teom ugm3'!D496),('Teom ugm3'!D496*'Teom grams'!$F494*0.000000028317),\"\")","v":""},"","","","",null,"","","",null,"",""]
[null,null,{"$f":"IF('Teom ugm3'!A497=\"\",\"\",C494+1)","v":""},"",null,"",null,{"$f":"IF(ISNUMBER('Teom ugm3'!B497),('Teom ugm3'!B497*'Teom grams'!$F495*0.000000028317),\"\")","v":""},{"$f":"IF(ISNUMBER('Teom ugm3'!C497),('Teom ugm3'!C497*'Teom grams'!$F495*0.000000028317),\"\")","v":""},{"$f":"IF(ISNUMBER('Teom ugm3'!D497),('Teom ugm3'!D497*'Teom grams'!$F495*0.000000028317),\"\")","v":""},"","","","",null,"","","",null,"",""]
[null,null,{"$f":"IF('Teom ugm3'!A498=\"\",\"\",C495+1)","v":""},"",null,"",null,{"$f":"IF(ISNUMBER('Teom ugm3'!B498),('Teom ugm3'!B498*'Teom grams'!$F496*0.000000028317),\"\")","v":""},{"$f":"IF(ISNUMBER('Teom ugm3'!C498),('Teom ugm3'!C498*'Teom grams'!$F496*0.000000028317),\"\")","v":""},{"$f":"IF(ISNUMBER('Teom ugm3'!D498),('Teom ugm3'!D498*'Teom grams'!$F496*0.000000028317),\"\")","v":""},"","","","",null,"","","",null,"",""]
[null,null,{"$f":"IF('Teom ugm3'!A499=\"\",\"\",C496+1)","v":""},"",null,"",null,{"$f":"IF(ISNUMBER('Teom ugm3'!B499),('Teom ugm3'!B499*'Teom grams'!$F497*0.000000028317),\"\")","v":""},{"$f":"IF(ISNUMBER('Teom ugm3'!C499),('Teom ugm3'!C499*'Teom grams'!$F497*0.000000028317),\"\")","v":""},{"$f":"IF(ISNUMBER('Teom ugm3'!D499),('Teom ugm3'!D499*'Teom grams'!$F497*0.000000028317),\"\")","v":""},"","","","",null,"","","",null,"",""]
[null,null,{"$f":"IF('Teom ugm3'!A500=\"\",\"\",C497+1)","v":""},"",null,"",null,{"$f":"IF(ISNUMBER('Teom ugm3'!B500),('Teom ugm3'!B500*'Teom grams'!$F498*0.000000028317),\"\")","v":""},{"$f":"IF(ISNUMBER('Teom ugm3'!C500),('Teom ugm3'!C500*'Teom grams'!$F498*0.000000028317),\"\")","v":""},{"$f":"IF(ISNUMBER('Teom ugm3'!D500),('Teom ugm3'!D500*'Teom grams'!$F498*0.000000028317),\"\")","v":""},"","","","",null,"","","",null,"",""]
[null,null,{"$f":"IF('Teom ugm3'!A501=\"\",\"\",C498+1)","v":""},"",null,"",null,{"$f":"IF(ISNUMBER('Teom ugm3'!B501),('Teom ugm3'!B501*'Teom grams'!$F499*0.000000028317),\"\")","v":""},{"$f":"IF(ISNUMBER('Teom ugm3'!C501),('Teom ugm3'!C501*'Teom grams'!$F499*0.000000028317),\"\")","v":""},{"$f":"IF(ISNUMBER('Teom ugm3'!D501),('Teom ugm3'!D501*'Teom grams'!$F499*0.000000028317),\"\")","v":""},"","","","",null,"","","",null,"",""]
[null,null,{"$f":"IF('Teom ugm3'!A502=\"\",\"\",C499+1)","v":""},"",null,"",null,{"$f":"IF(ISNUMBER('Teom ugm3'!B502),('Teom ugm3'!B502*'Teom grams'!$F500*0.000000028317),\"\")","v":""},{"$f":"IF(ISNUMBER('Teom ugm3'!C502),('Teom ugm3'!C502*'Teom grams'!$F500*0.000000028317),\"\")","v":""},{"$f":"IF(ISNUMBER('Teom ugm3'!D502),('Teom ugm3'!D502*'Teom grams'!$F500*0.000000028317),\"\")","v":""},"","","","",null,"","","",null,"",""]
[null,null,{"$f":"IF('Teom ugm3'!A503=\"\",\"\",C500+1)","v":""},"",null,"",null,{"$f":"IF(ISNUMBER('Teom ugm3'!B503),('Teom ugm3'!B503*'Teom grams'!$F501*0.000000028317),\"\")","v":""},{"$f":"IF(ISNUMBER('Teom ugm3'!C503),('Teom ugm3'!C503*'Teom grams'!$F501*0.000000028317),\"\")","v":""},{"$f":"IF(ISNUMBER('Teom ugm3'!D503),('Teom ugm3'!D503*'Teom grams'!$F501*0.000000028317),\"\")","v":""},"","","","",null,"","","",null,"",""]
[null,null,{"$f":"IF('Teom ugm3'!A504=\"\",\"\",C501+1)","v":""},"",null,"",null,{"$f":"IF(ISNUMBER('Teom ugm3'!B504),('Teom ugm3'!B504*'Teom grams'!$F502*0.000000028317),\"\")","v":""},{"$f":"IF(ISNUMBER('Teom ugm3'!C504),('Teom ugm3'!C504*'Teom grams'!$F502*0.000000028317),\"\")","v":""},{"$f":"IF(ISNUMBER('Teom ugm3'!D504),('Teom ugm3'!D504*'Teom grams'!$F502*0.000000028317),\"\")","v":""},"","","","",null,"","","",null,"",""]
[null,null,{"$f":"IF('Teom ugm3'!A505=\"\",\"\",C502+1)","v":""},"",null,"",null,{"$f":"IF(ISNUMBER('Teom ugm3'!B505),('Teom ugm3'!B505*'Teom grams'!$F503*0.000000028317),\"\")","v":""},{"$f":"IF(ISNUMBER('Teom ugm3'!C505),('Teom ugm3'!C505*'Teom grams'!$F503*0.000000028317),\"\")","v":""},{"$f":"IF(ISNUMBER('Teom ugm3'!D505),('Teom ugm3'!D505*'Teom grams'!$F503*0.000000028317),\"\")","v":""},"","","","",null,"","","",null,"",""]
[null,null,{"$f":"IF('Teom ugm3'!A506=\"\",\"\",C503+1)","v":""},"",null,"",null,{"$f":"IF(ISNUMBER('Teom ugm3'!B506),('Teom ugm3'!B506*'Teom grams'!$F504*0.000000028317),\"\")","v":""},{"$f":"IF(ISNUMBER('Teom ugm3'!C506),('Teom ugm3'!C506*'Teom grams'!$F504*0.000000028317),\"\")","v":""},{"$f":"IF(ISNUMBER('Teom ugm3'!D506),('Teom ugm3'!D506*'Teom grams'!$F504*0.000000028317),\"\")","v":""},"","","","",null,"","","",null,"",""]
[null,null,{"$f":"IF('Teom ugm3'!A507=\"\",\"\",C504+1)","v":""},"",null,"",null,{"$f":"IF(ISNUMBER('Teom ugm3'!B507),('Teom ugm3'!B507*'Teom grams'!$F505*0.000000028317),\"\")","v":""},{"$f":"IF(ISNUMBER('Teom ugm3'!C507),('Teom ugm3'!C507*'Teom grams'!$F505*0.000000028317),\"\")","v":""},{"$f":"IF(ISNUMBER('Teom ugm3'!D507),('Teom ugm3'!D507*'Teom grams'!$F505*0.000000028317),\"\")","v":""},"","","","",null,"","","",null,"",""]
[null,null,{"$f":"IF('Teom ugm3'!A508=\"\",\"\",C505+1)","v":""},"",null,"",null,{"$f":"IF(ISNUMBER('Teom ugm3'!B508),('Teom ugm3'!B508*'Teom grams'!$F506*0.000000028317),\"\")","v":""},{"$f":"IF(ISNUMBER('Teom ugm3'!C508),('Teom ugm3'!C508*'Teom grams'!$F506*0.000000028317),\"\")","v":""},{"$f":"IF(ISNUMBER('Teom ugm3'!D508),('Teom ugm3'!D508*'Teom grams'!$F506*0.000000028317),\"\")","v":""},"","","","",null,"","","",null,"",""]
[null,null,{"$f":"IF('Teom ugm3'!A509=\"\",\"\",C506+1)","v":""},"",null,"",null,{"$f":"IF(ISNUMBER('Teom ugm3'!B509),('Teom ugm3'!B509*'Teom grams'!$F507*0.000000028317),\"\")","v":""},{"$f":"IF(ISNUMBER('Teom ugm3'!C509),('Teom ugm3'!C509*'Teom grams'!$F507*0.000000028317),\"\")","v":""},{"$f":"IF(ISNUMBER('Teom ugm3'!D509),('Teom ugm3'!D509*'Teom grams'!$F507*0.000000028317),\"\")","v":""},"","","","",null,"","","",null,"",""]
[null,null,{"$f":"IF('Teom ugm3'!A510=\"\",\"\",C507+1)","v":""},"",null,"",null,{"$f":"IF(ISNUMBER('Teom ugm3'!B510),('Teom ugm3'!B510*'Teom grams'!$F508*0.000000028317),\"\")","v":""},{"$f":"IF(ISNUMBER('Teom ugm3'!C510),('Teom ugm3'!C510*'Teom grams'!$F508*0.000000028317),\"\")","v":""},{"$f":"IF(ISNUMBER('Teom ugm3'!D510),('Teom ugm3'!D510*'Teom grams'!$F508*0.000000028317),\"\")","v":""},"","","","",null,"","","",null,"",""]
[null,null,{"$f":"IF('Teom ugm3'!A511=\"\",\"\",C508+1)","v":""},"",null,"",null,{"$f":"IF(ISNUMBER('Teom ugm3'!B511),('Teom ugm3'!B511*'Teom grams'!$F509*0.000000028317),\"\")","v":""},{"$f":"IF(ISNUMBER('Teom ugm3'!C511),('Teom ugm3'!C511*'Teom grams'!$F509*0.000000028317),\"\")","v":""},{"$f":"IF(ISNUMBER('Teom ugm3'!D511),('Teom ugm3'!D511*'Teom grams'!$F509*0.000000028317),\"\")","v":""},"","","","",null,"","","",null,"",""]
[null,null,{"$f":"IF('Teom ugm3'!A512=\"\",\"\",C509+1)","v":""},"",null,"",null,{"$f":"IF(ISNUMBER('Teom ugm3'!B512),('Teom ugm3'!B512*'Teom grams'!$F510*0.000000028317),\"\")","v":""},{"$f":"IF(ISNUMBER('Teom ugm3'!C512),('Teom ugm3'!C512*'Teom grams'!$F510*0.000000028317),\"\")","v":""},{"$f":"IF(ISNUMBER('Teom ugm3'!D512),('Teom ugm3'!D512*'Teom grams'!$F510*0.000000028317),\"\")","v":""},"","","","",null,"","","",null,"",""]
[null,null,{"$f":"IF('Teom ugm3'!A513=\"\",\"\",C510+1)","v":""},"",null,"",null,{"$f":"IF(ISNUMBER('Teom ugm3'!B513),('Teom ugm3'!B513*'Teom grams'!$F511*0.000000028317),\"\")","v":""},{"$f":"IF(ISNUMBER('Teom ugm3'!C513),('Teom ugm3'!C513*'Teom grams'!$F511*0.000000028317),\"\")","v":""},{"$f":"IF(ISNUMBER('Teom ugm3'!D513),('Teom ugm3'!D513*'Teom grams'!$F511*0.000000028317),\"\")","v":""},"","","","",null,"","","",null,"",""]
[null,null,{"$f":"IF('Teom ugm3'!A514=\"\",\"\",C511+1)","v":""},"",null,"",null,{"$f":"IF(ISNUMBER('Teom ugm3'!B514),('Teom ugm3'!B514*'Teom grams'!$F512*0.000000028317),\"\")","v":""},{"$f":"IF(ISNUMBER('Teom ugm3'!C514),('Teom ugm3'!C514*'Teom grams'!$F512*0.000000028317),\"\")","v":""},{"$f":"IF(ISNUMBER('Teom ugm3'!D514),('Teom ugm3'!D514*'Teom grams'!$F512*0.000000028317),\"\")","v":""},"","","","",null,"","","",null,"",""]
[null,null,{"$f":"IF('Teom ugm3'!A515=\"\",\"\",C512+1)","v":""},"",null,"",null,{"$f":"IF(ISNUMBER('Teom ugm3'!B515),('Teom ugm3'!B515*'Teom grams'!$F513*0.000000028317),\"\")","v":""},{"$f":"IF(ISNUMBER('Teom ugm3'!C515),('Teom ugm3'!C515*'Teom grams'!$F513*0.000000028317),\"\")","v":""},{"$f":"IF(ISNUMBER('Teom ugm3'!D515),('Teom ugm3'!D515*'Teom grams'!$F513*0.000000028317),\"\")","v":""},"","","","",null,"","","",null,"",""]
[null,null,{"$f":"IF('Teom ugm3'!A516=\"\",\"\",C513+1)","v":""},"",null,"",null,{"$f":"IF(ISNUMBER('Teom ugm3'!B516),('Teom ugm3'!B516*'Teom grams'!$F514*0.000000028317),\"\")","v":""},{"$f":"IF(ISNUMBER('Teom ugm3'!C516),('Teom ugm3'!C516*'Teom grams'!$F514*0.000000028317),\"\")","v":""},{"$f":"IF(ISNUMBER('Teom ugm3'!D516),('Teom ugm3'!D516*'Teom grams'!$F514*0.000000028317),\"\")","v":""},"","","","",null,"","","",null,"",""]
[null,null,{"$f":"IF('Teom ugm3'!A517=\"\",\"\",C514+1)","v":""},"",null,"",null,{"$f":"IF(ISNUMBER('Teom ugm3'!B517),('Teom ugm3'!B517*'Teom grams'!$F515*0.000000028317),\"\")","v":""},{"$f":"IF(ISNUMBER('Teom ugm3'!C517),('Teom ugm3'!C517*'Teom grams'!$F515*0.000000028317),\"\")","v":""},{"$f":"IF(ISNUMBER('Teom ugm3'!D517),('Teom ugm3'!D517*'Teom grams'!$F515*0.000000028317),\"\")","v":""},"","","","",null,"","","",null,"",""]
[null,null,{"$f":"IF('Teom ugm3'!A518=\"\",\"\",C515+1)","v":""},"",null,"",null,{"$f":"IF(ISNUMBER('Teom ugm3'!B518),('Teom ugm3'!B518*'Teom grams'!$F516*0.000000028317),\"\")","v":""},{"$f":"IF(ISNUMBER('Teom ugm3'!C518),('Teom ugm3'!C518*'Teom grams'!$F516*0.000000028317),\"\")","v":""},{"$f":"IF(ISNUMBER('Teom ugm3'!D518),('Teom ugm3'!D518*'Teom grams'!$F516*0.000000028317),\"\")","v":""},"","","",{"$f":"M516","v":""},null,"",{"$f":"IF(ISNUMBER(M516),M516*60,\"\")","v":""},"",null,{"$f":"IF(COUNT(C516:C575)>59,AVERAGE(P516:P575),\"\")","v":""},{"$f":"IF(COUNT(C516:C575)>59,AVERAGE(Q516:Q575),\"\")","v":""}]
[null,null,{"$f":"IF('Teom ugm3'!A519=\"\",\"\",C516+1)","v":""},"",null,{"$f":"IF(C517=\"\",\"\",E517*1.02041)","v":""},null,{"$f":"IF(ISNUMBER('Teom ugm3'!B519),('Teom ugm3'!B519*'Teom grams'!$F517*0.000000028317),\"\")","v":""},{"$f":"IF(ISNUMBER('Teom ugm3'!C519),('Teom ugm3'!C519*'Teom grams'!$F517*0.000000028317),\"\")","v":""},{"$f":"IF(ISNUMBER('Teom ugm3'!D519),('Teom ugm3'!D519*'Teom grams'!$F517*0.000000028317),\"\")","v":""},{"$f":"IF(H517<0,0,H517)","v":""},{"$f":"IF(I517<0,0,I517)","v":""},"","",null,{"$f":"IF(ISNUMBER(J517),J517*60,\"\")","v":""},"",{"$f":"IF(ISNUMBER(N517),N517*60,\"\")","v":""},null,"",""]
[null,null,{"$f":"IF('Teom ugm3'!A520=\"\",\"\",C517+1)","v":""},{"$f":"IF(C518=\"\",\"\",D517 + TIME(0, 1, 0))","v":""},null,"",null,{"$f":"IF(ISNUMBER('Teom ugm3'!B520),('Teom ugm3'!B520*'Teom grams'!$F518*0.000000028317),\"\")","v":""},{"$f":"IF(ISNUMBER('Teom ugm3'!C520),('Teom ugm3'!C520*'Teom grams'!$F518*0.000000028317),\"\")","v":""},{"$f":"IF(ISNUMBER('Teom ugm3'!D520),('Teom ugm3'!D520*'Teom grams'!$F518*0.000000028317),\"\")","v":""},"","","","",null,"","","",null,"",""]
[null,null,{"$f":"IF('Teom ugm3'!A521=\"\",\"\",C518+1)","v":""},"",null,"",null,{"$f":"IF(ISNUMBER('Teom ugm3'!B521),('Teom ugm3'!B521*'Teom grams'!$F519*0.000000028317),\"\")","v":""},{"$f":"IF(ISNUMBER('Teom ugm3'!C521),('Teom ugm3'!C521*'Teom grams'!$F519*0.000000028317),\"\")","v":""},{"$f":"IF(ISNUMBER('Teom ugm3'!D521),('Teom ugm3'!D521*'Teom grams'!$F519*0.000000028317),\"\")","v":""},"","","","",null,"","","",null,"",""]
[null,null,{"$f":"IF('Teom ugm3'!A522=\"\",\"\",C519+1)","v":""},"",null,"",null,{"$f":"IF(ISNUMBER('Teom ugm3'!B522),('Teom ugm3'!B522*'Teom grams'!$F520*0.000000028317),\"\")","v":""},{"$f":"IF(ISNUMBER('Teom ugm3'!C522),('Teom ugm3'!C522*'Teom grams'!$F520*0.000000028317),\"\")","v":""},{"$f":"IF(ISNUMBER('Teom ugm3'!D522),('Teom ugm3'!D522*'Teom grams'!$F520*0.000000028317),\"\")","v":""},"","","","",null,"","","",null,"",""]
[null,null,{"$f":"IF('Teom ugm3'!A523=\"\",\"\",C520+1)","v":""},"",null,"",null,{"$f":"IF(ISNUMBER('Teom ugm3'!B523),('Teom ugm3'!B523*'Teom grams'!$F521*0.000000028317),\"\")","v":""},{"$f":"IF(ISNUMBER('Teom ugm3'!C523),('Teom ugm3'!C523*'Teom grams'!$F521*0.000000028317),\"\")","v":""},{"$f":"IF(ISNUMBER('Teom ugm3'!D523),('Teom ugm3'!D523*'Teom grams'!$F521*0.000000028317),\"\")","v":""},"","","","",null,"","","",null,"",""]
[null,null,{"$f":"IF('Teom ugm3'!A524=\"\",\"\",C521+1)","v":""},"",null,"",null,{"$f":"IF(ISNUMBER('Teom ugm3'!B524),('Teom ugm3'!B524*'Teom grams'!$F522*0.000000028317),\"\")","v":""},{"$f":"IF(ISNUMBER('Teom ugm3'!C524),('Teom ugm3'!C524*'Teom grams'!$F522*0.000000028317),\"\")","v":""},{"$f":"IF(ISNUMBER('Teom ugm3'!D524),('Teom ugm3'!D524*'Teom grams'!$F522*0.000000028317),\"\")","v":""},"","","","",null,"","","",null,"",""]
[null,null,{"$f":"IF('Teom ugm3'!A525=\"\",\"\",C522+1)","v":""},"",null,"",null,{"$f":"IF(ISNUMBER('Teom ugm3'!B525),('Teom ugm3'!B525*'Teom grams'!$F523*0.000000028317),\"\")","v":""},{"$f":"IF(ISNUMBER('Teom ugm3'!C525),('Teom ugm3'!C525*'Teom grams'!$F523*0.000000028317),\"\")","v":""},{"$f":"IF(ISNUMBER('Teom ugm3'!D525),('Teom ugm3'!D525*'Teom grams'!$F523*0.000000028317),\"\")","v":""},"","",{"$f":"IF(COUNT(K523:L523)>0,AVERAGE(K523:L523),\"\")","v":""},"",null,"","","",null,"",""]
[null,null,{"$f":"IF('Teom ugm3'!A526=\"\",\"\",C523+1)","v":""},"",null,"",null,{"$f":"IF(ISNUMBER('Teom ugm3'!B526),('Teom ugm3'!B526*'Teom grams'!$F524*0.000000028317),\"\")","v":""},{"$f":"IF(ISNUMBER('Teom ugm3'!C526),('Teom ugm3'!C526*'Teom grams'!$F524*0.000000028317),\"\")","v":""},{"$f":"IF(ISNUMBER('Teom ugm3'!D526),('Teom ugm3'!D526*'Teom grams'!$F524*0.000000028317),\"\")","v":""},"","","","",null,"","","",null,"",""]
[null,null,{"$f":"IF('Teom ugm3'!A527=\"\",\"\",C524+1)","v":""},"",null,"",null,{"$f":"IF(ISNUMBER('Teom ugm3'!B527),('Teom ugm3'!B527*'Teom grams'!$F525*0.000000028317),\"\")","v":""},{"$f":"IF(ISNUMBER('Teom ugm3'!C527),('Teom ugm3'!C527*'Teom grams'!$F525*0.000000028317),\"\")","v":""},{"$f":"IF(ISNUMBER('Teom ugm3'!D527),('Teom ugm3'!D527*'Teom grams'!$F525*0.000000028317),\"\")","v":""},"","","","",null,"","","",null,"",""]
[null,null,{"$f":"IF('Teom ugm3'!A528=\"\",\"\",C525+1)","v":""},"",null,"",null,{"$f":"IF(ISNUMBER('Teom ugm3'!B528),('Teom ugm3'!B528*'Teom grams'!$F526*0.000000028317),\"\")","v":""},{"$f":"IF(ISNUMBER('Teom ugm3'!C528),('Teom ugm3'!C528*'Teom grams'!$F526*0.000000028317),\"\")","v":""},{"$f":"IF(ISNUMBER('Teom ugm3'!D528),('Teom ugm3'!D528*'Teom grams'!$F526*0.000000028317),\"\")","v":""},"","","","",null,"","","",null,"",""]
[null,null,{"$f":"IF('Teom ugm3'!A529=\"\",\"\",C526+1)","v":""},"",null,"",null,{"$f":"IF(ISNUMBER('Teom ugm3'!B529),('Teom ugm3'!B529*'Teom grams'!$F527*0.000000028317),\"\")","v":""},{"$f":"IF(ISNUMBER('Teom ugm3'!C529),('Teom ugm3'!C529*'Teom grams'!$F527*0.000000028317),\"\")","v":""},{"$f":"IF(ISNUMBER('Teom ugm3'!D529),('Teom ugm3'!D529*'Teom grams'!$F527*0.000000028317),\"\")","v":""},"","","","",null,"","","",null,"",""]
[null,null,{"$f":"IF('Teom ugm3'!A530=\"\",\"\",C527+1)","v":""},"",null,"",null,{"$f":"IF(ISNUMBER('Teom ugm3'!B530),('Teom ugm3'!B530*'Teom grams'!$F528*0.000000028317),\"\")","v":""},{"$f":"IF(ISNUMBER('Teom ugm3'!C530),('Teom ugm3'!C530*'Teom grams'!$F528*0.000000028317),\"\")","v":""},{"$f":"IF(ISNUMBER('Teom ugm3'!D530),('Teom ugm3'!D530*'Teom grams'!$F528*0.000000028317),\"\")","v":""},"","","","",null,"","","",null,"",""]
[null,null,{"$f":"IF('Teom ugm3'!A531=\"\",\"\",C528+1)","v":""},"",null,"",null,{"$f":"IF(ISNUMBER('Teom ugm3'!B531),('Teom ugm3'!B531*'Teom grams'!$F529*0.000000028317),\"\")","v":""},{"$f":"IF(ISNUMBER('Teom ugm3'!C531),('Teom ugm3'!C531*'Teom grams'!$F529*0.000000028317),\"\")","v":""},{"$f":"IF(ISNUMBER('Teom ugm3'!D531),('Teom ugm3'!D531*'Teom grams'!$F529*0.000000028317),\"\")","v":""},"","","","",null,"","","",null,"",""]
[null,null,{"$f":"IF('Teom ugm3'!A532=\"\",\"\",C529+1)","v":""},"",null,"",null,{"$f":"IF(ISNUMBER('Teom ugm3'!B532),('Teom ugm3'!B532*'Teom grams'!$F530*0.000000028317),\"\")","v":""},{"$f":"IF(ISNUMBER('Teom ugm3'!C532),('Teom ugm3'!C532*'Teom grams'!$F530*0.000000028317),\"\")","v":""},{"$f":"IF(ISNUMBER('Teom ugm3'!D532),('Teom ugm3'!D532*'Teom grams'!$F530*0.000000028317),\"\")","v":""},"","","","",null,"","","",null,"",""]
[null,null,{"$f":"IF('Teom ugm3'!A533=\"\",\"\",C530+1)","v":""},"",null,"",null,{"$f":"IF(ISNUMBER('Teom ugm3'!B533),('Teom ugm3'!B533*'Teom grams'!$F531*0.000000028317),\"\")","v":""},{"$f":"IF(ISNUMBER('Teom ugm3'!C533),('Teom ugm3'!C533*'Teom grams'!$F531*0.000000028317),\"\")","v":""},{"$f":"IF(ISNUMBER('Teom ugm3'!D533),('Teom ugm3'!D533*'Teom grams'!$F531*0.000000028317),\"\")","v":""},"","","","",null,"","","",null,"",""]
[null,null,{"$f":"IF('Teom ugm3'!A534=\"\",\"\",C531+1)","v":""},"",null,"",null,{"$f":"IF(ISNUMBER('Teom ugm3'!B534),('Teom ugm3'!B534*'Teom grams'!$F532*0.000000028317),\"\")","v":""},{"$f":"IF(ISNUMBER('Teom ugm3'!C534),('Teom ugm3'!C534*'Teom grams'!$F532*0.000000028317),\"\")","v":""},{"$f":"IF(ISNUMBER('Teom ugm3'!D534),('Teom ugm3'!D534*'Teom grams'!$F532*0.000000028317),\"\")","v":""},"","","","",null,"","","",null,"",""]
[null,null,{"$f":"IF('Teom ugm3'!A535=\"\",\"\",C532+1)","v":""},"",null,"",null,{"$f":"IF(ISNUMBER('Teom ugm3'!B535),('Teom ugm3'!B535*'Teom grams'!$F533*0.000000028317),\"\")","v":""},{"$f":"IF(ISNUMBER('Teom ugm3'!C535),('Teom ugm3'!C535*'Teom grams'!$F533*0.000000028317),\"\")","v":""},{"$f":"IF(ISNUMBER('Teom ugm3'!D535),('Teom ugm3'!D535*'Teom grams'!$F533*0.000000028317),\"\")","v":""},"","","","",null,"","","",null,"",""]
[null,null,{"$f":"IF('Teom ugm3'!A536=\"\",\"\",C533+1)","v":""},"",null,"",null,{"$f":"IF(ISNUMBER('Teom ugm3'!B536),('Teom ugm3'!B536*'Teom grams'!$F534*0.000000028317),\"\")","v":""},{"$f":"IF(ISNUMBER('Teom ugm3'!C536),('Teom ugm3'!C536*'Teom grams'!$F534*0.000000028317),\"\")","v":""},{"$f":"IF(ISNUMBER('Teom ugm3'!D536),('Teom ugm3'!D536*'Teom grams'!$F534*0.000000028317),\"\")","v":""},"","","","",null,"","","",null,"",""]
[null,null,{"$f":"IF('Teom ugm3'!A537=\"\",\"\",C534+1)","v":""},"",null,"",null,{"$f":"IF(ISNUMBER('Teom ugm3'!B537),('Teom ugm3'!B537*'Teom grams'!$F535*0.000000028317),\"\")","v":""},{"$f":"IF(ISNUMBER('Teom ugm3'!C537),('Teom ugm3'!C537*'Teom grams'!$F535*0.000000028317),\"\")","v":""},{"$f":"IF(ISNUMBER('Teom ugm3'!D537),('Teom ugm3'!D537*'Teom grams'!$F535*0.000000028317),\"\")","v":""},"","","","",null,"","","",null,"",""]
[null,null,{"$f":"IF('Teom ugm3'!A538=\"\",\"\",C535+1)","v":""},"",null,"",null,{"$f":"IF(ISNUMBER('Teom ugm3'!B538),('Teom ugm3'!B538*'Teom grams'!$F536*0.000000028317),\"\")","v":""},{"$f":"IF(ISNUMBER('Teom ugm3'!C538),('Teom ugm3'!C538*'Teom grams'!$F536*0.000000028317),\"\")","v":""},{"$f":"IF(ISNUMBER('Teom ugm3'!D538),('Teom ugm3'!D538*'Teom grams'!$F536*0.000000028317),\"\")","v":""},"","","","",null,"","","",null,"",""]
[null,null,{"$f":"IF('Teom ugm3'!A539=\"\",\"\",C536+1)","v":""},"",null,"",null,{"$f":"IF(ISNUMBER('Teom ugm3'!B539),('Teom ugm3'!B539*'Teom grams'!$F537*0.000000028317),\"\")","v":""},{"$f":"IF(ISNUMBER('Teom ugm3'!C539),('Teom ugm3'!C539*'Teom grams'!$F537*0.000000028317),\"\")","v":""},{"$f":"IF(ISNUMBER('Teom ugm3'!D539),('Teom ugm3'!D539*'Teom grams'!$F537*0.000000028317),\"\")","v":""},"","","","",null,"","","",null,"",""]
[null,null,{"$f":"IF('Teom ugm3'!A540=\"\",\"\",C537+1)","v":""},"",null,"",null,{"$f":"IF(ISNUMBER('Teom ugm3'!B540),('Teom ugm3'!B540*'Teom grams'!$F538*0.000000028317),\"\")","v":""},{"$f":"IF(ISNUMBER('Teom ugm3'!C540),('Teom ugm3'!C540*'Teom grams'!$F538*0.000000028317),\"\")","v":""},{"$f":"IF(ISNUMBER('Teom ugm3'!D540),('Teom ugm3'!D540*'Teom grams'!$F538*0.000000028317),\"\")","v":""},"","","","",null,"","","",null,"",""]
[null,null,{"$f":"IF('Teom ugm3'!A541=\"\",\"\",C538+1)","v":""},"",null,"",null,{"$f":"IF(ISNUMBER('Teom ugm3'!B541),('Teom ugm3'!B541*'Teom grams'!$F539*0.000000028317),\"\")","v":""},{"$f":"IF(ISNUMBER('Teom ugm3'!C541),('Teom ugm3'!C541*'Teom grams'!$F539*0.000000028317),\"\")","v":""},{"$f":"IF(ISNUMBER('Teom ugm3'!D541),('Teom ugm3'!D541*'Teom grams'!$F539*0.000000028317),\"\")","v":""},"","","","",null,"","","",null,"",""]
[null,null,{"$f":"IF('Teom ugm3'!A542=\"\",\"\",C539+1)","v":""},"",null,"",null,{"$f":"IF(ISNUMBER('Teom ugm3'!B542),('Teom ugm3'!B542*'Teom grams'!$F540*0.000000028317),\"\")","v":""},{"$f":"IF(ISNUMBER('Teom ugm3'!C542),('Teom ugm3'!C542*'Teom grams'!$F540*0.000000028317),\"\")","v":""},{"$f":"IF(ISNUMBER('Teom ugm3'!D542),('Teom ugm3'!D542*'Teom grams'!$F540*0.000000028317),\"\")","v":""},"","","","",null,"","","",null,"",""]
[null,null,{"$f":"IF('Teom ugm3'!A543=\"\",\"\",C540+1)","v":""},"",null,"",null,{"$f":"IF(ISNUMBER('Teom ugm3'!B543),('Teom ugm3'!B543*'Teom grams'!$F541*0.000000028317),\"\")","v":""},{"$f":"IF(ISNUMBER('Teom ugm3'!C543),('Teom ugm3'!C543*'Teom grams'!$F541*0.000000028317),\"\")","v":""},{"$f":"IF(ISNUMBER('Teom ugm3'!D543),('Teom ugm3'!D543*'Teom grams'!$F541*0.000000028317),\"\")","v":""},"","","","",null,"","","",null,"",""]
[null,null,{"$f":"IF('Teom ugm3'!A544=\"\",\"\",C541+1)","v":""},"",null,"",null,{"$f":"IF(ISNUMBER('Teom ugm3'!B544),('Teom ugm3'!B544*'Teom grams'!$F542*0.000000028317),\"\")","v":""},{"$f":"IF(ISNUMBER('Teom ugm3'!C544),('Teom ugm3'!C544*'Teom grams'!$F542*0.000000028317),\"\")","v":""},{"$f":"IF(ISNUMBER('Teom ugm3'!D544),('Teom ugm3'!D544*'Teom grams'!$F542*0.000000028317),\"\")","v":""},"","","","",null,"","","",null,"",""]
[null,null,{"$f":"IF('Teom ugm3'!A545=\"\",\"\",C542+1)","v":""},"",null,"",null,{"$f":"IF(ISNUMBER('Teom ugm3'!B545),('Teom ugm3'!B545*'Teom grams'!$F543*0.000000028317),\"\")","v":""},{"$f":"IF(ISNUMBER('Teom ugm3'!C545),('Teom ugm3'!C545*'Teom grams'!$F543*0.000000028317),\"\")","v":""},{"$f":"IF(ISNUMBER('Teom ugm3'!D545),('Teom ugm3'!D545*'Teom grams'!$F543*0.000000028317),\"\")","v":""},"","","","",null,"","","",null,"",""]
[null,null,{"$f":"IF('Teom ugm3'!A546=\"\",\"\",C543+1)","v":""},"",null,"",null,{"$f":"IF(ISNUMBER('Teom ugm3'!B546),('Teom ugm3'!B546*'Teom grams'!$F544*0.000000028317),\"\")","v":""},{"$f":"IF(ISNUMBER('Teom ugm3'!C546),('Teom ugm3'!C546*'Teom grams'!$F544*0.000000028317),\"\")","v":""},{"$f":"IF(ISNUMBER('Teom ugm3'!D546),('Teom ugm3'!D546*'Teom grams'!$F544*0.000000028317),\"\")","v":""},"","","","",null,"","","",null,"",""]
[null,null,{"$f":"IF('Teom ugm3'!A547=\"\",\"\",C544+1)","v":""},"",null,"",null,{"$f":"IF(ISNUMBER('Teom ugm3'!B547),('Teom ugm3'!B547*'Teom grams'!$F545*0.000000028317),\"\")","v":""},{"$f":"IF(ISNUMBER('Teom ugm3'!C547),('Teom ugm3'!C547*'Teom grams'!$F545*0.000000028317),\"\")","v":""},{"$f":"IF(ISNUMBER('Teom ugm3'!D547),('Teom ugm3'!D547*'Teom grams'!$F545*0.000000028317),\"\")","v":""},"","","","",null,"","","",null,"",""]
[null,null,{"$f":"IF('Teom ugm3'!A548=\"\",\"\",C545+1)","v":""},"",null,"",null,{"$f":"IF(ISNUMBER('Teom ugm3'!B548),('Teom ugm3'!B548*'Teom grams'!$F546*0.000000028317),\"\")","v":""},{"$f":"IF(ISNUMBER('Teom ugm3'!C548),('Teom ugm3'!C548*'Teom grams'!$F546*0.000000028317),\"\")","v":""},{"$f":"IF(ISNUMBER('Teom ugm3'!D548),('Teom ugm3'!D548*'Teom grams'!$F546*0.000000028317),\"\")","v":""},"","","","",null,"","","",null,"",""]
[null,null,{"$f":"IF('Teom ugm3'!A549=\"\",\"\",C546+1)","v":""},"",null,"",null,{"$f":"IF(ISNUMBER('Teom ugm3'!B549),('Teom ugm3'!B549*'Teom grams'!$F547*0.000000028317),\"\")","v":""},{"$f":"IF(ISNUMBER('Teom ugm3'!C549),('Teom ugm3'!C549*'Teom grams'!$F547*0.000000028317),\"\")","v":""},{"$f":"IF(ISNUMBER('Teom ugm3'!D549),('Teom ugm3'!D549*'Teom grams'!$F547*0.000000028317),\"\")","v":""},"","","","",null,"",{"$f":"IF(ISNUMBER(M547),M547*60,\"\")","v":""},{"$f":"IF(ISNUMBER(N547),N547*60,\"\")","v":""},null,{"$f":"IF(COUNT(C547:C606)>59,AVERAGE(P547:P606),\"\")","v":""},{"$f":"IF(COUNT(C547:C606)>59,AVERAGE(Q547:Q606),\"\")","v":""}]
[null,null,{"$f":"IF('Teom ugm3'!A550=\"\",\"\",C547+1)","v":""},"",null,"",null,{"$f":"IF(ISNUMBER('Teom ugm3'!B550),('Teom ugm3'!B550*'Teom grams'!$F548*0.000000028317),\"\")","v":""},{"$f":"IF(ISNUMBER('Teom ugm3'!C550),('Teom ugm3'!C550*'Teom grams'!$F548*0.000000028317),\"\")","v":""},{"$f":"IF(ISNUMBER('Teom ugm3'!D550),('Teom ugm3'!D550*'Teom grams'!$F548*0.000000028317),\"\")","v":""},"","","","",null,"","","",null,"",""]
[null,null,{"$f":"IF('Teom ugm3'!A551=\"\",\"\",C548+1)","v":""},"",null,"",null,{"$f":"IF(ISNUMBER('Teom ugm3'!B551),('Teom ugm3'!B551*'Teom grams'!$F549*0.000000028317),\"\")","v":""},{"$f":"IF(ISNUMBER('Teom ugm3'!C551),('Teom ugm3'!C551*'Teom grams'!$F549*0.000000028317),\"\")","v":""},{"$f":"IF(ISNUMBER('Teom ugm3'!D551),('Teom ugm3'!D551*'Teom grams'!$F549*0.000000028317),\"\")","v":""},"","","","",null,"","","",null,"",""]
[null,null,{"$f":"IF('Teom ugm3'!A552=\"\",\"\",C549+1)","v":""},"",null,"",null,{"$f":"IF(ISNUMBER('Teom ugm3'!B552),('Teom ugm3'!B552*'Teom grams'!$F550*0.000000028317),\"\")","v":""},{"$f":"IF(ISNUMBER('Teom ugm3'!C552),('Teom ugm3'!C552*'Teom grams'!$F550*0.000000028317),\"\")","v":""},{"$f":"IF(ISNUMBER('Teom ugm3'!D552),('Teom ugm3'!D552*'Teom grams'!$F550*0.000000028317),\"\")","v":""},"","","","",null,"","","",null,"",""]
[null,null,{"$f":"IF('Teom ugm3'!A553=\"\",\"\",C550+1)","v":""},"",null,"",null,{"$f":"IF(ISNUMBER('Teom ugm3'!B553),('Teom ugm3'!B553*'Teom grams'!$F551*0.000000028317),\"\")","v":""},{"$f":"IF(ISNUMBER('Teom ugm3'!C553),('Teom ugm3'!C553*'Teom grams'!$F551*0.000000028317),\"\")","v":""},{"$f":"IF(ISNUMBER('Teom ugm3'!D553),('Teom ugm3'!D553*'Teom grams'!$F551*0.000000028317),\"\")","v":""},"","","","",null,"","","",null,"",""]
[null,null,{"$f":"IF('Teom ugm3'!A554=\"\",\"\",C551+1)","v":""},"",null,"",null,{"$f":"IF(ISNUMBER('Teom ugm3'!B554),('Teom ugm3'!B554*'Teom grams'!$F552*0.000000028317),\"\")","v":""},{"$f":"IF(ISNUMBER('Teom ugm3'!C554),('Teom ugm3'!C554*'Teom grams'!$F552*0.000000028317),\"\")","v":""},{"$f":"IF(ISNUMBER('Teom ugm3'!D554),('Teom ugm3'!D554*'Teom grams'!$F552*0.000000028317),\"\")","v":""},"","","","",null,"","","",null,"",""]
[null,null,{"$f":"IF('Teom ugm3'!A555=\"\",\"\",C552+1)","v":""},"",null,"",null,{"$f":"IF(ISNUMBER('Teom ugm3'!B555),('Teom ugm3'!B555*'Teom grams'!$F553*0.000000028317),\"\")","v":""},{"$f":"IF(ISNUMBER('Teom ugm3'!C555),('Teom ugm3'!C555*'Teom grams'!$F553*0.000000028317),\"\")","v":""},{"$f":"IF(ISNUMBER('Teom ugm3'!D555),('Teom ugm3'!D555*'Teom grams'!$F553*0.000000028317),\"\")","v":""},"","","","",null,"","","",null,"",""]
[null,null,{"$f":"IF('Teom ugm3'!A556=\"\",\"\",C553+1)","v":""},"",null,"",null,{"$f":"IF(ISNUMBER('Teom ugm3'!B556),('Teom ugm3'!B556*'Teom grams'!$F554*0.000000028317),\"\")","v":""},{"$f":"IF(ISNUMBER('Teom ugm3'!C556),('Teom ugm3'!C556*'Teom grams'!$F554*0.000000028317),\"\")","v":""},{"$f":"IF(ISNUMBER('Teom ugm3'!D556),('Teom ugm3'!D556*'Teom grams'!$F554*0.000000028317),\"\")","v":""},"","","","",null,"","","",null,"",""]
[null,null,{"$f":"IF('Teom ugm3'!A557=\"\",\"\",C554+1)","v":""},"",null,"",null,{"$f":"IF(ISNUMBER('Teom ugm3'!B557),('Teom ugm3'!B557*'Teom grams'!$F555*0.000000028317),\"\")","v":""},{"$f":"IF(ISNUMBER('Teom ugm3'!C557),('Teom ugm3'!C557*'Teom grams'!$F555*0.000000028317),\"\")","v":""},{"$f":"IF(ISNUMBER('Teom ugm3'!D557),('Teom ugm3'!D557*'Teom grams'!$F555*0.000000028317),\"\")","v":""},"","","","",null,"","","",null,"",""]
[null,null,{"$f":"IF('Teom ugm3'!A558=\"\",\"\",C555+1)","v":""},"",null,"",null,{"$f":"IF(ISNUMBER('Teom ugm3'!B558),('Teom ugm3'!B558*'Teom grams'!$F556*0.000000028317),\"\")","v":""},{"$f":"IF(ISNUMBER('Teom ugm3'!C558),('Teom ugm3'!C558*'Teom grams'!$F556*0.000000028317),\"\")","v":""},{"$f":"IF(ISNUMBER('Teom ugm3'!D558),('Teom ugm3'!D558*'Teom grams'!$F556*0.000000028317),\"\")","v":""},"","","","",null,"","","",null,"",""]
[null,null,{"$f":"IF('Teom ugm3'!A559=\"\",\"\",C556+1)","v":""},"",null,"",null,{"$f":"IF(ISNUMBER('Teom ugm3'!B559),('Teom ugm3'!B559*'Teom grams'!$F557*0.000000028317),\"\")","v":""},{"$f":"IF(ISNUMBER('Teom ugm3'!C559),('Teom ugm3'!C559*'Teom grams'!$F557*0.000000028317),\"\")","v":""},{"$f":"IF(ISNUMBER('Teom ugm3'!D559),('Teom ugm3'!D559*'Teom grams'!$F557*0.000000028317),\"\")","v":""},"","","","",null,"","","",null,"",""]
[null,null,{"$f":"IF('Teom ugm3'!A560=\"\",\"\",C557+1)","v":""},"",null,"",null,{"$f":"IF(ISNUMBER('Teom ugm3'!B560),('Teom ugm3'!B560*'Teom grams'!$F558*0.000000028317),\"\")","v":""},{"$f":"IF(ISNUMBER('Teom ugm3'!C560),('Teom ugm3'!C560*'Teom grams'!$F558*0.000000028317),\"\")","v":""},{"$f":"IF(ISNUMBER('Teom ugm3'!D560),('Teom ugm3'!D560*'Teom grams'!$F558*0.000000028317),\"\")","v":""},"","","","",null,"","","",null,"",""]
[null,null,{"$f":"IF('Teom ugm3'!A561=\"\",\"\",C558+1)","v":""},"",null,"",null,{"$f":"IF(ISNUMBER('Teom ugm3'!B561),('Teom ugm3'!B561*'Teom grams'!$F559*0.000000028317),\"\")","v":""},{"$f":"IF(ISNUMBER('Teom ugm3'!C561),('Teom ugm3'!C561*'Teom grams'!$F559*0.000000028317),\"\")","v":""},{"$f":"IF(ISNUMBER('Teom ugm3'!D561),('Teom ugm3'!D561*'Teom grams'!$F559*0.000000028317),\"\")","v":""},"","","","",null,"","","",null,"",""]
[null,null,{"$f":"IF('Teom ugm3'!A562=\"\",\"\",C559+1)","v":""},"",null,"",null,{"$f":"IF(ISNUMBER('Teom ugm3'!B562),('Teom ugm3'!B562*'Teom grams'!$F560*0.000000028317),\"\")","v":""},{"$f":"IF(ISNUMBER('Teom ugm3'!C562),('Teom ugm3'!C562*'Teom grams'!$F560*0.000000028317),\"\")","v":""},{"$f":"IF(ISNUMBER('Teom ugm3'!D562),('Teom ugm3'!D562*'Teom grams'!$F560*0.000000028317),\"\")","v":""},"","","","",null,"","","",null,"",""]
[null,null,{"$f":"IF('Teom ugm3'!A563=\"\",\"\",C560+1)","v":""},"",null,"",null,{"$f":"IF(ISNUMBER('Teom ugm3'!B563),('Teom ugm3'!B563*'Teom grams'!$F561*0.000000028317),\"\")","v":""},{"$f":"IF(ISNUMBER('Teom ugm3'!C563),('Teom ugm3'!C563*'Teom grams'!$F561*0.000000028317),\"\")","v":""},{"$f":"IF(ISNUMBER('Teom ugm3'!D563),('Teom ugm3'!D563*'Teom grams'!$F561*0.000000028317),\"\")","v":""},"","","","",null,"","","",null,"",""]
[null,null,{"$f":"IF('Teom ugm3'!A564=\"\",\"\",C561+1)","v":""},"",null,"",null,{"$f":"IF(ISNUMBER('Teom ugm3'!B564),('Teom ugm3'!B564*'Teom grams'!$F562*0.000000028317),\"\")","v":""},{"$f":"IF(ISNUMBER('Teom ugm3'!C564),('Teom ugm3'!C564*'Teom grams'!$F562*0.000000028317),\"\")","v":""},{"$f":"IF(ISNUMBER('Teom ugm3'!D564),('Teom ugm3'!D564*'Teom grams'!$F562*0.000000028317),\"\")","v":""},"","","","",null,"","","",null,"",""]
[null,null,{"$f":"IF('Teom ugm3'!A565=\"\",\"\",C562+1)","v":""},"",null,"",null,{"$f":"IF(ISNUMBER('Teom ugm3'!B565),('Teom ugm3'!B565*'Teom grams'!$F563*0.000000028317),\"\")","v":""},{"$f":"IF(ISNUMBER('Teom ugm3'!C565),('Teom ugm3'!C565*'Teom grams'!$F563*0.000000028317),\"\")","v":""},{"$f":"IF(ISNUMBER('Teom ugm3'!D565),('Teom ugm3'!D565*'Teom grams'!$F563*0.000000028317),\"\")","v":""},"","","","",null,"","","",null,"",""]
[null,null,{"$f":"IF('Teom ugm3'!A566=\"\",\"\",C563+1)","v":""},"",null,"",null,{"$f":"IF(ISNUMBER('Teom ugm3'!B566),('Teom ugm3'!B566*'Teom grams'!$F564*0.000000028317),\"\")","v":""},{"$f":"IF(ISNUMBER('Teom ugm3'!C566),('Teom ugm3'!C566*'Teom grams'!$F564*0.000000028317),\"\")","v":""},{"$f":"IF(ISNUMBER('Teom ugm3'!D566),('Teom ugm3'!D566*'Teom grams'!$F564*0.000000028317),\"\")","v":""},"","","","",null,"","","",null,"",""]
[null,null,{"$f":"IF('Teom ugm3'!A567=\"\",\"\",C564+1)","v":""},"",null,"",null,{"$f":"IF(ISNUMBER('Teom ugm3'!B567),('Teom ugm3'!B567*'Teom grams'!$F565*0.000000028317),\"\")","v":""},{"$f":"IF(ISNUMBER('Teom ugm3'!C567),('Teom ugm3'!C567*'Teom grams'!$F565*0.000000028317),\"\")","v":""},{"$f":"IF(ISNUMBER('Teom ugm3'!D567),('Teom ugm3'!D567*'Teom grams'!$F565*0.000000028317),\"\")","v":""},"","","","",null,"","","",null,"",""]
[null,null,{"$f":"IF('Teom ugm3'!A568=\"\",\"\",C565+1)","v":""},"",null,"",null,{"$f":"IF(ISNUMBER('Teom ugm3'!B568),('Teom ugm3'!B568*'Teom grams'!$F566*0.000000028317),\"\")","v":""},{"$f":"IF(ISNUMBER('Teom ugm3'!C568),('Teom ugm3'!C568*'Teom grams'!$F566*0.000000028317),\"\")","v":""},{"$f":"IF(ISNUMBER('Teom ugm3'!D568),('Teom ugm3'!D568*'Teom grams'!$F566*0.000000028317),\"\")","v":""},"","","","",null,"","","",null,"",""]
[null,null,{"$f":"IF('Teom ugm3'!A569=\"\",\"\",C566+1)","v":""},"",null,"",null,{"$f":"IF(ISNUMBER('Teom ugm3'!B569),('Teom ugm3'!B569*'Teom grams'!$F567*0.000000028317),\"\")","v":""},{"$f":"IF(ISNUMBER('Teom ugm3'!C569),('Teom ugm3'!C569*'Teom grams'!$F567*0.000000028317),\"\")","v":""},{"$f":"IF(ISNUMBER('Teom ugm3'!D569),('Teom ugm3'!D569*'Teom grams'!$F567*0.000000028317),\"\")","v":""},"","","","",null,"","","",null,"",""]
[null,null,{"$f":"IF('Teom ugm3'!A570=\"\",\"\",C567+1)","v":""},"",null,"",null,{"$f":"IF(ISNUMBER('Teom ugm3'!B570),('Teom ugm3'!B570*'Teom grams'!$F568*0.000000028317),\"\")","v":""},{"$f":"IF(ISNUMBER('Teom ugm3'!C570),('Teom ugm3'!C570*'Teom grams'!$F568*0.000000028317),\"\")","v":""},{"$f":"IF(ISNUMBER('Teom ugm3'!D570),('Teom ugm3'!D570*'Teom grams'!$F568*0.000000028317),\"\")","v":""},"","","","",null,"","","",null,"",""]
[null,null,{"$f":"IF('Teom ugm3'!A571=\"\",\"\",C568+1)","v":""},"",null,"",null,{"$f":"IF(ISNUMBER('Teom ugm3'!B571),('Teom ugm3'!B571*'Teom grams'!$F569*0.000000028317),\"\")","v":""},{"$f":"IF(ISNUMBER('Teom ugm3'!C571),('Teom ugm3'!C571*'Teom grams'!$F569*0.000000028317),\"\")","v":""},{"$f":"IF(ISNUMBER('Teom ugm3'!D571),('Teom ugm3'!D571*'Teom grams'!$F569*0.000000028317),\"\")","v":""},"","","","",null,"","","",null,"",""]
[null,null,{"$f":"IF('Teom ugm3'!A572=\"\",\"\",C569+1)","v":""},"",null,"",null,{"$f":"IF(ISNUMBER('Teom ugm3'!B572),('Teom ugm3'!B572*'Teom grams'!$F570*0.000000028317),\"\")","v":""},{"$f":"IF(ISNUMBER('Teom ugm3'!C572),('Teom ugm3'!C572*'Teom grams'!$F570*0.000000028317),\"\")","v":""},{"$f":"IF(ISNUMBER('Teom ugm3'!D572),('Teom ugm3'!D572*'Teom grams'!$F570*0.000000028317),\"\")","v":""},"","","","",null,"","","",null,"",""]
[null,null,{"$f":"IF('Teom ugm3'!A573=\"\",\"\",C570+1)","v":""},"",null,"",null,{"$f":"IF(ISNUMBER('Teom ugm3'!B573),('Teom ugm3'!B573*'Teom grams'!$F571*0.000000028317),\"\")","v":""},{"$f":"IF(ISNUMBER('Teom ugm3'!C573),('Teom ugm3'!C573*'Teom grams'!$F571*0.000000028317),\"\")","v":""},{"$f":"IF(ISNUMBER('Teom ugm3'!D573),('Teom ugm3'!D573*'Teom grams'!$F571*0.000000028317),\"\")","v":""},"","","","",null,"","","",null,"",""]
[null,null,{"$f":"IF('Teom ugm3'!A574=\"\",\"\",C571+1)","v":""},"",null,"",null,{"$f":"IF(ISNUMBER('Teom ugm3'!B574),('Teom ugm3'!B574*'Teom grams'!$F572*0.000000028317),\"\")","v":""},{"$f":"IF(ISNUMBER('Teom ugm3'!C574),('Teom ugm3'!C574*'Teom grams'!$F572*0.000000028317),\"\")","v":""},{"$f":"IF(ISNUMBER('Teom ugm3'!D574),('Teom ugm3'!D574*'Teom grams'!$F572*0.000000028317),\"\")","v":""},"","","","",null,"","","",null,"",""]
[null,null,{"$f":"IF('Teom ugm3'!A575=\"\",\"\",C572+1)","v":""},"",null,"",null,{"$f":"IF(ISNUMBER('Teom ugm3'!B575),('Teom ugm3'!B575*'Teom grams'!$F573*0.000000028317),\"\")","v":""},{"$f":"IF(ISNUMBER('Teom ugm3'!C575),('Teom ugm3'!C575*'Teom grams'!$F573*0.000000028317),\"\")","v":""},{"$f":"IF(ISNUMBER('Teom ugm3'!D575),('Teom ugm3'!D575*'Teom grams'!$F573*0.000000028317),\"\")","v":""},"","","","",null,"","","",null,"",""]
[null,null,{"$f":"IF('Teom ugm3'!A576=\"\",\"\",C573+1)","v":""},"",null,"",null,{"$f":"IF(ISNUMBER('Teom ugm3'!B576),('Teom ugm3'!B576*'Teom grams'!$F574*0.000000028317),\"\")","v":""},{"$f":"IF(ISNUMBER('Teom ugm3'!C576),('Teom ugm3'!C576*'Teom grams'!$F574*0.000000028317),\"\")","v":""},{"$f":"IF(ISNUMBER('Teom ugm3'!D576),('Teom ugm3'!D576*'Teom grams'!$F574*0.000000028317),\"\")","v":""},"","","","",null,"","","",null,"",""]
[null,null,{"$f":"IF('Teom ugm3'!A577=\"\",\"\",C574+1)","v":""},"",null,"",null,{"$f":"IF(ISNUMBER('Teom ugm3'!B577),('Teom ugm3'!B577*'Teom grams'!$F575*0.000000028317),\"\")","v":""},{"$f":"IF(ISNUMBER('Teom ugm3'!C577),('Teom ugm3'!C577*'Teom grams'!$F575*0.000000028317),\"\")","v":""},{"$f":"IF(ISNUMBER('Teom ugm3'!D577),('Teom ugm3'!D577*'Teom grams'!$F575*0.000000028317),\"\")","v":""},"","","","",null,"","","",null,"",""]
[null,null,{"$f":"IF('Teom ugm3'!A578=\"\",\"\",C575+1)","v":""},"",null,"",null,{"$f":"IF(ISNUMBER('Teom ugm3'!B578),('Teom ugm3'!B578*'Teom grams'!$F576*0.000000028317),\"\")","v":""},{"$f":"IF(ISNUMBER('Teom ugm3'!C578),('Teom ugm3'!C578*'Teom grams'!$F576*0.000000028317),\"\")","v":""},{"$f":"IF(ISNUMBER('Teom ugm3'!D578),('Teom ugm3'!D578*'Teom grams'!$F576*0.000000028317),\"\")","v":""},"","","","",null,"","","",null,"",""]
[null,null,{"$f":"IF('Teom ugm3'!A579=\"\",\"\",C576+1)","v":""},"",null,"",null,{"$f":"IF(ISNUMBER('Teom ugm3'!B579),('Teom ugm3'!B579*'Teom grams'!$F577*0.000000028317),\"\")","v":""},{"$f":"IF(ISNUMBER('Teom ugm3'!C579),('Teom ugm3'!C579*'Teom grams'!$F577*0.000000028317),\"\")","v":""},{"$f":"IF(ISNUMBER('Teom ugm3'!D579),('Teom ugm3'!D579*'Teom grams'!$F577*0.000000028317),\"\")","v":""},"","","","",null,"","","",null,"",""]
[null,null,{"$f":"IF('Teom ugm3'!A580=\"\",\"\",C577+1)","v":""},"",null,"",null,{"$f":"IF(ISNUMBER('Teom ugm3'!B580),('Teom ugm3'!B580*'Teom grams'!$F578*0.000000028317),\"\")","v":""},{"$f":"IF(ISNUMBER('Teom ugm3'!C580),('Teom ugm3'!C580*'Teom grams'!$F578*0.000000028317),\"\")","v":""},{"$f":"IF(ISNUMBER('Teom ugm3'!D580),('Teom ugm3'!D580*'Teom grams'!$F578*0.000000028317),\"\")","v":""},"","","","",null,"","","",null,"",""]
[null,null,{"$f":"IF('Teom ugm3'!A581=\"\",\"\",C578+1)","v":""},"",null,"",null,{"$f":"IF(ISNUMBER('Teom ugm3'!B581),('Teom ugm3'!B581*'Teom grams'!$F579*0.000000028317),\"\")","v":""},{"$f":"IF(ISNUMBER('Teom ugm3'!C581),('Teom ugm3'!C581*'Teom grams'!$F579*0.000000028317),\"\")","v":""},{"$f":"IF(ISNUMBER('Teom ugm3'!D581),('Teom ugm3'!D581*'Teom grams'!$F579*0.000000028317),\"\")","v":""},"","","","",null,"","","",null,"",""]
[null,null,{"$f":"IF('Teom ugm3'!A582=\"\",\"\",C579+1)","v":""},"",null,"",null,{"$f":"IF(ISNUMBER('Teom ugm3'!B582),('Teom ugm3'!B582*'Teom grams'!$F580*0.000000028317),\"\")","v":""},{"$f":"IF(ISNUMBER('Teom ugm3'!C582),('Teom ugm3'!C582*'Teom grams'!$F580*0.000000028317),\"\")","v":""},{"$f":"IF(ISNUMBER('Teom ugm3'!D582),('Teom ugm3'!D582*'Teom grams'!$F580*0.000000028317),\"\")","v":""},"","","",{"$f":"M580","v":""},null,"","","",null,"",""]
[null,null,{"$f":"IF('Teom ugm3'!A583=\"\",\"\",C580+1)","v":""},"",null,{"$f":"IF(C581=\"\",\"\",E581*1.02041)","v":""},null,{"$f":"IF(ISNUMBER('Teom ugm3'!B583),('Teom ugm3'!B583*'Teom grams'!$F581*0.000000028317),\"\")","v":""},{"$f":"IF(ISNUMBER('Teom ugm3'!C583),('Teom ugm3'!C583*'Teom grams'!$F581*0.000000028317),\"\")","v":""},{"$f":"IF(ISNUMBER('Teom ugm3'!D583),('Teom ugm3'!D583*'Teom grams'!$F581*0.000000028317),\"\")","v":""},{"$f":"IF(H581<0,0,H581)","v":""},"","","",null,{"$f":"IF(ISNUMBER(J581),J581*60,\"\")","v":""},"","",null,"",""]
[null,null,{"$f":"IF('Teom ugm3'!A584=\"\",\"\",C581+1)","v":""},{"$f":"IF(C582=\"\",\"\",D581 + TIME(0, 1, 0))","v":""},null,"",null,{"$f":"IF(ISNUMBER('Teom ugm3'!B584),('Teom ugm3'!B584*'Teom grams'!$F582*0.000000028317),\"\")","v":""},{"$f":"IF(ISNUMBER('Teom ugm3'!C584),('Teom ugm3'!C584*'Teom grams'!$F582*0.000000028317),\"\")","v":""},{"$f":"IF(ISNUMBER('Teom ugm3'!D584),('Teom ugm3'!D584*'Teom grams'!$F582*0.000000028317),\"\")","v":""},"","","","",null,"","","",null,"",""]
[null,null,{"$f":"IF('Teom ugm3'!A585=\"\",\"\",C582+1)","v":""},"",null,"",null,{"$f":"IF(ISNUMBER('Teom ugm3'!B585),('Teom ugm3'!B585*'Teom grams'!$F583*0.000000028317),\"\")","v":""},{"$f":"IF(ISNUMBER('Teom ugm3'!C585),('Teom ugm3'!C585*'Teom grams'!$F583*0.000000028317),\"\")","v":""},{"$f":"IF(ISNUMBER('Teom ugm3'!D585),('Teom ugm3'!D585*'Teom grams'!$F583*0.000000028317),\"\")","v":""},"","","","",null,"","","",null,"",""]
[null,null,{"$f":"IF('Teom ugm3'!A586=\"\",\"\",C583+1)","v":""},"",null,"",null,{"$f":"IF(ISNUMBER('Teom ugm3'!B586),('Teom ugm3'!B586*'Teom grams'!$F584*0.000000028317),\"\")","v":""},{"$f":"IF(ISNUMBER('Teom ugm3'!C586),('Teom ugm3'!C586*'Teom grams'!$F584*0.000000028317),\"\")","v":""},{"$f":"IF(ISNUMBER('Teom ugm3'!D586),('Teom ugm3'!D586*'Teom grams'!$F584*0.000000028317),\"\")","v":""},"","","","",null,"","","",null,"",""]
[null,null,{"$f":"IF('Teom ugm3'!A587=\"\",\"\",C584+1)","v":""},"",null,"",null,{"$f":"IF(ISNUMBER('Teom ugm3'!B587),('Teom ugm3'!B587*'Teom grams'!$F585*0.000000028317),\"\")","v":""},{"$f":"IF(ISNUMBER('Teom ugm3'!C587),('Teom ugm3'!C587*'Teom grams'!$F585*0.000000028317),\"\")","v":""},{"$f":"IF(ISNUMBER('Teom ugm3'!D587),('Teom ugm3'!D587*'Teom grams'!$F585*0.000000028317),\"\")","v":""},"","","","",null,"","","",null,"",""]
[null,null,{"$f":"IF('Teom ugm3'!A588=\"\",\"\",C585+1)","v":""},"",null,"",null,{"$f":"IF(ISNUMBER('Teom ugm3'!B588),('Teom ugm3'!B588*'Teom grams'!$F586*0.000000028317),\"\")","v":""},{"$f":"IF(ISNUMBER('Teom ugm3'!C588),('Teom ugm3'!C588*'Teom grams'!$F586*0.000000028317),\"\")","v":""},{"$f":"IF(ISNUMBER('Teom ugm3'!D588),('Teom ugm3'!D588*'Teom grams'!$F586*0.000000028317),\"\")","v":""},"","","","",null,"","","",null,"",""]
[null,null,{"$f":"IF('Teom ugm3'!A589=\"\",\"\",C586+1)","v":""},"",null,"",null,{"$f":"IF(ISNUMBER('Teom ugm3'!B589),('Teom ugm3'!B589*'Teom grams'!$F587*0.000000028317),\"\")","v":""},{"$f":"IF(ISNUMBER('Teom ugm3'!C589),('Teom ugm3'!C589*'Teom grams'!$F587*0.000000028317),\"\")","v":""},{"$f":"IF(ISNUMBER('Teom ugm3'!D589),('Teom ugm3'!D589*'Teom grams'!$F587*0.000000028317),\"\")","v":""},"","",{"$f":"IF(COUNT(K587:L587)>0,AVERAGE(K587:L587),\"\")","v":""},"",null,"","","",null,"",""]
[null,null,{"$f":"IF('Teom ugm3'!A590=\"\",\"\",C587+1)","v":""},"",null,"",null,{"$f":"IF(ISNUMBER('Teom ugm3'!B590),('Teom ugm3'!B590*'Teom grams'!$F588*0.000000028317),\"\")","v":""},{"$f":"IF(ISNUMBER('Teom ugm3'!C590),('Teom ugm3'!C590*'Teom grams'!$F588*0.000000028317),\"\")","v":""},{"$f":"IF(ISNUMBER('Teom ugm3'!D590),('Teom ugm3'!D590*'Teom grams'!$F588*0.000000028317),\"\")","v":""},"","","","",null,"","","",null,"",""]
[null,null,{"$f":"IF('Teom ugm3'!A591=\"\",\"\",C588+1)","v":""},"",null,"",null,{"$f":"IF(ISNUMBER('Teom ugm3'!B591),('Teom ugm3'!B591*'Teom grams'!$F589*0.000000028317),\"\")","v":""},{"$f":"IF(ISNUMBER('Teom ugm3'!C591),('Teom ugm3'!C591*'Teom grams'!$F589*0.000000028317),\"\")","v":""},{"$f":"IF(ISNUMBER('Teom ugm3'!D591),('Teom ugm3'!D591*'Teom grams'!$F589*0.000000028317),\"\")","v":""},"","","","",null,"","","",null,"",""]
[null,null,{"$f":"IF('Teom ugm3'!A592=\"\",\"\",C589+1)","v":""},"",null,"",null,{"$f":"IF(ISNUMBER('Teom ugm3'!B592),('Teom ugm3'!B592*'Teom grams'!$F590*0.000000028317),\"\")","v":""},{"$f":"IF(ISNUMBER('Teom ugm3'!C592),('Teom ugm3'!C592*'Teom grams'!$F590*0.000000028317),\"\")","v":""},{"$f":"IF(ISNUMBER('Teom ugm3'!D592),('Teom ugm3'!D592*'Teom grams'!$F590*0.000000028317),\"\")","v":""},"","","","",null,"","","",null,"",""]
[null,null,{"$f":"IF('Teom ugm3'!A593=\"\",\"\",C590+1)","v":""},"",null,"",null,{"$f":"IF(ISNUMBER('Teom ugm3'!B593),('Teom ugm3'!B593*'Teom grams'!$F591*0.000000028317),\"\")","v":""},{"$f":"IF(ISNUMBER('Teom ugm3'!C593),('Teom ugm3'!C593*'Teom grams'!$F591*0.000000028317),\"\")","v":""},{"$f":"IF(ISNUMBER('Teom ugm3'!D593),('Teom ugm3'!D593*'Teom grams'!$F591*0.000000028317),\"\")","v":""},"","","","",null,"","","",null,"",""]
[null,null,{"$f":"IF('Teom ugm3'!A594=\"\",\"\",C591+1)","v":""},"",null,"",null,{"$f":"IF(ISNUMBER('Teom ugm3'!B594),('Teom ugm3'!B594*'Teom grams'!$F592*0.000000028317),\"\")","v":""},{"$f":"IF(ISNUMBER('Teom ugm3'!C594),('Teom ugm3'!C594*'Teom grams'!$F592*0.000000028317),\"\")","v":""},{"$f":"IF(ISNUMBER('Teom ugm3'!D594),('Teom ugm3'!D594*'Teom grams'!$F592*0.000000028317),\"\")","v":""},"","","","",null,"","","",null,"",""]
[null,null,{"$f":"IF('Teom ugm3'!A595=\"\",\"\",C592+1)","v":""},"",null,"",null,{"$f":"IF(ISNUMBER('Teom ugm3'!B595),('Teom ugm3'!B595*'Teom grams'!$F593*0.000000028317),\"\")","v":""},{"$f":"IF(ISNUMBER('Teom ugm3'!C595),('Teom ugm3'!C595*'Teom grams'!$F593*0.000000028317),\"\")","v":""},{"$f":"IF(ISNUMBER('Teom ugm3'!D595),('Teom ugm3'!D595*'Teom grams'!$F593*0.000000028317),\"\")","v":""},"","","","",null,"","","",null,"",""]
[null,null,{"$f":"IF('Teom ugm3'!A596=\"\",\"\",C593+1)","v":""},"",null,"",null,{"$f":"IF(ISNUMBER('Teom ugm3'!B596),('Teom ugm3'!B596*'Teom grams'!$F594*0.000000028317),\"\")","v":""},{"$f":"IF(ISNUMBER('Teom ugm3'!C596),('Teom ugm3'!C596*'Teom grams'!$F594*0.000000028317),\"\")","v":""},{"$f":"IF(ISNUMBER('Teom ugm3'!D596),('Teom ugm3'!D596*'Teom grams'!$F594*0.000000028317),\"\")","v":""},"","","","",null,"","","",null,"",""]
[null,null,{"$f":"IF('Teom ugm3'!A597=\"\",\"\",C594+1)","v":""},"",null,"",null,{"$f":"IF(ISNUMBER('Teom ugm3'!B597),('Teom ugm3'!B597*'Teom grams'!$F595*0.000000028317),\"\")","v":""},{"$f":"IF(ISNUMBER('Teom ugm3'!C597),('Teom ugm3'!C597*'Teom grams'!$F595*0.000000028317),\"\")","v":""},{"$f":"IF(ISNUMBER('Teom ugm3'!D597),('Teom ugm3'!D597*'Teom grams'!$F595*0.000000028317),\"\")","v":""},"","","","",null,"","","",null,"",""]
[null,null,{"$f":"IF('Teom ugm3'!A598=\"\",\"\",C595+1)","v":""},"",null,"",null,{"$f":"IF(ISNUMBER('Teom ugm3'!B598),('Teom ugm3'!B598*'Teom grams'!$F596*0.000000028317),\"\")","v":""},{"$f":"IF(ISNUMBER('Teom ugm3'!C598),('Teom ugm3'!C598*'Teom grams'!$F596*0.000000028317),\"\")","v":""},{"$f":"IF(ISNUMBER('Teom ugm3'!D598),('Teom ugm3'!D598*'Teom grams'!$F596*0.000000028317),\"\")","v":""},"","","","",null,"","","",null,"",""]
[null,null,{"$f":"IF('Teom ugm3'!A599=\"\",\"\",C596+1)","v":""},"",null,"",null,{"$f":"IF(ISNUMBER('Teom ugm3'!B599),('Teom ugm3'!B599*'Teom grams'!$F597*0.000000028317),\"\")","v":""},{"$f":"IF(ISNUMBER('Teom ugm3'!C599),('Teom ugm3'!C599*'Teom grams'!$F597*0.000000028317),\"\")","v":""},{"$f":"IF(ISNUMBER('Teom ugm3'!D599),('Teom ugm3'!D599*'Teom grams'!$F597*0.000000028317),\"\")","v":""},"","","","",null,"","","",null,"",""]
[null,null,{"$f":"IF('Teom ugm3'!A600=\"\",\"\",C597+1)","v":""},"",null,"",null,{"$f":"IF(ISNUMBER('Teom ugm3'!B600),('Teom ugm3'!B600*'Teom grams'!$F598*0.000000028317),\"\")","v":""},{"$f":"IF(ISNUMBER('Teom ugm3'!C600),('Teom ugm3'!C600*'Teom grams'!$F598*0.000000028317),\"\")","v":""},{"$f":"IF(ISNUMBER('Teom ugm3'!D600),('Teom ugm3'!D600*'Teom grams'!$F598*0.000000028317),\"\")","v":""},"","","","",null,"","","",null,"",""]
[null,null,{"$f":"IF('Teom ugm3'!A601=\"\",\"\",C598+1)","v":""},"",null,"",null,{"$f":"IF(ISNUMBER('Teom ugm3'!B601),('Teom ugm3'!B601*'Teom grams'!$F599*0.000000028317),\"\")","v":""},{"$f":"IF(ISNUMBER('Teom ugm3'!C601),('Teom ugm3'!C601*'Teom grams'!$F599*0.000000028317),\"\")","v":""},{"$f":"IF(ISNUMBER('Teom ugm3'!D601),('Teom ugm3'!D601*'Teom grams'!$F599*0.000000028317),\"\")","v":""},"","","","",null,"","","",null,"",""]
[null,null,{"$f":"IF('Teom ugm3'!A602=\"\",\"\",C599+1)","v":""},"",null,"",null,{"$f":"IF(ISNUMBER('Teom ugm3'!B602),('Teom ugm3'!B602*'Teom grams'!$F600*0.000000028317),\"\")","v":""},{"$f":"IF(ISNUMBER('Teom ugm3'!C602),('Teom ugm3'!C602*'Teom grams'!$F600*0.000000028317),\"\")","v":""},{"$f":"IF(ISNUMBER('Teom ugm3'!D602),('Teom ugm3'!D602*'Teom grams'!$F600*0.000000028317),\"\")","v":""},"","","","",null,"","","",null,"",""]
[null,null,{"$f":"IF('Teom ugm3'!A603=\"\",\"\",C600+1)","v":""},"",null,"",null,{"$f":"IF(ISNUMBER('Teom ugm3'!B603),('Teom ugm3'!B603*'Teom grams'!$F601*0.000000028317),\"\")","v":""},{"$f":"IF(ISNUMBER('Teom ugm3'!C603),('Teom ugm3'!C603*'Teom grams'!$F601*0.000000028317),\"\")","v":""},{"$f":"IF(ISNUMBER('Teom ugm3'!D603),('Teom ugm3'!D603*'Teom grams'!$F601*0.000000028317),\"\")","v":""},"","","","",null,"","","",null,"",""]
[null,null,{"$f":"IF('Teom ugm3'!A604=\"\",\"\",C601+1)","v":""},"",null,"",null,{"$f":"IF(ISNUMBER('Teom ugm3'!B604),('Teom ugm3'!B604*'Teom grams'!$F602*0.000000028317),\"\")","v":""},{"$f":"IF(ISNUMBER('Teom ugm3'!C604),('Teom ugm3'!C604*'Teom grams'!$F602*0.000000028317),\"\")","v":""},{"$f":"IF(ISNUMBER('Teom ugm3'!D604),('Teom ugm3'!D604*'Teom grams'!$F602*0.000000028317),\"\")","v":""},"","","","",null,"","","",null,"",""]
[null,null,{"$f":"IF('Teom ugm3'!A605=\"\",\"\",C602+1)","v":""},"",null,"",null,{"$f":"IF(ISNUMBER('Teom ugm3'!B605),('Teom ugm3'!B605*'Teom grams'!$F603*0.000000028317),\"\")","v":""},{"$f":"IF(ISNUMBER('Teom ugm3'!C605),('Teom ugm3'!C605*'Teom grams'!$F603*0.000000028317),\"\")","v":""},{"$f":"IF(ISNUMBER('Teom ugm3'!D605),('Teom ugm3'!D605*'Teom grams'!$F603*0.000000028317),\"\")","v":""},"","","","",null,"","","",null,"",""]
[null,null,{"$f":"IF('Teom ugm3'!A606=\"\",\"\",C603+1)","v":""},"",null,"",null,{"$f":"IF(ISNUMBER('Teom ugm3'!B606),('Teom ugm3'!B606*'Teom grams'!$F604*0.000000028317),\"\")","v":""},{"$f":"IF(ISNUMBER('Teom ugm3'!C606),('Teom ugm3'!C606*'Teom grams'!$F604*0.000000028317),\"\")","v":""},{"$f":"IF(ISNUMBER('Teom ugm3'!D606),('Teom ugm3'!D606*'Teom grams'!$F604*0.000000028317),\"\")","v":""},"","","","",null,"","","",null,"",""]
[null,null,{"$f":"IF('Teom ugm3'!A607=\"\",\"\",C604+1)","v":""},"",null,"",null,{"$f":"IF(ISNUMBER('Teom ugm3'!B607),('Teom ugm3'!B607*'Teom grams'!$F605*0.000000028317),\"\")","v":""},{"$f":"IF(ISNUMBER('Teom ugm3'!C607),('Teom ugm3'!C607*'Teom grams'!$F605*0.000000028317),\"\")","v":""},{"$f":"IF(ISNUMBER('Teom ugm3'!D607),('Teom ugm3'!D607*'Teom grams'!$F605*0.000000028317),\"\")","v":""},"","","","",null,"","","",null,"",""]
[null,null,{"$f":"IF('Teom ugm3'!A608=\"\",\"\",C605+1)","v":""},"",null,"",null,{"$f":"IF(ISNUMBER('Teom ugm3'!B608),('Teom ugm3'!B608*'Teom grams'!$F606*0.000000028317),\"\")","v":""},{"$f":"IF(ISNUMBER('Teom ugm3'!C608),('Teom ugm3'!C608*'Teom grams'!$F606*0.000000028317),\"\")","v":""},{"$f":"IF(ISNUMBER('Teom ugm3'!D608),('Teom ugm3'!D608*'Teom grams'!$F606*0.000000028317),\"\")","v":""},"","","","",null,"","","",null,"",""]
[null,null,{"$f":"IF('Teom ugm3'!A609=\"\",\"\",C606+1)","v":""},"",null,"",null,{"$f":"IF(ISNUMBER('Teom ugm3'!B609),('Teom ugm3'!B609*'Teom grams'!$F607*0.000000028317),\"\")","v":""},{"$f":"IF(ISNUMBER('Teom ugm3'!C609),('Teom ugm3'!C609*'Teom grams'!$F607*0.000000028317),\"\")","v":""},{"$f":"IF(ISNUMBER('Teom ugm3'!D609),('Teom ugm3'!D609*'Teom grams'!$F607*0.000000028317),\"\")","v":""},"","","","",null,"","","",null,"",""]
[null,null,{"$f":"IF('Teom ugm3'!A610=\"\",\"\",C607+1)","v":""},"",null,"",null,{"$f":"IF(ISNUMBER('Teom ugm3'!B610),('Teom ugm3'!B610*'Teom grams'!$F608*0.000000028317),\"\")","v":""},{"$f":"IF(ISNUMBER('Teom ugm3'!C610),('Teom ugm3'!C610*'Teom grams'!$F608*0.000000028317),\"\")","v":""},{"$f":"IF(ISNUMBER('Teom ugm3'!D610),('Teom ugm3'!D610*'Teom grams'!$F608*0.000000028317),\"\")","v":""},"","","","",null,"","","",null,"",""]
[null,null,{"$f":"IF('Teom ugm3'!A611=\"\",\"\",C608+1)","v":""},"",null,"",null,{"$f":"IF(ISNUMBER('Teom ugm3'!B611),('Teom ugm3'!B611*'Teom grams'!$F609*0.000000028317),\"\")","v":""},{"$f":"IF(ISNUMBER('Teom ugm3'!C611),('Teom ugm3'!C611*'Teom grams'!$F609*0.000000028317),\"\")","v":""},{"$f":"IF(ISNUMBER('Teom ugm3'!D611),('Teom ugm3'!D611*'Teom grams'!$F609*0.000000028317),\"\")","v":""},"","","","",null,"","","",null,"",""]
[null,null,{"$f":"IF('Teom ugm3'!A612=\"\",\"\",C609+1)","v":""},"",null,"",null,{"$f":"IF(ISNUMBER('Teom ugm3'!B612),('Teom ugm3'!B612*'Teom grams'!$F610*0.000000028317),\"\")","v":""},{"$f":"IF(ISNUMBER('Teom ugm3'!C612),('Teom ugm3'!C612*'Teom grams'!$F610*0.000000028317),\"\")","v":""},{"$f":"IF(ISNUMBER('Teom ugm3'!D612),('Teom ugm3'!D612*'Teom grams'!$F610*0.000000028317),\"\")","v":""},"","","","",null,"","","",null,"",""]
[null,null,{"$f":"IF('Teom ugm3'!A613=\"\",\"\",C610+1)","v":""},"",null,"",null,{"$f":"IF(ISNUMBER('Teom ugm3'!B613),('Teom ugm3'!B613*'Teom grams'!$F611*0.000000028317),\"\")","v":""},{"$f":"IF(ISNUMBER('Teom ugm3'!C613),('Teom ugm3'!C613*'Teom grams'!$F611*0.000000028317),\"\")","v":""},{"$f":"IF(ISNUMBER('Teom ugm3'!D613),('Teom ugm3'!D613*'Teom grams'!$F611*0.000000028317),\"\")","v":""},"","","","",null,"",{"$f":"IF(ISNUMBER(M611),M611*60,\"\")","v":""},{"$f":"IF(ISNUMBER(N611),N611*60,\"\")","v":""},null,{"$f":"IF(COUNT(C611:C670)>59,AVERAGE(P611:P670),\"\")","v":""},{"$f":"IF(COUNT(C611:C670)>59,AVERAGE(Q611:Q670),\"\")","v":""}]
[null,null,{"$f":"IF('Teom ugm3'!A614=\"\",\"\",C611+1)","v":""},"",null,"",null,{"$f":"IF(ISNUMBER('Teom ugm3'!B614),('Teom ugm3'!B614*'Teom grams'!$F612*0.000000028317),\"\")","v":""},{"$f":"IF(ISNUMBER('Teom ugm3'!C614),('Teom ugm3'!C614*'Teom grams'!$F612*0.000000028317),\"\")","v":""},{"$f":"IF(ISNUMBER('Teom ugm3'!D614),('Teom ugm3'!D614*'Teom grams'!$F612*0.000000028317),\"\")","v":""},"","","","",null,"","","",null,"",""]
[null,null,{"$f":"IF('Teom ugm3'!A615=\"\",\"\",C612+1)","v":""},"",null,"",null,{"$f":"IF(ISNUMBER('Teom ugm3'!B615),('Teom ugm3'!B615*'Teom grams'!$F613*0.000000028317),\"\")","v":""},{"$f":"IF(ISNUMBER('Teom ugm3'!C615),('Teom ugm3'!C615*'Teom grams'!$F613*0.000000028317),\"\")","v":""},{"$f":"IF(ISNUMBER('Teom ugm3'!D615),('Teom ugm3'!D615*'Teom grams'!$F613*0.000000028317),\"\")","v":""},"","","","",null,"","","",null,"",""]
[null,null,{"$f":"IF('Teom ugm3'!A616=\"\",\"\",C613+1)","v":""},"",null,"",null,{"$f":"IF(ISNUMBER('Teom ugm3'!B616),('Teom ugm3'!B616*'Teom grams'!$F614*0.000000028317),\"\")","v":""},{"$f":"IF(ISNUMBER('Teom ugm3'!C616),('Teom ugm3'!C616*'Teom grams'!$F614*0.000000028317),\"\")","v":""},{"$f":"IF(ISNUMBER('Teom ugm3'!D616),('Teom ugm3'!D616*'Teom grams'!$F614*0.000000028317),\"\")","v":""},"","","","",null,"","","",null,"",""]
[null,null,{"$f":"IF('Teom ugm3'!A617=\"\",\"\",C614+1)","v":""},"",null,"",null,{"$f":"IF(ISNUMBER('Teom ugm3'!B617),('Teom ugm3'!B617*'Teom grams'!$F615*0.000000028317),\"\")","v":""},{"$f":"IF(ISNUMBER('Teom ugm3'!C617),('Teom ugm3'!C617*'Teom grams'!$F615*0.000000028317),\"\")","v":""},{"$f":"IF(ISNUMBER('Teom ugm3'!D617),('Teom ugm3'!D617*'Teom grams'!$F615*0.000000028317),\"\")","v":""},"","","","",null,"","","",null,"",""]
[null,null,{"$f":"IF('Teom ugm3'!A618=\"\",\"\",C615+1)","v":""},"",null,"",null,{"$f":"IF(ISNUMBER('Teom ugm3'!B618),('Teom ugm3'!B618*'Teom grams'!$F616*0.000000028317),\"\")","v":""},{"$f":"IF(ISNUMBER('Teom ugm3'!C618),('Teom ugm3'!C618*'Teom grams'!$F616*0.000000028317),\"\")","v":""},{"$f":"IF(ISNUMBER('Teom ugm3'!D618),('Teom ugm3'!D618*'Teom grams'!$F616*0.000000028317),\"\")","v":""},"","","","",null,"","","",null,"",""]
[null,null,{"$f":"IF('Teom ugm3'!A619=\"\",\"\",C616+1)","v":""},"",null,"",null,{"$f":"IF(ISNUMBER('Teom ugm3'!B619),('Teom ugm3'!B619*'Teom grams'!$F617*0.000000028317),\"\")","v":""},{"$f":"IF(ISNUMBER('Teom ugm3'!C619),('Teom ugm3'!C619*'Teom grams'!$F617*0.000000028317),\"\")","v":""},{"$f":"IF(ISNUMBER('Teom ugm3'!D619),('Teom ugm3'!D619*'Teom grams'!$F617*0.000000028317),\"\")","v":""},"","","","",null,"","","",null,"",""]
[null,null,{"$f":"IF('Teom ugm3'!A620=\"\",\"\",C617+1)","v":""},"",null,"",null,{"$f":"IF(ISNUMBER('Teom ugm3'!B620),('Teom ugm3'!B620*'Teom grams'!$F618*0.000000028317),\"\")","v":""},{"$f":"IF(ISNUMBER('Teom ugm3'!C620),('Teom ugm3'!C620*'Teom grams'!$F618*0.000000028317),\"\")","v":""},{"$f":"IF(ISNUMBER('Teom ugm3'!D620),('Teom ugm3'!D620*'Teom grams'!$F618*0.000000028317),\"\")","v":""},"","","","",null,"","","",null,"",""]
[null,null,{"$f":"IF('Teom ugm3'!A621=\"\",\"\",C618+1)","v":""},"",null,"",null,{"$f":"IF(ISNUMBER('Teom ugm3'!B621),('Teom ugm3'!B621*'Teom grams'!$F619*0.000000028317),\"\")","v":""},{"$f":"IF(ISNUMBER('Teom ugm3'!C621),('Teom ugm3'!C621*'Teom grams'!$F619*0.000000028317),\"\")","v":""},{"$f":"IF(ISNUMBER('Teom ugm3'!D621),('Teom ugm3'!D621*'Teom grams'!$F619*0.000000028317),\"\")","v":""},"","","","",null,"","","",null,"",""]
[null,null,{"$f":"IF('Teom ugm3'!A622=\"\",\"\",C619+1)","v":""},"",null,"",null,{"$f":"IF(ISNUMBER('Teom ugm3'!B622),('Teom ugm3'!B622*'Teom grams'!$F620*0.000000028317),\"\")","v":""},{"$f":"IF(ISNUMBER('Teom ugm3'!C622),('Teom ugm3'!C622*'Teom grams'!$F620*0.000000028317),\"\")","v":""},{"$f":"IF(ISNUMBER('Teom ugm3'!D622),('Teom ugm3'!D622*'Teom grams'!$F620*0.000000028317),\"\")","v":""},"","","","",null,"","","",null,"",""]
[null,null,{"$f":"IF('Teom ugm3'!A623=\"\",\"\",C620+1)","v":""},"",null,"",null,{"$f":"IF(ISNUMBER('Teom ugm3'!B623),('Teom ugm3'!B623*'Teom grams'!$F621*0.000000028317),\"\")","v":""},{"$f":"IF(ISNUMBER('Teom ugm3'!C623),('Teom ugm3'!C623*'Teom grams'!$F621*0.000000028317),\"\")","v":""},{"$f":"IF(ISNUMBER('Teom ugm3'!D623),('Teom ugm3'!D623*'Teom grams'!$F621*0.000000028317),\"\")","v":""},"","","","",null,"","","",null,"",""]
[null,null,{"$f":"IF('Teom ugm3'!A624=\"\",\"\",C621+1)","v":""},"",null,"",null,{"$f":"IF(ISNUMBER('Teom ugm3'!B624),('Teom ugm3'!B624*'Teom grams'!$F622*0.000000028317),\"\")","v":""},{"$f":"IF(ISNUMBER('Teom ugm3'!C624),('Teom ugm3'!C624*'Teom grams'!$F622*0.000000028317),\"\")","v":""},{"$f":"IF(ISNUMBER('Teom ugm3'!D624),('Teom ugm3'!D624*'Teom grams'!$F622*0.000000028317),\"\")","v":""},"","","","",null,"","","",null,"",""]
[null,null,{"$f":"IF('Teom ugm3'!A625=\"\",\"\",C622+1)","v":""},"",null,"",null,{"$f":"IF(ISNUMBER('Teom ugm3'!B625),('Teom ugm3'!B625*'Teom grams'!$F623*0.000000028317),\"\")","v":""},{"$f":"IF(ISNUMBER('Teom ugm3'!C625),('Teom ugm3'!C625*'Teom grams'!$F623*0.000000028317),\"\")","v":""},{"$f":"IF(ISNUMBER('Teom ugm3'!D625),('Teom ugm3'!D625*'Teom grams'!$F623*0.000000028317),\"\")","v":""},"","","","",null,"","","",null,"",""]
[null,null,{"$f":"IF('Teom ugm3'!A626=\"\",\"\",C623+1)","v":""},"",null,"",null,{"$f":"IF(ISNUMBER('Teom ugm3'!B626),('Teom ugm3'!B626*'Teom grams'!$F624*0.000000028317),\"\")","v":""},{"$f":"IF(ISNUMBER('Teom ugm3'!C626),('Teom ugm3'!C626*'Teom grams'!$F624*0.000000028317),\"\")","v":""},{"$f":"IF(ISNUMBER('Teom ugm3'!D626),('Teom ugm3'!D626*'Teom grams'!$F624*0.000000028317),\"\")","v":""},"","","","",null,"","","",null,"",""]
[null,null,{"$f":"IF('Teom ugm3'!A627=\"\",\"\",C624+1)","v":""},"",null,"",null,{"$f":"IF(ISNUMBER('Teom ugm3'!B627),('Teom ugm3'!B627*'Teom grams'!$F625*0.000000028317),\"\")","v":""},{"$f":"IF(ISNUMBER('Teom ugm3'!C627),('Teom ugm3'!C627*'Teom grams'!$F625*0.000000028317),\"\")","v":""},{"$f":"IF(ISNUMBER('Teom ugm3'!D627),('Teom ugm3'!D627*'Teom grams'!$F625*0.000000028317),\"\")","v":""},"","","","",null,"","","",null,"",""]
[null,null,{"$f":"IF('Teom ugm3'!A628=\"\",\"\",C625+1)","v":""},"",null,"",null,{"$f":"IF(ISNUMBER('Teom ugm3'!B628),('Teom ugm3'!B628*'Teom grams'!$F626*0.000000028317),\"\")","v":""},{"$f":"IF(ISNUMBER('Teom ugm3'!C628),('Teom ugm3'!C628*'Teom grams'!$F626*0.000000028317),\"\")","v":""},{"$f":"IF(ISNUMBER('Teom ugm3'!D628),('Teom ugm3'!D628*'Teom grams'!$F626*0.000000028317),\"\")","v":""},"","","","",null,"","","",null,"",""]
[null,null,{"$f":"IF('Teom ugm3'!A629=\"\",\"\",C626+1)","v":""},"",null,"",null,{"$f":"IF(ISNUMBER('Teom ugm3'!B629),('Teom ugm3'!B629*'Teom grams'!$F627*0.000000028317),\"\")","v":""},{"$f":"IF(ISNUMBER('Teom ugm3'!C629),('Teom ugm3'!C629*'Teom grams'!$F627*0.000000028317),\"\")","v":""},{"$f":"IF(ISNUMBER('Teom ugm3'!D629),('Teom ugm3'!D629*'Teom grams'!$F627*0.000000028317),\"\")","v":""},"","","","",null,"","","",null,"",""]
[null,null,{"$f":"IF('Teom ugm3'!A630=\"\",\"\",C627+1)","v":""},"",null,"",null,{"$f":"IF(ISNUMBER('Teom ugm3'!B630),('Teom ugm3'!B630*'Teom grams'!$F628*0.000000028317),\"\")","v":""},{"$f":"IF(ISNUMBER('Teom ugm3'!C630),('Teom ugm3'!C630*'Teom grams'!$F628*0.000000028317),\"\")","v":""},{"$f":"IF(ISNUMBER('Teom ugm3'!D630),('Teom ugm3'!D630*'Teom grams'!$F628*0.000000028317),\"\")","v":""},"","","","",null,"","","",null,"",""]
[null,null,{"$f":"IF('Teom ugm3'!A631=\"\",\"\",C628+1)","v":""},"",null,"",null,{"$f":"IF(ISNUMBER('Teom ugm3'!B631),('Teom ugm3'!B631*'Teom grams'!$F629*0.000000028317),\"\")","v":""},{"$f":"IF(ISNUMBER('Teom ugm3'!C631),('Teom ugm3'!C631*'Teom grams'!$F629*0.000000028317),\"\")","v":""},{"$f":"IF(ISNUMBER('Teom ugm3'!D631),('Teom ugm3'!D631*'Teom grams'!$F629*0.000000028317),\"\")","v":""},"","","","",null,"","","",null,"",""]
[null,null,{"$f":"IF('Teom ugm3'!A632=\"\",\"\",C629+1)","v":""},"",null,"",null,{"$f":"IF(ISNUMBER('Teom ugm3'!B632),('Teom ugm3'!B632*'Teom grams'!$F630*0.000000028317),\"\")","v":""},{"$f":"IF(ISNUMBER('Teom ugm3'!C632),('Teom ugm3'!C632*'Teom grams'!$F630*0.000000028317),\"\")","v":""},{"$f":"IF(ISNUMBER('Teom ugm3'!D632),('Teom ugm3'!D632*'Teom grams'!$F630*0.000000028317),\"\")","v":""},"","","","",null,"","","",null,"",""]
[null,null,{"$f":"IF('Teom ugm3'!A633=\"\",\"\",C630+1)","v":""},"",null,"",null,{"$f":"IF(ISNUMBER('Teom ugm3'!B633),('Teom ugm3'!B633*'Teom grams'!$F631*0.000000028317),\"\")","v":""},{"$f":"IF(ISNUMBER('Teom ugm3'!C633),('Teom ugm3'!C633*'Teom grams'!$F631*0.000000028317),\"\")","v":""},{"$f":"IF(ISNUMBER('Teom ugm3'!D633),('Teom ugm3'!D633*'Teom grams'!$F631*0.000000028317),\"\")","v":""},"","","","",null,"","","",null,"",""]
[null,null,{"$f":"IF('Teom ugm3'!A634=\"\",\"\",C631+1)","v":""},"",null,"",null,{"$f":"IF(ISNUMBER('Teom ugm3'!B634),('Teom ugm3'!B634*'Teom grams'!$F632*0.000000028317),\"\")","v":""},{"$f":"IF(ISNUMBER('Teom ugm3'!C634),('Teom ugm3'!C634*'Teom grams'!$F632*0.000000028317),\"\")","v":""},{"$f":"IF(ISNUMBER('Teom ugm3'!D634),('Teom ugm3'!D634*'Teom grams'!$F632*0.000000028317),\"\")","v":""},"","","","",null,"","","",null,"",""]
[null,null,{"$f":"IF('Teom ugm3'!A635=\"\",\"\",C632+1)","v":""},"",null,"",null,{"$f":"IF(ISNUMBER('Teom ugm3'!B635),('Teom ugm3'!B635*'Teom grams'!$F633*0.000000028317),\"\")","v":""},{"$f":"IF(ISNUMBER('Teom ugm3'!C635),('Teom ugm3'!C635*'Teom grams'!$F633*0.000000028317),\"\")","v":""},{"$f":"IF(ISNUMBER('Teom ugm3'!D635),('Teom ugm3'!D635*'Teom grams'!$F633*0.000000028317),\"\")","v":""},"","","","",null,"","","",null,"",""]
[null,null,{"$f":"IF('Teom ugm3'!A636=\"\",\"\",C633+1)","v":""},"",null,"",null,{"$f":"IF(ISNUMBER('Teom ugm3'!B636),('Teom ugm3'!B636*'Teom grams'!$F634*0.000000028317),\"\")","v":""},{"$f":"IF(ISNUMBER('Teom ugm3'!C636),('Teom ugm3'!C636*'Teom grams'!$F634*0.000000028317),\"\")","v":""},{"$f":"IF(ISNUMBER('Teom ugm3'!D636),('Teom ugm3'!D636*'Teom grams'!$F634*0.000000028317),\"\")","v":""},"","","","",null,"","","",null,"",""]
[null,null,{"$f":"IF('Teom ugm3'!A637=\"\",\"\",C634+1)","v":""},"",null,"",null,{"$f":"IF(ISNUMBER('Teom ugm3'!B637),('Teom ugm3'!B637*'Teom grams'!$F635*0.000000028317),\"\")","v":""},{"$f":"IF(ISNUMBER('Teom ugm3'!C637),('Teom ugm3'!C637*'Teom grams'!$F635*0.000000028317),\"\")","v":""},{"$f":"IF(ISNUMBER('Teom ugm3'!D637),('Teom ugm3'!D637*'Teom grams'!$F635*0.000000028317),\"\")","v":""},"","","","",null,"","","",null,"",""]
[null,null,{"$f":"IF('Teom ugm3'!A638=\"\",\"\",C635+1)","v":""},"",null,"",null,{"$f":"IF(ISNUMBER('Teom ugm3'!B638),('Teom ugm3'!B638*'Teom grams'!$F636*0.000000028317),\"\")","v":""},{"$f":"IF(ISNUMBER('Teom ugm3'!C638),('Teom ugm3'!C638*'Teom grams'!$F636*0.000000028317),\"\")","v":""},{"$f":"IF(ISNUMBER('Teom ugm3'!D638),('Teom ugm3'!D638*'Teom grams'!$F636*0.000000028317),\"\")","v":""},"","","","",null,"","","",null,"",""]
[null,null,{"$f":"IF('Teom ugm3'!A639=\"\",\"\",C636+1)","v":""},"",null,"",null,{"$f":"IF(ISNUMBER('Teom ugm3'!B639),('Teom ugm3'!B639*'Teom grams'!$F637*0.000000028317),\"\")","v":""},{"$f":"IF(ISNUMBER('Teom ugm3'!C639),('Teom ugm3'!C639*'Teom grams'!$F637*0.000000028317),\"\")","v":""},{"$f":"IF(ISNUMBER('Teom ugm3'!D639),('Teom ugm3'!D639*'Teom grams'!$F637*0.000000028317),\"\")","v":""},"","","","",null,"","","",null,"",""]
[null,null,{"$f":"IF('Teom ugm3'!A640=\"\",\"\",C637+1)","v":""},"",null,"",null,{"$f":"IF(ISNUMBER('Teom ugm3'!B640),('Teom ugm3'!B640*'Teom grams'!$F638*0.000000028317),\"\")","v":""},{"$f":"IF(ISNUMBER('Teom ugm3'!C640),('Teom ugm3'!C640*'Teom grams'!$F638*0.000000028317),\"\")","v":""},{"$f":"IF(ISNUMBER('Teom ugm3'!D640),('Teom ugm3'!D640*'Teom grams'!$F638*0.000000028317),\"\")","v":""},"","","","",null,"","","",null,"",""]
[null,null,{"$f":"IF('Teom ugm3'!A641=\"\",\"\",C638+1)","v":""},"",null,"",null,{"$f":"IF(ISNUMBER('Teom ugm3'!B641),('Teom ugm3'!B641*'Teom grams'!$F639*0.000000028317),\"\")","v":""},{"$f":"IF(ISNUMBER('Teom ugm3'!C641),('Teom ugm3'!C641*'Teom grams'!$F639*0.000000028317),\"\")","v":""},{"$f":"IF(ISNUMBER('Teom ugm3'!D641),('Teom ugm3'!D641*'Teom grams'!$F639*0.000000028317),\"\")","v":""},"","","","",null,"","","",null,"",""]
[null,null,{"$f":"IF('Teom ugm3'!A642=\"\",\"\",C639+1)","v":""},"",null,"",null,{"$f":"IF(ISNUMBER('Teom ugm3'!B642),('Teom ugm3'!B642*'Teom grams'!$F640*0.000000028317),\"\")","v":""},{"$f":"IF(ISNUMBER('Teom ugm3'!C642),('Teom ugm3'!C642*'Teom grams'!$F640*0.000000028317),\"\")","v":""},{"$f":"IF(ISNUMBER('Teom ugm3'!D642),('Teom ugm3'!D642*'Teom grams'!$F640*0.000000028317),\"\")","v":""},"","","","",null,"","","",null,"",""]
[null,null,{"$f":"IF('Teom ugm3'!A643=\"\",\"\",C640+1)","v":""},"",null,"",null,{"$f":"IF(ISNUMBER('Teom ugm3'!B643),('Teom ugm3'!B643*'Teom grams'!$F641*0.000000028317),\"\")","v":""},{"$f":"IF(ISNUMBER('Teom ugm3'!C643),('Teom ugm3'!C643*'Teom grams'!$F641*0.000000028317),\"\")","v":""},{"$f":"IF(ISNUMBER('Teom ugm3'!D643),('Teom ugm3'!D643*'Teom grams'!$F641*0.000000028317),\"\")","v":""},"","","","",null,"","","",null,"",""]
[null,null,{"$f":"IF('Teom ugm3'!A644=\"\",\"\",C641+1)","v":""},"",null,"",null,{"$f":"IF(ISNUMBER('Teom ugm3'!B644),('Teom ugm3'!B644*'Teom grams'!$F642*0.000000028317),\"\")","v":""},{"$f":"IF(ISNUMBER('Teom ugm3'!C644),('Teom ugm3'!C644*'Teom grams'!$F642*0.000000028317),\"\")","v":""},{"$f":"IF(ISNUMBER('Teom ugm3'!D644),('Teom ugm3'!D644*'Teom grams'!$F642*0.000000028317),\"\")","v":""},"","","","",null,"","","",null,"",""]
[null,null,{"$f":"IF('Teom ugm3'!A645=\"\",\"\",C642+1)","v":""},"",null,"",null,{"$f":"IF(ISNUMBER('Teom ugm3'!B645),('Teom ugm3'!B645*'Teom grams'!$F643*0.000000028317),\"\")","v":""},{"$f":"IF(ISNUMBER('Teom ugm3'!C645),('Teom ugm3'!C645*'Teom grams'!$F643*0.000000028317),\"\")","v":""},{"$f":"IF(ISNUMBER('Teom ugm3'!D645),('Teom ugm3'!D645*'Teom grams'!$F643*0.000000028317),\"\")","v":""},"","","","",null,"","","",null,"",""]
[null,null,{"$f":"IF('Teom ugm3'!A646=\"\",\"\",C643+1)","v":""},"",null,"",null,{"$f":"IF(ISNUMBER('Teom ugm3'!B646),('Teom ugm3'!B646*'Teom grams'!$F644*0.000000028317),\"\")","v":""},{"$f":"IF(ISNUMBER('Teom ugm3'!C646),('Teom ugm3'!C646*'Teom grams'!$F644*0.000000028317),\"\")","v":""},{"$f":"IF(ISNUMBER('Teom ugm3'!D646),('Teom ugm3'!D646*'Teom grams'!$F644*0.000000028317),\"\")","v":""},"","","",{"$f":"M644","v":""},null,"","","",null,"",""]
[null,null,{"$f":"IF('Teom ugm3'!A647=\"\",\"\",C644+1)","v":""},"",null,{"$f":"IF(C645=\"\",\"\",E645*1.02041)","v":""},null,{"$f":"IF(ISNUMBER('Teom ugm3'!B647),('Teom ugm3'!B647*'Teom grams'!$F645*0.000000028317),\"\")","v":""},{"$f":"IF(ISNUMBER('Teom ugm3'!C647),('Teom ugm3'!C647*'Teom grams'!$F645*0.000000028317),\"\")","v":""},{"$f":"IF(ISNUMBER('Teom ugm3'!D647),('Teom ugm3'!D647*'Teom grams'!$F645*0.000000028317),\"\")","v":""},{"$f":"IF(H645<0,0,H645)","v":""},"","","",null,{"$f":"IF(ISNUMBER(J645),J645*60,\"\")","v":""},"","",null,"",""]
[null,null,{"$f":"IF('Teom ugm3'!A648=\"\",\"\",C645+1)","v":""},{"$f":"IF(C646=\"\",\"\",D645 + TIME(0, 1, 0))","v":""},null,"",null,{"$f":"IF(ISNUMBER('Teom ugm3'!B648),('Teom ugm3'!B648*'Teom grams'!$F646*0.000000028317),\"\")","v":""},{"$f":"IF(ISNUMBER('Teom ugm3'!C648),('Teom ugm3'!C648*'Teom grams'!$F646*0.000000028317),\"\")","v":""},{"$f":"IF(ISNUMBER('Teom ugm3'!D648),('Teom ugm3'!D648*'Teom grams'!$F646*0.000000028317),\"\")","v":""},"","","","",null,"","","",null,"",""]
[null,null,{"$f":"IF('Teom ugm3'!A649=\"\",\"\",C646+1)","v":""},"",null,"",null,{"$f":"IF(ISNUMBER('Teom ugm3'!B649),('Teom ugm3'!B649*'Teom grams'!$F647*0.000000028317),\"\")","v":""},{"$f":"IF(ISNUMBER('Teom ugm3'!C649),('Teom ugm3'!C649*'Teom grams'!$F647*0.000000028317),\"\")","v":""},{"$f":"IF(ISNUMBER('Teom ugm3'!D649),('Teom ugm3'!D649*'Teom grams'!$F647*0.000000028317),\"\")","v":""},"","","","",null,"","","",null,"",""]
[null,null,{"$f":"IF('Teom ugm3'!A650=\"\",\"\",C647+1)","v":""},"",null,"",null,{"$f":"IF(ISNUMBER('Teom ugm3'!B650),('Teom ugm3'!B650*'Teom grams'!$F648*0.000000028317),\"\")","v":""},{"$f":"IF(ISNUMBER('Teom ugm3'!C650),('Teom ugm3'!C650*'Teom grams'!$F648*0.000000028317),\"\")","v":""},{"$f":"IF(ISNUMBER('Teom ugm3'!D650),('Teom ugm3'!D650*'Teom grams'!$F648*0.000000028317),\"\")","v":""},"","","","",null,"","","",null,"",""]
[null,null,{"$f":"IF('Teom ugm3'!A651=\"\",\"\",C648+1)","v":""},"",null,"",null,{"$f":"IF(ISNUMBER('Teom ugm3'!B651),('Teom ugm3'!B651*'Teom grams'!$F649*0.000000028317),\"\")","v":""},{"$f":"IF(ISNUMBER('Teom ugm3'!C651),('Teom ugm3'!C651*'Teom grams'!$F649*0.000000028317),\"\")","v":""},{"$f":"IF(ISNUMBER('Teom ugm3'!D651),('Teom ugm3'!D651*'Teom grams'!$F649*0.000000028317),\"\")","v":""},"","","","",null,"","","",null,"",""]
[null,null,{"$f":"IF('Teom ugm3'!A652=\"\",\"\",C649+1)","v":""},"",null,"",null,{"$f":"IF(ISNUMBER('Teom ugm3'!B652),('Teom ugm3'!B652*'Teom grams'!$F650*0.000000028317),\"\")","v":""},{"$f":"IF(ISNUMBER('Teom ugm3'!C652),('Teom ugm3'!C652*'Teom grams'!$F650*0.000000028317),\"\")","v":""},{"$f":"IF(ISNUMBER('Teom ugm3'!D652),('Teom ugm3'!D652*'Teom grams'!$F650*0.000000028317),\"\")","v":""},"","","","",null,"","","",null,"",""]
[null,null,{"$f":"IF('Teom ugm3'!A653=\"\",\"\",C650+1)","v":""},"",null,"",null,{"$f":"IF(ISNUMBER('Teom ugm3'!B653),('Teom ugm3'!B653*'Teom grams'!$F651*0.000000028317),\"\")","v":""},{"$f":"IF(ISNUMBER('Teom ugm3'!C653),('Teom ugm3'!C653*'Teom grams'!$F651*0.000000028317),\"\")","v":""},{"$f":"IF(ISNUMBER('Teom ugm3'!D653),('Teom ugm3'!D653*'Teom grams'!$F651*0.000000028317),\"\")","v":""},"","",{"$f":"IF(COUNT(K651:L651)>0,AVERAGE(K651:L651),\"\")","v":""},"",null,"","","",null,"",""]
[null,null,{"$f":"IF('Teom ugm3'!A654=\"\",\"\",C651+1)","v":""},"",null,"",null,{"$f":"IF(ISNUMBER('Teom ugm3'!B654),('Teom ugm3'!B654*'Teom grams'!$F652*0.000000028317),\"\")","v":""},{"$f":"IF(ISNUMBER('Teom ugm3'!C654),('Teom ugm3'!C654*'Teom grams'!$F652*0.000000028317),\"\")","v":""},{"$f":"IF(ISNUMBER('Teom ugm3'!D654),('Teom ugm3'!D654*'Teom grams'!$F652*0.000000028317),\"\")","v":""},"","","","",null,"","","",null,"",""]
[null,null,{"$f":"IF('Teom ugm3'!A655=\"\",\"\",C652+1)","v":""},"",null,"",null,{"$f":"IF(ISNUMBER('Teom ugm3'!B655),('Teom ugm3'!B655*'Teom grams'!$F653*0.000000028317),\"\")","v":""},{"$f":"IF(ISNUMBER('Teom ugm3'!C655),('Teom ugm3'!C655*'Teom grams'!$F653*0.000000028317),\"\")","v":""},{"$f":"IF(ISNUMBER('Teom ugm3'!D655),('Teom ugm3'!D655*'Teom grams'!$F653*0.000000028317),\"\")","v":""},"","","","",null,"","","",null,"",""]
[null,null,{"$f":"IF('Teom ugm3'!A656=\"\",\"\",C653+1)","v":""},"",null,"",null,{"$f":"IF(ISNUMBER('Teom ugm3'!B656),('Teom ugm3'!B656*'Teom grams'!$F654*0.000000028317),\"\")","v":""},{"$f":"IF(ISNUMBER('Teom ugm3'!C656),('Teom ugm3'!C656*'Teom grams'!$F654*0.000000028317),\"\")","v":""},{"$f":"IF(ISNUMBER('Teom ugm3'!D656),('Teom ugm3'!D656*'Teom grams'!$F654*0.000000028317),\"\")","v":""},"","","","",null,"","","",null,"",""]
[null,null,{"$f":"IF('Teom ugm3'!A657=\"\",\"\",C654+1)","v":""},"",null,"",null,{"$f":"IF(ISNUMBER('Teom ugm3'!B657),('Teom ugm3'!B657*'Teom grams'!$F655*0.000000028317),\"\")","v":""},{"$f":"IF(ISNUMBER('Teom ugm3'!C657),('Teom ugm3'!C657*'Teom grams'!$F655*0.000000028317),\"\")","v":""},{"$f":"IF(ISNUMBER('Teom ugm3'!D657),('Teom ugm3'!D657*'Teom grams'!$F655*0.000000028317),\"\")","v":""},"","","","",null,"","","",null,"",""]
[null,null,{"$f":"IF('Teom ugm3'!A658=\"\",\"\",C655+1)","v":""},"",null,"",null,{"$f":"IF(ISNUMBER('Teom ugm3'!B658),('Teom ugm3'!B658*'Teom grams'!$F656*0.000000028317),\"\")","v":""},{"$f":"IF(ISNUMBER('Teom ugm3'!C658),('Teom ugm3'!C658*'Teom grams'!$F656*0.000000028317),\"\")","v":""},{"$f":"IF(ISNUMBER('Teom ugm3'!D658),('Teom ugm3'!D658*'Teom grams'!$F656*0.000000028317),\"\")","v":""},"","","","",null,"","","",null,"",""]
[null,null,{"$f":"IF('Teom ugm3'!A659=\"\",\"\",C656+1)","v":""},"",null,"",null,{"$f":"IF(ISNUMBER('Teom ugm3'!B659),('Teom ugm3'!B659*'Teom grams'!$F657*0.000000028317),\"\")","v":""},{"$f":"IF(ISNUMBER('Teom ugm3'!C659),('Teom ugm3'!C659*'Teom grams'!$F657*0.000000028317),\"\")","v":""},{"$f":"IF(ISNUMBER('Teom ugm3'!D659),('Teom ugm3'!D659*'Teom grams'!$F657*0.000000028317),\"\")","v":""},"","","","",null,"","","",null,"",""]
[null,null,{"$f":"IF('Teom ugm3'!A660=\"\",\"\",C657+1)","v":""},"",null,"",null,{"$f":"IF(ISNUMBER('Teom ugm3'!B660),('Teom ugm3'!B660*'Teom grams'!$F658*0.000000028317),\"\")","v":""},{"$f":"IF(ISNUMBER('Teom ugm3'!C660),('Teom ugm3'!C660*'Teom grams'!$F658*0.000000028317),\"\")","v":""},{"$f":"IF(ISNUMBER('Teom ugm3'!D660),('Teom ugm3'!D660*'Teom grams'!$F658*0.000000028317),\"\")","v":""},"","","","",null,"","","",null,"",""]
[null,null,{"$f":"IF('Teom ugm3'!A661=\"\",\"\",C658+1)","v":""},"",null,"",null,{"$f":"IF(ISNUMBER('Teom ugm3'!B661),('Teom ugm3'!B661*'Teom grams'!$F659*0.000000028317),\"\")","v":""},{"$f":"IF(ISNUMBER('Teom ugm3'!C661),('Teom ugm3'!C661*'Teom grams'!$F659*0.000000028317),\"\")","v":""},{"$f":"IF(ISNUMBER('Teom ugm3'!D661),('Teom ugm3'!D661*'Teom grams'!$F659*0.000000028317),\"\")","v":""},"","","","",null,"","","",null,"",""]
[null,null,{"$f":"IF('Teom ugm3'!A662=\"\",\"\",C659+1)","v":""},"",null,"",null,{"$f":"IF(ISNUMBER('Teom ugm3'!B662),('Teom ugm3'!B662*'Teom grams'!$F660*0.000000028317),\"\")","v":""},{"$f":"IF(ISNUMBER('Teom ugm3'!C662),('Teom ugm3'!C662*'Teom grams'!$F660*0.000000028317),\"\")","v":""},{"$f":"IF(ISNUMBER('Teom ugm3'!D662),('Teom ugm3'!D662*'Teom grams'!$F660*0.000000028317),\"\")","v":""},"","","","",null,"","","",null,"",""]
[null,null,{"$f":"IF('Teom ugm3'!A663=\"\",\"\",C660+1)","v":""},"",null,"",null,{"$f":"IF(ISNUMBER('Teom ugm3'!B663),('Teom ugm3'!B663*'Teom grams'!$F661*0.000000028317),\"\")","v":""},{"$f":"IF(ISNUMBER('Teom ugm3'!C663),('Teom ugm3'!C663*'Teom grams'!$F661*0.000000028317),\"\")","v":""},{"$f":"IF(ISNUMBER('Teom ugm3'!D663),('Teom ugm3'!D663*'Teom grams'!$F661*0.000000028317),\"\")","v":""},"","","","",null,"","","",null,"",""]
[null,null,{"$f":"IF('Teom ugm3'!A664=\"\",\"\",C661+1)","v":""},"",null,"",null,{"$f":"IF(ISNUMBER('Teom ugm3'!B664),('Teom ugm3'!B664*'Teom grams'!$F662*0.000000028317),\"\")","v":""},{"$f":"IF(ISNUMBER('Teom ugm3'!C664),('Teom ugm3'!C664*'Teom grams'!$F662*0.000000028317),\"\")","v":""},{"$f":"IF(ISNUMBER('Teom ugm3'!D664),('Teom ugm3'!D664*'Teom grams'!$F662*0.000000028317),\"\")","v":""},"","","","",null,"","","",null,"",""]
[null,null,{"$f":"IF('Teom ugm3'!A665=\"\",\"\",C662+1)","v":""},"",null,"",null,{"$f":"IF(ISNUMBER('Teom ugm3'!B665),('Teom ugm3'!B665*'Teom grams'!$F663*0.000000028317),\"\")","v":""},{"$f":"IF(ISNUMBER('Teom ugm3'!C665),('Teom ugm3'!C665*'Teom grams'!$F663*0.000000028317),\"\")","v":""},{"$f":"IF(ISNUMBER('Teom ugm3'!D665),('Teom ugm3'!D665*'Teom grams'!$F663*0.000000028317),\"\")","v":""},"","","","",null,"","","",null,"",""]
[null,null,{"$f":"IF('Teom ugm3'!A666=\"\",\"\",C663+1)","v":""},"",null,"",null,{"$f":"IF(ISNUMBER('Teom ugm3'!B666),('Teom ugm3'!B666*'Teom grams'!$F664*0.000000028317),\"\")","v":""},{"$f":"IF(ISNUMBER('Teom ugm3'!C666),('Teom ugm3'!C666*'Teom grams'!$F664*0.000000028317),\"\")","v":""},{"$f":"IF(ISNUMBER('Teom ugm3'!D666),('Teom ugm3'!D666*'Teom grams'!$F664*0.000000028317),\"\")","v":""},"","","","",null,"","","",null,"",""]
[null,null,{"$f":"IF('Teom ugm3'!A667=\"\",\"\",C664+1)","v":""},"",null,"",null,{"$f":"IF(ISNUMBER('Teom ugm3'!B667),('Teom ugm3'!B667*'Teom grams'!$F665*0.000000028317),\"\")","v":""},{"$f":"IF(ISNUMBER('Teom ugm3'!C667),('Teom ugm3'!C667*'Teom grams'!$F665*0.000000028317),\"\")","v":""},{"$f":"IF(ISNUMBER('Teom ugm3'!D667),('Teom ugm3'!D667*'Teom grams'!$F665*0.000000028317),\"\")","v":""},"","","","",null,"","","",null,"",""]
[null,null,{"$f":"IF('Teom ugm3'!A668=\"\",\"\",C665+1)","v":""},"",null,"",null,{"$f":"IF(ISNUMBER('Teom ugm3'!B668),('Teom ugm3'!B668*'Teom grams'!$F666*0.000000028317),\"\")","v":""},{"$f":"IF(ISNUMBER('Teom ugm3'!C668),('Teom ugm3'!C668*'Teom grams'!$F666*0.000000028317),\"\")","v":""},{"$f":"IF(ISNUMBER('Teom ugm3'!D668),('Teom ugm3'!D668*'Teom grams'!$F666*0.000000028317),\"\")","v":""},"","","","",null,"","","",null,"",""]
[null,null,{"$f":"IF('Teom ugm3'!A669=\"\",\"\",C666+1)","v":""},"",null,"",null,{"$f":"IF(ISNUMBER('Teom ugm3'!B669),('Teom ugm3'!B669*'Teom grams'!$F667*0.000000028317),\"\")","v":""},{"$f":"IF(ISNUMBER('Teom ugm3'!C669),('Teom ugm3'!C669*'Teom grams'!$F667*0.000000028317),\"\")","v":""},{"$f":"IF(ISNUMBER('Teom ugm3'!D669),('Teom ugm3'!D669*'Teom grams'!$F667*0.000000028317),\"\")","v":""},"","","","",null,"","","",null,"",""]
[null,null,{"$f":"IF('Teom ugm3'!A670=\"\",\"\",C667+1)","v":""},"",null,"",null,{"$f":"IF(ISNUMBER('Teom ugm3'!B670),('Teom ugm3'!B670*'Teom grams'!$F668*0.000000028317),\"\")","v":""},{"$f":"IF(ISNUMBER('Teom ugm3'!C670),('Teom ugm3'!C670*'Teom grams'!$F668*0.000000028317),\"\")","v":""},{"$f":"IF(ISNUMBER('Teom ugm3'!D670),('Teom ugm3'!D670*'Teom grams'!$F668*0.000000028317),\"\")","v":""},"","","","",null,"","","",null,"",""]
[null,null,{"$f":"IF('Teom ugm3'!A671=\"\",\"\",C668+1)","v":""},"",null,"",null,{"$f":"IF(ISNUMBER('Teom ugm3'!B671),('Teom ugm3'!B671*'Teom grams'!$F669*0.000000028317),\"\")","v":""},{"$f":"IF(ISNUMBER('Teom ugm3'!C671),('Teom ugm3'!C671*'Teom grams'!$F669*0.000000028317),\"\")","v":""},{"$f":"IF(ISNUMBER('Teom ugm3'!D671),('Teom ugm3'!D671*'Teom grams'!$F669*0.000000028317),\"\")","v":""},"","","","",null,"","","",null,"",""]
[null,null,{"$f":"IF('Teom ugm3'!A672=\"\",\"\",C669+1)","v":""},"",null,"",null,{"$f":"IF(ISNUMBER('Teom ugm3'!B672),('Teom ugm3'!B672*'Teom grams'!$F670*0.000000028317),\"\")","v":""},{"$f":"IF(ISNUMBER('Teom ugm3'!C672),('Teom ugm3'!C672*'Teom grams'!$F670*0.000000028317),\"\")","v":""},{"$f":"IF(ISNUMBER('Teom ugm3'!D672),('Teom ugm3'!D672*'Teom grams'!$F670*0.000000028317),\"\")","v":""},"","","","",null,"","","",null,"",""]
[null,null,{"$f":"IF('Teom ugm3'!A673=\"\",\"\",C670+1)","v":""},"",null,"",null,{"$f":"IF(ISNUMBER('Teom ugm3'!B673),('Teom ugm3'!B673*'Teom grams'!$F671*0.000000028317),\"\")","v":""},{"$f":"IF(ISNUMBER('Teom ugm3'!C673),('Teom ugm3'!C673*'Teom grams'!$F671*0.000000028317),\"\")","v":""},{"$f":"IF(ISNUMBER('Teom ugm3'!D673),('Teom ugm3'!D673*'Teom grams'!$F671*0.000000028317),\"\")","v":""},"","","","",null,"","","",null,"",""]
[null,null,{"$f":"IF('Teom ugm3'!A674=\"\",\"\",C671+1)","v":""},"",null,"",null,{"$f":"IF(ISNUMBER('Teom ugm3'!B674),('Teom ugm3'!B674*'Teom grams'!$F672*0.000000028317),\"\")","v":""},{"$f":"IF(ISNUMBER('Teom ugm3'!C674),('Teom ugm3'!C674*'Teom grams'!$F672*0.000000028317),\"\")","v":""},{"$f":"IF(ISNUMBER('Teom ugm3'!D674),('Teom ugm3'!D674*'Teom grams'!$F672*0.000000028317),\"\")","v":""},"","","","",null,"","","",null,"",""]
[null,null,{"$f":"IF('Teom ugm3'!A675=\"\",\"\",C672+1)","v":""},"",null,"",null,{"$f":"IF(ISNUMBER('Teom ugm3'!B675),('Teom ugm3'!B675*'Teom grams'!$F673*0.000000028317),\"\")","v":""},{"$f":"IF(ISNUMBER('Teom ugm3'!C675),('Teom ugm3'!C675*'Teom grams'!$F673*0.000000028317),\"\")","v":""},{"$f":"IF(ISNUMBER('Teom ugm3'!D675),('Teom ugm3'!D675*'Teom grams'!$F673*0.000000028317),\"\")","v":""},"","","","",null,"","","",null,"",""]
[null,null,{"$f":"IF('Teom ugm3'!A676=\"\",\"\",C673+1)","v":""},"",null,"",null,{"$f":"IF(ISNUMBER('Teom ugm3'!B676),('Teom ugm3'!B676*'Teom grams'!$F674*0.000000028317),\"\")","v":""},{"$f":"IF(ISNUMBER('Teom ugm3'!C676),('Teom ugm3'!C676*'Teom grams'!$F674*0.000000028317),\"\")","v":""},{"$f":"IF(ISNUMBER('Teom ugm3'!D676),('Teom ugm3'!D676*'Teom grams'!$F674*0.000000028317),\"\")","v":""},"","","","",null,"","","",null,"",""]
[null,null,{"$f":"IF('Teom ugm3'!A677=\"\",\"\",C674+1)","v":""},"",null,"",null,{"$f":"IF(ISNUMBER('Teom ugm3'!B677),('Teom ugm3'!B677*'Teom grams'!$F675*0.000000028317),\"\")","v":""},{"$f":"IF(ISNUMBER('Teom ugm3'!C677),('Teom ugm3'!C677*'Teom grams'!$F675*0.000000028317),\"\")","v":""},{"$f":"IF(ISNUMBER('Teom ugm3'!D677),('Teom ugm3'!D677*'Teom grams'!$F675*0.000000028317),\"\")","v":""},"","","","",null,"",{"$f":"IF(ISNUMBER(M675),M675*60,\"\")","v":""},{"$f":"IF(ISNUMBER(N675),N675*60,\"\")","v":""},null,{"$f":"IF(COUNT(C675:C734)>59,AVERAGE(P675:P734),\"\")","v":""},{"$f":"IF(COUNT(C675:C734)>59,AVERAGE(Q675:Q734),\"\")","v":""}]
[null,null,{"$f":"IF('Teom ugm3'!A678=\"\",\"\",C675+1)","v":""},"",null,"",null,{"$f":"IF(ISNUMBER('Teom ugm3'!B678),('Teom ugm3'!B678*'Teom grams'!$F676*0.000000028317),\"\")","v":""},{"$f":"IF(ISNUMBER('Teom ugm3'!C678),('Teom ugm3'!C678*'Teom grams'!$F676*0.000000028317),\"\")","v":""},{"$f":"IF(ISNUMBER('Teom ugm3'!D678),('Teom ugm3'!D678*'Teom grams'!$F676*0.000000028317),\"\")","v":""},"","","","",null,"","","",null,"",""]
[null,null,{"$f":"IF('Teom ugm3'!A679=\"\",\"\",C676+1)","v":""},"",null,"",null,{"$f":"IF(ISNUMBER('Teom ugm3'!B679),('Teom ugm3'!B679*'Teom grams'!$F677*0.000000028317),\"\")","v":""},{"$f":"IF(ISNUMBER('Teom ugm3'!C679),('Teom ugm3'!C679*'Teom grams'!$F677*0.000000028317),\"\")","v":""},{"$f":"IF(ISNUMBER('Teom ugm3'!D679),('Teom ugm3'!D679*'Teom grams'!$F677*0.000000028317),\"\")","v":""},"","","","",null,"","","",null,"",""]
[null,null,{"$f":"IF('Teom ugm3'!A680=\"\",\"\",C677+1)","v":""},"",null,"",null,{"$f":"IF(ISNUMBER('Teom ugm3'!B680),('Teom ugm3'!B680*'Teom grams'!$F678*0.000000028317),\"\")","v":""},{"$f":"IF(ISNUMBER('Teom ugm3'!C680),('Teom ugm3'!C680*'Teom grams'!$F678*0.000000028317),\"\")","v":""},{"$f":"IF(ISNUMBER('Teom ugm3'!D680),('Teom ugm3'!D680*'Teom grams'!$F678*0.000000028317),\"\")","v":""},"","","","",null,"","","",null,"",""]
[null,null,{"$f":"IF('Teom ugm3'!A681=\"\",\"\",C678+1)","v":""},"",null,"",null,{"$f":"IF(ISNUMBER('Teom ugm3'!B681),('Teom ugm3'!B681*'Teom grams'!$F679*0.000000028317),\"\")","v":""},{"$f":"IF(ISNUMBER('Teom ugm3'!C681),('Teom ugm3'!C681*'Teom grams'!$F679*0.000000028317),\"\")","v":""},{"$f":"IF(ISNUMBER('Teom ugm3'!D681),('Teom ugm3'!D681*'Teom grams'!$F679*0.000000028317),\"\")","v":""},"","","","",null,"","","",null,"",""]
[null,null,{"$f":"IF('Teom ugm3'!A682=\"\",\"\",C679+1)","v":""},"",null,"",null,{"$f":"IF(ISNUMBER('Teom ugm3'!B682),('Teom ugm3'!B682*'Teom grams'!$F680*0.000000028317),\"\")","v":""},{"$f":"IF(ISNUMBER('Teom ugm3'!C682),('Teom ugm3'!C682*'Teom grams'!$F680*0.000000028317),\"\")","v":""},{"$f":"IF(ISNUMBER('Teom ugm3'!D682),('Teom ugm3'!D682*'Teom grams'!$F680*0.000000028317),\"\")","v":""},"","","","",null,"","","",null,"",""]
[null,null,{"$f":"IF('Teom ugm3'!A683=\"\",\"\",C680+1)","v":""},"",null,"",null,{"$f":"IF(ISNUMBER('Teom ugm3'!B683),('Teom ugm3'!B683*'Teom grams'!$F681*0.000000028317),\"\")","v":""},{"$f":"IF(ISNUMBER('Teom ugm3'!C683),('Teom ugm3'!C683*'Teom grams'!$F681*0.000000028317),\"\")","v":""},{"$f":"IF(ISNUMBER('Teom ugm3'!D683),('Teom ugm3'!D683*'Teom grams'!$F681*0.000000028317),\"\")","v":""},"","","","",null,"","","",null,"",""]
[null,null,{"$f":"IF('Teom ugm3'!A684=\"\",\"\",C681+1)","v":""},"",null,"",null,{"$f":"IF(ISNUMBER('Teom ugm3'!B684),('Teom ugm3'!B684*'Teom grams'!$F682*0.000000028317),\"\")","v":""},{"$f":"IF(ISNUMBER('Teom ugm3'!C684),('Teom ugm3'!C684*'Teom grams'!$F682*0.000000028317),\"\")","v":""},{"$f":"IF(ISNUMBER('Teom ugm3'!D684),('Teom ugm3'!D684*'Teom grams'!$F682*0.000000028317),\"\")","v":""},"","","","",null,"","","",null,"",""]
[null,null,{"$f":"IF('Teom ugm3'!A685=\"\",\"\",C682+1)","v":""},"",null,"",null,{"$f":"IF(ISNUMBER('Teom ugm3'!B685),('Teom ugm3'!B685*'Teom grams'!$F683*0.000000028317),\"\")","v":""},{"$f":"IF(ISNUMBER('Teom ugm3'!C685),('Teom ugm3'!C685*'Teom grams'!$F683*0.000000028317),\"\")","v":""},{"$f":"IF(ISNUMBER('Teom ugm3'!D685),('Teom ugm3'!D685*'Teom grams'!$F683*0.000000028317),\"\")","v":""},"","","","",null,"","","",null,"",""]
[null,null,{"$f":"IF('Teom ugm3'!A686=\"\",\"\",C683+1)","v":""},"",null,"",null,{"$f":"IF(ISNUMBER('Teom ugm3'!B686),('Teom ugm3'!B686*'Teom grams'!$F684*0.000000028317),\"\")","v":""},{"$f":"IF(ISNUMBER('Teom ugm3'!C686),('Teom ugm3'!C686*'Teom grams'!$F684*0.000000028317),\"\")","v":""},{"$f":"IF(ISNUMBER('Teom ugm3'!D686),('Teom ugm3'!D686*'Teom grams'!$F684*0.000000028317),\"\")","v":""},"","","","",null,"","","",null,"",""]
[null,null,{"$f":"IF('Teom ugm3'!A687=\"\",\"\",C684+1)","v":""},"",null,"",null,{"$f":"IF(ISNUMBER('Teom ugm3'!B687),('Teom ugm3'!B687*'Teom grams'!$F685*0.000000028317),\"\")","v":""},{"$f":"IF(ISNUMBER('Teom ugm3'!C687),('Teom ugm3'!C687*'Teom grams'!$F685*0.000000028317),\"\")","v":""},{"$f":"IF(ISNUMBER('Teom ugm3'!D687),('Teom ugm3'!D687*'Teom grams'!$F685*0.000000028317),\"\")","v":""},"","","","",null,"","","",null,"",""]
[null,null,{"$f":"IF('Teom ugm3'!A688=\"\",\"\",C685+1)","v":""},"",null,"",null,{"$f":"IF(ISNUMBER('Teom ugm3'!B688),('Teom ugm3'!B688*'Teom grams'!$F686*0.000000028317),\"\")","v":""},{"$f":"IF(ISNUMBER('Teom ugm3'!C688),('Teom ugm3'!C688*'Teom grams'!$F686*0.000000028317),\"\")","v":""},{"$f":"IF(ISNUMBER('Teom ugm3'!D688),('Teom ugm3'!D688*'Teom grams'!$F686*0.000000028317),\"\")","v":""},"","","","",null,"","","",null,"",""]
[null,null,{"$f":"IF('Teom ugm3'!A689=\"\",\"\",C686+1)","v":""},"",null,"",null,{"$f":"IF(ISNUMBER('Teom ugm3'!B689),('Teom ugm3'!B689*'Teom grams'!$F687*0.000000028317),\"\")","v":""},{"$f":"IF(ISNUMBER('Teom ugm3'!C689),('Teom ugm3'!C689*'Teom grams'!$F687*0.000000028317),\"\")","v":""},{"$f":"IF(ISNUMBER('Teom ugm3'!D689),('Teom ugm3'!D689*'Teom grams'!$F687*0.000000028317),\"\")","v":""},"","","","",null,"","","",null,"",""]
[null,null,{"$f":"IF('Teom ugm3'!A690=\"\",\"\",C687+1)","v":""},"",null,"",null,{"$f":"IF(ISNUMBER('Teom ugm3'!B690),('Teom ugm3'!B690*'Teom grams'!$F688*0.000000028317),\"\")","v":""},{"$f":"IF(ISNUMBER('Teom ugm3'!C690),('Teom ugm3'!C690*'Teom grams'!$F688*0.000000028317),\"\")","v":""},{"$f":"IF(ISNUMBER('Teom ugm3'!D690),('Teom ugm3'!D690*'Teom grams'!$F688*0.000000028317),\"\")","v":""},"","","","",null,"","","",null,"",""]
[null,null,{"$f":"IF('Teom ugm3'!A691=\"\",\"\",C688+1)","v":""},"",null,"",null,{"$f":"IF(ISNUMBER('Teom ugm3'!B691),('Teom ugm3'!B691*'Teom grams'!$F689*0.000000028317),\"\")","v":""},{"$f":"IF(ISNUMBER('Teom ugm3'!C691),('Teom ugm3'!C691*'Teom grams'!$F689*0.000000028317),\"\")","v":""},{"$f":"IF(ISNUMBER('Teom ugm3'!D691),('Teom ugm3'!D691*'Teom grams'!$F689*0.000000028317),\"\")","v":""},"","","","",null,"","","",null,"",""]
[null,null,{"$f":"IF('Teom ugm3'!A692=\"\",\"\",C689+1)","v":""},"",null,"",null,{"$f":"IF(ISNUMBER('Teom ugm3'!B692),('Teom ugm3'!B692*'Teom grams'!$F690*0.000000028317),\"\")","v":""},{"$f":"IF(ISNUMBER('Teom ugm3'!C692),('Teom ugm3'!C692*'Teom grams'!$F690*0.000000028317),\"\")","v":""},{"$f":"IF(ISNUMBER('Teom ugm3'!D692),('Teom ugm3'!D692*'Teom grams'!$F690*0.000000028317),\"\")","v":""},"","","","",null,"","","",null,"",""]
[null,null,{"$f":"IF('Teom ugm3'!A693=\"\",\"\",C690+1)","v":""},"",null,"",null,{"$f":"IF(ISNUMBER('Teom ugm3'!B693),('Teom ugm3'!B693*'Teom grams'!$F691*0.000000028317),\"\")","v":""},{"$f":"IF(ISNUMBER('Teom ugm3'!C693),('Teom ugm3'!C693*'Teom grams'!$F691*0.000000028317),\"\")","v":""},{"$f":"IF(ISNUMBER('Teom ugm3'!D693),('Teom ugm3'!D693*'Teom grams'!$F691*0.000000028317),\"\")","v":""},"","","","",null,"","","",null,"",""]
[null,null,{"$f":"IF('Teom ugm3'!A694=\"\",\"\",C691+1)","v":""},"",null,"",null,{"$f":"IF(ISNUMBER('Teom ugm3'!B694),('Teom ugm3'!B694*'Teom grams'!$F692*0.000000028317),\"\")","v":""},{"$f":"IF(ISNUMBER('Teom ugm3'!C694),('Teom ugm3'!C694*'Teom grams'!$F692*0.000000028317),\"\")","v":""},{"$f":"IF(ISNUMBER('Teom ugm3'!D694),('Teom ugm3'!D694*'Teom grams'!$F692*0.000000028317),\"\")","v":""},"","","","",null,"","","",null,"",""]
[null,null,{"$f":"IF('Teom ugm3'!A695=\"\",\"\",C692+1)","v":""},"",null,"",null,{"$f":"IF(ISNUMBER('Teom ugm3'!B695),('Teom ugm3'!B695*'Teom grams'!$F693*0.000000028317),\"\")","v":""},{"$f":"IF(ISNUMBER('Teom ugm3'!C695),('Teom ugm3'!C695*'Teom grams'!$F693*0.000000028317),\"\")","v":""},{"$f":"IF(ISNUMBER('Teom ugm3'!D695),('Teom ugm3'!D695*'Teom grams'!$F693*0.000000028317),\"\")","v":""},"","","","",null,"","","",null,"",""]
[null,null,{"$f":"IF('Teom ugm3'!A696=\"\",\"\",C693+1)","v":""},"",null,"",null,{"$f":"IF(ISNUMBER('Teom ugm3'!B696),('Teom ugm3'!B696*'Teom grams'!$F694*0.000000028317),\"\")","v":""},{"$f":"IF(ISNUMBER('Teom ugm3'!C696),('Teom ugm3'!C696*'Teom grams'!$F694*0.000000028317),\"\")","v":""},{"$f":"IF(ISNUMBER('Teom ugm3'!D696),('Teom ugm3'!D696*'Teom grams'!$F694*0.000000028317),\"\")","v":""},"","","","",null,"","","",null,"",""]
[null,null,{"$f":"IF('Teom ugm3'!A697=\"\",\"\",C694+1)","v":""},"",null,"",null,{"$f":"IF(ISNUMBER('Teom ugm3'!B697),('Teom ugm3'!B697*'Teom grams'!$F695*0.000000028317),\"\")","v":""},{"$f":"IF(ISNUMBER('Teom ugm3'!C697),('Teom ugm3'!C697*'Teom grams'!$F695*0.000000028317),\"\")","v":""},{"$f":"IF(ISNUMBER('Teom ugm3'!D697),('Teom ugm3'!D697*'Teom grams'!$F695*0.000000028317),\"\")","v":""},"","","","",null,"","","",null,"",""]
[null,null,{"$f":"IF('Teom ugm3'!A698=\"\",\"\",C695+1)","v":""},"",null,"",null,{"$f":"IF(ISNUMBER('Teom ugm3'!B698),('Teom ugm3'!B698*'Teom grams'!$F696*0.000000028317),\"\")","v":""},{"$f":"IF(ISNUMBER('Teom ugm3'!C698),('Teom ugm3'!C698*'Teom grams'!$F696*0.000000028317),\"\")","v":""},{"$f":"IF(ISNUMBER('Teom ugm3'!D698),('Teom ugm3'!D698*'Teom grams'!$F696*0.000000028317),\"\")","v":""},"","","","",null,"","","",null,"",""]
[null,null,{"$f":"IF('Teom ugm3'!A699=\"\",\"\",C696+1)","v":""},"",null,"",null,{"$f":"IF(ISNUMBER('Teom ugm3'!B699),('Teom ugm3'!B699*'Teom grams'!$F697*0.000000028317),\"\")","v":""},{"$f":"IF(ISNUMBER('Teom ugm3'!C699),('Teom ugm3'!C699*'Teom grams'!$F697*0.000000028317),\"\")","v":""},{"$f":"IF(ISNUMBER('Teom ugm3'!D699),('Teom ugm3'!D699*'Teom grams'!$F697*0.000000028317),\"\")","v":""},"","","","",null,"","","",null,"",""]
[null,null,{"$f":"IF('Teom ugm3'!A700=\"\",\"\",C697+1)","v":""},"",null,"",null,{"$f":"IF(ISNUMBER('Teom ugm3'!B700),('Teom ugm3'!B700*'Teom grams'!$F698*0.000000028317),\"\")","v":""},{"$f":"IF(ISNUMBER('Teom ugm3'!C700),('Teom ugm3'!C700*'Teom grams'!$F698*0.000000028317),\"\")","v":""},{"$f":"IF(ISNUMBER('Teom ugm3'!D700),('Teom ugm3'!D700*'Teom grams'!$F698*0.000000028317),\"\")","v":""},"","","","",null,"","","",null,"",""]
[null,null,{"$f":"IF('Teom ugm3'!A701=\"\",\"\",C698+1)","v":""},"",null,"",null,{"$f":"IF(ISNUMBER('Teom ugm3'!B701),('Teom ugm3'!B701*'Teom grams'!$F699*0.000000028317),\"\")","v":""},{"$f":"IF(ISNUMBER('Teom ugm3'!C701),('Teom ugm3'!C701*'Teom grams'!$F699*0.000000028317),\"\")","v":""},{"$f":"IF(ISNUMBER('Teom ugm3'!D701),('Teom ugm3'!D701*'Teom grams'!$F699*0.000000028317),\"\")","v":""},"","","","",null,"","","",null,"",""]
[null,null,{"$f":"IF('Teom ugm3'!A702=\"\",\"\",C699+1)","v":""},"",null,"",null,{"$f":"IF(ISNUMBER('Teom ugm3'!B702),('Teom ugm3'!B702*'Teom grams'!$F700*0.000000028317),\"\")","v":""},{"$f":"IF(ISNUMBER('Teom ugm3'!C702),('Teom ugm3'!C702*'Teom grams'!$F700*0.000000028317),\"\")","v":""},{"$f":"IF(ISNUMBER('Teom ugm3'!D702),('Teom ugm3'!D702*'Teom grams'!$F700*0.000000028317),\"\")","v":""},"","","","",null,"","","",null,"",""]
[null,null,{"$f":"IF('Teom ugm3'!A703=\"\",\"\",C700+1)","v":""},"",null,"",null,{"$f":"IF(ISNUMBER('Teom ugm3'!B703),('Teom ugm3'!B703*'Teom grams'!$F701*0.000000028317),\"\")","v":""},{"$f":"IF(ISNUMBER('Teom ugm3'!C703),('Teom ugm3'!C703*'Teom grams'!$F701*0.000000028317),\"\")","v":""},{"$f":"IF(ISNUMBER('Teom ugm3'!D703),('Teom ugm3'!D703*'Teom grams'!$F701*0.000000028317),\"\")","v":""},"","","","",null,"","","",null,"",""]
[null,null,{"$f":"IF('Teom ugm3'!A704=\"\",\"\",C701+1)","v":""},"",null,"",null,{"$f":"IF(ISNUMBER('Teom ugm3'!B704),('Teom ugm3'!B704*'Teom grams'!$F702*0.000000028317),\"\")","v":""},{"$f":"IF(ISNUMBER('Teom ugm3'!C704),('Teom ugm3'!C704*'Teom grams'!$F702*0.000000028317),\"\")","v":""},{"$f":"IF(ISNUMBER('Teom ugm3'!D704),('Teom ugm3'!D704*'Teom grams'!$F702*0.000000028317),\"\")","v":""},"","","","",null,"","","",null,"",""]
[null,null,{"$f":"IF('Teom ugm3'!A705=\"\",\"\",C702+1)","v":""},"",null,"",null,{"$f":"IF(ISNUMBER('Teom ugm3'!B705),('Teom ugm3'!B705*'Teom grams'!$F703*0.000000028317),\"\")","v":""},{"$f":"IF(ISNUMBER('Teom ugm3'!C705),('Teom ugm3'!C705*'Teom grams'!$F703*0.000000028317),\"\")","v":""},{"$f":"IF(ISNUMBER('Teom ugm3'!D705),('Teom ugm3'!D705*'Teom grams'!$F703*0.000000028317),\"\")","v":""},"","","","",null,"","","",null,"",""]
[null,null,{"$f":"IF('Teom ugm3'!A706=\"\",\"\",C703+1)","v":""},"",null,"",null,{"$f":"IF(ISNUMBER('Teom ugm3'!B706),('Teom ugm3'!B706*'Teom grams'!$F704*0.000000028317),\"\")","v":""},{"$f":"IF(ISNUMBER('Teom ugm3'!C706),('Teom ugm3'!C706*'Teom grams'!$F704*0.000000028317),\"\")","v":""},{"$f":"IF(ISNUMBER('Teom ugm3'!D706),('Teom ugm3'!D706*'Teom grams'!$F704*0.000000028317),\"\")","v":""},"","","","",null,"","","",null,"",""]
[null,null,{"$f":"IF('Teom ugm3'!A707=\"\",\"\",C704+1)","v":""},"",null,"",null,{"$f":"IF(ISNUMBER('Teom ugm3'!B707),('Teom ugm3'!B707*'Teom grams'!$F705*0.000000028317),\"\")","v":""},{"$f":"IF(ISNUMBER('Teom ugm3'!C707),('Teom ugm3'!C707*'Teom grams'!$F705*0.000000028317),\"\")","v":""},{"$f":"IF(ISNUMBER('Teom ugm3'!D707),('Teom ugm3'!D707*'Teom grams'!$F705*0.000000028317),\"\")","v":""},"","","","",null,"","","",null,"",""]
[null,null,{"$f":"IF('Teom ugm3'!A708=\"\",\"\",C705+1)","v":""},"",null,"",null,{"$f":"IF(ISNUMBER('Teom ugm3'!B708),('Teom ugm3'!B708*'Teom grams'!$F706*0.000000028317),\"\")","v":""},{"$f":"IF(ISNUMBER('Teom ugm3'!C708),('Teom ugm3'!C708*'Teom grams'!$F706*0.000000028317),\"\")","v":""},{"$f":"IF(ISNUMBER('Teom ugm3'!D708),('Teom ugm3'!D708*'Teom grams'!$F706*0.000000028317),\"\")","v":""},"","","","",null,"","","",null,"",""]
[null,null,{"$f":"IF('Teom ugm3'!A709=\"\",\"\",C706+1)","v":""},"",null,"",null,{"$f":"IF(ISNUMBER('Teom ugm3'!B709),('Teom ugm3'!B709*'Teom grams'!$F707*0.000000028317),\"\")","v":""},{"$f":"IF(ISNUMBER('Teom ugm3'!C709),('Teom ugm3'!C709*'Teom grams'!$F707*0.000000028317),\"\")","v":""},{"$f":"IF(ISNUMBER('Teom ugm3'!D709),('Teom ugm3'!D709*'Teom grams'!$F707*0.000000028317),\"\")","v":""},"","","","",null,"","","",null,"",""]
[null,null,{"$f":"IF('Teom ugm3'!A710=\"\",\"\",C707+1)","v":""},"",null,"",null,{"$f":"IF(ISNUMBER('Teom ugm3'!B710),('Teom ugm3'!B710*'Teom grams'!$F708*0.000000028317),\"\")","v":""},{"$f":"IF(ISNUMBER('Teom ugm3'!C710),('Teom ugm3'!C710*'Teom grams'!$F708*0.000000028317),\"\")","v":""},{"$f":"IF(ISNUMBER('Teom ugm3'!D710),('Teom ugm3'!D710*'Teom grams'!$F708*0.000000028317),\"\")","v":""},"","","",{"$f":"M708","v":""},null,"","","",null,"",""]
[null,null,{"$f":"IF('Teom ugm3'!A711=\"\",\"\",C708+1)","v":""},"",null,{"$f":"IF(C709=\"\",\"\",E709*1.02041)","v":""},null,{"$f":"IF(ISNUMBER('Teom ugm3'!B711),('Teom ugm3'!B711*'Teom grams'!$F709*0.000000028317),\"\")","v":""},{"$f":"IF(ISNUMBER('Teom ugm3'!C711),('Teom ugm3'!C711*'Teom grams'!$F709*0.000000028317),\"\")","v":""},{"$f":"IF(ISNUMBER('Teom ugm3'!D711),('Teom ugm3'!D711*'Teom grams'!$F709*0.000000028317),\"\")","v":""},{"$f":"IF(H709<0,0,H709)","v":""},"","","",null,{"$f":"IF(ISNUMBER(J709),J709*60,\"\")","v":""},"","",null,"",""]
[null,null,{"$f":"IF('Teom ugm3'!A712=\"\",\"\",C709+1)","v":""},{"$f":"IF(C710=\"\",\"\",D709 + TIME(0, 1, 0))","v":""},null,"",null,{"$f":"IF(ISNUMBER('Teom ugm3'!B712),('Teom ugm3'!B712*'Teom grams'!$F710*0.000000028317),\"\")","v":""},{"$f":"IF(ISNUMBER('Teom ugm3'!C712),('Teom ugm3'!C712*'Teom grams'!$F710*0.000000028317),\"\")","v":""},{"$f":"IF(ISNUMBER('Teom ugm3'!D712),('Teom ugm3'!D712*'Teom grams'!$F710*0.000000028317),\"\")","v":""},"","","","",null,"","","",null,"",""]
[null,null,{"$f":"IF('Teom ugm3'!A713=\"\",\"\",C710+1)","v":""},"",null,"",null,{"$f":"IF(ISNUMBER('Teom ugm3'!B713),('Teom ugm3'!B713*'Teom grams'!$F711*0.000000028317),\"\")","v":""},{"$f":"IF(ISNUMBER('Teom ugm3'!C713),('Teom ugm3'!C713*'Teom grams'!$F711*0.000000028317),\"\")","v":""},{"$f":"IF(ISNUMBER('Teom ugm3'!D713),('Teom ugm3'!D713*'Teom grams'!$F711*0.000000028317),\"\")","v":""},"","","","",null,"","","",null,"",""]
[null,null,{"$f":"IF('Teom ugm3'!A714=\"\",\"\",C711+1)","v":""},"",null,"",null,{"$f":"IF(ISNUMBER('Teom ugm3'!B714),('Teom ugm3'!B714*'Teom grams'!$F712*0.000000028317),\"\")","v":""},{"$f":"IF(ISNUMBER('Teom ugm3'!C714),('Teom ugm3'!C714*'Teom grams'!$F712*0.000000028317),\"\")","v":""},{"$f":"IF(ISNUMBER('Teom ugm3'!D714),('Teom ugm3'!D714*'Teom grams'!$F712*0.000000028317),\"\")","v":""},"","","","",null,"","","",null,"",""]
[null,null,{"$f":"IF('Teom ugm3'!A715=\"\",\"\",C712+1)","v":""},"",null,"",null,{"$f":"IF(ISNUMBER('Teom ugm3'!B715),('Teom ugm3'!B715*'Teom grams'!$F713*0.000000028317),\"\")","v":""},{"$f":"IF(ISNUMBER('Teom ugm3'!C715),('Teom ugm3'!C715*'Teom grams'!$F713*0.000000028317),\"\")","v":""},{"$f":"IF(ISNUMBER('Teom ugm3'!D715),('Teom ugm3'!D715*'Teom grams'!$F713*0.000000028317),\"\")","v":""},"","","","",null,"","","",null,"",""]
[null,null,{"$f":"IF('Teom ugm3'!A716=\"\",\"\",C713+1)","v":""},"",null,"",null,{"$f":"IF(ISNUMBER('Teom ugm3'!B716),('Teom ugm3'!B716*'Teom grams'!$F714*0.000000028317),\"\")","v":""},{"$f":"IF(ISNUMBER('Teom ugm3'!C716),('Teom ugm3'!C716*'Teom grams'!$F714*0.000000028317),\"\")","v":""},{"$f":"IF(ISNUMBER('Teom ugm3'!D716),('Teom ugm3'!D716*'Teom grams'!$F714*0.000000028317),\"\")","v":""},"","","","",null,"","","",null,"",""]
[null,null,{"$f":"IF('Teom ugm3'!A717=\"\",\"\",C714+1)","v":""},"",null,"",null,{"$f":"IF(ISNUMBER('Teom ugm3'!B717),('Teom ugm3'!B717*'Teom grams'!$F715*0.000000028317),\"\")","v":""},{"$f":"IF(ISNUMBER('Teom ugm3'!C717),('Teom ugm3'!C717*'Teom grams'!$F715*0.000000028317),\"\")","v":""},{"$f":"IF(ISNUMBER('Teom ugm3'!D717),('Teom ugm3'!D717*'Teom grams'!$F715*0.000000028317),\"\")","v":""},"","",{"$f":"IF(COUNT(K715:L715)>0,AVERAGE(K715:L715),\"\")","v":""},"",null,"","","",null,"",""]
[null,null,{"$f":"IF('Teom ugm3'!A718=\"\",\"\",C715+1)","v":""},"",null,"",null,{"$f":"IF(ISNUMBER('Teom ugm3'!B718),('Teom ugm3'!B718*'Teom grams'!$F716*0.000000028317),\"\")","v":""},{"$f":"IF(ISNUMBER('Teom ugm3'!C718),('Teom ugm3'!C718*'Teom grams'!$F716*0.000000028317),\"\")","v":""},{"$f":"IF(ISNUMBER('Teom ugm3'!D718),('Teom ugm3'!D718*'Teom grams'!$F716*0.000000028317),\"\")","v":""},"","","","",null,"","","",null,"",""]
[null,null,{"$f":"IF('Teom ugm3'!A719=\"\",\"\",C716+1)","v":""},"",null,"",null,{"$f":"IF(ISNUMBER('Teom ugm3'!B719),('Teom ugm3'!B719*'Teom grams'!$F717*0.000000028317),\"\")","v":""},{"$f":"IF(ISNUMBER('Teom ugm3'!C719),('Teom ugm3'!C719*'Teom grams'!$F717*0.000000028317),\"\")","v":""},{"$f":"IF(ISNUMBER('Teom ugm3'!D719),('Teom ugm3'!D719*'Teom grams'!$F717*0.000000028317),\"\")","v":""},"","","","",null,"","","",null,"",""]
[null,null,{"$f":"IF('Teom ugm3'!A720=\"\",\"\",C717+1)","v":""},"",null,"",null,{"$f":"IF(ISNUMBER('Teom ugm3'!B720),('Teom ugm3'!B720*'Teom grams'!$F718*0.000000028317),\"\")","v":""},{"$f":"IF(ISNUMBER('Teom ugm3'!C720),('Teom ugm3'!C720*'Teom grams'!$F718*0.000000028317),\"\")","v":""},{"$f":"IF(ISNUMBER('Teom ugm3'!D720),('Teom ugm3'!D720*'Teom grams'!$F718*0.000000028317),\"\")","v":""},"","","","",null,"","","",null,"",""]
[null,null,{"$f":"IF('Teom ugm3'!A721=\"\",\"\",C718+1)","v":""},"",null,"",null,{"$f":"IF(ISNUMBER('Teom ugm3'!B721),('Teom ugm3'!B721*'Teom grams'!$F719*0.000000028317),\"\")","v":""},{"$f":"IF(ISNUMBER('Teom ugm3'!C721),('Teom ugm3'!C721*'Teom grams'!$F719*0.000000028317),\"\")","v":""},{"$f":"IF(ISNUMBER('Teom ugm3'!D721),('Teom ugm3'!D721*'Teom grams'!$F719*0.000000028317),\"\")","v":""},"","","","",null,"","","",null,"",""]
[null,null,{"$f":"IF('Teom ugm3'!A722=\"\",\"\",C719+1)","v":""},"",null,"",null,{"$f":"IF(ISNUMBER('Teom ugm3'!B722),('Teom ugm3'!B722*'Teom grams'!$F720*0.000000028317),\"\")","v":""},{"$f":"IF(ISNUMBER('Teom ugm3'!C722),('Teom ugm3'!C722*'Teom grams'!$F720*0.000000028317),\"\")","v":""},{"$f":"IF(ISNUMBER('Teom ugm3'!D722),('Teom ugm3'!D722*'Teom grams'!$F720*0.000000028317),\"\")","v":""},"","","","",null,"","","",null,"",""]
[null,null,{"$f":"IF('Teom ugm3'!A723=\"\",\"\",C720+1)","v":""},"",null,"",null,{"$f":"IF(ISNUMBER('Teom ugm3'!B723),('Teom ugm3'!B723*'Teom grams'!$F721*0.000000028317),\"\")","v":""},{"$f":"IF(ISNUMBER('Teom ugm3'!C723),('Teom ugm3'!C723*'Teom grams'!$F721*0.000000028317),\"\")","v":""},{"$f":"IF(ISNUMBER('Teom ugm3'!D723),('Teom ugm3'!D723*'Teom grams'!$F721*0.000000028317),\"\")","v":""},"","","","",null,"","","",null,"",""]
[null,null,{"$f":"IF('Teom ugm3'!A724=\"\",\"\",C721+1)","v":""},"",null,"",null,{"$f":"IF(ISNUMBER('Teom ugm3'!B724),('Teom ugm3'!B724*'Teom grams'!$F722*0.000000028317),\"\")","v":""},{"$f":"IF(ISNUMBER('Teom ugm3'!C724),('Teom ugm3'!C724*'Teom grams'!$F722*0.000000028317),\"\")","v":""},{"$f":"IF(ISNUMBER('Teom ugm3'!D724),('Teom ugm3'!D724*'Teom grams'!$F722*0.000000028317),\"\")","v":""},"","","","",null,"","","",null,"",""]
[null,null,{"$f":"IF('Teom ugm3'!A725=\"\",\"\",C722+1)","v":""},"",null,"",null,{"$f":"IF(ISNUMBER('Teom ugm3'!B725),('Teom ugm3'!B725*'Teom grams'!$F723*0.000000028317),\"\")","v":""},{"$f":"IF(ISNUMBER('Teom ugm3'!C725),('Teom ugm3'!C725*'Teom grams'!$F723*0.000000028317),\"\")","v":""},{"$f":"IF(ISNUMBER('Teom ugm3'!D725),('Teom ugm3'!D725*'Teom grams'!$F723*0.000000028317),\"\")","v":""},"","","","",null,"","","",null,"",""]
[null,null,{"$f":"IF('Teom ugm3'!A726=\"\",\"\",C723+1)","v":""},"",null,"",null,{"$f":"IF(ISNUMBER('Teom ugm3'!B726),('Teom ugm3'!B726*'Teom grams'!$F724*0.000000028317),\"\")","v":""},{"$f":"IF(ISNUMBER('Teom ugm3'!C726),('Teom ugm3'!C726*'Teom grams'!$F724*0.000000028317),\"\")","v":""},{"$f":"IF(ISNUMBER('Teom ugm3'!D726),('Teom ugm3'!D726*'Teom grams'!$F724*0.000000028317),\"\")","v":""},"","","","",null,"","","",null,"",""]
[null,null,{"$f":"IF('Teom ugm3'!A727=\"\",\"\",C724+1)","v":""},"",null,"",null,{"$f":"IF(ISNUMBER('Teom ugm3'!B727),('Teom ugm3'!B727*'Teom grams'!$F725*0.000000028317),\"\")","v":""},{"$f":"IF(ISNUMBER('Teom ugm3'!C727),('Teom ugm3'!C727*'Teom grams'!$F725*0.000000028317),\"\")","v":""},{"$f":"IF(ISNUMBER('Teom ugm3'!D727),('Teom ugm3'!D727*'Teom grams'!$F725*0.000000028317),\"\")","v":""},"","","","",null,"","","",null,"",""]
[null,null,{"$f":"IF('Teom ugm3'!A728=\"\",\"\",C725+1)","v":""},"",null,"",null,{"$f":"IF(ISNUMBER('Teom ugm3'!B728),('Teom ugm3'!B728*'Teom grams'!$F726*0.000000028317),\"\")","v":""},{"$f":"IF(ISNUMBER('Teom ugm3'!C728),('Teom ugm3'!C728*'Teom grams'!$F726*0.000000028317),\"\")","v":""},{"$f":"IF(ISNUMBER('Teom ugm3'!D728),('Teom ugm3'!D728*'Teom grams'!$F726*0.000000028317),\"\")","v":""},"","","","",null,"","","",null,"",""]
[null,null,{"$f":"IF('Teom ugm3'!A729=\"\",\"\",C726+1)","v":""},"",null,"",null,{"$f":"IF(ISNUMBER('Teom ugm3'!B729),('Teom ugm3'!B729*'Teom grams'!$F727*0.000000028317),\"\")","v":""},{"$f":"IF(ISNUMBER('Teom ugm3'!C729),('Teom ugm3'!C729*'Teom grams'!$F727*0.000000028317),\"\")","v":""},{"$f":"IF(ISNUMBER('Teom ugm3'!D729),('Teom ugm3'!D729*'Teom grams'!$F727*0.000000028317),\"\")","v":""},"","","","",null,"","","",null,"",""]
[null,null,{"$f":"IF('Teom ugm3'!A730=\"\",\"\",C727+1)","v":""},"",null,"",null,{"$f":"IF(ISNUMBER('Teom ugm3'!B730),('Teom ugm3'!B730*'Teom grams'!$F728*0.000000028317),\"\")","v":""},{"$f":"IF(ISNUMBER('Teom ugm3'!C730),('Teom ugm3'!C730*'Teom grams'!$F728*0.000000028317),\"\")","v":""},{"$f":"IF(ISNUMBER('Teom ugm3'!D730),('Teom ugm3'!D730*'Teom grams'!$F728*0.000000028317),\"\")","v":""},"","","","",null,"","","",null,"",""]
[null,null,{"$f":"IF('Teom ugm3'!A731=\"\",\"\",C728+1)","v":""},"",null,"",null,{"$f":"IF(ISNUMBER('Teom ugm3'!B731),('Teom ugm3'!B731*'Teom grams'!$F729*0.000000028317),\"\")","v":""},{"$f":"IF(ISNUMBER('Teom ugm3'!C731),('Teom ugm3'!C731*'Teom grams'!$F729*0.000000028317),\"\")","v":""},{"$f":"IF(ISNUMBER('Teom ugm3'!D731),('Teom ugm3'!D731*'Teom grams'!$F729*0.000000028317),\"\")","v":""},"","","","",null,"","","",null,"",""]
[null,null,{"$f":"IF('Teom ugm3'!A732=\"\",\"\",C729+1)","v":""},"",null,"",null,{"$f":"IF(ISNUMBER('Teom ugm3'!B732),('Teom ugm3'!B732*'Teom grams'!$F730*0.000000028317),\"\")","v":""},{"$f":"IF(ISNUMBER('Teom ugm3'!C732),('Teom ugm3'!C732*'Teom grams'!$F730*0.000000028317),\"\")","v":""},{"$f":"IF(ISNUMBER('Teom ugm3'!D732),('Teom ugm3'!D732*'Teom grams'!$F730*0.000000028317),\"\")","v":""},"","","","",null,"","","",null,"",""]
[null,null,{"$f":"IF('Teom ugm3'!A733=\"\",\"\",C730+1)","v":""},"",null,"",null,{"$f":"IF(ISNUMBER('Teom ugm3'!B733),('Teom ugm3'!B733*'Teom grams'!$F731*0.000000028317),\"\")","v":""},{"$f":"IF(ISNUMBER('Teom ugm3'!C733),('Teom ugm3'!C733*'Teom grams'!$F731*0.000000028317),\"\")","v":""},{"$f":"IF(ISNUMBER('Teom ugm3'!D733),('Teom ugm3'!D733*'Teom grams'!$F731*0.000000028317),\"\")","v":""},"","","","",null,"","","",null,"",""]
[null,null,{"$f":"IF('Teom ugm3'!A734=\"\",\"\",C731+1)","v":""},"",null,"",null,{"$f":"IF(ISNUMBER('Teom ugm3'!B734),('Teom ugm3'!B734*'Teom grams'!$F732*0.000000028317),\"\")","v":""},{"$f":"IF(ISNUMBER('Teom ugm3'!C734),('Teom ugm3'!C734*'Teom grams'!$F732*0.000000028317),\"\")","v":""},{"$f":"IF(ISNUMBER('Teom ugm3'!D734),('Teom ugm3'!D734*'Teom grams'!$F732*0.000000028317),\"\")","v":""},"","","","",null,"","","",null,"",""]
[null,null,{"$f":"IF('Teom ugm3'!A735=\"\",\"\",C732+1)","v":""},"",null,"",null,{"$f":"IF(ISNUMBER('Teom ugm3'!B735),('Teom ugm3'!B735*'Teom grams'!$F733*0.000000028317),\"\")","v":""},{"$f":"IF(ISNUMBER('Teom ugm3'!C735),('Teom ugm3'!C735*'Teom grams'!$F733*0.000000028317),\"\")","v":""},{"$f":"IF(ISNUMBER('Teom ugm3'!D735),('Teom ugm3'!D735*'Teom grams'!$F733*0.000000028317),\"\")","v":""},"","","","",null,"","","",null,"",""]
[null,null,{"$f":"IF('Teom ugm3'!A736=\"\",\"\",C733+1)","v":""},"",null,"",null,{"$f":"IF(ISNUMBER('Teom ugm3'!B736),('Teom ugm3'!B736*'Teom grams'!$F734*0.000000028317),\"\")","v":""},{"$f":"IF(ISNUMBER('Teom ugm3'!C736),('Teom ugm3'!C736*'Teom grams'!$F734*0.000000028317),\"\")","v":""},{"$f":"IF(ISNUMBER('Teom ugm3'!D736),('Teom ugm3'!D736*'Teom grams'!$F734*0.000000028317),\"\")","v":""},"","","","",null,"","","",null,"",""]
[null,null,{"$f":"IF('Teom ugm3'!A737=\"\",\"\",C734+1)","v":""},"",null,"",null,{"$f":"IF(ISNUMBER('Teom ugm3'!B737),('Teom ugm3'!B737*'Teom grams'!$F735*0.000000028317),\"\")","v":""},{"$f":"IF(ISNUMBER('Teom ugm3'!C737),('Teom ugm3'!C737*'Teom grams'!$F735*0.000000028317),\"\")","v":""},{"$f":"IF(ISNUMBER('Teom ugm3'!D737),('Teom ugm3'!D737*'Teom grams'!$F735*0.000000028317),\"\")","v":""},"","","","",null,"","","",null,"",""]
[null,null,{"$f":"IF('Teom ugm3'!A738=\"\",\"\",C735+1)","v":""},"",null,"",null,{"$f":"IF(ISNUMBER('Teom ugm3'!B738),('Teom ugm3'!B738*'Teom grams'!$F736*0.000000028317),\"\")","v":""},{"$f":"IF(ISNUMBER('Teom ugm3'!C738),('Teom ugm3'!C738*'Teom grams'!$F736*0.000000028317),\"\")","v":""},{"$f":"IF(ISNUMBER('Teom ugm3'!D738),('Teom ugm3'!D738*'Teom grams'!$F736*0.000000028317),\"\")","v":""},"","","","",null,"","","",null,"",""]
[null,null,{"$f":"IF('Teom ugm3'!A739=\"\",\"\",C736+1)","v":""},"",null,"",null,{"$f":"IF(ISNUMBER('Teom ugm3'!B739),('Teom ugm3'!B739*'Teom grams'!$F737*0.000000028317),\"\")","v":""},{"$f":"IF(ISNUMBER('Teom ugm3'!C739),('Teom ugm3'!C739*'Teom grams'!$F737*0.000000028317),\"\")","v":""},{"$f":"IF(ISNUMBER('Teom ugm3'!D739),('Teom ugm3'!D739*'Teom grams'!$F737*0.000000028317),\"\")","v":""},"","","","",null,"","","",null,"",""]
[null,null,{"$f":"IF('Teom ugm3'!A740=\"\",\"\",C737+1)","v":""},"",null,"",null,{"$f":"IF(ISNUMBER('Teom ugm3'!B740),('Teom ugm3'!B740*'Teom grams'!$F738*0.000000028317),\"\")","v":""},{"$f":"IF(ISNUMBER('Teom ugm3'!C740),('Teom ugm3'!C740*'Teom grams'!$F738*0.000000028317),\"\")","v":""},{"$f":"IF(ISNUMBER('Teom ugm3'!D740),('Teom ugm3'!D740*'Teom grams'!$F738*0.000000028317),\"\")","v":""},"","","","",null,"","","",null,"",""]
[null,null,{"$f":"IF('Teom ugm3'!A741=\"\",\"\",C738+1)","v":""},"",null,"",null,{"$f":"IF(ISNUMBER('Teom ugm3'!B741),('Teom ugm3'!B741*'Teom grams'!$F739*0.000000028317),\"\")","v":""},{"$f":"IF(ISNUMBER('Teom ugm3'!C741),('Teom ugm3'!C741*'Teom grams'!$F739*0.000000028317),\"\")","v":""},{"$f":"IF(ISNUMBER('Teom ugm3'!D741),('Teom ugm3'!D741*'Teom grams'!$F739*0.000000028317),\"\")","v":""},"","","","",null,"",{"$f":"IF(ISNUMBER(M739),M739*60,\"\")","v":""},{"$f":"IF(ISNUMBER(N739),N739*60,\"\")","v":""},null,{"$f":"IF(COUNT(C739:C798)>59,AVERAGE(P739:P798),\"\")","v":""},{"$f":"IF(COUNT(C739:C798)>59,AVERAGE(Q739:Q798),\"\")","v":""}]
[null,null,{"$f":"IF('Teom ugm3'!A742=\"\",\"\",C739+1)","v":""},"",null,"",null,{"$f":"IF(ISNUMBER('Teom ugm3'!B742),('Teom ugm3'!B742*'Teom grams'!$F740*0.000000028317),\"\")","v":""},{"$f":"IF(ISNUMBER('Teom ugm3'!C742),('Teom ugm3'!C742*'Teom grams'!$F740*0.000000028317),\"\")","v":""},{"$f":"IF(ISNUMBER('Teom ugm3'!D742),('Teom ugm3'!D742*'Teom grams'!$F740*0.000000028317),\"\")","v":""},"","","","",null,"","","",null,"",""]
[null,null,{"$f":"IF('Teom ugm3'!A743=\"\",\"\",C740+1)","v":""},"",null,"",null,{"$f":"IF(ISNUMBER('Teom ugm3'!B743),('Teom ugm3'!B743*'Teom grams'!$F741*0.000000028317),\"\")","v":""},{"$f":"IF(ISNUMBER('Teom ugm3'!C743),('Teom ugm3'!C743*'Teom grams'!$F741*0.000000028317),\"\")","v":""},{"$f":"IF(ISNUMBER('Teom ugm3'!D743),('Teom ugm3'!D743*'Teom grams'!$F741*0.000000028317),\"\")","v":""},"","","","",null,"","","",null,"",""]
[null,null,{"$f":"IF('Teom ugm3'!A744=\"\",\"\",C741+1)","v":""},"",null,"",null,{"$f":"IF(ISNUMBER('Teom ugm3'!B744),('Teom ugm3'!B744*'Teom grams'!$F742*0.000000028317),\"\")","v":""},{"$f":"IF(ISNUMBER('Teom ugm3'!C744),('Teom ugm3'!C744*'Teom grams'!$F742*0.000000028317),\"\")","v":""},{"$f":"IF(ISNUMBER('Teom ugm3'!D744),('Teom ugm3'!D744*'Teom grams'!$F742*0.000000028317),\"\")","v":""},"","","","",null,"","","",null,"",""]
[null,null,{"$f":"IF('Teom ugm3'!A745=\"\",\"\",C742+1)","v":""},"",null,"",null,{"$f":"IF(ISNUMBER('Teom ugm3'!B745),('Teom ugm3'!B745*'Teom grams'!$F743*0.000000028317),\"\")","v":""},{"$f":"IF(ISNUMBER('Teom ugm3'!C745),('Teom ugm3'!C745*'Teom grams'!$F743*0.000000028317),\"\")","v":""},{"$f":"IF(ISNUMBER('Teom ugm3'!D745),('Teom ugm3'!D745*'Teom grams'!$F743*0.000000028317),\"\")","v":""},"","","","",null,"","","",null,"",""]
[null,null,{"$f":"IF('Teom ugm3'!A746=\"\",\"\",C743+1)","v":""},"",null,"",null,{"$f":"IF(ISNUMBER('Teom ugm3'!B746),('Teom ugm3'!B746*'Teom grams'!$F744*0.000000028317),\"\")","v":""},{"$f":"IF(ISNUMBER('Teom ugm3'!C746),('Teom ugm3'!C746*'Teom grams'!$F744*0.000000028317),\"\")","v":""},{"$f":"IF(ISNUMBER('Teom ugm3'!D746),('Teom ugm3'!D746*'Teom grams'!$F744*0.000000028317),\"\")","v":""},"","","","",null,"","","",null,"",""]
[null,null,{"$f":"IF('Teom ugm3'!A747=\"\",\"\",C744+1)","v":""},"",null,"",null,{"$f":"IF(ISNUMBER('Teom ugm3'!B747),('Teom ugm3'!B747*'Teom grams'!$F745*0.000000028317),\"\")","v":""},{"$f":"IF(ISNUMBER('Teom ugm3'!C747),('Teom ugm3'!C747*'Teom grams'!$F745*0.000000028317),\"\")","v":""},{"$f":"IF(ISNUMBER('Teom ugm3'!D747),('Teom ugm3'!D747*'Teom grams'!$F745*0.000000028317),\"\")","v":""},"","","","",null,"","","",null,"",""]
[null,null,{"$f":"IF('Teom ugm3'!A748=\"\",\"\",C745+1)","v":""},"",null,"",null,{"$f":"IF(ISNUMBER('Teom ugm3'!B748),('Teom ugm3'!B748*'Teom grams'!$F746*0.000000028317),\"\")","v":""},{"$f":"IF(ISNUMBER('Teom ugm3'!C748),('Teom ugm3'!C748*'Teom grams'!$F746*0.000000028317),\"\")","v":""},{"$f":"IF(ISNUMBER('Teom ugm3'!D748),('Teom ugm3'!D748*'Teom grams'!$F746*0.000000028317),\"\")","v":""},"","","","",null,"","","",null,"",""]
[null,null,{"$f":"IF('Teom ugm3'!A749=\"\",\"\",C746+1)","v":""},"",null,"",null,{"$f":"IF(ISNUMBER('Teom ugm3'!B749),('Teom ugm3'!B749*'Teom grams'!$F747*0.000000028317),\"\")","v":""},{"$f":"IF(ISNUMBER('Teom ugm3'!C749),('Teom ugm3'!C749*'Teom grams'!$F747*0.000000028317),\"\")","v":""},{"$f":"IF(ISNUMBER('Teom ugm3'!D749),('Teom ugm3'!D749*'Teom grams'!$F747*0.000000028317),\"\")","v":""},"","","","",null,"","","",null,"",""]
[null,null,{"$f":"IF('Teom ugm3'!A750=\"\",\"\",C747+1)","v":""},"",null,"",null,{"$f":"IF(ISNUMBER('Teom ugm3'!B750),('Teom ugm3'!B750*'Teom grams'!$F748*0.000000028317),\"\")","v":""},{"$f":"IF(ISNUMBER('Teom ugm3'!C750),('Teom ugm3'!C750*'Teom grams'!$F748*0.000000028317),\"\")","v":""},{"$f":"IF(ISNUMBER('Teom ugm3'!D750),('Teom ugm3'!D750*'Teom grams'!$F748*0.000000028317),\"\")","v":""},"","","","",null,"","","",null,"",""]
[null,null,{"$f":"IF('Teom ugm3'!A751=\"\",\"\",C748+1)","v":""},"",null,"",null,{"$f":"IF(ISNUMBER('Teom ugm3'!B751),('Teom ugm3'!B751*'Teom grams'!$F749*0.000000028317),\"\")","v":""},{"$f":"IF(ISNUMBER('Teom ugm3'!C751),('Teom ugm3'!C751*'Teom grams'!$F749*0.000000028317),\"\")","v":""},{"$f":"IF(ISNUMBER('Teom ugm3'!D751),('Teom ugm3'!D751*'Teom grams'!$F749*0.000000028317),\"\")","v":""},"","","","",null,"","","",null,"",""]
[null,null,{"$f":"IF('Teom ugm3'!A752=\"\",\"\",C749+1)","v":""},"",null,"",null,{"$f":"IF(ISNUMBER('Teom ugm3'!B752),('Teom ugm3'!B752*'Teom grams'!$F750*0.000000028317),\"\")","v":""},{"$f":"IF(ISNUMBER('Teom ugm3'!C752),('Teom ugm3'!C752*'Teom grams'!$F750*0.000000028317),\"\")","v":""},{"$f":"IF(ISNUMBER('Teom ugm3'!D752),('Teom ugm3'!D752*'Teom grams'!$F750*0.000000028317),\"\")","v":""},"","","","",null,"","","",null,"",""]
[null,null,{"$f":"IF('Teom ugm3'!A753=\"\",\"\",C750+1)","v":""},"",null,"",null,{"$f":"IF(ISNUMBER('Teom ugm3'!B753),('Teom ugm3'!B753*'Teom grams'!$F751*0.000000028317),\"\")","v":""},{"$f":"IF(ISNUMBER('Teom ugm3'!C753),('Teom ugm3'!C753*'Teom grams'!$F751*0.000000028317),\"\")","v":""},{"$f":"IF(ISNUMBER('Teom ugm3'!D753),('Teom ugm3'!D753*'Teom grams'!$F751*0.000000028317),\"\")","v":""},"","","","",null,"","","",null,"",""]
[null,null,{"$f":"IF('Teom ugm3'!A754=\"\",\"\",C751+1)","v":""},"",null,"",null,{"$f":"IF(ISNUMBER('Teom ugm3'!B754),('Teom ugm3'!B754*'Teom grams'!$F752*0.000000028317),\"\")","v":""},{"$f":"IF(ISNUMBER('Teom ugm3'!C754),('Teom ugm3'!C754*'Teom grams'!$F752*0.000000028317),\"\")","v":""},{"$f":"IF(ISNUMBER('Teom ugm3'!D754),('Teom ugm3'!D754*'Teom grams'!$F752*0.000000028317),\"\")","v":""},"","","","",null,"","","",null,"",""]
[null,null,{"$f":"IF('Teom ugm3'!A755=\"\",\"\",C752+1)","v":""},"",null,"",null,{"$f":"IF(ISNUMBER('Teom ugm3'!B755),('Teom ugm3'!B755*'Teom grams'!$F753*0.000000028317),\"\")","v":""},{"$f":"IF(ISNUMBER('Teom ugm3'!C755),('Teom ugm3'!C755*'Teom grams'!$F753*0.000000028317),\"\")","v":""},{"$f":"IF(ISNUMBER('Teom ugm3'!D755),('Teom ugm3'!D755*'Teom grams'!$F753*0.000000028317),\"\")","v":""},"","","","",null,"","","",null,"",""]
[null,null,{"$f":"IF('Teom ugm3'!A756=\"\",\"\",C753+1)","v":""},"",null,"",null,{"$f":"IF(ISNUMBER('Teom ugm3'!B756),('Teom ugm3'!B756*'Teom grams'!$F754*0.000000028317),\"\")","v":""},{"$f":"IF(ISNUMBER('Teom ugm3'!C756),('Teom ugm3'!C756*'Teom grams'!$F754*0.000000028317),\"\")","v":""},{"$f":"IF(ISNUMBER('Teom ugm3'!D756),('Teom ugm3'!D756*'Teom grams'!$F754*0.000000028317),\"\")","v":""},"","","","",null,"","","",null,"",""]
[null,null,{"$f":"IF('Teom ugm3'!A757=\"\",\"\",C754+1)","v":""},"",null,"",null,{"$f":"IF(ISNUMBER('Teom ugm3'!B757),('Teom ugm3'!B757*'Teom grams'!$F755*0.000000028317),\"\")","v":""},{"$f":"IF(ISNUMBER('Teom ugm3'!C757),('Teom ugm3'!C757*'Teom grams'!$F755*0.000000028317),\"\")","v":""},{"$f":"IF(ISNUMBER('Teom ugm3'!D757),('Teom ugm3'!D757*'Teom grams'!$F755*0.000000028317),\"\")","v":""},"","","","",null,"","","",null,"",""]
[null,null,{"$f":"IF('Teom ugm3'!A758=\"\",\"\",C755+1)","v":""},"",null,"",null,{"$f":"IF(ISNUMBER('Teom ugm3'!B758),('Teom ugm3'!B758*'Teom grams'!$F756*0.000000028317),\"\")","v":""},{"$f":"IF(ISNUMBER('Teom ugm3'!C758),('Teom ugm3'!C758*'Teom grams'!$F756*0.000000028317),\"\")","v":""},{"$f":"IF(ISNUMBER('Teom ugm3'!D758),('Teom ugm3'!D758*'Teom grams'!$F756*0.000000028317),\"\")","v":""},"","","","",null,"","","",null,"",""]
[null,null,{"$f":"IF('Teom ugm3'!A759=\"\",\"\",C756+1)","v":""},"",null,"",null,{"$f":"IF(ISNUMBER('Teom ugm3'!B759),('Teom ugm3'!B759*'Teom grams'!$F757*0.000000028317),\"\")","v":""},{"$f":"IF(ISNUMBER('Teom ugm3'!C759),('Teom ugm3'!C759*'Teom grams'!$F757*0.000000028317),\"\")","v":""},{"$f":"IF(ISNUMBER('Teom ugm3'!D759),('Teom ugm3'!D759*'Teom grams'!$F757*0.000000028317),\"\")","v":""},"","","","",null,"","","",null,"",""]
[null,null,{"$f":"IF('Teom ugm3'!A760=\"\",\"\",C757+1)","v":""},"",null,"",null,{"$f":"IF(ISNUMBER('Teom ugm3'!B760),('Teom ugm3'!B760*'Teom grams'!$F758*0.000000028317),\"\")","v":""},{"$f":"IF(ISNUMBER('Teom ugm3'!C760),('Teom ugm3'!C760*'Teom grams'!$F758*0.000000028317),\"\")","v":""},{"$f":"IF(ISNUMBER('Teom ugm3'!D760),('Teom ugm3'!D760*'Teom grams'!$F758*0.000000028317),\"\")","v":""},"","","","",null,"","","",null,"",""]
[null,null,{"$f":"IF('Teom ugm3'!A761=\"\",\"\",C758+1)","v":""},"",null,"",null,{"$f":"IF(ISNUMBER('Teom ugm3'!B761),('Teom ugm3'!B761*'Teom grams'!$F759*0.000000028317),\"\")","v":""},{"$f":"IF(ISNUMBER('Teom ugm3'!C761),('Teom ugm3'!C761*'Teom grams'!$F759*0.000000028317),\"\")","v":""},{"$f":"IF(ISNUMBER('Teom ugm3'!D761),('Teom ugm3'!D761*'Teom grams'!$F759*0.000000028317),\"\")","v":""},"","","","",null,"","","",null,"",""]
[null,null,{"$f":"IF('Teom ugm3'!A762=\"\",\"\",C759+1)","v":""},"",null,"",null,{"$f":"IF(ISNUMBER('Teom ugm3'!B762),('Teom ugm3'!B762*'Teom grams'!$F760*0.000000028317),\"\")","v":""},{"$f":"IF(ISNUMBER('Teom ugm3'!C762),('Teom ugm3'!C762*'Teom grams'!$F760*0.000000028317),\"\")","v":""},{"$f":"IF(ISNUMBER('Teom ugm3'!D762),('Teom ugm3'!D762*'Teom grams'!$F760*0.000000028317),\"\")","v":""},"","","","",null,"","","",null,"",""]
[null,null,{"$f":"IF('Teom ugm3'!A763=\"\",\"\",C760+1)","v":""},"",null,"",null,{"$f":"IF(ISNUMBER('Teom ugm3'!B763),('Teom ugm3'!B763*'Teom grams'!$F761*0.000000028317),\"\")","v":""},{"$f":"IF(ISNUMBER('Teom ugm3'!C763),('Teom ugm3'!C763*'Teom grams'!$F761*0.000000028317),\"\")","v":""},{"$f":"IF(ISNUMBER('Teom ugm3'!D763),('Teom ugm3'!D763*'Teom grams'!$F761*0.000000028317),\"\")","v":""},"","","","",null,"","","",null,"",""]
[null,null,{"$f":"IF('Teom ugm3'!A764=\"\",\"\",C761+1)","v":""},"",null,"",null,{"$f":"IF(ISNUMBER('Teom ugm3'!B764),('Teom ugm3'!B764*'Teom grams'!$F762*0.000000028317),\"\")","v":""},{"$f":"IF(ISNUMBER('Teom ugm3'!C764),('Teom ugm3'!C764*'Teom grams'!$F762*0.000000028317),\"\")","v":""},{"$f":"IF(ISNUMBER('Teom ugm3'!D764),('Teom ugm3'!D764*'Teom grams'!$F762*0.000000028317),\"\")","v":""},"","","","",null,"","","",null,"",""]
[null,null,{"$f":"IF('Teom ugm3'!A765=\"\",\"\",C762+1)","v":""},"",null,"",null,{"$f":"IF(ISNUMBER('Teom ugm3'!B765),('Teom ugm3'!B765*'Teom grams'!$F763*0.000000028317),\"\")","v":""},{"$f":"IF(ISNUMBER('Teom ugm3'!C765),('Teom ugm3'!C765*'Teom grams'!$F763*0.000000028317),\"\")","v":""},{"$f":"IF(ISNUMBER('Teom ugm3'!D765),('Teom ugm3'!D765*'Teom grams'!$F763*0.000000028317),\"\")","v":""},"","","","",null,"","","",null,"",""]
[null,null,{"$f":"IF('Teom ugm3'!A766=\"\",\"\",C763+1)","v":""},"",null,"",null,{"$f":"IF(ISNUMBER('Teom ugm3'!B766),('Teom ugm3'!B766*'Teom grams'!$F764*0.000000028317),\"\")","v":""},{"$f":"IF(ISNUMBER('Teom ugm3'!C766),('Teom ugm3'!C766*'Teom grams'!$F764*0.000000028317),\"\")","v":""},{"$f":"IF(ISNUMBER('Teom ugm3'!D766),('Teom ugm3'!D766*'Teom grams'!$F764*0.000000028317),\"\")","v":""},"","","","",null,"","","",null,"",""]
[null,null,{"$f":"IF('Teom ugm3'!A767=\"\",\"\",C764+1)","v":""},"",null,"",null,{"$f":"IF(ISNUMBER('Teom ugm3'!B767),('Teom ugm3'!B767*'Teom grams'!$F765*0.000000028317),\"\")","v":""},{"$f":"IF(ISNUMBER('Teom ugm3'!C767),('Teom ugm3'!C767*'Teom grams'!$F765*0.000000028317),\"\")","v":""},{"$f":"IF(ISNUMBER('Teom ugm3'!D767),('Teom ugm3'!D767*'Teom grams'!$F765*0.000000028317),\"\")","v":""},"","","","",null,"","","",null,"",""]
[null,null,{"$f":"IF('Teom ugm3'!A768=\"\",\"\",C765+1)","v":""},"",null,"",null,{"$f":"IF(ISNUMBER('Teom ugm3'!B768),('Teom ugm3'!B768*'Teom grams'!$F766*0.000000028317),\"\")","v":""},{"$f":"IF(ISNUMBER('Teom ugm3'!C768),('Teom ugm3'!C768*'Teom grams'!$F766*0.000000028317),\"\")","v":""},{"$f":"IF(ISNUMBER('Teom ugm3'!D768),('Teom ugm3'!D768*'Teom grams'!$F766*0.000000028317),\"\")","v":""},"","","","",null,"","","",null,"",""]
[null,null,{"$f":"IF('Teom ugm3'!A769=\"\",\"\",C766+1)","v":""},"",null,"",null,{"$f":"IF(ISNUMBER('Teom ugm3'!B769),('Teom ugm3'!B769*'Teom grams'!$F767*0.000000028317),\"\")","v":""},{"$f":"IF(ISNUMBER('Teom ugm3'!C769),('Teom ugm3'!C769*'Teom grams'!$F767*0.000000028317),\"\")","v":""},{"$f":"IF(ISNUMBER('Teom ugm3'!D769),('Teom ugm3'!D769*'Teom grams'!$F767*0.000000028317),\"\")","v":""},"","","","",null,"","","",null,"",""]
[null,null,{"$f":"IF('Teom ugm3'!A770=\"\",\"\",C767+1)","v":""},"",null,"",null,{"$f":"IF(ISNUMBER('Teom ugm3'!B770),('Teom ugm3'!B770*'Teom grams'!$F768*0.000000028317),\"\")","v":""},{"$f":"IF(ISNUMBER('Teom ugm3'!C770),('Teom ugm3'!C770*'Teom grams'!$F768*0.000000028317),\"\")","v":""},{"$f":"IF(ISNUMBER('Teom ugm3'!D770),('Teom ugm3'!D770*'Teom grams'!$F768*0.000000028317),\"\")","v":""},"","","","",null,"","","",null,"",""]
[null,null,{"$f":"IF('Teom ugm3'!A771=\"\",\"\",C768+1)","v":""},"",null,"",null,{"$f":"IF(ISNUMBER('Teom ugm3'!B771),('Teom ugm3'!B771*'Teom grams'!$F769*0.000000028317),\"\")","v":""},{"$f":"IF(ISNUMBER('Teom ugm3'!C771),('Teom ugm3'!C771*'Teom grams'!$F769*0.000000028317),\"\")","v":""},{"$f":"IF(ISNUMBER('Teom ugm3'!D771),('Teom ugm3'!D771*'Teom grams'!$F769*0.000000028317),\"\")","v":""},"","","","",null,"","","",null,"",""]
[null,null,{"$f":"IF('Teom ugm3'!A772=\"\",\"\",C769+1)","v":""},"",null,"",null,{"$f":"IF(ISNUMBER('Teom ugm3'!B772),('Teom ugm3'!B772*'Teom grams'!$F770*0.000000028317),\"\")","v":""},{"$f":"IF(ISNUMBER('Teom ugm3'!C772),('Teom ugm3'!C772*'Teom grams'!$F770*0.000000028317),\"\")","v":""},{"$f":"IF(ISNUMBER('Teom ugm3'!D772),('Teom ugm3'!D772*'Teom grams'!$F770*0.000000028317),\"\")","v":""},"","","","",null,"","","",null,"",""]
[null,null,{"$f":"IF('Teom ugm3'!A773=\"\",\"\",C770+1)","v":""},"",null,"",null,{"$f":"IF(ISNUMBER('Teom ugm3'!B773),('Teom ugm3'!B773*'Teom grams'!$F771*0.000000028317),\"\")","v":""},{"$f":"IF(ISNUMBER('Teom ugm3'!C773),('Teom ugm3'!C773*'Teom grams'!$F771*0.000000028317),\"\")","v":""},{"$f":"IF(ISNUMBER('Teom ugm3'!D773),('Teom ugm3'!D773*'Teom grams'!$F771*0.000000028317),\"\")","v":""},"","","","",null,"","","",null,"",""]
[null,null,{"$f":"IF('Teom ugm3'!A774=\"\",\"\",C771+1)","v":""},"",null,"",null,{"$f":"IF(ISNUMBER('Teom ugm3'!B774),('Teom ugm3'!B774*'Teom grams'!$F772*0.000000028317),\"\")","v":""},{"$f":"IF(ISNUMBER('Teom ugm3'!C774),('Teom ugm3'!C774*'Teom grams'!$F772*0.000000028317),\"\")","v":""},{"$f":"IF(ISNUMBER('Teom ugm3'!D774),('Teom ugm3'!D774*'Teom grams'!$F772*0.000000028317),\"\")","v":""},"","","",{"$f":"M772","v":""},null,"","","",null,"",""]
[null,null,{"$f":"IF('Teom ugm3'!A775=\"\",\"\",C772+1)","v":""},"",null,{"$f":"IF(C773=\"\",\"\",E773*1.02041)","v":""},null,{"$f":"IF(ISNUMBER('Teom ugm3'!B775),('Teom ugm3'!B775*'Teom grams'!$F773*0.000000028317),\"\")","v":""},{"$f":"IF(ISNUMBER('Teom ugm3'!C775),('Teom ugm3'!C775*'Teom grams'!$F773*0.000000028317),\"\")","v":""},{"$f":"IF(ISNUMBER('Teom ugm3'!D775),('Teom ugm3'!D775*'Teom grams'!$F773*0.000000028317),\"\")","v":""},{"$f":"IF(H773<0,0,H773)","v":""},"","","",null,{"$f":"IF(ISNUMBER(J773),J773*60,\"\")","v":""},"","",null,"",""]
[null,null,{"$f":"IF('Teom ugm3'!A776=\"\",\"\",C773+1)","v":""},{"$f":"IF(C774=\"\",\"\",D773 + TIME(0, 1, 0))","v":""},null,"",null,{"$f":"IF(ISNUMBER('Teom ugm3'!B776),('Teom ugm3'!B776*'Teom grams'!$F774*0.000000028317),\"\")","v":""},{"$f":"IF(ISNUMBER('Teom ugm3'!C776),('Teom ugm3'!C776*'Teom grams'!$F774*0.000000028317),\"\")","v":""},{"$f":"IF(ISNUMBER('Teom ugm3'!D776),('Teom ugm3'!D776*'Teom grams'!$F774*0.000000028317),\"\")","v":""},"","","","",null,"","","",null,"",""]
[null,null,{"$f":"IF('Teom ugm3'!A777=\"\",\"\",C774+1)","v":""},"",null,"",null,{"$f":"IF(ISNUMBER('Teom ugm3'!B777),('Teom ugm3'!B777*'Teom grams'!$F775*0.000000028317),\"\")","v":""},{"$f":"IF(ISNUMBER('Teom ugm3'!C777),('Teom ugm3'!C777*'Teom grams'!$F775*0.000000028317),\"\")","v":""},{"$f":"IF(ISNUMBER('Teom ugm3'!D777),('Teom ugm3'!D777*'Teom grams'!$F775*0.000000028317),\"\")","v":""},"","","","",null,"","","",null,"",""]
[null,null,{"$f":"IF('Teom ugm3'!A778=\"\",\"\",C775+1)","v":""},"",null,"",null,{"$f":"IF(ISNUMBER('Teom ugm3'!B778),('Teom ugm3'!B778*'Teom grams'!$F776*0.000000028317),\"\")","v":""},{"$f":"IF(ISNUMBER('Teom ugm3'!C778),('Teom ugm3'!C778*'Teom grams'!$F776*0.000000028317),\"\")","v":""},{"$f":"IF(ISNUMBER('Teom ugm3'!D778),('Teom ugm3'!D778*'Teom grams'!$F776*0.000000028317),\"\")","v":""},"","","","",null,"","","",null,"",""]
[null,null,{"$f":"IF('Teom ugm3'!A779=\"\",\"\",C776+1)","v":""},"",null,"",null,{"$f":"IF(ISNUMBER('Teom ugm3'!B779),('Teom ugm3'!B779*'Teom grams'!$F777*0.000000028317),\"\")","v":""},{"$f":"IF(ISNUMBER('Teom ugm3'!C779),('Teom ugm3'!C779*'Teom grams'!$F777*0.000000028317),\"\")","v":""},{"$f":"IF(ISNUMBER('Teom ugm3'!D779),('Teom ugm3'!D779*'Teom grams'!$F777*0.000000028317),\"\")","v":""},"","","","",null,"","","",null,"",""]
[null,null,{"$f":"IF('Teom ugm3'!A780=\"\",\"\",C777+1)","v":""},"",null,"",null,{"$f":"IF(ISNUMBER('Teom ugm3'!B780),('Teom ugm3'!B780*'Teom grams'!$F778*0.000000028317),\"\")","v":""},{"$f":"IF(ISNUMBER('Teom ugm3'!C780),('Teom ugm3'!C780*'Teom grams'!$F778*0.000000028317),\"\")","v":""},{"$f":"IF(ISNUMBER('Teom ugm3'!D780),('Teom ugm3'!D780*'Teom grams'!$F778*0.000000028317),\"\")","v":""},"","","","",null,"","","",null,"",""]
[null,null,{"$f":"IF('Teom ugm3'!A781=\"\",\"\",C778+1)","v":""},"",null,"",null,{"$f":"IF(ISNUMBER('Teom ugm3'!B781),('Teom ugm3'!B781*'Teom grams'!$F779*0.000000028317),\"\")","v":""},{"$f":"IF(ISNUMBER('Teom ugm3'!C781),('Teom ugm3'!C781*'Teom grams'!$F779*0.000000028317),\"\")","v":""},{"$f":"IF(ISNUMBER('Teom ugm3'!D781),('Teom ugm3'!D781*'Teom grams'!$F779*0.000000028317),\"\")","v":""},"","",{"$f":"IF(COUNT(K779:L779)>0,AVERAGE(K779:L779),\"\")","v":""},"",null,"","","",null,"",""]
[null,null,{"$f":"IF('Teom ugm3'!A782=\"\",\"\",C779+1)","v":""},"",null,"",null,{"$f":"IF(ISNUMBER('Teom ugm3'!B782),('Teom ugm3'!B782*'Teom grams'!$F780*0.000000028317),\"\")","v":""},{"$f":"IF(ISNUMBER('Teom ugm3'!C782),('Teom ugm3'!C782*'Teom grams'!$F780*0.000000028317),\"\")","v":""},{"$f":"IF(ISNUMBER('Teom ugm3'!D782),('Teom ugm3'!D782*'Teom grams'!$F780*0.000000028317),\"\")","v":""},"","","","",null,"","","",null,"",""]
[null,null,{"$f":"IF('Teom ugm3'!A783=\"\",\"\",C780+1)","v":""},"",null,"",null,{"$f":"IF(ISNUMBER('Teom ugm3'!B783),('Teom ugm3'!B783*'Teom grams'!$F781*0.000000028317),\"\")","v":""},{"$f":"IF(ISNUMBER('Teom ugm3'!C783),('Teom ugm3'!C783*'Teom grams'!$F781*0.000000028317),\"\")","v":""},{"$f":"IF(ISNUMBER('Teom ugm3'!D783),('Teom ugm3'!D783*'Teom grams'!$F781*0.000000028317),\"\")","v":""},"","","","",null,"","","",null,"",""]
[null,null,{"$f":"IF('Teom ugm3'!A784=\"\",\"\",C781+1)","v":""},"",null,"",null,{"$f":"IF(ISNUMBER('Teom ugm3'!B784),('Teom ugm3'!B784*'Teom grams'!$F782*0.000000028317),\"\")","v":""},{"$f":"IF(ISNUMBER('Teom ugm3'!C784),('Teom ugm3'!C784*'Teom grams'!$F782*0.000000028317),\"\")","v":""},{"$f":"IF(ISNUMBER('Teom ugm3'!D784),('Teom ugm3'!D784*'Teom grams'!$F782*0.000000028317),\"\")","v":""},"","","","",null,"","","",null,"",""]
[null,null,{"$f":"IF('Teom ugm3'!A785=\"\",\"\",C782+1)","v":""},"",null,"",null,{"$f":"IF(ISNUMBER('Teom ugm3'!B785),('Teom ugm3'!B785*'Teom grams'!$F783*0.000000028317),\"\")","v":""},{"$f":"IF(ISNUMBER('Teom ugm3'!C785),('Teom ugm3'!C785*'Teom grams'!$F783*0.000000028317),\"\")","v":""},{"$f":"IF(ISNUMBER('Teom ugm3'!D785),('Teom ugm3'!D785*'Teom grams'!$F783*0.000000028317),\"\")","v":""},"","","","",null,"","","",null,"",""]
[null,null,{"$f":"IF('Teom ugm3'!A786=\"\",\"\",C783+1)","v":""},"",null,"",null,{"$f":"IF(ISNUMBER('Teom ugm3'!B786),('Teom ugm3'!B786*'Teom grams'!$F784*0.000000028317),\"\")","v":""},{"$f":"IF(ISNUMBER('Teom ugm3'!C786),('Teom ugm3'!C786*'Teom grams'!$F784*0.000000028317),\"\")","v":""},{"$f":"IF(ISNUMBER('Teom ugm3'!D786),('Teom ugm3'!D786*'Teom grams'!$F784*0.000000028317),\"\")","v":""},"","","","",null,"","","",null,"",""]
[null,null,{"$f":"IF('Teom ugm3'!A787=\"\",\"\",C784+1)","v":""},"",null,"",null,{"$f":"IF(ISNUMBER('Teom ugm3'!B787),('Teom ugm3'!B787*'Teom grams'!$F785*0.000000028317),\"\")","v":""},{"$f":"IF(ISNUMBER('Teom ugm3'!C787),('Teom ugm3'!C787*'Teom grams'!$F785*0.000000028317),\"\")","v":""},{"$f":"IF(ISNUMBER('Teom ugm3'!D787),('Teom ugm3'!D787*'Teom grams'!$F785*0.000000028317),\"\")","v":""},"","","","",null,"","","",null,"",""]
[null,null,{"$f":"IF('Teom ugm3'!A788=\"\",\"\",C785+1)","v":""},"",null,"",null,{"$f":"IF(ISNUMBER('Teom ugm3'!B788),('Teom ugm3'!B788*'Teom grams'!$F786*0.000000028317),\"\")","v":""},{"$f":"IF(ISNUMBER('Teom ugm3'!C788),('Teom ugm3'!C788*'Teom grams'!$F786*0.000000028317),\"\")","v":""},{"$f":"IF(ISNUMBER('Teom ugm3'!D788),('Teom ugm3'!D788*'Teom grams'!$F786*0.000000028317),\"\")","v":""},"","","","",null,"","","",null,"",""]
[null,null,{"$f":"IF('Teom ugm3'!A789=\"\",\"\",C786+1)","v":""},"",null,"",null,{"$f":"IF(ISNUMBER('Teom ugm3'!B789),('Teom ugm3'!B789*'Teom grams'!$F787*0.000000028317),\"\")","v":""},{"$f":"IF(ISNUMBER('Teom ugm3'!C789),('Teom ugm3'!C789*'Teom grams'!$F787*0.000000028317),\"\")","v":""},{"$f":"IF(ISNUMBER('Teom ugm3'!D789),('Teom ugm3'!D789*'Teom grams'!$F787*0.000000028317),\"\")","v":""},"","","","",null,"","","",null,"",""]
[null,null,{"$f":"IF('Teom ugm3'!A790=\"\",\"\",C787+1)","v":""},"",null,"",null,{"$f":"IF(ISNUMBER('Teom ugm3'!B790),('Teom ugm3'!B790*'Teom grams'!$F788*0.000000028317),\"\")","v":""},{"$f":"IF(ISNUMBER('Teom ugm3'!C790),('Teom ugm3'!C790*'Teom grams'!$F788*0.000000028317),\"\")","v":""},{"$f":"IF(ISNUMBER('Teom ugm3'!D790),('Teom ugm3'!D790*'Teom grams'!$F788*0.000000028317),\"\")","v":""},"","","","",null,"","","",null,"",""]
[null,null,{"$f":"IF('Teom ugm3'!A791=\"\",\"\",C788+1)","v":""},"",null,"",null,{"$f":"IF(ISNUMBER('Teom ugm3'!B791),('Teom ugm3'!B791*'Teom grams'!$F789*0.000000028317),\"\")","v":""},{"$f":"IF(ISNUMBER('Teom ugm3'!C791),('Teom ugm3'!C791*'Teom grams'!$F789*0.000000028317),\"\")","v":""},{"$f":"IF(ISNUMBER('Teom ugm3'!D791),('Teom ugm3'!D791*'Teom grams'!$F789*0.000000028317),\"\")","v":""},"","","","",null,"","","",null,"",""]
[null,null,{"$f":"IF('Teom ugm3'!A792=\"\",\"\",C789+1)","v":""},"",null,"",null,{"$f":"IF(ISNUMBER('Teom ugm3'!B792),('Teom ugm3'!B792*'Teom grams'!$F790*0.000000028317),\"\")","v":""},{"$f":"IF(ISNUMBER('Teom ugm3'!C792),('Teom ugm3'!C792*'Teom grams'!$F790*0.000000028317),\"\")","v":""},{"$f":"IF(ISNUMBER('Teom ugm3'!D792),('Teom ugm3'!D792*'Teom grams'!$F790*0.000000028317),\"\")","v":""},"","","","",null,"","","",null,"",""]
[null,null,{"$f":"IF('Teom ugm3'!A793=\"\",\"\",C790+1)","v":""},"",null,"",null,{"$f":"IF(ISNUMBER('Teom ugm3'!B793),('Teom ugm3'!B793*'Teom grams'!$F791*0.000000028317),\"\")","v":""},{"$f":"IF(ISNUMBER('Teom ugm3'!C793),('Teom ugm3'!C793*'Teom grams'!$F791*0.000000028317),\"\")","v":""},{"$f":"IF(ISNUMBER('Teom ugm3'!D793),('Teom ugm3'!D793*'Teom grams'!$F791*0.000000028317),\"\")","v":""},"","","","",null,"","","",null,"",""]
[null,null,{"$f":"IF('Teom ugm3'!A794=\"\",\"\",C791+1)","v":""},"",null,"",null,{"$f":"IF(ISNUMBER('Teom ugm3'!B794),('Teom ugm3'!B794*'Teom grams'!$F792*0.000000028317),\"\")","v":""},{"$f":"IF(ISNUMBER('Teom ugm3'!C794),('Teom ugm3'!C794*'Teom grams'!$F792*0.000000028317),\"\")","v":""},{"$f":"IF(ISNUMBER('Teom ugm3'!D794),('Teom ugm3'!D794*'Teom grams'!$F792*0.000000028317),\"\")","v":""},"","","","",null,"","","",null,"",""]
[null,null,{"$f":"IF('Teom ugm3'!A795=\"\",\"\",C792+1)","v":""},"",null,"",null,{"$f":"IF(ISNUMBER('Teom ugm3'!B795),('Teom ugm3'!B795*'Teom grams'!$F793*0.000000028317),\"\")","v":""},{"$f":"IF(ISNUMBER('Teom ugm3'!C795),('Teom ugm3'!C795*'Teom grams'!$F793*0.000000028317),\"\")","v":""},{"$f":"IF(ISNUMBER('Teom ugm3'!D795),('Teom ugm3'!D795*'Teom grams'!$F793*0.000000028317),\"\")","v":""},"","","","",null,"","","",null,"",""]
[null,null,{"$f":"IF('Teom ugm3'!A796=\"\",\"\",C793+1)","v":""},"",null,"",null,{"$f":"IF(ISNUMBER('Teom ugm3'!B796),('Teom ugm3'!B796*'Teom grams'!$F794*0.000000028317),\"\")","v":""},{"$f":"IF(ISNUMBER('Teom ugm3'!C796),('Teom ugm3'!C796*'Teom grams'!$F794*0.000000028317),\"\")","v":""},{"$f":"IF(ISNUMBER('Teom ugm3'!D796),('Teom ugm3'!D796*'Teom grams'!$F794*0.000000028317),\"\")","v":""},"","","","",null,"","","",null,"",""]
[null,null,{"$f":"IF('Teom ugm3'!A797=\"\",\"\",C794+1)","v":""},"",null,"",null,{"$f":"IF(ISNUMBER('Teom ugm3'!B797),('Teom ugm3'!B797*'Teom grams'!$F795*0.000000028317),\"\")","v":""},{"$f":"IF(ISNUMBER('Teom ugm3'!C797),('Teom ugm3'!C797*'Teom grams'!$F795*0.000000028317),\"\")","v":""},{"$f":"IF(ISNUMBER('Teom ugm3'!D797),('Teom ugm3'!D797*'Teom grams'!$F795*0.000000028317),\"\")","v":""},"","","","",null,"","","",null,"",""]
[null,null,{"$f":"IF('Teom ugm3'!A798=\"\",\"\",C795+1)","v":""},"",null,"",null,{"$f":"IF(ISNUMBER('Teom ugm3'!B798),('Teom ugm3'!B798*'Teom grams'!$F796*0.000000028317),\"\")","v":""},{"$f":"IF(ISNUMBER('Teom ugm3'!C798),('Teom ugm3'!C798*'Teom grams'!$F796*0.000000028317),\"\")","v":""},{"$f":"IF(ISNUMBER('Teom ugm3'!D798),('Teom ugm3'!D798*'Teom grams'!$F796*0.000000028317),\"\")","v":""},"","","","",null,"","","",null,"",""]
[null,null,{"$f":"IF('Teom ugm3'!A799=\"\",\"\",C796+1)","v":""},"",null,"",null,{"$f":"IF(ISNUMBER('Teom ugm3'!B799),('Teom ugm3'!B799*'Teom grams'!$F797*0.000000028317),\"\")","v":""},{"$f":"IF(ISNUMBER('Teom ugm3'!C799),('Teom ugm3'!C799*'Teom grams'!$F797*0.000000028317),\"\")","v":""},{"$f":"IF(ISNUMBER('Teom ugm3'!D799),('Teom ugm3'!D799*'Teom grams'!$F797*0.000000028317),\"\")","v":""},"","","","",null,"","","",null,"",""]
[null,null,{"$f":"IF('Teom ugm3'!A800=\"\",\"\",C797+1)","v":""},"",null,"",null,{"$f":"IF(ISNUMBER('Teom ugm3'!B800),('Teom ugm3'!B800*'Teom grams'!$F798*0.000000028317),\"\")","v":""},{"$f":"IF(ISNUMBER('Teom ugm3'!C800),('Teom ugm3'!C800*'Teom grams'!$F798*0.000000028317),\"\")","v":""},{"$f":"IF(ISNUMBER('Teom ugm3'!D800),('Teom ugm3'!D800*'Teom grams'!$F798*0.000000028317),\"\")","v":""},"","","","",null,"","","",null,"",""]
[null,null,{"$f":"IF('Teom ugm3'!A801=\"\",\"\",C798+1)","v":""},"",null,"",null,{"$f":"IF(ISNUMBER('Teom ugm3'!B801),('Teom ugm3'!B801*'Teom grams'!$F799*0.000000028317),\"\")","v":""},{"$f":"IF(ISNUMBER('Teom ugm3'!C801),('Teom ugm3'!C801*'Teom grams'!$F799*0.000000028317),\"\")","v":""},{"$f":"IF(ISNUMBER('Teom ugm3'!D801),('Teom ugm3'!D801*'Teom grams'!$F799*0.000000028317),\"\")","v":""},"","","","",null,"","","",null,"",""]
[null,null,{"$f":"IF('Teom ugm3'!A802=\"\",\"\",C799+1)","v":""},"",null,"",null,{"$f":"IF(ISNUMBER('Teom ugm3'!B802),('Teom ugm3'!B802*'Teom grams'!$F800*0.000000028317),\"\")","v":""},{"$f":"IF(ISNUMBER('Teom ugm3'!C802),('Teom ugm3'!C802*'Teom grams'!$F800*0.000000028317),\"\")","v":""},{"$f":"IF(ISNUMBER('Teom ugm3'!D802),('Teom ugm3'!D802*'Teom grams'!$F800*0.000000028317),\"\")","v":""},"","","","",null,"","","",null,"",""]
[null,null,{"$f":"IF('Teom ugm3'!A803=\"\",\"\",C800+1)","v":""},"",null,"",null,{"$f":"IF(ISNUMBER('Teom ugm3'!B803),('Teom ugm3'!B803*'Teom grams'!$F801*0.000000028317),\"\")","v":""},{"$f":"IF(ISNUMBER('Teom ugm3'!C803),('Teom ugm3'!C803*'Teom grams'!$F801*0.000000028317),\"\")","v":""},{"$f":"IF(ISNUMBER('Teom ugm3'!D803),('Teom ugm3'!D803*'Teom grams'!$F801*0.000000028317),\"\")","v":""},"","","","",null,"","","",null,"",""]
[null,null,{"$f":"IF('Teom ugm3'!A804=\"\",\"\",C801+1)","v":""},"",null,"",null,{"$f":"IF(ISNUMBER('Teom ugm3'!B804),('Teom ugm3'!B804*'Teom grams'!$F802*0.000000028317),\"\")","v":""},{"$f":"IF(ISNUMBER('Teom ugm3'!C804),('Teom ugm3'!C804*'Teom grams'!$F802*0.000000028317),\"\")","v":""},{"$f":"IF(ISNUMBER('Teom ugm3'!D804),('Teom ugm3'!D804*'Teom grams'!$F802*0.000000028317),\"\")","v":""},"","","","",null,"","","",null,"",""]
[null,null,{"$f":"IF('Teom ugm3'!A805=\"\",\"\",C802+1)","v":""},"",null,"",null,{"$f":"IF(ISNUMBER('Teom ugm3'!B805),('Teom ugm3'!B805*'Teom grams'!$F803*0.000000028317),\"\")","v":""},{"$f":"IF(ISNUMBER('Teom ugm3'!C805),('Teom ugm3'!C805*'Teom grams'!$F803*0.000000028317),\"\")","v":""},{"$f":"IF(ISNUMBER('Teom ugm3'!D805),('Teom ugm3'!D805*'Teom grams'!$F803*0.000000028317),\"\")","v":""},"","","","",null,"",{"$f":"IF(ISNUMBER(M803),M803*60,\"\")","v":""},{"$f":"IF(ISNUMBER(N803),N803*60,\"\")","v":""},null,{"$f":"IF(COUNT(C803:C862)>59,AVERAGE(P803:P862),\"\")","v":""},{"$f":"IF(COUNT(C803:C862)>59,AVERAGE(Q803:Q862),\"\")","v":""}]
[null,null,{"$f":"IF('Teom ugm3'!A806=\"\",\"\",C803+1)","v":""},"",null,"",null,{"$f":"IF(ISNUMBER('Teom ugm3'!B806),('Teom ugm3'!B806*'Teom grams'!$F804*0.000000028317),\"\")","v":""},{"$f":"IF(ISNUMBER('Teom ugm3'!C806),('Teom ugm3'!C806*'Teom grams'!$F804*0.000000028317),\"\")","v":""},{"$f":"IF(ISNUMBER('Teom ugm3'!D806),('Teom ugm3'!D806*'Teom grams'!$F804*0.000000028317),\"\")","v":""},"","","","",null,"","","",null,"",""]
[null,null,{"$f":"IF('Teom ugm3'!A807=\"\",\"\",C804+1)","v":""},"",null,"",null,{"$f":"IF(ISNUMBER('Teom ugm3'!B807),('Teom ugm3'!B807*'Teom grams'!$F805*0.000000028317),\"\")","v":""},{"$f":"IF(ISNUMBER('Teom ugm3'!C807),('Teom ugm3'!C807*'Teom grams'!$F805*0.000000028317),\"\")","v":""},{"$f":"IF(ISNUMBER('Teom ugm3'!D807),('Teom ugm3'!D807*'Teom grams'!$F805*0.000000028317),\"\")","v":""},"","","","",null,"","","",null,"",""]
[null,null,{"$f":"IF('Teom ugm3'!A808=\"\",\"\",C805+1)","v":""},"",null,"",null,{"$f":"IF(ISNUMBER('Teom ugm3'!B808),('Teom ugm3'!B808*'Teom grams'!$F806*0.000000028317),\"\")","v":""},{"$f":"IF(ISNUMBER('Teom ugm3'!C808),('Teom ugm3'!C808*'Teom grams'!$F806*0.000000028317),\"\")","v":""},{"$f":"IF(ISNUMBER('Teom ugm3'!D808),('Teom ugm3'!D808*'Teom grams'!$F806*0.000000028317),\"\")","v":""},"","","","",null,"","","",null,"",""]
[null,null,{"$f":"IF('Teom ugm3'!A809=\"\",\"\",C806+1)","v":""},"",null,"",null,{"$f":"IF(ISNUMBER('Teom ugm3'!B809),('Teom ugm3'!B809*'Teom grams'!$F807*0.000000028317),\"\")","v":""},{"$f":"IF(ISNUMBER('Teom ugm3'!C809),('Teom ugm3'!C809*'Teom grams'!$F807*0.000000028317),\"\")","v":""},{"$f":"IF(ISNUMBER('Teom ugm3'!D809),('Teom ugm3'!D809*'Teom grams'!$F807*0.000000028317),\"\")","v":""},"","","","",null,"","","",null,"",""]
[null,null,{"$f":"IF('Teom ugm3'!A810=\"\",\"\",C807+1)","v":""},"",null,"",null,{"$f":"IF(ISNUMBER('Teom ugm3'!B810),('Teom ugm3'!B810*'Teom grams'!$F808*0.000000028317),\"\")","v":""},{"$f":"IF(ISNUMBER('Teom ugm3'!C810),('Teom ugm3'!C810*'Teom grams'!$F808*0.000000028317),\"\")","v":""},{"$f":"IF(ISNUMBER('Teom ugm3'!D810),('Teom ugm3'!D810*'Teom grams'!$F808*0.000000028317),\"\")","v":""},"","","","",null,"","","",null,"",""]
[null,null,{"$f":"IF('Teom ugm3'!A811=\"\",\"\",C808+1)","v":""},"",null,"",null,{"$f":"IF(ISNUMBER('Teom ugm3'!B811),('Teom ugm3'!B811*'Teom grams'!$F809*0.000000028317),\"\")","v":""},{"$f":"IF(ISNUMBER('Teom ugm3'!C811),('Teom ugm3'!C811*'Teom grams'!$F809*0.000000028317),\"\")","v":""},{"$f":"IF(ISNUMBER('Teom ugm3'!D811),('Teom ugm3'!D811*'Teom grams'!$F809*0.000000028317),\"\")","v":""},"","","","",null,"","","",null,"",""]
[null,null,{"$f":"IF('Teom ugm3'!A812=\"\",\"\",C809+1)","v":""},"",null,"",null,{"$f":"IF(ISNUMBER('Teom ugm3'!B812),('Teom ugm3'!B812*'Teom grams'!$F810*0.000000028317),\"\")","v":""},{"$f":"IF(ISNUMBER('Teom ugm3'!C812),('Teom ugm3'!C812*'Teom grams'!$F810*0.000000028317),\"\")","v":""},{"$f":"IF(ISNUMBER('Teom ugm3'!D812),('Teom ugm3'!D812*'Teom grams'!$F810*0.000000028317),\"\")","v":""},"","","","",null,"","","",null,"",""]
[null,null,{"$f":"IF('Teom ugm3'!A813=\"\",\"\",C810+1)","v":""},"",null,"",null,{"$f":"IF(ISNUMBER('Teom ugm3'!B813),('Teom ugm3'!B813*'Teom grams'!$F811*0.000000028317),\"\")","v":""},{"$f":"IF(ISNUMBER('Teom ugm3'!C813),('Teom ugm3'!C813*'Teom grams'!$F811*0.000000028317),\"\")","v":""},{"$f":"IF(ISNUMBER('Teom ugm3'!D813),('Teom ugm3'!D813*'Teom grams'!$F811*0.000000028317),\"\")","v":""},"","","","",null,"","","",null,"",""]
[null,null,{"$f":"IF('Teom ugm3'!A814=\"\",\"\",C811+1)","v":""},"",null,"",null,{"$f":"IF(ISNUMBER('Teom ugm3'!B814),('Teom ugm3'!B814*'Teom grams'!$F812*0.000000028317),\"\")","v":""},{"$f":"IF(ISNUMBER('Teom ugm3'!C814),('Teom ugm3'!C814*'Teom grams'!$F812*0.000000028317),\"\")","v":""},{"$f":"IF(ISNUMBER('Teom ugm3'!D814),('Teom ugm3'!D814*'Teom grams'!$F812*0.000000028317),\"\")","v":""},"","","","",null,"","","",null,"",""]
[null,null,{"$f":"IF('Teom ugm3'!A815=\"\",\"\",C812+1)","v":""},"",null,"",null,{"$f":"IF(ISNUMBER('Teom ugm3'!B815),('Teom ugm3'!B815*'Teom grams'!$F813*0.000000028317),\"\")","v":""},{"$f":"IF(ISNUMBER('Teom ugm3'!C815),('Teom ugm3'!C815*'Teom grams'!$F813*0.000000028317),\"\")","v":""},{"$f":"IF(ISNUMBER('Teom ugm3'!D815),('Teom ugm3'!D815*'Teom grams'!$F813*0.000000028317),\"\")","v":""},"","","","",null,"","","",null,"",""]
[null,null,{"$f":"IF('Teom ugm3'!A816=\"\",\"\",C813+1)","v":""},"",null,"",null,{"$f":"IF(ISNUMBER('Teom ugm3'!B816),('Teom ugm3'!B816*'Teom grams'!$F814*0.000000028317),\"\")","v":""},{"$f":"IF(ISNUMBER('Teom ugm3'!C816),('Teom ugm3'!C816*'Teom grams'!$F814*0.000000028317),\"\")","v":""},{"$f":"IF(ISNUMBER('Teom ugm3'!D816),('Teom ugm3'!D816*'Teom grams'!$F814*0.000000028317),\"\")","v":""},"","","","",null,"","","",null,"",""]
[null,null,{"$f":"IF('Teom ugm3'!A817=\"\",\"\",C814+1)","v":""},"",null,"",null,{"$f":"IF(ISNUMBER('Teom ugm3'!B817),('Teom ugm3'!B817*'Teom grams'!$F815*0.000000028317),\"\")","v":""},{"$f":"IF(ISNUMBER('Teom ugm3'!C817),('Teom ugm3'!C817*'Teom grams'!$F815*0.000000028317),\"\")","v":""},{"$f":"IF(ISNUMBER('Teom ugm3'!D817),('Teom ugm3'!D817*'Teom grams'!$F815*0.000000028317),\"\")","v":""},"","","","",null,"","","",null,"",""]
[null,null,{"$f":"IF('Teom ugm3'!A818=\"\",\"\",C815+1)","v":""},"",null,"",null,{"$f":"IF(ISNUMBER('Teom ugm3'!B818),('Teom ugm3'!B818*'Teom grams'!$F816*0.000000028317),\"\")","v":""},{"$f":"IF(ISNUMBER('Teom ugm3'!C818),('Teom ugm3'!C818*'Teom grams'!$F816*0.000000028317),\"\")","v":""},{"$f":"IF(ISNUMBER('Teom ugm3'!D818),('Teom ugm3'!D818*'Teom grams'!$F816*0.000000028317),\"\")","v":""},"","","","",null,"","","",null,"",""]
[null,null,{"$f":"IF('Teom ugm3'!A819=\"\",\"\",C816+1)","v":""},"",null,"",null,{"$f":"IF(ISNUMBER('Teom ugm3'!B819),('Teom ugm3'!B819*'Teom grams'!$F817*0.000000028317),\"\")","v":""},{"$f":"IF(ISNUMBER('Teom ugm3'!C819),('Teom ugm3'!C819*'Teom grams'!$F817*0.000000028317),\"\")","v":""},{"$f":"IF(ISNUMBER('Teom ugm3'!D819),('Teom ugm3'!D819*'Teom grams'!$F817*0.000000028317),\"\")","v":""},"","","","",null,"","","",null,"",""]
[null,null,{"$f":"IF('Teom ugm3'!A820=\"\",\"\",C817+1)","v":""},"",null,"",null,{"$f":"IF(ISNUMBER('Teom ugm3'!B820),('Teom ugm3'!B820*'Teom grams'!$F818*0.000000028317),\"\")","v":""},{"$f":"IF(ISNUMBER('Teom ugm3'!C820),('Teom ugm3'!C820*'Teom grams'!$F818*0.000000028317),\"\")","v":""},{"$f":"IF(ISNUMBER('Teom ugm3'!D820),('Teom ugm3'!D820*'Teom grams'!$F818*0.000000028317),\"\")","v":""},"","","","",null,"","","",null,"",""]
[null,null,{"$f":"IF('Teom ugm3'!A821=\"\",\"\",C818+1)","v":""},"",null,"",null,{"$f":"IF(ISNUMBER('Teom ugm3'!B821),('Teom ugm3'!B821*'Teom grams'!$F819*0.000000028317),\"\")","v":""},{"$f":"IF(ISNUMBER('Teom ugm3'!C821),('Teom ugm3'!C821*'Teom grams'!$F819*0.000000028317),\"\")","v":""},{"$f":"IF(ISNUMBER('Teom ugm3'!D821),('Teom ugm3'!D821*'Teom grams'!$F819*0.000000028317),\"\")","v":""},"","","","",null,"","","",null,"",""]
[null,null,{"$f":"IF('Teom ugm3'!A822=\"\",\"\",C819+1)","v":""},"",null,"",null,{"$f":"IF(ISNUMBER('Teom ugm3'!B822),('Teom ugm3'!B822*'Teom grams'!$F820*0.000000028317),\"\")","v":""},{"$f":"IF(ISNUMBER('Teom ugm3'!C822),('Teom ugm3'!C822*'Teom grams'!$F820*0.000000028317),\"\")","v":""},{"$f":"IF(ISNUMBER('Teom ugm3'!D822),('Teom ugm3'!D822*'Teom grams'!$F820*0.000000028317),\"\")","v":""},"","","","",null,"","","",null,"",""]
[null,null,{"$f":"IF('Teom ugm3'!A823=\"\",\"\",C820+1)","v":""},"",null,"",null,{"$f":"IF(ISNUMBER('Teom ugm3'!B823),('Teom ugm3'!B823*'Teom grams'!$F821*0.000000028317),\"\")","v":""},{"$f":"IF(ISNUMBER('Teom ugm3'!C823),('Teom ugm3'!C823*'Teom grams'!$F821*0.000000028317),\"\")","v":""},{"$f":"IF(ISNUMBER('Teom ugm3'!D823),('Teom ugm3'!D823*'Teom grams'!$F821*0.000000028317),\"\")","v":""},"","","","",null,"","","",null,"",""]
[null,null,{"$f":"IF('Teom ugm3'!A824=\"\",\"\",C821+1)","v":""},"",null,"",null,{"$f":"IF(ISNUMBER('Teom ugm3'!B824),('Teom ugm3'!B824*'Teom grams'!$F822*0.000000028317),\"\")","v":""},{"$f":"IF(ISNUMBER('Teom ugm3'!C824),('Teom ugm3'!C824*'Teom grams'!$F822*0.000000028317),\"\")","v":""},{"$f":"IF(ISNUMBER('Teom ugm3'!D824),('Teom ugm3'!D824*'Teom grams'!$F822*0.000000028317),\"\")","v":""},"","","","",null,"","","",null,"",""]
[null,null,{"$f":"IF('Teom ugm3'!A825=\"\",\"\",C822+1)","v":""},"",null,"",null,{"$f":"IF(ISNUMBER('Teom ugm3'!B825),('Teom ugm3'!B825*'Teom grams'!$F823*0.000000028317),\"\")","v":""},{"$f":"IF(ISNUMBER('Teom ugm3'!C825),('Teom ugm3'!C825*'Teom grams'!$F823*0.000000028317),\"\")","v":""},{"$f":"IF(ISNUMBER('Teom ugm3'!D825),('Teom ugm3'!D825*'Teom grams'!$F823*0.000000028317),\"\")","v":""},"","","","",null,"","","",null,"",""]
[null,null,{"$f":"IF('Teom ugm3'!A826=\"\",\"\",C823+1)","v":""},"",null,"",null,{"$f":"IF(ISNUMBER('Teom ugm3'!B826),('Teom ugm3'!B826*'Teom grams'!$F824*0.000000028317),\"\")","v":""},{"$f":"IF(ISNUMBER('Teom ugm3'!C826),('Teom ugm3'!C826*'Teom grams'!$F824*0.000000028317),\"\")","v":""},{"$f":"IF(ISNUMBER('Teom ugm3'!D826),('Teom ugm3'!D826*'Teom grams'!$F824*0.000000028317),\"\")","v":""},"","","","",null,"","","",null,"",""]
[null,null,{"$f":"IF('Teom ugm3'!A827=\"\",\"\",C824+1)","v":""},"",null,"",null,{"$f":"IF(ISNUMBER('Teom ugm3'!B827),('Teom ugm3'!B827*'Teom grams'!$F825*0.000000028317),\"\")","v":""},{"$f":"IF(ISNUMBER('Teom ugm3'!C827),('Teom ugm3'!C827*'Teom grams'!$F825*0.000000028317),\"\")","v":""},{"$f":"IF(ISNUMBER('Teom ugm3'!D827),('Teom ugm3'!D827*'Teom grams'!$F825*0.000000028317),\"\")","v":""},"","","","",null,"","","",null,"",""]
[null,null,{"$f":"IF('Teom ugm3'!A828=\"\",\"\",C825+1)","v":""},"",null,"",null,{"$f":"IF(ISNUMBER('Teom ugm3'!B828),('Teom ugm3'!B828*'Teom grams'!$F826*0.000000028317),\"\")","v":""},{"$f":"IF(ISNUMBER('Teom ugm3'!C828),('Teom ugm3'!C828*'Teom grams'!$F826*0.000000028317),\"\")","v":""},{"$f":"IF(ISNUMBER('Teom ugm3'!D828),('Teom ugm3'!D828*'Teom grams'!$F826*0.000000028317),\"\")","v":""},"","","","",null,"","","",null,"",""]
[null,null,{"$f":"IF('Teom ugm3'!A829=\"\",\"\",C826+1)","v":""},"",null,"",null,{"$f":"IF(ISNUMBER('Teom ugm3'!B829),('Teom ugm3'!B829*'Teom grams'!$F827*0.000000028317),\"\")","v":""},{"$f":"IF(ISNUMBER('Teom ugm3'!C829),('Teom ugm3'!C829*'Teom grams'!$F827*0.000000028317),\"\")","v":""},{"$f":"IF(ISNUMBER('Teom ugm3'!D829),('Teom ugm3'!D829*'Teom grams'!$F827*0.000000028317),\"\")","v":""},"","","","",null,"","","",null,"",""]
[null,null,{"$f":"IF('Teom ugm3'!A830=\"\",\"\",C827+1)","v":""},"",null,"",null,{"$f":"IF(ISNUMBER('Teom ugm3'!B830),('Teom ugm3'!B830*'Teom grams'!$F828*0.000000028317),\"\")","v":""},{"$f":"IF(ISNUMBER('Teom ugm3'!C830),('Teom ugm3'!C830*'Teom grams'!$F828*0.000000028317),\"\")","v":""},{"$f":"IF(ISNUMBER('Teom ugm3'!D830),('Teom ugm3'!D830*'Teom grams'!$F828*0.000000028317),\"\")","v":""},"","","","",null,"","","",null,"",""]
[null,null,{"$f":"IF('Teom ugm3'!A831=\"\",\"\",C828+1)","v":""},"",null,"",null,{"$f":"IF(ISNUMBER('Teom ugm3'!B831),('Teom ugm3'!B831*'Teom grams'!$F829*0.000000028317),\"\")","v":""},{"$f":"IF(ISNUMBER('Teom ugm3'!C831),('Teom ugm3'!C831*'Teom grams'!$F829*0.000000028317),\"\")","v":""},{"$f":"IF(ISNUMBER('Teom ugm3'!D831),('Teom ugm3'!D831*'Teom grams'!$F829*0.000000028317),\"\")","v":""},"","","","",null,"","","",null,"",""]
[null,null,{"$f":"IF('Teom ugm3'!A832=\"\",\"\",C829+1)","v":""},"",null,"",null,{"$f":"IF(ISNUMBER('Teom ugm3'!B832),('Teom ugm3'!B832*'Teom grams'!$F830*0.000000028317),\"\")","v":""},{"$f":"IF(ISNUMBER('Teom ugm3'!C832),('Teom ugm3'!C832*'Teom grams'!$F830*0.000000028317),\"\")","v":""},{"$f":"IF(ISNUMBER('Teom ugm3'!D832),('Teom ugm3'!D832*'Teom grams'!$F830*0.000000028317),\"\")","v":""},"","","","",null,"","","",null,"",""]
[null,null,{"$f":"IF('Teom ugm3'!A833=\"\",\"\",C830+1)","v":""},"",null,"",null,{"$f":"IF(ISNUMBER('Teom ugm3'!B833),('Teom ugm3'!B833*'Teom grams'!$F831*0.000000028317),\"\")","v":""},{"$f":"IF(ISNUMBER('Teom ugm3'!C833),('Teom ugm3'!C833*'Teom grams'!$F831*0.000000028317),\"\")","v":""},{"$f":"IF(ISNUMBER('Teom ugm3'!D833),('Teom ugm3'!D833*'Teom grams'!$F831*0.000000028317),\"\")","v":""},"","","","",null,"","","",null,"",""]
[null,null,{"$f":"IF('Teom ugm3'!A834=\"\",\"\",C831+1)","v":""},"",null,"",null,{"$f":"IF(ISNUMBER('Teom ugm3'!B834),('Teom ugm3'!B834*'Teom grams'!$F832*0.000000028317),\"\")","v":""},{"$f":"IF(ISNUMBER('Teom ugm3'!C834),('Teom ugm3'!C834*'Teom grams'!$F832*0.000000028317),\"\")","v":""},{"$f":"IF(ISNUMBER('Teom ugm3'!D834),('Teom ugm3'!D834*'Teom grams'!$F832*0.000000028317),\"\")","v":""},"","","","",null,"","","",null,"",""]
[null,null,{"$f":"IF('Teom ugm3'!A835=\"\",\"\",C832+1)","v":""},"",null,"",null,{"$f":"IF(ISNUMBER('Teom ugm3'!B835),('Teom ugm3'!B835*'Teom grams'!$F833*0.000000028317),\"\")","v":""},{"$f":"IF(ISNUMBER('Teom ugm3'!C835),('Teom ugm3'!C835*'Teom grams'!$F833*0.000000028317),\"\")","v":""},{"$f":"IF(ISNUMBER('Teom ugm3'!D835),('Teom ugm3'!D835*'Teom grams'!$F833*0.000000028317),\"\")","v":""},"","","","",null,"","","",null,"",""]
[null,null,{"$f":"IF('Teom ugm3'!A836=\"\",\"\",C833+1)","v":""},"",null,"",null,{"$f":"IF(ISNUMBER('Teom ugm3'!B836),('Teom ugm3'!B836*'Teom grams'!$F834*0.000000028317),\"\")","v":""},{"$f":"IF(ISNUMBER('Teom ugm3'!C836),('Teom ugm3'!C836*'Teom grams'!$F834*0.000000028317),\"\")","v":""},{"$f":"IF(ISNUMBER('Teom ugm3'!D836),('Teom ugm3'!D836*'Teom grams'!$F834*0.000000028317),\"\")","v":""},"","","","",null,"","","",null,"",""]
[null,null,{"$f":"IF('Teom ugm3'!A837=\"\",\"\",C834+1)","v":""},"",null,"",null,{"$f":"IF(ISNUMBER('Teom ugm3'!B837),('Teom ugm3'!B837*'Teom grams'!$F835*0.000000028317),\"\")","v":""},{"$f":"IF(ISNUMBER('Teom ugm3'!C837),('Teom ugm3'!C837*'Teom grams'!$F835*0.000000028317),\"\")","v":""},{"$f":"IF(ISNUMBER('Teom ugm3'!D837),('Teom ugm3'!D837*'Teom grams'!$F835*0.000000028317),\"\")","v":""},"","","","",null,"","","",null,"",""]
[null,null,{"$f":"IF('Teom ugm3'!A838=\"\",\"\",C835+1)","v":""},"",null,"",null,{"$f":"IF(ISNUMBER('Teom ugm3'!B838),('Teom ugm3'!B838*'Teom grams'!$F836*0.000000028317),\"\")","v":""},{"$f":"IF(ISNUMBER('Teom ugm3'!C838),('Teom ugm3'!C838*'Teom grams'!$F836*0.000000028317),\"\")","v":""},{"$f":"IF(ISNUMBER('Teom ugm3'!D838),('Teom ugm3'!D838*'Teom grams'!$F836*0.000000028317),\"\")","v":""},"","","",{"$f":"M836","v":""},null,"","","",null,"",""]
[null,null,{"$f":"IF('Teom ugm3'!A839=\"\",\"\",C836+1)","v":""},"",null,{"$f":"IF(C837=\"\",\"\",E837*1.02041)","v":""},null,{"$f":"IF(ISNUMBER('Teom ugm3'!B839),('Teom ugm3'!B839*'Teom grams'!$F837*0.000000028317),\"\")","v":""},{"$f":"IF(ISNUMBER('Teom ugm3'!C839),('Teom ugm3'!C839*'Teom grams'!$F837*0.000000028317),\"\")","v":""},{"$f":"IF(ISNUMBER('Teom ugm3'!D839),('Teom ugm3'!D839*'Teom grams'!$F837*0.000000028317),\"\")","v":""},{"$f":"IF(H837<0,0,H837)","v":""},"","","",null,{"$f":"IF(ISNUMBER(J837),J837*60,\"\")","v":""},"","",null,"",""]
[null,null,{"$f":"IF('Teom ugm3'!A840=\"\",\"\",C837+1)","v":""},{"$f":"IF(C838=\"\",\"\",D837 + TIME(0, 1, 0))","v":""},null,"",null,{"$f":"IF(ISNUMBER('Teom ugm3'!B840),('Teom ugm3'!B840*'Teom grams'!$F838*0.000000028317),\"\")","v":""},{"$f":"IF(ISNUMBER('Teom ugm3'!C840),('Teom ugm3'!C840*'Teom grams'!$F838*0.000000028317),\"\")","v":""},{"$f":"IF(ISNUMBER('Teom ugm3'!D840),('Teom ugm3'!D840*'Teom grams'!$F838*0.000000028317),\"\")","v":""},"","","","",null,"","","",null,"",""]
[null,null,{"$f":"IF('Teom ugm3'!A841=\"\",\"\",C838+1)","v":""},"",null,"",null,{"$f":"IF(ISNUMBER('Teom ugm3'!B841),('Teom ugm3'!B841*'Teom grams'!$F839*0.000000028317),\"\")","v":""},{"$f":"IF(ISNUMBER('Teom ugm3'!C841),('Teom ugm3'!C841*'Teom grams'!$F839*0.000000028317),\"\")","v":""},{"$f":"IF(ISNUMBER('Teom ugm3'!D841),('Teom ugm3'!D841*'Teom grams'!$F839*0.000000028317),\"\")","v":""},"","","","",null,"","","",null,"",""]
[null,null,{"$f":"IF('Teom ugm3'!A842=\"\",\"\",C839+1)","v":""},"",null,"",null,{"$f":"IF(ISNUMBER('Teom ugm3'!B842),('Teom ugm3'!B842*'Teom grams'!$F840*0.000000028317),\"\")","v":""},{"$f":"IF(ISNUMBER('Teom ugm3'!C842),('Teom ugm3'!C842*'Teom grams'!$F840*0.000000028317),\"\")","v":""},{"$f":"IF(ISNUMBER('Teom ugm3'!D842),('Teom ugm3'!D842*'Teom grams'!$F840*0.000000028317),\"\")","v":""},"","","","",null,"","","",null,"",""]
[null,null,{"$f":"IF('Teom ugm3'!A843=\"\",\"\",C840+1)","v":""},"",null,"",null,{"$f":"IF(ISNUMBER('Teom ugm3'!B843),('Teom ugm3'!B843*'Teom grams'!$F841*0.000000028317),\"\")","v":""},{"$f":"IF(ISNUMBER('Teom ugm3'!C843),('Teom ugm3'!C843*'Teom grams'!$F841*0.000000028317),\"\")","v":""},{"$f":"IF(ISNUMBER('Teom ugm3'!D843),('Teom ugm3'!D843*'Teom grams'!$F841*0.000000028317),\"\")","v":""},"","","","",null,"","","",null,"",""]
[null,null,{"$f":"IF('Teom ugm3'!A844=\"\",\"\",C841+1)","v":""},"",null,"",null,{"$f":"IF(ISNUMBER('Teom ugm3'!B844),('Teom ugm3'!B844*'Teom grams'!$F842*0.000000028317),\"\")","v":""},{"$f":"IF(ISNUMBER('Teom ugm3'!C844),('Teom ugm3'!C844*'Teom grams'!$F842*0.000000028317),\"\")","v":""},{"$f":"IF(ISNUMBER('Teom ugm3'!D844),('Teom ugm3'!D844*'Teom grams'!$F842*0.000000028317),\"\")","v":""},"","","","",null,"","","",null,"",""]
[null,null,{"$f":"IF('Teom ugm3'!A845=\"\",\"\",C842+1)","v":""},"",null,"",null,{"$f":"IF(ISNUMBER('Teom ugm3'!B845),('Teom ugm3'!B845*'Teom grams'!$F843*0.000000028317),\"\")","v":""},{"$f":"IF(ISNUMBER('Teom ugm3'!C845),('Teom ugm3'!C845*'Teom grams'!$F843*0.000000028317),\"\")","v":""},{"$f":"IF(ISNUMBER('Teom ugm3'!D845),('Teom ugm3'!D845*'Teom grams'!$F843*0.000000028317),\"\")","v":""},"","",{"$f":"IF(COUNT(K843:L843)>0,AVERAGE(K843:L843),\"\")","v":""},"",null,"","","",null,"",""]
[null,null,{"$f":"IF('Teom ugm3'!A846=\"\",\"\",C843+1)","v":""},"",null,"",null,{"$f":"IF(ISNUMBER('Teom ugm3'!B846),('Teom ugm3'!B846*'Teom grams'!$F844*0.000000028317),\"\")","v":""},{"$f":"IF(ISNUMBER('Teom ugm3'!C846),('Teom ugm3'!C846*'Teom grams'!$F844*0.000000028317),\"\")","v":""},{"$f":"IF(ISNUMBER('Teom ugm3'!D846),('Teom ugm3'!D846*'Teom grams'!$F844*0.000000028317),\"\")","v":""},"","","","",null,"","","",null,"",""]
[null,null,{"$f":"IF('Teom ugm3'!A847=\"\",\"\",C844+1)","v":""},"",null,"",null,{"$f":"IF(ISNUMBER('Teom ugm3'!B847),('Teom ugm3'!B847*'Teom grams'!$F845*0.000000028317),\"\")","v":""},{"$f":"IF(ISNUMBER('Teom ugm3'!C847),('Teom ugm3'!C847*'Teom grams'!$F845*0.000000028317),\"\")","v":""},{"$f":"IF(ISNUMBER('Teom ugm3'!D847),('Teom ugm3'!D847*'Teom grams'!$F845*0.000000028317),\"\")","v":""},"","","","",null,"","","",null,"",""]
[null,null,{"$f":"IF('Teom ugm3'!A848=\"\",\"\",C845+1)","v":""},"",null,"",null,{"$f":"IF(ISNUMBER('Teom ugm3'!B848),('Teom ugm3'!B848*'Teom grams'!$F846*0.000000028317),\"\")","v":""},{"$f":"IF(ISNUMBER('Teom ugm3'!C848),('Teom ugm3'!C848*'Teom grams'!$F846*0.000000028317),\"\")","v":""},{"$f":"IF(ISNUMBER('Teom ugm3'!D848),('Teom ugm3'!D848*'Teom grams'!$F846*0.000000028317),\"\")","v":""},"","","","",null,"","","",null,"",""]
[null,null,{"$f":"IF('Teom ugm3'!A849=\"\",\"\",C846+1)","v":""},"",null,"",null,{"$f":"IF(ISNUMBER('Teom ugm3'!B849),('Teom ugm3'!B849*'Teom grams'!$F847*0.000000028317),\"\")","v":""},{"$f":"IF(ISNUMBER('Teom ugm3'!C849),('Teom ugm3'!C849*'Teom grams'!$F847*0.000000028317),\"\")","v":""},{"$f":"IF(ISNUMBER('Teom ugm3'!D849),('Teom ugm3'!D849*'Teom grams'!$F847*0.000000028317),\"\")","v":""},"","","","",null,"","","",null,"",""]
[null,null,{"$f":"IF('Teom ugm3'!A850=\"\",\"\",C847+1)","v":""},"",null,"",null,{"$f":"IF(ISNUMBER('Teom ugm3'!B850),('Teom ugm3'!B850*'Teom grams'!$F848*0.000000028317),\"\")","v":""},{"$f":"IF(ISNUMBER('Teom ugm3'!C850),('Teom ugm3'!C850*'Teom grams'!$F848*0.000000028317),\"\")","v":""},{"$f":"IF(ISNUMBER('Teom ugm3'!D850),('Teom ugm3'!D850*'Teom grams'!$F848*0.000000028317),\"\")","v":""},"","","","",null,"","","",null,"",""]
[null,null,{"$f":"IF('Teom ugm3'!A851=\"\",\"\",C848+1)","v":""},"",null,"",null,{"$f":"IF(ISNUMBER('Teom ugm3'!B851),('Teom ugm3'!B851*'Teom grams'!$F849*0.000000028317),\"\")","v":""},{"$f":"IF(ISNUMBER('Teom ugm3'!C851),('Teom ugm3'!C851*'Teom grams'!$F849*0.000000028317),\"\")","v":""},{"$f":"IF(ISNUMBER('Teom ugm3'!D851),('Teom ugm3'!D851*'Teom grams'!$F849*0.000000028317),\"\")","v":""},"","","","",null,"","","",null,"",""]
[null,null,{"$f":"IF('Teom ugm3'!A852=\"\",\"\",C849+1)","v":""},"",null,"",null,{"$f":"IF(ISNUMBER('Teom ugm3'!B852),('Teom ugm3'!B852*'Teom grams'!$F850*0.000000028317),\"\")","v":""},{"$f":"IF(ISNUMBER('Teom ugm3'!C852),('Teom ugm3'!C852*'Teom grams'!$F850*0.000000028317),\"\")","v":""},{"$f":"IF(ISNUMBER('Teom ugm3'!D852),('Teom ugm3'!D852*'Teom grams'!$F850*0.000000028317),\"\")","v":""},"","","","",null,"","","",null,"",""]
[null,null,{"$f":"IF('Teom ugm3'!A853=\"\",\"\",C850+1)","v":""},"",null,"",null,{"$f":"IF(ISNUMBER('Teom ugm3'!B853),('Teom ugm3'!B853*'Teom grams'!$F851*0.000000028317),\"\")","v":""},{"$f":"IF(ISNUMBER('Teom ugm3'!C853),('Teom ugm3'!C853*'Teom grams'!$F851*0.000000028317),\"\")","v":""},{"$f":"IF(ISNUMBER('Teom ugm3'!D853),('Teom ugm3'!D853*'Teom grams'!$F851*0.000000028317),\"\")","v":""},"","","","",null,"","","",null,"",""]
[null,null,{"$f":"IF('Teom ugm3'!A854=\"\",\"\",C851+1)","v":""},"",null,"",null,{"$f":"IF(ISNUMBER('Teom ugm3'!B854),('Teom ugm3'!B854*'Teom grams'!$F852*0.000000028317),\"\")","v":""},{"$f":"IF(ISNUMBER('Teom ugm3'!C854),('Teom ugm3'!C854*'Teom grams'!$F852*0.000000028317),\"\")","v":""},{"$f":"IF(ISNUMBER('Teom ugm3'!D854),('Teom ugm3'!D854*'Teom grams'!$F852*0.000000028317),\"\")","v":""},"","","","",null,"","","",null,"",""]
[null,null,{"$f":"IF('Teom ugm3'!A855=\"\",\"\",C852+1)","v":""},"",null,"",null,{"$f":"IF(ISNUMBER('Teom ugm3'!B855),('Teom ugm3'!B855*'Teom grams'!$F853*0.000000028317),\"\")","v":""},{"$f":"IF(ISNUMBER('Teom ugm3'!C855),('Teom ugm3'!C855*'Teom grams'!$F853*0.000000028317),\"\")","v":""},{"$f":"IF(ISNUMBER('Teom ugm3'!D855),('Teom ugm3'!D855*'Teom grams'!$F853*0.000000028317),\"\")","v":""},"","","","",null,"","","",null,"",""]
[null,null,{"$f":"IF('Teom ugm3'!A856=\"\",\"\",C853+1)","v":""},"",null,"",null,{"$f":"IF(ISNUMBER('Teom ugm3'!B856),('Teom ugm3'!B856*'Teom grams'!$F854*0.000000028317),\"\")","v":""},{"$f":"IF(ISNUMBER('Teom ugm3'!C856),('Teom ugm3'!C856*'Teom grams'!$F854*0.000000028317),\"\")","v":""},{"$f":"IF(ISNUMBER('Teom ugm3'!D856),('Teom ugm3'!D856*'Teom grams'!$F854*0.000000028317),\"\")","v":""},"","","","",null,"","","",null,"",""]
[null,null,{"$f":"IF('Teom ugm3'!A857=\"\",\"\",C854+1)","v":""},"",null,"",null,{"$f":"IF(ISNUMBER('Teom ugm3'!B857),('Teom ugm3'!B857*'Teom grams'!$F855*0.000000028317),\"\")","v":""},{"$f":"IF(ISNUMBER('Teom ugm3'!C857),('Teom ugm3'!C857*'Teom grams'!$F855*0.000000028317),\"\")","v":""},{"$f":"IF(ISNUMBER('Teom ugm3'!D857),('Teom ugm3'!D857*'Teom grams'!$F855*0.000000028317),\"\")","v":""},"","","","",null,"","","",null,"",""]
[null,null,{"$f":"IF('Teom ugm3'!A858=\"\",\"\",C855+1)","v":""},"",null,"",null,{"$f":"IF(ISNUMBER('Teom ugm3'!B858),('Teom ugm3'!B858*'Teom grams'!$F856*0.000000028317),\"\")","v":""},{"$f":"IF(ISNUMBER('Teom ugm3'!C858),('Teom ugm3'!C858*'Teom grams'!$F856*0.000000028317),\"\")","v":""},{"$f":"IF(ISNUMBER('Teom ugm3'!D858),('Teom ugm3'!D858*'Teom grams'!$F856*0.000000028317),\"\")","v":""},"","","","",null,"","","",null,"",""]
[null,null,{"$f":"IF('Teom ugm3'!A859=\"\",\"\",C856+1)","v":""},"",null,"",null,{"$f":"IF(ISNUMBER('Teom ugm3'!B859),('Teom ugm3'!B859*'Teom grams'!$F857*0.000000028317),\"\")","v":""},{"$f":"IF(ISNUMBER('Teom ugm3'!C859),('Teom ugm3'!C859*'Teom grams'!$F857*0.000000028317),\"\")","v":""},{"$f":"IF(ISNUMBER('Teom ugm3'!D859),('Teom ugm3'!D859*'Teom grams'!$F857*0.000000028317),\"\")","v":""},"","","","",null,"","","",null,"",""]
[null,null,{"$f":"IF('Teom ugm3'!A860=\"\",\"\",C857+1)","v":""},"",null,"",null,{"$f":"IF(ISNUMBER('Teom ugm3'!B860),('Teom ugm3'!B860*'Teom grams'!$F858*0.000000028317),\"\")","v":""},{"$f":"IF(ISNUMBER('Teom ugm3'!C860),('Teom ugm3'!C860*'Teom grams'!$F858*0.000000028317),\"\")","v":""},{"$f":"IF(ISNUMBER('Teom ugm3'!D860),('Teom ugm3'!D860*'Teom grams'!$F858*0.000000028317),\"\")","v":""},"","","","",null,"","","",null,"",""]
[null,null,{"$f":"IF('Teom ugm3'!A861=\"\",\"\",C858+1)","v":""},"",null,"",null,{"$f":"IF(ISNUMBER('Teom ugm3'!B861),('Teom ugm3'!B861*'Teom grams'!$F859*0.000000028317),\"\")","v":""},{"$f":"IF(ISNUMBER('Teom ugm3'!C861),('Teom ugm3'!C861*'Teom grams'!$F859*0.000000028317),\"\")","v":""},{"$f":"IF(ISNUMBER('Teom ugm3'!D861),('Teom ugm3'!D861*'Teom grams'!$F859*0.000000028317),\"\")","v":""},"","","","",null,"","","",null,"",""]
[null,null,{"$f":"IF('Teom ugm3'!A862=\"\",\"\",C859+1)","v":""},"",null,"",null,{"$f":"IF(ISNUMBER('Teom ugm3'!B862),('Teom ugm3'!B862*'Teom grams'!$F860*0.000000028317),\"\")","v":""},{"$f":"IF(ISNUMBER('Teom ugm3'!C862),('Teom ugm3'!C862*'Teom grams'!$F860*0.000000028317),\"\")","v":""},{"$f":"IF(ISNUMBER('Teom ugm3'!D862),('Teom ugm3'!D862*'Teom grams'!$F860*0.000000028317),\"\")","v":""},"","","","",null,"","","",null,"",""]
[null,null,{"$f":"IF('Teom ugm3'!A863=\"\",\"\",C860+1)","v":""},"",null,"",null,{"$f":"IF(ISNUMBER('Teom ugm3'!B863),('Teom ugm3'!B863*'Teom grams'!$F861*0.000000028317),\"\")","v":""},{"$f":"IF(ISNUMBER('Teom ugm3'!C863),('Teom ugm3'!C863*'Teom grams'!$F861*0.000000028317),\"\")","v":""},{"$f":"IF(ISNUMBER('Teom ugm3'!D863),('Teom ugm3'!D863*'Teom grams'!$F861*0.000000028317),\"\")","v":""},"","","","",null,"","","",null,"",""]
[null,null,{"$f":"IF('Teom ugm3'!A864=\"\",\"\",C861+1)","v":""},"",null,"",null,{"$f":"IF(ISNUMBER('Teom ugm3'!B864),('Teom ugm3'!B864*'Teom grams'!$F862*0.000000028317),\"\")","v":""},{"$f":"IF(ISNUMBER('Teom ugm3'!C864),('Teom ugm3'!C864*'Teom grams'!$F862*0.000000028317),\"\")","v":""},{"$f":"IF(ISNUMBER('Teom ugm3'!D864),('Teom ugm3'!D864*'Teom grams'!$F862*0.000000028317),\"\")","v":""},"","","","",null,"","","",null,"",""]
[null,null,{"$f":"IF('Teom ugm3'!A865=\"\",\"\",C862+1)","v":""},"",null,"",null,{"$f":"IF(ISNUMBER('Teom ugm3'!B865),('Teom ugm3'!B865*'Teom grams'!$F863*0.000000028317),\"\")","v":""},{"$f":"IF(ISNUMBER('Teom ugm3'!C865),('Teom ugm3'!C865*'Teom grams'!$F863*0.000000028317),\"\")","v":""},{"$f":"IF(ISNUMBER('Teom ugm3'!D865),('Teom ugm3'!D865*'Teom grams'!$F863*0.000000028317),\"\")","v":""},"","","","",null,"","","",null,"",""]
[null,null,{"$f":"IF('Teom ugm3'!A866=\"\",\"\",C863+1)","v":""},"",null,"",null,{"$f":"IF(ISNUMBER('Teom ugm3'!B866),('Teom ugm3'!B866*'Teom grams'!$F864*0.000000028317),\"\")","v":""},{"$f":"IF(ISNUMBER('Teom ugm3'!C866),('Teom ugm3'!C866*'Teom grams'!$F864*0.000000028317),\"\")","v":""},{"$f":"IF(ISNUMBER('Teom ugm3'!D866),('Teom ugm3'!D866*'Teom grams'!$F864*0.000000028317),\"\")","v":""},"","","","",null,"","","",null,"",""]
[null,null,{"$f":"IF('Teom ugm3'!A867=\"\",\"\",C864+1)","v":""},"",null,"",null,{"$f":"IF(ISNUMBER('Teom ugm3'!B867),('Teom ugm3'!B867*'Teom grams'!$F865*0.000000028317),\"\")","v":""},{"$f":"IF(ISNUMBER('Teom ugm3'!C867),('Teom ugm3'!C867*'Teom grams'!$F865*0.000000028317),\"\")","v":""},{"$f":"IF(ISNUMBER('Teom ugm3'!D867),('Teom ugm3'!D867*'Teom grams'!$F865*0.000000028317),\"\")","v":""},"","","","",null,"","","",null,"",""]
[null,null,{"$f":"IF('Teom ugm3'!A868=\"\",\"\",C865+1)","v":""},"",null,"",null,{"$f":"IF(ISNUMBER('Teom ugm3'!B868),('Teom ugm3'!B868*'Teom grams'!$F866*0.000000028317),\"\")","v":""},{"$f":"IF(ISNUMBER('Teom ugm3'!C868),('Teom ugm3'!C868*'Teom grams'!$F866*0.000000028317),\"\")","v":""},{"$f":"IF(ISNUMBER('Teom ugm3'!D868),('Teom ugm3'!D868*'Teom grams'!$F866*0.000000028317),\"\")","v":""},"","","","",null,"","","",null,"",""]
[null,null,{"$f":"IF('Teom ugm3'!A869=\"\",\"\",C866+1)","v":""},"",null,"",null,{"$f":"IF(ISNUMBER('Teom ugm3'!B869),('Teom ugm3'!B869*'Teom grams'!$F867*0.000000028317),\"\")","v":""},{"$f":"IF(ISNUMBER('Teom ugm3'!C869),('Teom ugm3'!C869*'Teom grams'!$F867*0.000000028317),\"\")","v":""},{"$f":"IF(ISNUMBER('Teom ugm3'!D869),('Teom ugm3'!D869*'Teom grams'!$F867*0.000000028317),\"\")","v":""},"","","","",null,"",{"$f":"IF(ISNUMBER(M867),M867*60,\"\")","v":""},{"$f":"IF(ISNUMBER(N867),N867*60,\"\")","v":""},null,{"$f":"IF(COUNT(C867:C926)>59,AVERAGE(P867:P926),\"\")","v":""},{"$f":"IF(COUNT(C867:C926)>59,AVERAGE(Q867:Q926),\"\")","v":""}]
[null,null,{"$f":"IF('Teom ugm3'!A870=\"\",\"\",C867+1)","v":""},"",null,"",null,{"$f":"IF(ISNUMBER('Teom ugm3'!B870),('Teom ugm3'!B870*'Teom grams'!$F868*0.000000028317),\"\")","v":""},{"$f":"IF(ISNUMBER('Teom ugm3'!C870),('Teom ugm3'!C870*'Teom grams'!$F868*0.000000028317),\"\")","v":""},{"$f":"IF(ISNUMBER('Teom ugm3'!D870),('Teom ugm3'!D870*'Teom grams'!$F868*0.000000028317),\"\")","v":""},"","","","",null,"","","",null,"",""]
[null,null,{"$f":"IF('Teom ugm3'!A871=\"\",\"\",C868+1)","v":""},"",null,"",null,{"$f":"IF(ISNUMBER('Teom ugm3'!B871),('Teom ugm3'!B871*'Teom grams'!$F869*0.000000028317),\"\")","v":""},{"$f":"IF(ISNUMBER('Teom ugm3'!C871),('Teom ugm3'!C871*'Teom grams'!$F869*0.000000028317),\"\")","v":""},{"$f":"IF(ISNUMBER('Teom ugm3'!D871),('Teom ugm3'!D871*'Teom grams'!$F869*0.000000028317),\"\")","v":""},"","","","",null,"","","",null,"",""]
[null,null,{"$f":"IF('Teom ugm3'!A872=\"\",\"\",C869+1)","v":""},"",null,"",null,{"$f":"IF(ISNUMBER('Teom ugm3'!B872),('Teom ugm3'!B872*'Teom grams'!$F870*0.000000028317),\"\")","v":""},{"$f":"IF(ISNUMBER('Teom ugm3'!C872),('Teom ugm3'!C872*'Teom grams'!$F870*0.000000028317),\"\")","v":""},{"$f":"IF(ISNUMBER('Teom ugm3'!D872),('Teom ugm3'!D872*'Teom grams'!$F870*0.000000028317),\"\")","v":""},"","","","",null,"","","",null,"",""]
[null,null,{"$f":"IF('Teom ugm3'!A873=\"\",\"\",C870+1)","v":""},"",null,"",null,{"$f":"IF(ISNUMBER('Teom ugm3'!B873),('Teom ugm3'!B873*'Teom grams'!$F871*0.000000028317),\"\")","v":""},{"$f":"IF(ISNUMBER('Teom ugm3'!C873),('Teom ugm3'!C873*'Teom grams'!$F871*0.000000028317),\"\")","v":""},{"$f":"IF(ISNUMBER('Teom ugm3'!D873),('Teom ugm3'!D873*'Teom grams'!$F871*0.000000028317),\"\")","v":""},"","","","",null,"","","",null,"",""]
[null,null,{"$f":"IF('Teom ugm3'!A874=\"\",\"\",C871+1)","v":""},"",null,"",null,{"$f":"IF(ISNUMBER('Teom ugm3'!B874),('Teom ugm3'!B874*'Teom grams'!$F872*0.000000028317),\"\")","v":""},{"$f":"IF(ISNUMBER('Teom ugm3'!C874),('Teom ugm3'!C874*'Teom grams'!$F872*0.000000028317),\"\")","v":""},{"$f":"IF(ISNUMBER('Teom ugm3'!D874),('Teom ugm3'!D874*'Teom grams'!$F872*0.000000028317),\"\")","v":""},"","","","",null,"","","",null,"",""]
[null,null,{"$f":"IF('Teom ugm3'!A875=\"\",\"\",C872+1)","v":""},"",null,"",null,{"$f":"IF(ISNUMBER('Teom ugm3'!B875),('Teom ugm3'!B875*'Teom grams'!$F873*0.000000028317),\"\")","v":""},{"$f":"IF(ISNUMBER('Teom ugm3'!C875),('Teom ugm3'!C875*'Teom grams'!$F873*0.000000028317),\"\")","v":""},{"$f":"IF(ISNUMBER('Teom ugm3'!D875),('Teom ugm3'!D875*'Teom grams'!$F873*0.000000028317),\"\")","v":""},"","","","",null,"","","",null,"",""]
[null,null,{"$f":"IF('Teom ugm3'!A876=\"\",\"\",C873+1)","v":""},"",null,"",null,{"$f":"IF(ISNUMBER('Teom ugm3'!B876),('Teom ugm3'!B876*'Teom grams'!$F874*0.000000028317),\"\")","v":""},{"$f":"IF(ISNUMBER('Teom ugm3'!C876),('Teom ugm3'!C876*'Teom grams'!$F874*0.000000028317),\"\")","v":""},{"$f":"IF(ISNUMBER('Teom ugm3'!D876),('Teom ugm3'!D876*'Teom grams'!$F874*0.000000028317),\"\")","v":""},"","","","",null,"","","",null,"",""]
[null,null,{"$f":"IF('Teom ugm3'!A877=\"\",\"\",C874+1)","v":""},"",null,"",null,{"$f":"IF(ISNUMBER('Teom ugm3'!B877),('Teom ugm3'!B877*'Teom grams'!$F875*0.000000028317),\"\")","v":""},{"$f":"IF(ISNUMBER('Teom ugm3'!C877),('Teom ugm3'!C877*'Teom grams'!$F875*0.000000028317),\"\")","v":""},{"$f":"IF(ISNUMBER('Teom ugm3'!D877),('Teom ugm3'!D877*'Teom grams'!$F875*0.000000028317),\"\")","v":""},"","","","",null,"","","",null,"",""]
[null,null,{"$f":"IF('Teom ugm3'!A878=\"\",\"\",C875+1)","v":""},"",null,"",null,{"$f":"IF(ISNUMBER('Teom ugm3'!B878),('Teom ugm3'!B878*'Teom grams'!$F876*0.000000028317),\"\")","v":""},{"$f":"IF(ISNUMBER('Teom ugm3'!C878),('Teom ugm3'!C878*'Teom grams'!$F876*0.000000028317),\"\")","v":""},{"$f":"IF(ISNUMBER('Teom ugm3'!D878),('Teom ugm3'!D878*'Teom grams'!$F876*0.000000028317),\"\")","v":""},"","","","",null,"","","",null,"",""]
[null,null,{"$f":"IF('Teom ugm3'!A879=\"\",\"\",C876+1)","v":""},"",null,"",null,{"$f":"IF(ISNUMBER('Teom ugm3'!B879),('Teom ugm3'!B879*'Teom grams'!$F877*0.000000028317),\"\")","v":""},{"$f":"IF(ISNUMBER('Teom ugm3'!C879),('Teom ugm3'!C879*'Teom grams'!$F877*0.000000028317),\"\")","v":""},{"$f":"IF(ISNUMBER('Teom ugm3'!D879),('Teom ugm3'!D879*'Teom grams'!$F877*0.000000028317),\"\")","v":""},"","","","",null,"","","",null,"",""]
[null,null,{"$f":"IF('Teom ugm3'!A880=\"\",\"\",C877+1)","v":""},"",null,"",null,{"$f":"IF(ISNUMBER('Teom ugm3'!B880),('Teom ugm3'!B880*'Teom grams'!$F878*0.000000028317),\"\")","v":""},{"$f":"IF(ISNUMBER('Teom ugm3'!C880),('Teom ugm3'!C880*'Teom grams'!$F878*0.000000028317),\"\")","v":""},{"$f":"IF(ISNUMBER('Teom ugm3'!D880),('Teom ugm3'!D880*'Teom grams'!$F878*0.000000028317),\"\")","v":""},"","","","",null,"","","",null,"",""]
[null,null,{"$f":"IF('Teom ugm3'!A881=\"\",\"\",C878+1)","v":""},"",null,"",null,{"$f":"IF(ISNUMBER('Teom ugm3'!B881),('Teom ugm3'!B881*'Teom grams'!$F879*0.000000028317),\"\")","v":""},{"$f":"IF(ISNUMBER('Teom ugm3'!C881),('Teom ugm3'!C881*'Teom grams'!$F879*0.000000028317),\"\")","v":""},{"$f":"IF(ISNUMBER('Teom ugm3'!D881),('Teom ugm3'!D881*'Teom grams'!$F879*0.000000028317),\"\")","v":""},"","","","",null,"","","",null,"",""]
[null,null,{"$f":"IF('Teom ugm3'!A882=\"\",\"\",C879+1)","v":""},"",null,"",null,{"$f":"IF(ISNUMBER('Teom ugm3'!B882),('Teom ugm3'!B882*'Teom grams'!$F880*0.000000028317),\"\")","v":""},{"$f":"IF(ISNUMBER('Teom ugm3'!C882),('Teom ugm3'!C882*'Teom grams'!$F880*0.000000028317),\"\")","v":""},{"$f":"IF(ISNUMBER('Teom ugm3'!D882),('Teom ugm3'!D882*'Teom grams'!$F880*0.000000028317),\"\")","v":""},"","","","",null,"","","",null,"",""]
[null,null,{"$f":"IF('Teom ugm3'!A883=\"\",\"\",C880+1)","v":""},"",null,"",null,{"$f":"IF(ISNUMBER('Teom ugm3'!B883),('Teom ugm3'!B883*'Teom grams'!$F881*0.000000028317),\"\")","v":""},{"$f":"IF(ISNUMBER('Teom ugm3'!C883),('Teom ugm3'!C883*'Teom grams'!$F881*0.000000028317),\"\")","v":""},{"$f":"IF(ISNUMBER('Teom ugm3'!D883),('Teom ugm3'!D883*'Teom grams'!$F881*0.000000028317),\"\")","v":""},"","","","",null,"","","",null,"",""]
[null,null,{"$f":"IF('Teom ugm3'!A884=\"\",\"\",C881+1)","v":""},"",null,"",null,{"$f":"IF(ISNUMBER('Teom ugm3'!B884),('Teom ugm3'!B884*'Teom grams'!$F882*0.000000028317),\"\")","v":""},{"$f":"IF(ISNUMBER('Teom ugm3'!C884),('Teom ugm3'!C884*'Teom grams'!$F882*0.000000028317),\"\")","v":""},{"$f":"IF(ISNUMBER('Teom ugm3'!D884),('Teom ugm3'!D884*'Teom grams'!$F882*0.000000028317),\"\")","v":""},"","","","",null,"","","",null,"",""]
[null,null,{"$f":"IF('Teom ugm3'!A885=\"\",\"\",C882+1)","v":""},"",null,"",null,{"$f":"IF(ISNUMBER('Teom ugm3'!B885),('Teom ugm3'!B885*'Teom grams'!$F883*0.000000028317),\"\")","v":""},{"$f":"IF(ISNUMBER('Teom ugm3'!C885),('Teom ugm3'!C885*'Teom grams'!$F883*0.000000028317),\"\")","v":""},{"$f":"IF(ISNUMBER('Teom ugm3'!D885),('Teom ugm3'!D885*'Teom grams'!$F883*0.000000028317),\"\")","v":""},"","","","",null,"","","",null,"",""]
[null,null,{"$f":"IF('Teom ugm3'!A886=\"\",\"\",C883+1)","v":""},"",null,"",null,{"$f":"IF(ISNUMBER('Teom ugm3'!B886),('Teom ugm3'!B886*'Teom grams'!$F884*0.000000028317),\"\")","v":""},{"$f":"IF(ISNUMBER('Teom ugm3'!C886),('Teom ugm3'!C886*'Teom grams'!$F884*0.000000028317),\"\")","v":""},{"$f":"IF(ISNUMBER('Teom ugm3'!D886),('Teom ugm3'!D886*'Teom grams'!$F884*0.000000028317),\"\")","v":""},"","","","",null,"","","",null,"",""]
[null,null,{"$f":"IF('Teom ugm3'!A887=\"\",\"\",C884+1)","v":""},"",null,"",null,{"$f":"IF(ISNUMBER('Teom ugm3'!B887),('Teom ugm3'!B887*'Teom grams'!$F885*0.000000028317),\"\")","v":""},{"$f":"IF(ISNUMBER('Teom ugm3'!C887),('Teom ugm3'!C887*'Teom grams'!$F885*0.000000028317),\"\")","v":""},{"$f":"IF(ISNUMBER('Teom ugm3'!D887),('Teom ugm3'!D887*'Teom grams'!$F885*0.000000028317),\"\")","v":""},"","","","",null,"","","",null,"",""]
[null,null,{"$f":"IF('Teom ugm3'!A888=\"\",\"\",C885+1)","v":""},"",null,"",null,{"$f":"IF(ISNUMBER('Teom ugm3'!B888),('Teom ugm3'!B888*'Teom grams'!$F886*0.000000028317),\"\")","v":""},{"$f":"IF(ISNUMBER('Teom ugm3'!C888),('Teom ugm3'!C888*'Teom grams'!$F886*0.000000028317),\"\")","v":""},{"$f":"IF(ISNUMBER('Teom ugm3'!D888),('Teom ugm3'!D888*'Teom grams'!$F886*0.000000028317),\"\")","v":""},"","","","",null,"","","",null,"",""]
[null,null,{"$f":"IF('Teom ugm3'!A889=\"\",\"\",C886+1)","v":""},"",null,"",null,{"$f":"IF(ISNUMBER('Teom ugm3'!B889),('Teom ugm3'!B889*'Teom grams'!$F887*0.000000028317),\"\")","v":""},{"$f":"IF(ISNUMBER('Teom ugm3'!C889),('Teom ugm3'!C889*'Teom grams'!$F887*0.000000028317),\"\")","v":""},{"$f":"IF(ISNUMBER('Teom ugm3'!D889),('Teom ugm3'!D889*'Teom grams'!$F887*0.000000028317),\"\")","v":""},"","","","",null,"","","",null,"",""]
[null,null,{"$f":"IF('Teom ugm3'!A890=\"\",\"\",C887+1)","v":""},"",null,"",null,{"$f":"IF(ISNUMBER('Teom ugm3'!B890),('Teom ugm3'!B890*'Teom grams'!$F888*0.000000028317),\"\")","v":""},{"$f":"IF(ISNUMBER('Teom ugm3'!C890),('Teom ugm3'!C890*'Teom grams'!$F888*0.000000028317),\"\")","v":""},{"$f":"IF(ISNUMBER('Teom ugm3'!D890),('Teom ugm3'!D890*'Teom grams'!$F888*0.000000028317),\"\")","v":""},"","","","",null,"","","",null,"",""]
[null,null,{"$f":"IF('Teom ugm3'!A891=\"\",\"\",C888+1)","v":""},"",null,"",null,{"$f":"IF(ISNUMBER('Teom ugm3'!B891),('Teom ugm3'!B891*'Teom grams'!$F889*0.000000028317),\"\")","v":""},{"$f":"IF(ISNUMBER('Teom ugm3'!C891),('Teom ugm3'!C891*'Teom grams'!$F889*0.000000028317),\"\")","v":""},{"$f":"IF(ISNUMBER('Teom ugm3'!D891),('Teom ugm3'!D891*'Teom grams'!$F889*0.000000028317),\"\")","v":""},"","","","",null,"","","",null,"",""]
[null,null,{"$f":"IF('Teom ugm3'!A892=\"\",\"\",C889+1)","v":""},"",null,"",null,{"$f":"IF(ISNUMBER('Teom ugm3'!B892),('Teom ugm3'!B892*'Teom grams'!$F890*0.000000028317),\"\")","v":""},{"$f":"IF(ISNUMBER('Teom ugm3'!C892),('Teom ugm3'!C892*'Teom grams'!$F890*0.000000028317),\"\")","v":""},{"$f":"IF(ISNUMBER('Teom ugm3'!D892),('Teom ugm3'!D892*'Teom grams'!$F890*0.000000028317),\"\")","v":""},"","","","",null,"","","",null,"",""]
[null,null,{"$f":"IF('Teom ugm3'!A893=\"\",\"\",C890+1)","v":""},"",null,"",null,{"$f":"IF(ISNUMBER('Teom ugm3'!B893),('Teom ugm3'!B893*'Teom grams'!$F891*0.000000028317),\"\")","v":""},{"$f":"IF(ISNUMBER('Teom ugm3'!C893),('Teom ugm3'!C893*'Teom grams'!$F891*0.000000028317),\"\")","v":""},{"$f":"IF(ISNUMBER('Teom ugm3'!D893),('Teom ugm3'!D893*'Teom grams'!$F891*0.000000028317),\"\")","v":""},"","","","",null,"","","",null,"",""]
[null,null,{"$f":"IF('Teom ugm3'!A894=\"\",\"\",C891+1)","v":""},"",null,"",null,{"$f":"IF(ISNUMBER('Teom ugm3'!B894),('Teom ugm3'!B894*'Teom grams'!$F892*0.000000028317),\"\")","v":""},{"$f":"IF(ISNUMBER('Teom ugm3'!C894),('Teom ugm3'!C894*'Teom grams'!$F892*0.000000028317),\"\")","v":""},{"$f":"IF(ISNUMBER('Teom ugm3'!D894),('Teom ugm3'!D894*'Teom grams'!$F892*0.000000028317),\"\")","v":""},"","","","",null,"","","",null,"",""]
[null,null,{"$f":"IF('Teom ugm3'!A895=\"\",\"\",C892+1)","v":""},"",null,"",null,{"$f":"IF(ISNUMBER('Teom ugm3'!B895),('Teom ugm3'!B895*'Teom grams'!$F893*0.000000028317),\"\")","v":""},{"$f":"IF(ISNUMBER('Teom ugm3'!C895),('Teom ugm3'!C895*'Teom grams'!$F893*0.000000028317),\"\")","v":""},{"$f":"IF(ISNUMBER('Teom ugm3'!D895),('Teom ugm3'!D895*'Teom grams'!$F893*0.000000028317),\"\")","v":""},"","","","",null,"","","",null,"",""]
[null,null,{"$f":"IF('Teom ugm3'!A896=\"\",\"\",C893+1)","v":""},"",null,"",null,{"$f":"IF(ISNUMBER('Teom ugm3'!B896),('Teom ugm3'!B896*'Teom grams'!$F894*0.000000028317),\"\")","v":""},{"$f":"IF(ISNUMBER('Teom ugm3'!C896),('Teom ugm3'!C896*'Teom grams'!$F894*0.000000028317),\"\")","v":""},{"$f":"IF(ISNUMBER('Teom ugm3'!D896),('Teom ugm3'!D896*'Teom grams'!$F894*0.000000028317),\"\")","v":""},"","","","",null,"","","",null,"",""]
[null,null,{"$f":"IF('Teom ugm3'!A897=\"\",\"\",C894+1)","v":""},"",null,"",null,{"$f":"IF(ISNUMBER('Teom ugm3'!B897),('Teom ugm3'!B897*'Teom grams'!$F895*0.000000028317),\"\")","v":""},{"$f":"IF(ISNUMBER('Teom ugm3'!C897),('Teom ugm3'!C897*'Teom grams'!$F895*0.000000028317),\"\")","v":""},{"$f":"IF(ISNUMBER('Teom ugm3'!D897),('Teom ugm3'!D897*'Teom grams'!$F895*0.000000028317),\"\")","v":""},"","","","",null,"","","",null,"",""]
[null,null,{"$f":"IF('Teom ugm3'!A898=\"\",\"\",C895+1)","v":""},"",null,"",null,{"$f":"IF(ISNUMBER('Teom ugm3'!B898),('Teom ugm3'!B898*'Teom grams'!$F896*0.000000028317),\"\")","v":""},{"$f":"IF(ISNUMBER('Teom ugm3'!C898),('Teom ugm3'!C898*'Teom grams'!$F896*0.000000028317),\"\")","v":""},{"$f":"IF(ISNUMBER('Teom ugm3'!D898),('Teom ugm3'!D898*'Teom grams'!$F896*0.000000028317),\"\")","v":""},"","","","",null,"","","",null,"",""]
[null,null,{"$f":"IF('Teom ugm3'!A899=\"\",\"\",C896+1)","v":""},"",null,"",null,{"$f":"IF(ISNUMBER('Teom ugm3'!B899),('Teom ugm3'!B899*'Teom grams'!$F897*0.000000028317),\"\")","v":""},{"$f":"IF(ISNUMBER('Teom ugm3'!C899),('Teom ugm3'!C899*'Teom grams'!$F897*0.000000028317),\"\")","v":""},{"$f":"IF(ISNUMBER('Teom ugm3'!D899),('Teom ugm3'!D899*'Teom grams'!$F897*0.000000028317),\"\")","v":""},"","","","",null,"","","",null,"",""]
[null,null,{"$f":"IF('Teom ugm3'!A900=\"\",\"\",C897+1)","v":""},"",null,"",null,{"$f":"IF(ISNUMBER('Teom ugm3'!B900),('Teom ugm3'!B900*'Teom grams'!$F898*0.000000028317),\"\")","v":""},{"$f":"IF(ISNUMBER('Teom ugm3'!C900),('Teom ugm3'!C900*'Teom grams'!$F898*0.000000028317),\"\")","v":""},{"$f":"IF(ISNUMBER('Teom ugm3'!D900),('Teom ugm3'!D900*'Teom grams'!$F898*0.000000028317),\"\")","v":""},"","","","",null,"","","",null,"",""]
[null,null,{"$f":"IF('Teom ugm3'!A901=\"\",\"\",C898+1)","v":""},"",null,"",null,{"$f":"IF(ISNUMBER('Teom ugm3'!B901),('Teom ugm3'!B901*'Teom grams'!$F899*0.000000028317),\"\")","v":""},{"$f":"IF(ISNUMBER('Teom ugm3'!C901),('Teom ugm3'!C901*'Teom grams'!$F899*0.000000028317),\"\")","v":""},{"$f":"IF(ISNUMBER('Teom ugm3'!D901),('Teom ugm3'!D901*'Teom grams'!$F899*0.000000028317),\"\")","v":""},"","","","",null,"","","",null,"",""]
[null,null,{"$f":"IF('Teom ugm3'!A902=\"\",\"\",C899+1)","v":""},"",null,"",null,{"$f":"IF(ISNUMBER('Teom ugm3'!B902),('Teom ugm3'!B902*'Teom grams'!$F900*0.000000028317),\"\")","v":""},{"$f":"IF(ISNUMBER('Teom ugm3'!C902),('Teom ugm3'!C902*'Teom grams'!$F900*0.000000028317),\"\")","v":""},{"$f":"IF(ISNUMBER('Teom ugm3'!D902),('Teom ugm3'!D902*'Teom grams'!$F900*0.000000028317),\"\")","v":""},"","","",{"$f":"M900","v":""},null,"","","",null,"",""]
[null,null,{"$f":"IF('Teom ugm3'!A903=\"\",\"\",C900+1)","v":""},"",null,{"$f":"IF(C901=\"\",\"\",E901*1.02041)","v":""},null,{"$f":"IF(ISNUMBER('Teom ugm3'!B903),('Teom ugm3'!B903*'Teom grams'!$F901*0.000000028317),\"\")","v":""},{"$f":"IF(ISNUMBER('Teom ugm3'!C903),('Teom ugm3'!C903*'Teom grams'!$F901*0.000000028317),\"\")","v":""},{"$f":"IF(ISNUMBER('Teom ugm3'!D903),('Teom ugm3'!D903*'Teom grams'!$F901*0.000000028317),\"\")","v":""},{"$f":"IF(H901<0,0,H901)","v":""},"","","",null,{"$f":"IF(ISNUMBER(J901),J901*60,\"\")","v":""},"","",null,"",""]
[null,null,{"$f":"IF('Teom ugm3'!A904=\"\",\"\",C901+1)","v":""},{"$f":"IF(C902=\"\",\"\",D901 + TIME(0, 1, 0))","v":""},null,"",null,{"$f":"IF(ISNUMBER('Teom ugm3'!B904),('Teom ugm3'!B904*'Teom grams'!$F902*0.000000028317),\"\")","v":""},{"$f":"IF(ISNUMBER('Teom ugm3'!C904),('Teom ugm3'!C904*'Teom grams'!$F902*0.000000028317),\"\")","v":""},{"$f":"IF(ISNUMBER('Teom ugm3'!D904),('Teom ugm3'!D904*'Teom grams'!$F902*0.000000028317),\"\")","v":""},"","","","",null,"","","",null,"",""]
[null,null,{"$f":"IF('Teom ugm3'!A905=\"\",\"\",C902+1)","v":""},"",null,"",null,{"$f":"IF(ISNUMBER('Teom ugm3'!B905),('Teom ugm3'!B905*'Teom grams'!$F903*0.000000028317),\"\")","v":""},{"$f":"IF(ISNUMBER('Teom ugm3'!C905),('Teom ugm3'!C905*'Teom grams'!$F903*0.000000028317),\"\")","v":""},{"$f":"IF(ISNUMBER('Teom ugm3'!D905),('Teom ugm3'!D905*'Teom grams'!$F903*0.000000028317),\"\")","v":""},"","","","",null,"","","",null,"",""]
[null,null,{"$f":"IF('Teom ugm3'!A906=\"\",\"\",C903+1)","v":""},"",null,"",null,{"$f":"IF(ISNUMBER('Teom ugm3'!B906),('Teom ugm3'!B906*'Teom grams'!$F904*0.000000028317),\"\")","v":""},{"$f":"IF(ISNUMBER('Teom ugm3'!C906),('Teom ugm3'!C906*'Teom grams'!$F904*0.000000028317),\"\")","v":""},{"$f":"IF(ISNUMBER('Teom ugm3'!D906),('Teom ugm3'!D906*'Teom grams'!$F904*0.000000028317),\"\")","v":""},"","","","",null,"","","",null,"",""]
[null,null,{"$f":"IF('Teom ugm3'!A907=\"\",\"\",C904+1)","v":""},"",null,"",null,{"$f":"IF(ISNUMBER('Teom ugm3'!B907),('Teom ugm3'!B907*'Teom grams'!$F905*0.000000028317),\"\")","v":""},{"$f":"IF(ISNUMBER('Teom ugm3'!C907),('Teom ugm3'!C907*'Teom grams'!$F905*0.000000028317),\"\")","v":""},{"$f":"IF(ISNUMBER('Teom ugm3'!D907),('Teom ugm3'!D907*'Teom grams'!$F905*0.000000028317),\"\")","v":""},"","","","",null,"","","",null,"",""]
[null,null,{"$f":"IF('Teom ugm3'!A908=\"\",\"\",C905+1)","v":""},"",null,"",null,{"$f":"IF(ISNUMBER('Teom ugm3'!B908),('Teom ugm3'!B908*'Teom grams'!$F906*0.000000028317),\"\")","v":""},{"$f":"IF(ISNUMBER('Teom ugm3'!C908),('Teom ugm3'!C908*'Teom grams'!$F906*0.000000028317),\"\")","v":""},{"$f":"IF(ISNUMBER('Teom ugm3'!D908),('Teom ugm3'!D908*'Teom grams'!$F906*0.000000028317),\"\")","v":""},"","","","",null,"","","",null,"",""]
[null,null,{"$f":"IF('Teom ugm3'!A909=\"\",\"\",C906+1)","v":""},"",null,"",null,{"$f":"IF(ISNUMBER('Teom ugm3'!B909),('Teom ugm3'!B909*'Teom grams'!$F907*0.000000028317),\"\")","v":""},{"$f":"IF(ISNUMBER('Teom ugm3'!C909),('Teom ugm3'!C909*'Teom grams'!$F907*0.000000028317),\"\")","v":""},{"$f":"IF(ISNUMBER('Teom ugm3'!D909),('Teom ugm3'!D909*'Teom grams'!$F907*0.000000028317),\"\")","v":""},"","",{"$f":"IF(COUNT(K907:L907)>0,AVERAGE(K907:L907),\"\")","v":""},"",null,"","","",null,"",""]
[null,null,{"$f":"IF('Teom ugm3'!A910=\"\",\"\",C907+1)","v":""},"",null,"",null,{"$f":"IF(ISNUMBER('Teom ugm3'!B910),('Teom ugm3'!B910*'Teom grams'!$F908*0.000000028317),\"\")","v":""},{"$f":"IF(ISNUMBER('Teom ugm3'!C910),('Teom ugm3'!C910*'Teom grams'!$F908*0.000000028317),\"\")","v":""},{"$f":"IF(ISNUMBER('Teom ugm3'!D910),('Teom ugm3'!D910*'Teom grams'!$F908*0.000000028317),\"\")","v":""},"","","","",null,"","","",null,"",""]
[null,null,{"$f":"IF('Teom ugm3'!A911=\"\",\"\",C908+1)","v":""},"",null,"",null,{"$f":"IF(ISNUMBER('Teom ugm3'!B911),('Teom ugm3'!B911*'Teom grams'!$F909*0.000000028317),\"\")","v":""},{"$f":"IF(ISNUMBER('Teom ugm3'!C911),('Teom ugm3'!C911*'Teom grams'!$F909*0.000000028317),\"\")","v":""},{"$f":"IF(ISNUMBER('Teom ugm3'!D911),('Teom ugm3'!D911*'Teom grams'!$F909*0.000000028317),\"\")","v":""},"","","","",null,"","","",null,"",""]
[null,null,{"$f":"IF('Teom ugm3'!A912=\"\",\"\",C909+1)","v":""},"",null,"",null,{"$f":"IF(ISNUMBER('Teom ugm3'!B912),('Teom ugm3'!B912*'Teom grams'!$F910*0.000000028317),\"\")","v":""},{"$f":"IF(ISNUMBER('Teom ugm3'!C912),('Teom ugm3'!C912*'Teom grams'!$F910*0.000000028317),\"\")","v":""},{"$f":"IF(ISNUMBER('Teom ugm3'!D912),('Teom ugm3'!D912*'Teom grams'!$F910*0.000000028317),\"\")","v":""},"","","","",null,"","","",null,"",""]
[null,null,{"$f":"IF('Teom ugm3'!A913=\"\",\"\",C910+1)","v":""},"",null,"",null,{"$f":"IF(ISNUMBER('Teom ugm3'!B913),('Teom ugm3'!B913*'Teom grams'!$F911*0.000000028317),\"\")","v":""},{"$f":"IF(ISNUMBER('Teom ugm3'!C913),('Teom ugm3'!C913*'Teom grams'!$F911*0.000000028317),\"\")","v":""},{"$f":"IF(ISNUMBER('Teom ugm3'!D913),('Teom ugm3'!D913*'Teom grams'!$F911*0.000000028317),\"\")","v":""},"","","","",null,"","","",null,"",""]
[null,null,{"$f":"IF('Teom ugm3'!A914=\"\",\"\",C911+1)","v":""},"",null,"",null,{"$f":"IF(ISNUMBER('Teom ugm3'!B914),('Teom ugm3'!B914*'Teom grams'!$F912*0.000000028317),\"\")","v":""},{"$f":"IF(ISNUMBER('Teom ugm3'!C914),('Teom ugm3'!C914*'Teom grams'!$F912*0.000000028317),\"\")","v":""},{"$f":"IF(ISNUMBER('Teom ugm3'!D914),('Teom ugm3'!D914*'Teom grams'!$F912*0.000000028317),\"\")","v":""},"","","","",null,"","","",null,"",""]
[null,null,{"$f":"IF('Teom ugm3'!A915=\"\",\"\",C912+1)","v":""},"",null,"",null,{"$f":"IF(ISNUMBER('Teom ugm3'!B915),('Teom ugm3'!B915*'Teom grams'!$F913*0.000000028317),\"\")","v":""},{"$f":"IF(ISNUMBER('Teom ugm3'!C915),('Teom ugm3'!C915*'Teom grams'!$F913*0.000000028317),\"\")","v":""},{"$f":"IF(ISNUMBER('Teom ugm3'!D915),('Teom ugm3'!D915*'Teom grams'!$F913*0.000000028317),\"\")","v":""},"","","","",null,"","","",null,"",""]
[null,null,{"$f":"IF('Teom ugm3'!A916=\"\",\"\",C913+1)","v":""},"",null,"",null,{"$f":"IF(ISNUMBER('Teom ugm3'!B916),('Teom ugm3'!B916*'Teom grams'!$F914*0.000000028317),\"\")","v":""},{"$f":"IF(ISNUMBER('Teom ugm3'!C916),('Teom ugm3'!C916*'Teom grams'!$F914*0.000000028317),\"\")","v":""},{"$f":"IF(ISNUMBER('Teom ugm3'!D916),('Teom ugm3'!D916*'Teom grams'!$F914*0.000000028317),\"\")","v":""},"","","","",null,"","","",null,"",""]
[null,null,{"$f":"IF('Teom ugm3'!A917=\"\",\"\",C914+1)","v":""},"",null,"",null,{"$f":"IF(ISNUMBER('Teom ugm3'!B917),('Teom ugm3'!B917*'Teom grams'!$F915*0.000000028317),\"\")","v":""},{"$f":"IF(ISNUMBER('Teom ugm3'!C917),('Teom ugm3'!C917*'Teom grams'!$F915*0.000000028317),\"\")","v":""},{"$f":"IF(ISNUMBER('Teom ugm3'!D917),('Teom ugm3'!D917*'Teom grams'!$F915*0.000000028317),\"\")","v":""},"","","","",null,"","","",null,"",""]
[null,null,{"$f":"IF('Teom ugm3'!A918=\"\",\"\",C915+1)","v":""},"",null,"",null,{"$f":"IF(ISNUMBER('Teom ugm3'!B918),('Teom ugm3'!B918*'Teom grams'!$F916*0.000000028317),\"\")","v":""},{"$f":"IF(ISNUMBER('Teom ugm3'!C918),('Teom ugm3'!C918*'Teom grams'!$F916*0.000000028317),\"\")","v":""},{"$f":"IF(ISNUMBER('Teom ugm3'!D918),('Teom ugm3'!D918*'Teom grams'!$F916*0.000000028317),\"\")","v":""},"","","","",null,"","","",null,"",""]
[null,null,{"$f":"IF('Teom ugm3'!A919=\"\",\"\",C916+1)","v":""},"",null,"",null,{"$f":"IF(ISNUMBER('Teom ugm3'!B919),('Teom ugm3'!B919*'Teom grams'!$F917*0.000000028317),\"\")","v":""},{"$f":"IF(ISNUMBER('Teom ugm3'!C919),('Teom ugm3'!C919*'Teom grams'!$F917*0.000000028317),\"\")","v":""},{"$f":"IF(ISNUMBER('Teom ugm3'!D919),('Teom ugm3'!D919*'Teom grams'!$F917*0.000000028317),\"\")","v":""},"","","","",null,"","","",null,"",""]
[null,null,{"$f":"IF('Teom ugm3'!A920=\"\",\"\",C917+1)","v":""},"",null,"",null,{"$f":"IF(ISNUMBER('Teom ugm3'!B920),('Teom ugm3'!B920*'Teom grams'!$F918*0.000000028317),\"\")","v":""},{"$f":"IF(ISNUMBER('Teom ugm3'!C920),('Teom ugm3'!C920*'Teom grams'!$F918*0.000000028317),\"\")","v":""},{"$f":"IF(ISNUMBER('Teom ugm3'!D920),('Teom ugm3'!D920*'Teom grams'!$F918*0.000000028317),\"\")","v":""},"","","","",null,"","","",null,"",""]
[null,null,{"$f":"IF('Teom ugm3'!A921=\"\",\"\",C918+1)","v":""},"",null,"",null,{"$f":"IF(ISNUMBER('Teom ugm3'!B921),('Teom ugm3'!B921*'Teom grams'!$F919*0.000000028317),\"\")","v":""},{"$f":"IF(ISNUMBER('Teom ugm3'!C921),('Teom ugm3'!C921*'Teom grams'!$F919*0.000000028317),\"\")","v":""},{"$f":"IF(ISNUMBER('Teom ugm3'!D921),('Teom ugm3'!D921*'Teom grams'!$F919*0.000000028317),\"\")","v":""},"","","","",null,"","","",null,"",""]
[null,null,{"$f":"IF('Teom ugm3'!A922=\"\",\"\",C919+1)","v":""},"",null,"",null,{"$f":"IF(ISNUMBER('Teom ugm3'!B922),('Teom ugm3'!B922*'Teom grams'!$F920*0.000000028317),\"\")","v":""},{"$f":"IF(ISNUMBER('Teom ugm3'!C922),('Teom ugm3'!C922*'Teom grams'!$F920*0.000000028317),\"\")","v":""},{"$f":"IF(ISNUMBER('Teom ugm3'!D922),('Teom ugm3'!D922*'Teom grams'!$F920*0.000000028317),\"\")","v":""},"","","","",null,"","","",null,"",""]
[null,null,{"$f":"IF('Teom ugm3'!A923=\"\",\"\",C920+1)","v":""},"",null,"",null,{"$f":"IF(ISNUMBER('Teom ugm3'!B923),('Teom ugm3'!B923*'Teom grams'!$F921*0.000000028317),\"\")","v":""},{"$f":"IF(ISNUMBER('Teom ugm3'!C923),('Teom ugm3'!C923*'Teom grams'!$F921*0.000000028317),\"\")","v":""},{"$f":"IF(ISNUMBER('Teom ugm3'!D923),('Teom ugm3'!D923*'Teom grams'!$F921*0.000000028317),\"\")","v":""},"","","","",null,"","","",null,"",""]
[null,null,{"$f":"IF('Teom ugm3'!A924=\"\",\"\",C921+1)","v":""},"",null,"",null,{"$f":"IF(ISNUMBER('Teom ugm3'!B924),('Teom ugm3'!B924*'Teom grams'!$F922*0.000000028317),\"\")","v":""},{"$f":"IF(ISNUMBER('Teom ugm3'!C924),('Teom ugm3'!C924*'Teom grams'!$F922*0.000000028317),\"\")","v":""},{"$f":"IF(ISNUMBER('Teom ugm3'!D924),('Teom ugm3'!D924*'Teom grams'!$F922*0.000000028317),\"\")","v":""},"","","","",null,"","","",null,"",""]
[null,null,{"$f":"IF('Teom ugm3'!A925=\"\",\"\",C922+1)","v":""},"",null,"",null,{"$f":"IF(ISNUMBER('Teom ugm3'!B925),('Teom ugm3'!B925*'Teom grams'!$F923*0.000000028317),\"\")","v":""},{"$f":"IF(ISNUMBER('Teom ugm3'!C925),('Teom ugm3'!C925*'Teom grams'!$F923*0.000000028317),\"\")","v":""},{"$f":"IF(ISNUMBER('Teom ugm3'!D925),('Teom ugm3'!D925*'Teom grams'!$F923*0.000000028317),\"\")","v":""},"","","","",null,"","","",null,"",""]
[null,null,{"$f":"IF('Teom ugm3'!A926=\"\",\"\",C923+1)","v":""},"",null,"",null,{"$f":"IF(ISNUMBER('Teom ugm3'!B926),('Teom ugm3'!B926*'Teom grams'!$F924*0.000000028317),\"\")","v":""},{"$f":"IF(ISNUMBER('Teom ugm3'!C926),('Teom ugm3'!C926*'Teom grams'!$F924*0.000000028317),\"\")","v":""},{"$f":"IF(ISNUMBER('Teom ugm3'!D926),('Teom ugm3'!D926*'Teom grams'!$F924*0.000000028317),\"\")","v":""},"","","","",null,"","","",null,"",""]
[null,null,{"$f":"IF('Teom ugm3'!A927=\"\",\"\",C924+1)","v":""},"",null,"",null,{"$f":"IF(ISNUMBER('Teom ugm3'!B927),('Teom ugm3'!B927*'Teom grams'!$F925*0.000000028317),\"\")","v":""},{"$f":"IF(ISNUMBER('Teom ugm3'!C927),('Teom ugm3'!C927*'Teom grams'!$F925*0.000000028317),\"\")","v":""},{"$f":"IF(ISNUMBER('Teom ugm3'!D927),('Teom ugm3'!D927*'Teom grams'!$F925*0.000000028317),\"\")","v":""},"","","","",null,"","","",null,"",""]
[null,null,{"$f":"IF('Teom ugm3'!A928=\"\",\"\",C925+1)","v":""},"",null,"",null,{"$f":"IF(ISNUMBER('Teom ugm3'!B928),('Teom ugm3'!B928*'Teom grams'!$F926*0.000000028317),\"\")","v":""},{"$f":"IF(ISNUMBER('Teom ugm3'!C928),('Teom ugm3'!C928*'Teom grams'!$F926*0.000000028317),\"\")","v":""},{"$f":"IF(ISNUMBER('Teom ugm3'!D928),('Teom ugm3'!D928*'Teom grams'!$F926*0.000000028317),\"\")","v":""},"","","","",null,"","","",null,"",""]
[null,null,{"$f":"IF('Teom ugm3'!A929=\"\",\"\",C926+1)","v":""},"",null,"",null,{"$f":"IF(ISNUMBER('Teom ugm3'!B929),('Teom ugm3'!B929*'Teom grams'!$F927*0.000000028317),\"\")","v":""},{"$f":"IF(ISNUMBER('Teom ugm3'!C929),('Teom ugm3'!C929*'Teom grams'!$F927*0.000000028317),\"\")","v":""},{"$f":"IF(ISNUMBER('Teom ugm3'!D929),('Teom ugm3'!D929*'Teom grams'!$F927*0.000000028317),\"\")","v":""},"","","","",null,"","","",null,"",""]
[null,null,{"$f":"IF('Teom ugm3'!A930=\"\",\"\",C927+1)","v":""},"",null,"",null,{"$f":"IF(ISNUMBER('Teom ugm3'!B930),('Teom ugm3'!B930*'Teom grams'!$F928*0.000000028317),\"\")","v":""},{"$f":"IF(ISNUMBER('Teom ugm3'!C930),('Teom ugm3'!C930*'Teom grams'!$F928*0.000000028317),\"\")","v":""},{"$f":"IF(ISNUMBER('Teom ugm3'!D930),('Teom ugm3'!D930*'Teom grams'!$F928*0.000000028317),\"\")","v":""},"","","","",null,"","","",null,"",""]
[null,null,{"$f":"IF('Teom ugm3'!A931=\"\",\"\",C928+1)","v":""},"",null,"",null,{"$f":"IF(ISNUMBER('Teom ugm3'!B931),('Teom ugm3'!B931*'Teom grams'!$F929*0.000000028317),\"\")","v":""},{"$f":"IF(ISNUMBER('Teom ugm3'!C931),('Teom ugm3'!C931*'Teom grams'!$F929*0.000000028317),\"\")","v":""},{"$f":"IF(ISNUMBER('Teom ugm3'!D931),('Teom ugm3'!D931*'Teom grams'!$F929*0.000000028317),\"\")","v":""},"","","","",null,"","","",null,"",""]
[null,null,{"$f":"IF('Teom ugm3'!A932=\"\",\"\",C929+1)","v":""},"",null,"",null,{"$f":"IF(ISNUMBER('Teom ugm3'!B932),('Teom ugm3'!B932*'Teom grams'!$F930*0.000000028317),\"\")","v":""},{"$f":"IF(ISNUMBER('Teom ugm3'!C932),('Teom ugm3'!C932*'Teom grams'!$F930*0.000000028317),\"\")","v":""},{"$f":"IF(ISNUMBER('Teom ugm3'!D932),('Teom ugm3'!D932*'Teom grams'!$F930*0.000000028317),\"\")","v":""},"","","","",null,"","","",null,"",""]
[null,null,{"$f":"IF('Teom ugm3'!A933=\"\",\"\",C930+1)","v":""},"",null,"",null,{"$f":"IF(ISNUMBER('Teom ugm3'!B933),('Teom ugm3'!B933*'Teom grams'!$F931*0.000000028317),\"\")","v":""},{"$f":"IF(ISNUMBER('Teom ugm3'!C933),('Teom ugm3'!C933*'Teom grams'!$F931*0.000000028317),\"\")","v":""},{"$f":"IF(ISNUMBER('Teom ugm3'!D933),('Teom ugm3'!D933*'Teom grams'!$F931*0.000000028317),\"\")","v":""},"","","","",null,"",{"$f":"IF(ISNUMBER(M931),M931*60,\"\")","v":""},{"$f":"IF(ISNUMBER(N931),N931*60,\"\")","v":""},null,{"$f":"IF(COUNT(C931:C990)>59,AVERAGE(P931:P990),\"\")","v":""},{"$f":"IF(COUNT(C931:C990)>59,AVERAGE(Q931:Q990),\"\")","v":""}]
[null,null,{"$f":"IF('Teom ugm3'!A934=\"\",\"\",C931+1)","v":""},"",null,"",null,{"$f":"IF(ISNUMBER('Teom ugm3'!B934),('Teom ugm3'!B934*'Teom grams'!$F932*0.000000028317),\"\")","v":""},{"$f":"IF(ISNUMBER('Teom ugm3'!C934),('Teom ugm3'!C934*'Teom grams'!$F932*0.000000028317),\"\")","v":""},{"$f":"IF(ISNUMBER('Teom ugm3'!D934),('Teom ugm3'!D934*'Teom grams'!$F932*0.000000028317),\"\")","v":""},"","","","",null,"","","",null,"",""]
[null,null,{"$f":"IF('Teom ugm3'!A935=\"\",\"\",C932+1)","v":""},"",null,"",null,{"$f":"IF(ISNUMBER('Teom ugm3'!B935),('Teom ugm3'!B935*'Teom grams'!$F933*0.000000028317),\"\")","v":""},{"$f":"IF(ISNUMBER('Teom ugm3'!C935),('Teom ugm3'!C935*'Teom grams'!$F933*0.000000028317),\"\")","v":""},{"$f":"IF(ISNUMBER('Teom ugm3'!D935),('Teom ugm3'!D935*'Teom grams'!$F933*0.000000028317),\"\")","v":""},"","","","",null,"","","",null,"",""]
[null,null,{"$f":"IF('Teom ugm3'!A936=\"\",\"\",C933+1)","v":""},"",null,"",null,{"$f":"IF(ISNUMBER('Teom ugm3'!B936),('Teom ugm3'!B936*'Teom grams'!$F934*0.000000028317),\"\")","v":""},{"$f":"IF(ISNUMBER('Teom ugm3'!C936),('Teom ugm3'!C936*'Teom grams'!$F934*0.000000028317),\"\")","v":""},{"$f":"IF(ISNUMBER('Teom ugm3'!D936),('Teom ugm3'!D936*'Teom grams'!$F934*0.000000028317),\"\")","v":""},"","","","",null,"","","",null,"",""]
[null,null,{"$f":"IF('Teom ugm3'!A937=\"\",\"\",C934+1)","v":""},"",null,"",null,{"$f":"IF(ISNUMBER('Teom ugm3'!B937),('Teom ugm3'!B937*'Teom grams'!$F935*0.000000028317),\"\")","v":""},{"$f":"IF(ISNUMBER('Teom ugm3'!C937),('Teom ugm3'!C937*'Teom grams'!$F935*0.000000028317),\"\")","v":""},{"$f":"IF(ISNUMBER('Teom ugm3'!D937),('Teom ugm3'!D937*'Teom grams'!$F935*0.000000028317),\"\")","v":""},"","","","",null,"","","",null,"",""]
[null,null,{"$f":"IF('Teom ugm3'!A938=\"\",\"\",C935+1)","v":""},"",null,"",null,{"$f":"IF(ISNUMBER('Teom ugm3'!B938),('Teom ugm3'!B938*'Teom grams'!$F936*0.000000028317),\"\")","v":""},{"$f":"IF(ISNUMBER('Teom ugm3'!C938),('Teom ugm3'!C938*'Teom grams'!$F936*0.000000028317),\"\")","v":""},{"$f":"IF(ISNUMBER('Teom ugm3'!D938),('Teom ugm3'!D938*'Teom grams'!$F936*0.000000028317),\"\")","v":""},"","","","",null,"","","",null,"",""]
[null,null,{"$f":"IF('Teom ugm3'!A939=\"\",\"\",C936+1)","v":""},"",null,"",null,{"$f":"IF(ISNUMBER('Teom ugm3'!B939),('Teom ugm3'!B939*'Teom grams'!$F937*0.000000028317),\"\")","v":""},{"$f":"IF(ISNUMBER('Teom ugm3'!C939),('Teom ugm3'!C939*'Teom grams'!$F937*0.000000028317),\"\")","v":""},{"$f":"IF(ISNUMBER('Teom ugm3'!D939),('Teom ugm3'!D939*'Teom grams'!$F937*0.000000028317),\"\")","v":""},"","","","",null,"","","",null,"",""]
[null,null,{"$f":"IF('Teom ugm3'!A940=\"\",\"\",C937+1)","v":""},"",null,"",null,{"$f":"IF(ISNUMBER('Teom ugm3'!B940),('Teom ugm3'!B940*'Teom grams'!$F938*0.000000028317),\"\")","v":""},{"$f":"IF(ISNUMBER('Teom ugm3'!C940),('Teom ugm3'!C940*'Teom grams'!$F938*0.000000028317),\"\")","v":""},{"$f":"IF(ISNUMBER('Teom ugm3'!D940),('Teom ugm3'!D940*'Teom grams'!$F938*0.000000028317),\"\")","v":""},"","","","",null,"","","",null,"",""]
[null,null,{"$f":"IF('Teom ugm3'!A941=\"\",\"\",C938+1)","v":""},"",null,"",null,{"$f":"IF(ISNUMBER('Teom ugm3'!B941),('Teom ugm3'!B941*'Teom grams'!$F939*0.000000028317),\"\")","v":""},{"$f":"IF(ISNUMBER('Teom ugm3'!C941),('Teom ugm3'!C941*'Teom grams'!$F939*0.000000028317),\"\")","v":""},{"$f":"IF(ISNUMBER('Teom ugm3'!D941),('Teom ugm3'!D941*'Teom grams'!$F939*0.000000028317),\"\")","v":""},"","","","",null,"","","",null,"",""]
[null,null,{"$f":"IF('Teom ugm3'!A942=\"\",\"\",C939+1)","v":""},"",null,"",null,{"$f":"IF(ISNUMBER('Teom ugm3'!B942),('Teom ugm3'!B942*'Teom grams'!$F940*0.000000028317),\"\")","v":""},{"$f":"IF(ISNUMBER('Teom ugm3'!C942),('Teom ugm3'!C942*'Teom grams'!$F940*0.000000028317),\"\")","v":""},{"$f":"IF(ISNUMBER('Teom ugm3'!D942),('Teom ugm3'!D942*'Teom grams'!$F940*0.000000028317),\"\")","v":""},"","","","",null,"","","",null,"",""]
[null,null,{"$f":"IF('Teom ugm3'!A943=\"\",\"\",C940+1)","v":""},"",null,"",null,{"$f":"IF(ISNUMBER('Teom ugm3'!B943),('Teom ugm3'!B943*'Teom grams'!$F941*0.000000028317),\"\")","v":""},{"$f":"IF(ISNUMBER('Teom ugm3'!C943),('Teom ugm3'!C943*'Teom grams'!$F941*0.000000028317),\"\")","v":""},{"$f":"IF(ISNUMBER('Teom ugm3'!D943),('Teom ugm3'!D943*'Teom grams'!$F941*0.000000028317),\"\")","v":""},"","","","",null,"","","",null,"",""]
[null,null,{"$f":"IF('Teom ugm3'!A944=\"\",\"\",C941+1)","v":""},"",null,"",null,{"$f":"IF(ISNUMBER('Teom ugm3'!B944),('Teom ugm3'!B944*'Teom grams'!$F942*0.000000028317),\"\")","v":""},{"$f":"IF(ISNUMBER('Teom ugm3'!C944),('Teom ugm3'!C944*'Teom grams'!$F942*0.000000028317),\"\")","v":""},{"$f":"IF(ISNUMBER('Teom ugm3'!D944),('Teom ugm3'!D944*'Teom grams'!$F942*0.000000028317),\"\")","v":""},"","","","",null,"","","",null,"",""]
[null,null,{"$f":"IF('Teom ugm3'!A945=\"\",\"\",C942+1)","v":""},"",null,"",null,{"$f":"IF(ISNUMBER('Teom ugm3'!B945),('Teom ugm3'!B945*'Teom grams'!$F943*0.000000028317),\"\")","v":""},{"$f":"IF(ISNUMBER('Teom ugm3'!C945),('Teom ugm3'!C945*'Teom grams'!$F943*0.000000028317),\"\")","v":""},{"$f":"IF(ISNUMBER('Teom ugm3'!D945),('Teom ugm3'!D945*'Teom grams'!$F943*0.000000028317),\"\")","v":""},"","","","",null,"","","",null,"",""]
[null,null,{"$f":"IF('Teom ugm3'!A946=\"\",\"\",C943+1)","v":""},"",null,"",null,{"$f":"IF(ISNUMBER('Teom ugm3'!B946),('Teom ugm3'!B946*'Teom grams'!$F944*0.000000028317),\"\")","v":""},{"$f":"IF(ISNUMBER('Teom ugm3'!C946),('Teom ugm3'!C946*'Teom grams'!$F944*0.000000028317),\"\")","v":""},{"$f":"IF(ISNUMBER('Teom ugm3'!D946),('Teom ugm3'!D946*'Teom grams'!$F944*0.000000028317),\"\")","v":""},"","","","",null,"","","",null,"",""]
[null,null,{"$f":"IF('Teom ugm3'!A947=\"\",\"\",C944+1)","v":""},"",null,"",null,{"$f":"IF(ISNUMBER('Teom ugm3'!B947),('Teom ugm3'!B947*'Teom grams'!$F945*0.000000028317),\"\")","v":""},{"$f":"IF(ISNUMBER('Teom ugm3'!C947),('Teom ugm3'!C947*'Teom grams'!$F945*0.000000028317),\"\")","v":""},{"$f":"IF(ISNUMBER('Teom ugm3'!D947),('Teom ugm3'!D947*'Teom grams'!$F945*0.000000028317),\"\")","v":""},"","","","",null,"","","",null,"",""]
[null,null,{"$f":"IF('Teom ugm3'!A948=\"\",\"\",C945+1)","v":""},"",null,"",null,{"$f":"IF(ISNUMBER('Teom ugm3'!B948),('Teom ugm3'!B948*'Teom grams'!$F946*0.000000028317),\"\")","v":""},{"$f":"IF(ISNUMBER('Teom ugm3'!C948),('Teom ugm3'!C948*'Teom grams'!$F946*0.000000028317),\"\")","v":""},{"$f":"IF(ISNUMBER('Teom ugm3'!D948),('Teom ugm3'!D948*'Teom grams'!$F946*0.000000028317),\"\")","v":""},"","","","",null,"","","",null,"",""]
[null,null,{"$f":"IF('Teom ugm3'!A949=\"\",\"\",C946+1)","v":""},"",null,"",null,{"$f":"IF(ISNUMBER('Teom ugm3'!B949),('Teom ugm3'!B949*'Teom grams'!$F947*0.000000028317),\"\")","v":""},{"$f":"IF(ISNUMBER('Teom ugm3'!C949),('Teom ugm3'!C949*'Teom grams'!$F947*0.000000028317),\"\")","v":""},{"$f":"IF(ISNUMBER('Teom ugm3'!D949),('Teom ugm3'!D949*'Teom grams'!$F947*0.000000028317),\"\")","v":""},"","","","",null,"","","",null,"",""]
[null,null,{"$f":"IF('Teom ugm3'!A950=\"\",\"\",C947+1)","v":""},"",null,"",null,{"$f":"IF(ISNUMBER('Teom ugm3'!B950),('Teom ugm3'!B950*'Teom grams'!$F948*0.000000028317),\"\")","v":""},{"$f":"IF(ISNUMBER('Teom ugm3'!C950),('Teom ugm3'!C950*'Teom grams'!$F948*0.000000028317),\"\")","v":""},{"$f":"IF(ISNUMBER('Teom ugm3'!D950),('Teom ugm3'!D950*'Teom grams'!$F948*0.000000028317),\"\")","v":""},"","","","",null,"","","",null,"",""]
[null,null,{"$f":"IF('Teom ugm3'!A951=\"\",\"\",C948+1)","v":""},"",null,"",null,{"$f":"IF(ISNUMBER('Teom ugm3'!B951),('Teom ugm3'!B951*'Teom grams'!$F949*0.000000028317),\"\")","v":""},{"$f":"IF(ISNUMBER('Teom ugm3'!C951),('Teom ugm3'!C951*'Teom grams'!$F949*0.000000028317),\"\")","v":""},{"$f":"IF(ISNUMBER('Teom ugm3'!D951),('Teom ugm3'!D951*'Teom grams'!$F949*0.000000028317),\"\")","v":""},"","","","",null,"","","",null,"",""]
[null,null,{"$f":"IF('Teom ugm3'!A952=\"\",\"\",C949+1)","v":""},"",null,"",null,{"$f":"IF(ISNUMBER('Teom ugm3'!B952),('Teom ugm3'!B952*'Teom grams'!$F950*0.000000028317),\"\")","v":""},{"$f":"IF(ISNUMBER('Teom ugm3'!C952),('Teom ugm3'!C952*'Teom grams'!$F950*0.000000028317),\"\")","v":""},{"$f":"IF(ISNUMBER('Teom ugm3'!D952),('Teom ugm3'!D952*'Teom grams'!$F950*0.000000028317),\"\")","v":""},"","","","",null,"","","",null,"",""]
[null,null,{"$f":"IF('Teom ugm3'!A953=\"\",\"\",C950+1)","v":""},"",null,"",null,{"$f":"IF(ISNUMBER('Teom ugm3'!B953),('Teom ugm3'!B953*'Teom grams'!$F951*0.000000028317),\"\")","v":""},{"$f":"IF(ISNUMBER('Teom ugm3'!C953),('Teom ugm3'!C953*'Teom grams'!$F951*0.000000028317),\"\")","v":""},{"$f":"IF(ISNUMBER('Teom ugm3'!D953),('Teom ugm3'!D953*'Teom grams'!$F951*0.000000028317),\"\")","v":""},"","","","",null,"","","",null,"",""]
[null,null,{"$f":"IF('Teom ugm3'!A954=\"\",\"\",C951+1)","v":""},"",null,"",null,{"$f":"IF(ISNUMBER('Teom ugm3'!B954),('Teom ugm3'!B954*'Teom grams'!$F952*0.000000028317),\"\")","v":""},{"$f":"IF(ISNUMBER('Teom ugm3'!C954),('Teom ugm3'!C954*'Teom grams'!$F952*0.000000028317),\"\")","v":""},{"$f":"IF(ISNUMBER('Teom ugm3'!D954),('Teom ugm3'!D954*'Teom grams'!$F952*0.000000028317),\"\")","v":""},"","","","",null,"","","",null,"",""]
[null,null,{"$f":"IF('Teom ugm3'!A955=\"\",\"\",C952+1)","v":""},"",null,"",null,{"$f":"IF(ISNUMBER('Teom ugm3'!B955),('Teom ugm3'!B955*'Teom grams'!$F953*0.000000028317),\"\")","v":""},{"$f":"IF(ISNUMBER('Teom ugm3'!C955),('Teom ugm3'!C955*'Teom grams'!$F953*0.000000028317),\"\")","v":""},{"$f":"IF(ISNUMBER('Teom ugm3'!D955),('Teom ugm3'!D955*'Teom grams'!$F953*0.000000028317),\"\")","v":""},"","","","",null,"","","",null,"",""]
[null,null,{"$f":"IF('Teom ugm3'!A956=\"\",\"\",C953+1)","v":""},"",null,"",null,{"$f":"IF(ISNUMBER('Teom ugm3'!B956),('Teom ugm3'!B956*'Teom grams'!$F954*0.000000028317),\"\")","v":""},{"$f":"IF(ISNUMBER('Teom ugm3'!C956),('Teom ugm3'!C956*'Teom grams'!$F954*0.000000028317),\"\")","v":""},{"$f":"IF(ISNUMBER('Teom ugm3'!D956),('Teom ugm3'!D956*'Teom grams'!$F954*0.000000028317),\"\")","v":""},"","","","",null,"","","",null,"",""]
[null,null,{"$f":"IF('Teom ugm3'!A957=\"\",\"\",C954+1)","v":""},"",null,"",null,{"$f":"IF(ISNUMBER('Teom ugm3'!B957),('Teom ugm3'!B957*'Teom grams'!$F955*0.000000028317),\"\")","v":""},{"$f":"IF(ISNUMBER('Teom ugm3'!C957),('Teom ugm3'!C957*'Teom grams'!$F955*0.000000028317),\"\")","v":""},{"$f":"IF(ISNUMBER('Teom ugm3'!D957),('Teom ugm3'!D957*'Teom grams'!$F955*0.000000028317),\"\")","v":""},"","","","",null,"","","",null,"",""]
[null,null,{"$f":"IF('Teom ugm3'!A958=\"\",\"\",C955+1)","v":""},"",null,"",null,{"$f":"IF(ISNUMBER('Teom ugm3'!B958),('Teom ugm3'!B958*'Teom grams'!$F956*0.000000028317),\"\")","v":""},{"$f":"IF(ISNUMBER('Teom ugm3'!C958),('Teom ugm3'!C958*'Teom grams'!$F956*0.000000028317),\"\")","v":""},{"$f":"IF(ISNUMBER('Teom ugm3'!D958),('Teom ugm3'!D958*'Teom grams'!$F956*0.000000028317),\"\")","v":""},"","","","",null,"","","",null,"",""]
[null,null,{"$f":"IF('Teom ugm3'!A959=\"\",\"\",C956+1)","v":""},"",null,"",null,{"$f":"IF(ISNUMBER('Teom ugm3'!B959),('Teom ugm3'!B959*'Teom grams'!$F957*0.000000028317),\"\")","v":""},{"$f":"IF(ISNUMBER('Teom ugm3'!C959),('Teom ugm3'!C959*'Teom grams'!$F957*0.000000028317),\"\")","v":""},{"$f":"IF(ISNUMBER('Teom ugm3'!D959),('Teom ugm3'!D959*'Teom grams'!$F957*0.000000028317),\"\")","v":""},"","","","",null,"","","",null,"",""]
[null,null,{"$f":"IF('Teom ugm3'!A960=\"\",\"\",C957+1)","v":""},"",null,"",null,{"$f":"IF(ISNUMBER('Teom ugm3'!B960),('Teom ugm3'!B960*'Teom grams'!$F958*0.000000028317),\"\")","v":""},{"$f":"IF(ISNUMBER('Teom ugm3'!C960),('Teom ugm3'!C960*'Teom grams'!$F958*0.000000028317),\"\")","v":""},{"$f":"IF(ISNUMBER('Teom ugm3'!D960),('Teom ugm3'!D960*'Teom grams'!$F958*0.000000028317),\"\")","v":""},"","","","",null,"","","",null,"",""]
[null,null,{"$f":"IF('Teom ugm3'!A961=\"\",\"\",C958+1)","v":""},"",null,"",null,{"$f":"IF(ISNUMBER('Teom ugm3'!B961),('Teom ugm3'!B961*'Teom grams'!$F959*0.000000028317),\"\")","v":""},{"$f":"IF(ISNUMBER('Teom ugm3'!C961),('Teom ugm3'!C961*'Teom grams'!$F959*0.000000028317),\"\")","v":""},{"$f":"IF(ISNUMBER('Teom ugm3'!D961),('Teom ugm3'!D961*'Teom grams'!$F959*0.000000028317),\"\")","v":""},"","","","",null,"","","",null,"",""]
[null,null,{"$f":"IF('Teom ugm3'!A962=\"\",\"\",C959+1)","v":""},"",null,"",null,{"$f":"IF(ISNUMBER('Teom ugm3'!B962),('Teom ugm3'!B962*'Teom grams'!$F960*0.000000028317),\"\")","v":""},{"$f":"IF(ISNUMBER('Teom ugm3'!C962),('Teom ugm3'!C962*'Teom grams'!$F960*0.000000028317),\"\")","v":""},{"$f":"IF(ISNUMBER('Teom ugm3'!D962),('Teom ugm3'!D962*'Teom grams'!$F960*0.000000028317),\"\")","v":""},"","","","",null,"","","",null,"",""]
[null,null,{"$f":"IF('Teom ugm3'!A963=\"\",\"\",C960+1)","v":""},"",null,"",null,{"$f":"IF(ISNUMBER('Teom ugm3'!B963),('Teom ugm3'!B963*'Teom grams'!$F961*0.000000028317),\"\")","v":""},{"$f":"IF(ISNUMBER('Teom ugm3'!C963),('Teom ugm3'!C963*'Teom grams'!$F961*0.000000028317),\"\")","v":""},{"$f":"IF(ISNUMBER('Teom ugm3'!D963),('Teom ugm3'!D963*'Teom grams'!$F961*0.000000028317),\"\")","v":""},"","","","",null,"","","",null,"",""]
[null,null,{"$f":"IF('Teom ugm3'!A964=\"\",\"\",C961+1)","v":""},"",null,"",null,{"$f":"IF(ISNUMBER('Teom ugm3'!B964),('Teom ugm3'!B964*'Teom grams'!$F962*0.000000028317),\"\")","v":""},{"$f":"IF(ISNUMBER('Teom ugm3'!C964),('Teom ugm3'!C964*'Teom grams'!$F962*0.000000028317),\"\")","v":""},{"$f":"IF(ISNUMBER('Teom ugm3'!D964),('Teom ugm3'!D964*'Teom grams'!$F962*0.000000028317),\"\")","v":""},"","","","",null,"","","",null,"",""]
[null,null,{"$f":"IF('Teom ugm3'!A965=\"\",\"\",C962+1)","v":""},"",null,"",null,{"$f":"IF(ISNUMBER('Teom ugm3'!B965),('Teom ugm3'!B965*'Teom grams'!$F963*0.000000028317),\"\")","v":""},{"$f":"IF(ISNUMBER('Teom ugm3'!C965),('Teom ugm3'!C965*'Teom grams'!$F963*0.000000028317),\"\")","v":""},{"$f":"IF(ISNUMBER('Teom ugm3'!D965),('Teom ugm3'!D965*'Teom grams'!$F963*0.000000028317),\"\")","v":""},"","","","",null,"","","",null,"",""]
[null,null,{"$f":"IF('Teom ugm3'!A966=\"\",\"\",C963+1)","v":""},"",null,"",null,{"$f":"IF(ISNUMBER('Teom ugm3'!B966),('Teom ugm3'!B966*'Teom grams'!$F964*0.000000028317),\"\")","v":""},{"$f":"IF(ISNUMBER('Teom ugm3'!C966),('Teom ugm3'!C966*'Teom grams'!$F964*0.000000028317),\"\")","v":""},{"$f":"IF(ISNUMBER('Teom ugm3'!D966),('Teom ugm3'!D966*'Teom grams'!$F964*0.000000028317),\"\")","v":""},"","","",{"$f":"M964","v":""},null,"","","",null,"",""]
[null,null,{"$f":"IF('Teom ugm3'!A967=\"\",\"\",C964+1)","v":""},"",null,{"$f":"IF(C965=\"\",\"\",E965*1.02041)","v":""},null,{"$f":"IF(ISNUMBER('Teom ugm3'!B967),('Teom ugm3'!B967*'Teom grams'!$F965*0.000000028317),\"\")","v":""},{"$f":"IF(ISNUMBER('Teom ugm3'!C967),('Teom ugm3'!C967*'Teom grams'!$F965*0.000000028317),\"\")","v":""},{"$f":"IF(ISNUMBER('Teom ugm3'!D967),('Teom ugm3'!D967*'Teom grams'!$F965*0.000000028317),\"\")","v":""},{"$f":"IF(H965<0,0,H965)","v":""},"","","",null,{"$f":"IF(ISNUMBER(J965),J965*60,\"\")","v":""},"","",null,"",""]
[null,null,{"$f":"IF('Teom ugm3'!A968=\"\",\"\",C965+1)","v":""},{"$f":"IF(C966=\"\",\"\",D965 + TIME(0, 1, 0))","v":""},null,"",null,{"$f":"IF(ISNUMBER('Teom ugm3'!B968),('Teom ugm3'!B968*'Teom grams'!$F966*0.000000028317),\"\")","v":""},{"$f":"IF(ISNUMBER('Teom ugm3'!C968),('Teom ugm3'!C968*'Teom grams'!$F966*0.000000028317),\"\")","v":""},{"$f":"IF(ISNUMBER('Teom ugm3'!D968),('Teom ugm3'!D968*'Teom grams'!$F966*0.000000028317),\"\")","v":""},"","","","",null,"","","",null,"",""]
[null,null,{"$f":"IF('Teom ugm3'!A969=\"\",\"\",C966+1)","v":""},"",null,"",null,{"$f":"IF(ISNUMBER('Teom ugm3'!B969),('Teom ugm3'!B969*'Teom grams'!$F967*0.000000028317),\"\")","v":""},{"$f":"IF(ISNUMBER('Teom ugm3'!C969),('Teom ugm3'!C969*'Teom grams'!$F967*0.000000028317),\"\")","v":""},{"$f":"IF(ISNUMBER('Teom ugm3'!D969),('Teom ugm3'!D969*'Teom grams'!$F967*0.000000028317),\"\")","v":""},"","","","",null,"","","",null,"",""]
[null,null,{"$f":"IF('Teom ugm3'!A970=\"\",\"\",C967+1)","v":""},"",null,"",null,{"$f":"IF(ISNUMBER('Teom ugm3'!B970),('Teom ugm3'!B970*'Teom grams'!$F968*0.000000028317),\"\")","v":""},{"$f":"IF(ISNUMBER('Teom ugm3'!C970),('Teom ugm3'!C970*'Teom grams'!$F968*0.000000028317),\"\")","v":""},{"$f":"IF(ISNUMBER('Teom ugm3'!D970),('Teom ugm3'!D970*'Teom grams'!$F968*0.000000028317),\"\")","v":""},"","","","",null,"","","",null,"",""]
[null,null,{"$f":"IF('Teom ugm3'!A971=\"\",\"\",C968+1)","v":""},"",null,"",null,{"$f":"IF(ISNUMBER('Teom ugm3'!B971),('Teom ugm3'!B971*'Teom grams'!$F969*0.000000028317),\"\")","v":""},{"$f":"IF(ISNUMBER('Teom ugm3'!C971),('Teom ugm3'!C971*'Teom grams'!$F969*0.000000028317),\"\")","v":""},{"$f":"IF(ISNUMBER('Teom ugm3'!D971),('Teom ugm3'!D971*'Teom grams'!$F969*0.000000028317),\"\")","v":""},"","","","",null,"","","",null,"",""]
[null,null,{"$f":"IF('Teom ugm3'!A972=\"\",\"\",C969+1)","v":""},"",null,"",null,{"$f":"IF(ISNUMBER('Teom ugm3'!B972),('Teom ugm3'!B972*'Teom grams'!$F970*0.000000028317),\"\")","v":""},{"$f":"IF(ISNUMBER('Teom ugm3'!C972),('Teom ugm3'!C972*'Teom grams'!$F970*0.000000028317),\"\")","v":""},{"$f":"IF(ISNUMBER('Teom ugm3'!D972),('Teom ugm3'!D972*'Teom grams'!$F970*0.000000028317),\"\")","v":""},"","","","",null,"","","",null,"",""]
[null,null,{"$f":"IF('Teom ugm3'!A973=\"\",\"\",C970+1)","v":""},"",null,"",null,{"$f":"IF(ISNUMBER('Teom ugm3'!B973),('Teom ugm3'!B973*'Teom grams'!$F971*0.000000028317),\"\")","v":""},{"$f":"IF(ISNUMBER('Teom ugm3'!C973),('Teom ugm3'!C973*'Teom grams'!$F971*0.000000028317),\"\")","v":""},{"$f":"IF(ISNUMBER('Teom ugm3'!D973),('Teom ugm3'!D973*'Teom grams'!$F971*0.000000028317),\"\")","v":""},"","",{"$f":"IF(COUNT(K971:L971)>0,AVERAGE(K971:L971),\"\")","v":""},"",null,"","","",null,"",""]
[null,null,{"$f":"IF('Teom ugm3'!A974=\"\",\"\",C971+1)","v":""},"",null,"",null,{"$f":"IF(ISNUMBER('Teom ugm3'!B974),('Teom ugm3'!B974*'Teom grams'!$F972*0.000000028317),\"\")","v":""},{"$f":"IF(ISNUMBER('Teom ugm3'!C974),('Teom ugm3'!C974*'Teom grams'!$F972*0.000000028317),\"\")","v":""},{"$f":"IF(ISNUMBER('Teom ugm3'!D974),('Teom ugm3'!D974*'Teom grams'!$F972*0.000000028317),\"\")","v":""},"","","","",null,"","","",null,"",""]
[null,null,{"$f":"IF('Teom ugm3'!A975=\"\",\"\",C972+1)","v":""},"",null,"",null,{"$f":"IF(ISNUMBER('Teom ugm3'!B975),('Teom ugm3'!B975*'Teom grams'!$F973*0.000000028317),\"\")","v":""},{"$f":"IF(ISNUMBER('Teom ugm3'!C975),('Teom ugm3'!C975*'Teom grams'!$F973*0.000000028317),\"\")","v":""},{"$f":"IF(ISNUMBER('Teom ugm3'!D975),('Teom ugm3'!D975*'Teom grams'!$F973*0.000000028317),\"\")","v":""},"","","","",null,"","","",null,"",""]
[null,null,{"$f":"IF('Teom ugm3'!A976=\"\",\"\",C973+1)","v":""},"",null,"",null,{"$f":"IF(ISNUMBER('Teom ugm3'!B976),('Teom ugm3'!B976*'Teom grams'!$F974*0.000000028317),\"\")","v":""},{"$f":"IF(ISNUMBER('Teom ugm3'!C976),('Teom ugm3'!C976*'Teom grams'!$F974*0.000000028317),\"\")","v":""},{"$f":"IF(ISNUMBER('Teom ugm3'!D976),('Teom ugm3'!D976*'Teom grams'!$F974*0.000000028317),\"\")","v":""},"","","","",null,"","","",null,"",""]
[null,null,{"$f":"IF('Teom ugm3'!A977=\"\",\"\",C974+1)","v":""},"",null,"",null,{"$f":"IF(ISNUMBER('Teom ugm3'!B977),('Teom ugm3'!B977*'Teom grams'!$F975*0.000000028317),\"\")","v":""},{"$f":"IF(ISNUMBER('Teom ugm3'!C977),('Teom ugm3'!C977*'Teom grams'!$F975*0.000000028317),\"\")","v":""},{"$f":"IF(ISNUMBER('Teom ugm3'!D977),('Teom ugm3'!D977*'Teom grams'!$F975*0.000000028317),\"\")","v":""},"","","","",null,"","","",null,"",""]
[null,null,{"$f":"IF('Teom ugm3'!A978=\"\",\"\",C975+1)","v":""},"",null,"",null,{"$f":"IF(ISNUMBER('Teom ugm3'!B978),('Teom ugm3'!B978*'Teom grams'!$F976*0.000000028317),\"\")","v":""},{"$f":"IF(ISNUMBER('Teom ugm3'!C978),('Teom ugm3'!C978*'Teom grams'!$F976*0.000000028317),\"\")","v":""},{"$f":"IF(ISNUMBER('Teom ugm3'!D978),('Teom ugm3'!D978*'Teom grams'!$F976*0.000000028317),\"\")","v":""},"","","","",null,"","","",null,"",""]
[null,null,{"$f":"IF('Teom ugm3'!A979=\"\",\"\",C976+1)","v":""},"",null,"",null,{"$f":"IF(ISNUMBER('Teom ugm3'!B979),('Teom ugm3'!B979*'Teom grams'!$F977*0.000000028317),\"\")","v":""},{"$f":"IF(ISNUMBER('Teom ugm3'!C979),('Teom ugm3'!C979*'Teom grams'!$F977*0.000000028317),\"\")","v":""},{"$f":"IF(ISNUMBER('Teom ugm3'!D979),('Teom ugm3'!D979*'Teom grams'!$F977*0.000000028317),\"\")","v":""},"","","","",null,"","","",null,"",""]
[null,null,{"$f":"IF('Teom ugm3'!A980=\"\",\"\",C977+1)","v":""},"",null,"",null,{"$f":"IF(ISNUMBER('Teom ugm3'!B980),('Teom ugm3'!B980*'Teom grams'!$F978*0.000000028317),\"\")","v":""},{"$f":"IF(ISNUMBER('Teom ugm3'!C980),('Teom ugm3'!C980*'Teom grams'!$F978*0.000000028317),\"\")","v":""},{"$f":"IF(ISNUMBER('Teom ugm3'!D980),('Teom ugm3'!D980*'Teom grams'!$F978*0.000000028317),\"\")","v":""},"","","","",null,"","","",null,"",""]
[null,null,{"$f":"IF('Teom ugm3'!A981=\"\",\"\",C978+1)","v":""},"",null,"",null,{"$f":"IF(ISNUMBER('Teom ugm3'!B981),('Teom ugm3'!B981*'Teom grams'!$F979*0.000000028317),\"\")","v":""},{"$f":"IF(ISNUMBER('Teom ugm3'!C981),('Teom ugm3'!C981*'Teom grams'!$F979*0.000000028317),\"\")","v":""},{"$f":"IF(ISNUMBER('Teom ugm3'!D981),('Teom ugm3'!D981*'Teom grams'!$F979*0.000000028317),\"\")","v":""},"","","","",null,"","","",null,"",""]
[null,null,{"$f":"IF('Teom ugm3'!A982=\"\",\"\",C979+1)","v":""},"",null,"",null,{"$f":"IF(ISNUMBER('Teom ugm3'!B982),('Teom ugm3'!B982*'Teom grams'!$F980*0.000000028317),\"\")","v":""},{"$f":"IF(ISNUMBER('Teom ugm3'!C982),('Teom ugm3'!C982*'Teom grams'!$F980*0.000000028317),\"\")","v":""},{"$f":"IF(ISNUMBER('Teom ugm3'!D982),('Teom ugm3'!D982*'Teom grams'!$F980*0.000000028317),\"\")","v":""},"","","","",null,"","","",null,"",""]
[null,null,{"$f":"IF('Teom ugm3'!A983=\"\",\"\",C980+1)","v":""},"",null,"",null,{"$f":"IF(ISNUMBER('Teom ugm3'!B983),('Teom ugm3'!B983*'Teom grams'!$F981*0.000000028317),\"\")","v":""},{"$f":"IF(ISNUMBER('Teom ugm3'!C983),('Teom ugm3'!C983*'Teom grams'!$F981*0.000000028317),\"\")","v":""},{"$f":"IF(ISNUMBER('Teom ugm3'!D983),('Teom ugm3'!D983*'Teom grams'!$F981*0.000000028317),\"\")","v":""},"","","","",null,"","","",null,"",""]
[null,null,{"$f":"IF('Teom ugm3'!A984=\"\",\"\",C981+1)","v":""},"",null,"",null,{"$f":"IF(ISNUMBER('Teom ugm3'!B984),('Teom ugm3'!B984*'Teom grams'!$F982*0.000000028317),\"\")","v":""},{"$f":"IF(ISNUMBER('Teom ugm3'!C984),('Teom ugm3'!C984*'Teom grams'!$F982*0.000000028317),\"\")","v":""},{"$f":"IF(ISNUMBER('Teom ugm3'!D984),('Teom ugm3'!D984*'Teom grams'!$F982*0.000000028317),\"\")","v":""},"","","","",null,"","","",null,"",""]
[null,null,{"$f":"IF('Teom ugm3'!A985=\"\",\"\",C982+1)","v":""},"",null,"",null,{"$f":"IF(ISNUMBER('Teom ugm3'!B985),('Teom ugm3'!B985*'Teom grams'!$F983*0.000000028317),\"\")","v":""},{"$f":"IF(ISNUMBER('Teom ugm3'!C985),('Teom ugm3'!C985*'Teom grams'!$F983*0.000000028317),\"\")","v":""},{"$f":"IF(ISNUMBER('Teom ugm3'!D985),('Teom ugm3'!D985*'Teom grams'!$F983*0.000000028317),\"\")","v":""},"","","","",null,"","","",null,"",""]
[null,null,{"$f":"IF('Teom ugm3'!A986=\"\",\"\",C983+1)","v":""},"",null,"",null,{"$f":"IF(ISNUMBER('Teom ugm3'!B986),('Teom ugm3'!B986*'Teom grams'!$F984*0.000000028317),\"\")","v":""},{"$f":"IF(ISNUMBER('Teom ugm3'!C986),('Teom ugm3'!C986*'Teom grams'!$F984*0.000000028317),\"\")","v":""},{"$f":"IF(ISNUMBER('Teom ugm3'!D986),('Teom ugm3'!D986*'Teom grams'!$F984*0.000000028317),\"\")","v":""},"","","","",null,"","","",null,"",""]
[null,null,{"$f":"IF('Teom ugm3'!A987=\"\",\"\",C984+1)","v":""},"",null,"",null,{"$f":"IF(ISNUMBER('Teom ugm3'!B987),('Teom ugm3'!B987*'Teom grams'!$F985*0.000000028317),\"\")","v":""},{"$f":"IF(ISNUMBER('Teom ugm3'!C987),('Teom ugm3'!C987*'Teom grams'!$F985*0.000000028317),\"\")","v":""},{"$f":"IF(ISNUMBER('Teom ugm3'!D987),('Teom ugm3'!D987*'Teom grams'!$F985*0.000000028317),\"\")","v":""},"","","","",null,"","","",null,"",""]
[null,null,{"$f":"IF('Teom ugm3'!A988=\"\",\"\",C985+1)","v":""},"",null,"",null,{"$f":"IF(ISNUMBER('Teom ugm3'!B988),('Teom ugm3'!B988*'Teom grams'!$F986*0.000000028317),\"\")","v":""},{"$f":"IF(ISNUMBER('Teom ugm3'!C988),('Teom ugm3'!C988*'Teom grams'!$F986*0.000000028317),\"\")","v":""},{"$f":"IF(ISNUMBER('Teom ugm3'!D988),('Teom ugm3'!D988*'Teom grams'!$F986*0.000000028317),\"\")","v":""},"","","","",null,"","","",null,"",""]
[null,null,{"$f":"IF('Teom ugm3'!A989=\"\",\"\",C986+1)","v":""},"",null,"",null,{"$f":"IF(ISNUMBER('Teom ugm3'!B989),('Teom ugm3'!B989*'Teom grams'!$F987*0.000000028317),\"\")","v":""},{"$f":"IF(ISNUMBER('Teom ugm3'!C989),('Teom ugm3'!C989*'Teom grams'!$F987*0.000000028317),\"\")","v":""},{"$f":"IF(ISNUMBER('Teom ugm3'!D989),('Teom ugm3'!D989*'Teom grams'!$F987*0.000000028317),\"\")","v":""},"","","","",null,"","","",null,"",""]
[null,null,{"$f":"IF('Teom ugm3'!A990=\"\",\"\",C987+1)","v":""},"",null,"",null,{"$f":"IF(ISNUMBER('Teom ugm3'!B990),('Teom ugm3'!B990*'Teom grams'!$F988*0.000000028317),\"\")","v":""},{"$f":"IF(ISNUMBER('Teom ugm3'!C990),('Teom ugm3'!C990*'Teom grams'!$F988*0.000000028317),\"\")","v":""},{"$f":"IF(ISNUMBER('Teom ugm3'!D990),('Teom ugm3'!D990*'Teom grams'!$F988*0.000000028317),\"\")","v":""},"","","","",null,"","","",null,"",""]
[null,null,{"$f":"IF('Teom ugm3'!A991=\"\",\"\",C988+1)","v":""},"",null,"",null,{"$f":"IF(ISNUMBER('Teom ugm3'!B991),('Teom ugm3'!B991*'Teom grams'!$F989*0.000000028317),\"\")","v":""},{"$f":"IF(ISNUMBER('Teom ugm3'!C991),('Teom ugm3'!C991*'Teom grams'!$F989*0.000000028317),\"\")","v":""},{"$f":"IF(ISNUMBER('Teom ugm3'!D991),('Teom ugm3'!D991*'Teom grams'!$F989*0.000000028317),\"\")","v":""},"","","","",null,"","","",null,"",""]
[null,null,{"$f":"IF('Teom ugm3'!A992=\"\",\"\",C989+1)","v":""},"",null,"",null,{"$f":"IF(ISNUMBER('Teom ugm3'!B992),('Teom ugm3'!B992*'Teom grams'!$F990*0.000000028317),\"\")","v":""},{"$f":"IF(ISNUMBER('Teom ugm3'!C992),('Teom ugm3'!C992*'Teom grams'!$F990*0.000000028317),\"\")","v":""},{"$f":"IF(ISNUMBER('Teom ugm3'!D992),('Teom ugm3'!D992*'Teom grams'!$F990*0.000000028317),\"\")","v":""},"","","","",null,"","","",null,"",""]
[null,null,{"$f":"IF('Teom ugm3'!A993=\"\",\"\",C990+1)","v":""},"",null,"",null,{"$f":"IF(ISNUMBER('Teom ugm3'!B993),('Teom ugm3'!B993*'Teom grams'!$F991*0.000000028317),\"\")","v":""},{"$f":"IF(ISNUMBER('Teom ugm3'!C993),('Teom ugm3'!C993*'Teom grams'!$F991*0.000000028317),\"\")","v":""},{"$f":"IF(ISNUMBER('Teom ugm3'!D993),('Teom ugm3'!D993*'Teom grams'!$F991*0.000000028317),\"\")","v":""},"","","","",null,"","","",null,"",""]
[null,null,{"$f":"IF('Teom ugm3'!A994=\"\",\"\",C991+1)","v":""},"",null,"",null,{"$f":"IF(ISNUMBER('Teom ugm3'!B994),('Teom ugm3'!B994*'Teom grams'!$F992*0.000000028317),\"\")","v":""},{"$f":"IF(ISNUMBER('Teom ugm3'!C994),('Teom ugm3'!C994*'Teom grams'!$F992*0.000000028317),\"\")","v":""},{"$f":"IF(ISNUMBER('Teom ugm3'!D994),('Teom ugm3'!D994*'Teom grams'!$F992*0.000000028317),\"\")","v":""},"","","","",null,"","","",null,"",""]
[null,null,{"$f":"IF('Teom ugm3'!A995=\"\",\"\",C992+1)","v":""},"",null,"",null,{"$f":"IF(ISNUMBER('Teom ugm3'!B995),('Teom ugm3'!B995*'Teom grams'!$F993*0.000000028317),\"\")","v":""},{"$f":"IF(ISNUMBER('Teom ugm3'!C995),('Teom ugm3'!C995*'Teom grams'!$F993*0.000000028317),\"\")","v":""},{"$f":"IF(ISNUMBER('Teom ugm3'!D995),('Teom ugm3'!D995*'Teom grams'!$F993*0.000000028317),\"\")","v":""},"","","","",null,"","","",null,"",""]
[null,null,{"$f":"IF('Teom ugm3'!A996=\"\",\"\",C993+1)","v":""},"",null,"",null,{"$f":"IF(ISNUMBER('Teom ugm3'!B996),('Teom ugm3'!B996*'Teom grams'!$F994*0.000000028317),\"\")","v":""},{"$f":"IF(ISNUMBER('Teom ugm3'!C996),('Teom ugm3'!C996*'Teom grams'!$F994*0.000000028317),\"\")","v":""},{"$f":"IF(ISNUMBER('Teom ugm3'!D996),('Teom ugm3'!D996*'Teom grams'!$F994*0.000000028317),\"\")","v":""},"","","","",null,"","","",null,"",""]
[null,null,{"$f":"IF('Teom ugm3'!A997=\"\",\"\",C994+1)","v":""},"",null,"",null,{"$f":"IF(ISNUMBER('Teom ugm3'!B997),('Teom ugm3'!B997*'Teom grams'!$F995*0.000000028317),\"\")","v":""},{"$f":"IF(ISNUMBER('Teom ugm3'!C997),('Teom ugm3'!C997*'Teom grams'!$F995*0.000000028317),\"\")","v":""},{"$f":"IF(ISNUMBER('Teom ugm3'!D997),('Teom ugm3'!D997*'Teom grams'!$F995*0.000000028317),\"\")","v":""},"","","","",null,"",{"$f":"IF(ISNUMBER(M995),M995*60,\"\")","v":""},{"$f":"IF(ISNUMBER(N995),N995*60,\"\")","v":""},null,{"$f":"IF(COUNT(C995:C1054)>59,AVERAGE(P995:P1054),\"\")","v":""},{"$f":"IF(COUNT(C995:C1054)>59,AVERAGE(Q995:Q1054),\"\")","v":""}]
[null,null,{"$f":"IF('Teom ugm3'!A998=\"\",\"\",C995+1)","v":""},"",null,"",null,{"$f":"IF(ISNUMBER('Teom ugm3'!B998),('Teom ugm3'!B998*'Teom grams'!$F996*0.000000028317),\"\")","v":""},{"$f":"IF(ISNUMBER('Teom ugm3'!C998),('Teom ugm3'!C998*'Teom grams'!$F996*0.000000028317),\"\")","v":""},{"$f":"IF(ISNUMBER('Teom ugm3'!D998),('Teom ugm3'!D998*'Teom grams'!$F996*0.000000028317),\"\")","v":""},"","","","",null,"","","",null,"",""]
[null,null,{"$f":"IF('Teom ugm3'!A999=\"\",\"\",C996+1)","v":""},"",null,"",null,{"$f":"IF(ISNUMBER('Teom ugm3'!B999),('Teom ugm3'!B999*'Teom grams'!$F997*0.000000028317),\"\")","v":""},{"$f":"IF(ISNUMBER('Teom ugm3'!C999),('Teom ugm3'!C999*'Teom grams'!$F997*0.000000028317),\"\")","v":""},{"$f":"IF(ISNUMBER('Teom ugm3'!D999),('Teom ugm3'!D999*'Teom grams'!$F997*0.000000028317),\"\")","v":""},"","","","",null,"","","",null,"",""]
[null,null,{"$f":"IF('Teom ugm3'!A1000=\"\",\"\",C997+1)","v":""},"",null,"",null,{"$f":"IF(ISNUMBER('Teom ugm3'!B1000),('Teom ugm3'!B1000*'Teom grams'!$F998*0.000000028317),\"\")","v":""},{"$f":"IF(ISNUMBER('Teom ugm3'!C1000),('Teom ugm3'!C1000*'Teom grams'!$F998*0.000000028317),\"\")","v":""},{"$f":"IF(ISNUMBER('Teom ugm3'!D1000),('Teom ugm3'!D1000*'Teom grams'!$F998*0.000000028317),\"\")","v":""},"","","","",null,"","","",null,"",""]
[null,null,{"$f":"IF('Teom ugm3'!A1001=\"\",\"\",C998+1)","v":""},"",null,"",null,{"$f":"IF(ISNUMBER('Teom ugm3'!B1001),('Teom ugm3'!B1001*'Teom grams'!$F999*0.000000028317),\"\")","v":""},{"$f":"IF(ISNUMBER('Teom ugm3'!C1001),('Teom ugm3'!C1001*'Teom grams'!$F999*0.000000028317),\"\")","v":""},{"$f":"IF(ISNUMBER('Teom ugm3'!D1001),('Teom ugm3'!D1001*'Teom grams'!$F999*0.000000028317),\"\")","v":""},"","","","",null,"","","",null,"",""]
[null,null,{"$f":"IF('Teom ugm3'!A1002=\"\",\"\",C999+1)","v":""},"",null,"",null,{"$f":"IF(ISNUMBER('Teom ugm3'!B1002),('Teom ugm3'!B1002*'Teom grams'!$F1000*0.000000028317),\"\")","v":""},{"$f":"IF(ISNUMBER('Teom ugm3'!C1002),('Teom ugm3'!C1002*'Teom grams'!$F1000*0.000000028317),\"\")","v":""},{"$f":"IF(ISNUMBER('Teom ugm3'!D1002),('Teom ugm3'!D1002*'Teom grams'!$F1000*0.000000028317),\"\")","v":""},"","","","",null,"","","",null,"",""]
[null,null,{"$f":"IF('Teom ugm3'!A1003=\"\",\"\",C1000+1)","v":""},"",null,"",null,{"$f":"IF(ISNUMBER('Teom ugm3'!B1003),('Teom ugm3'!B1003*'Teom grams'!$F1001*0.000000028317),\"\")","v":""},{"$f":"IF(ISNUMBER('Teom ugm3'!C1003),('Teom ugm3'!C1003*'Teom grams'!$F1001*0.000000028317),\"\")","v":""},{"$f":"IF(ISNUMBER('Teom ugm3'!D1003),('Teom ugm3'!D1003*'Teom grams'!$F1001*0.000000028317),\"\")","v":""},"","","","",null,"","","",null,"",""]
[null,null,{"$f":"IF('Teom ugm3'!A1004=\"\",\"\",C1001+1)","v":""},"",null,"",null,{"$f":"IF(ISNUMBER('Teom ugm3'!B1004),('Teom ugm3'!B1004*'Teom grams'!$F1002*0.000000028317),\"\")","v":""},{"$f":"IF(ISNUMBER('Teom ugm3'!C1004),('Teom ugm3'!C1004*'Teom grams'!$F1002*0.000000028317),\"\")","v":""},{"$f":"IF(ISNUMBER('Teom ugm3'!D1004),('Teom ugm3'!D1004*'Teom grams'!$F1002*0.000000028317),\"\")","v":""},"","","","",null,"","","",null,"",""]
[null,null,{"$f":"IF('Teom ugm3'!A1005=\"\",\"\",C1002+1)","v":""},"",null,"",null,{"$f":"IF(ISNUMBER('Teom ugm3'!B1005),('Teom ugm3'!B1005*'Teom grams'!$F1003*0.000000028317),\"\")","v":""},{"$f":"IF(ISNUMBER('Teom ugm3'!C1005),('Teom ugm3'!C1005*'Teom grams'!$F1003*0.000000028317),\"\")","v":""},{"$f":"IF(ISNUMBER('Teom ugm3'!D1005),('Teom ugm3'!D1005*'Teom grams'!$F1003*0.000000028317),\"\")","v":""},"","","","",null,"","","",null,"",""]
[null,null,{"$f":"IF('Teom ugm3'!A1006=\"\",\"\",C1003+1)","v":""},"",null,"",null,{"$f":"IF(ISNUMBER('Teom ugm3'!B1006),('Teom ugm3'!B1006*'Teom grams'!$F1004*0.000000028317),\"\")","v":""},{"$f":"IF(ISNUMBER('Teom ugm3'!C1006),('Teom ugm3'!C1006*'Teom grams'!$F1004*0.000000028317),\"\")","v":""},{"$f":"IF(ISNUMBER('Teom ugm3'!D1006),('Teom ugm3'!D1006*'Teom grams'!$F1004*0.000000028317),\"\")","v":""},"","","","",null,"","","",null,"",""]
[null,null,{"$f":"IF('Teom ugm3'!A1007=\"\",\"\",C1004+1)","v":""},"",null,"",null,{"$f":"IF(ISNUMBER('Teom ugm3'!B1007),('Teom ugm3'!B1007*'Teom grams'!$F1005*0.000000028317),\"\")","v":""},{"$f":"IF(ISNUMBER('Teom ugm3'!C1007),('Teom ugm3'!C1007*'Teom grams'!$F1005*0.000000028317),\"\")","v":""},{"$f":"IF(ISNUMBER('Teom ugm3'!D1007),('Teom ugm3'!D1007*'Teom grams'!$F1005*0.000000028317),\"\")","v":""},"","","","",null,"","","",null,"",""]
[null,null,{"$f":"IF('Teom ugm3'!A1008=\"\",\"\",C1005+1)","v":""},"",null,"",null,{"$f":"IF(ISNUMBER('Teom ugm3'!B1008),('Teom ugm3'!B1008*'Teom grams'!$F1006*0.000000028317),\"\")","v":""},{"$f":"IF(ISNUMBER('Teom ugm3'!C1008),('Teom ugm3'!C1008*'Teom grams'!$F1006*0.000000028317),\"\")","v":""},{"$f":"IF(ISNUMBER('Teom ugm3'!D1008),('Teom ugm3'!D1008*'Teom grams'!$F1006*0.000000028317),\"\")","v":""},"","","","",null,"","","",null,"",""]
[null,null,{"$f":"IF('Teom ugm3'!A1009=\"\",\"\",C1006+1)","v":""},"",null,"",null,{"$f":"IF(ISNUMBER('Teom ugm3'!B1009),('Teom ugm3'!B1009*'Teom grams'!$F1007*0.000000028317),\"\")","v":""},{"$f":"IF(ISNUMBER('Teom ugm3'!C1009),('Teom ugm3'!C1009*'Teom grams'!$F1007*0.000000028317),\"\")","v":""},{"$f":"IF(ISNUMBER('Teom ugm3'!D1009),('Teom ugm3'!D1009*'Teom grams'!$F1007*0.000000028317),\"\")","v":""},"","","","",null,"","","",null,"",""]
[null,null,{"$f":"IF('Teom ugm3'!A1010=\"\",\"\",C1007+1)","v":""},"",null,"",null,{"$f":"IF(ISNUMBER('Teom ugm3'!B1010),('Teom ugm3'!B1010*'Teom grams'!$F1008*0.000000028317),\"\")","v":""},{"$f":"IF(ISNUMBER('Teom ugm3'!C1010),('Teom ugm3'!C1010*'Teom grams'!$F1008*0.000000028317),\"\")","v":""},{"$f":"IF(ISNUMBER('Teom ugm3'!D1010),('Teom ugm3'!D1010*'Teom grams'!$F1008*0.000000028317),\"\")","v":""},"","","","",null,"","","",null,"",""]
[null,null,{"$f":"IF('Teom ugm3'!A1011=\"\",\"\",C1008+1)","v":""},"",null,"",null,{"$f":"IF(ISNUMBER('Teom ugm3'!B1011),('Teom ugm3'!B1011*'Teom grams'!$F1009*0.000000028317),\"\")","v":""},{"$f":"IF(ISNUMBER('Teom ugm3'!C1011),('Teom ugm3'!C1011*'Teom grams'!$F1009*0.000000028317),\"\")","v":""},{"$f":"IF(ISNUMBER('Teom ugm3'!D1011),('Teom ugm3'!D1011*'Teom grams'!$F1009*0.000000028317),\"\")","v":""},"","","","",null,"","","",null,"",""]
[null,null,{"$f":"IF('Teom ugm3'!A1012=\"\",\"\",C1009+1)","v":""},"",null,"",null,{"$f":"IF(ISNUMBER('Teom ugm3'!B1012),('Teom ugm3'!B1012*'Teom grams'!$F1010*0.000000028317),\"\")","v":""},{"$f":"IF(ISNUMBER('Teom ugm3'!C1012),('Teom ugm3'!C1012*'Teom grams'!$F1010*0.000000028317),\"\")","v":""},{"$f":"IF(ISNUMBER('Teom ugm3'!D1012),('Teom ugm3'!D1012*'Teom grams'!$F1010*0.000000028317),\"\")","v":""},"","","","",null,"","","",null,"",""]
[null,null,{"$f":"IF('Teom ugm3'!A1013=\"\",\"\",C1010+1)","v":""},"",null,"",null,{"$f":"IF(ISNUMBER('Teom ugm3'!B1013),('Teom ugm3'!B1013*'Teom grams'!$F1011*0.000000028317),\"\")","v":""},{"$f":"IF(ISNUMBER('Teom ugm3'!C1013),('Teom ugm3'!C1013*'Teom grams'!$F1011*0.000000028317),\"\")","v":""},{"$f":"IF(ISNUMBER('Teom ugm3'!D1013),('Teom ugm3'!D1013*'Teom grams'!$F1011*0.000000028317),\"\")","v":""},"","","","",null,"","","",null,"",""]
[null,null,{"$f":"IF('Teom ugm3'!A1014=\"\",\"\",C1011+1)","v":""},"",null,"",null,{"$f":"IF(ISNUMBER('Teom ugm3'!B1014),('Teom ugm3'!B1014*'Teom grams'!$F1012*0.000000028317),\"\")","v":""},{"$f":"IF(ISNUMBER('Teom ugm3'!C1014),('Teom ugm3'!C1014*'Teom grams'!$F1012*0.000000028317),\"\")","v":""},{"$f":"IF(ISNUMBER('Teom ugm3'!D1014),('Teom ugm3'!D1014*'Teom grams'!$F1012*0.000000028317),\"\")","v":""},"","","","",null,"","","",null,"",""]
[null,null,{"$f":"IF('Teom ugm3'!A1015=\"\",\"\",C1012+1)","v":""},"",null,"",null,{"$f":"IF(ISNUMBER('Teom ugm3'!B1015),('Teom ugm3'!B1015*'Teom grams'!$F1013*0.000000028317),\"\")","v":""},{"$f":"IF(ISNUMBER('Teom ugm3'!C1015),('Teom ugm3'!C1015*'Teom grams'!$F1013*0.000000028317),\"\")","v":""},{"$f":"IF(ISNUMBER('Teom ugm3'!D1015),('Teom ugm3'!D1015*'Teom grams'!$F1013*0.000000028317),\"\")","v":""},"","","","",null,"","","",null,"",""]
[null,null,{"$f":"IF('Teom ugm3'!A1016=\"\",\"\",C1013+1)","v":""},"",null,"",null,{"$f":"IF(ISNUMBER('Teom ugm3'!B1016),('Teom ugm3'!B1016*'Teom grams'!$F1014*0.000000028317),\"\")","v":""},{"$f":"IF(ISNUMBER('Teom ugm3'!C1016),('Teom ugm3'!C1016*'Teom grams'!$F1014*0.000000028317),\"\")","v":""},{"$f":"IF(ISNUMBER('Teom ugm3'!D1016),('Teom ugm3'!D1016*'Teom grams'!$F1014*0.000000028317),\"\")","v":""},"","","","",null,"","","",null,"",""]
[null,null,{"$f":"IF('Teom ugm3'!A1017=\"\",\"\",C1014+1)","v":""},"",null,"",null,{"$f":"IF(ISNUMBER('Teom ugm3'!B1017),('Teom ugm3'!B1017*'Teom grams'!$F1015*0.000000028317),\"\")","v":""},{"$f":"IF(ISNUMBER('Teom ugm3'!C1017),('Teom ugm3'!C1017*'Teom grams'!$F1015*0.000000028317),\"\")","v":""},{"$f":"IF(ISNUMBER('Teom ugm3'!D1017),('Teom ugm3'!D1017*'Teom grams'!$F1015*0.000000028317),\"\")","v":""},"","","","",null,"","","",null,"",""]
[null,null,{"$f":"IF('Teom ugm3'!A1018=\"\",\"\",C1015+1)","v":""},"",null,"",null,{"$f":"IF(ISNUMBER('Teom ugm3'!B1018),('Teom ugm3'!B1018*'Teom grams'!$F1016*0.000000028317),\"\")","v":""},{"$f":"IF(ISNUMBER('Teom ugm3'!C1018),('Teom ugm3'!C1018*'Teom grams'!$F1016*0.000000028317),\"\")","v":""},{"$f":"IF(ISNUMBER('Teom ugm3'!D1018),('Teom ugm3'!D1018*'Teom grams'!$F1016*0.000000028317),\"\")","v":""},"","","","",null,"","","",null,"",""]
[null,null,{"$f":"IF('Teom ugm3'!A1019=\"\",\"\",C1016+1)","v":""},"",null,"",null,{"$f":"IF(ISNUMBER('Teom ugm3'!B1019),('Teom ugm3'!B1019*'Teom grams'!$F1017*0.000000028317),\"\")","v":""},{"$f":"IF(ISNUMBER('Teom ugm3'!C1019),('Teom ugm3'!C1019*'Teom grams'!$F1017*0.000000028317),\"\")","v":""},{"$f":"IF(ISNUMBER('Teom ugm3'!D1019),('Teom ugm3'!D1019*'Teom grams'!$F1017*0.000000028317),\"\")","v":""},"","","","",null,"","","",null,"",""]
[null,null,{"$f":"IF('Teom ugm3'!A1020=\"\",\"\",C1017+1)","v":""},"",null,"",null,{"$f":"IF(ISNUMBER('Teom ugm3'!B1020),('Teom ugm3'!B1020*'Teom grams'!$F1018*0.000000028317),\"\")","v":""},{"$f":"IF(ISNUMBER('Teom ugm3'!C1020),('Teom ugm3'!C1020*'Teom grams'!$F1018*0.000000028317),\"\")","v":""},{"$f":"IF(ISNUMBER('Teom ugm3'!D1020),('Teom ugm3'!D1020*'Teom grams'!$F1018*0.000000028317),\"\")","v":""},"","","","",null,"","","",null,"",""]
[null,null,{"$f":"IF('Teom ugm3'!A1021=\"\",\"\",C1018+1)","v":""},"",null,"",null,{"$f":"IF(ISNUMBER('Teom ugm3'!B1021),('Teom ugm3'!B1021*'Teom grams'!$F1019*0.000000028317),\"\")","v":""},{"$f":"IF(ISNUMBER('Teom ugm3'!C1021),('Teom ugm3'!C1021*'Teom grams'!$F1019*0.000000028317),\"\")","v":""},{"$f":"IF(ISNUMBER('Teom ugm3'!D1021),('Teom ugm3'!D1021*'Teom grams'!$F1019*0.000000028317),\"\")","v":""},"","","","",null,"","","",null,"",""]
[null,null,{"$f":"IF('Teom ugm3'!A1022=\"\",\"\",C1019+1)","v":""},"",null,"",null,{"$f":"IF(ISNUMBER('Teom ugm3'!B1022),('Teom ugm3'!B1022*'Teom grams'!$F1020*0.000000028317),\"\")","v":""},{"$f":"IF(ISNUMBER('Teom ugm3'!C1022),('Teom ugm3'!C1022*'Teom grams'!$F1020*0.000000028317),\"\")","v":""},{"$f":"IF(ISNUMBER('Teom ugm3'!D1022),('Teom ugm3'!D1022*'Teom grams'!$F1020*0.000000028317),\"\")","v":""},"","","","",null,"","","",null,"",""]
[null,null,{"$f":"IF('Teom ugm3'!A1023=\"\",\"\",C1020+1)","v":""},"",null,"",null,{"$f":"IF(ISNUMBER('Teom ugm3'!B1023),('Teom ugm3'!B1023*'Teom grams'!$F1021*0.000000028317),\"\")","v":""},{"$f":"IF(ISNUMBER('Teom ugm3'!C1023),('Teom ugm3'!C1023*'Teom grams'!$F1021*0.000000028317),\"\")","v":""},{"$f":"IF(ISNUMBER('Teom ugm3'!D1023),('Teom ugm3'!D1023*'Teom grams'!$F1021*0.000000028317),\"\")","v":""},"","","","",null,"","","",null,"",""]
[null,null,{"$f":"IF('Teom ugm3'!A1024=\"\",\"\",C1021+1)","v":""},"",null,"",null,{"$f":"IF(ISNUMBER('Teom ugm3'!B1024),('Teom ugm3'!B1024*'Teom grams'!$F1022*0.000000028317),\"\")","v":""},{"$f":"IF(ISNUMBER('Teom ugm3'!C1024),('Teom ugm3'!C1024*'Teom grams'!$F1022*0.000000028317),\"\")","v":""},{"$f":"IF(ISNUMBER('Teom ugm3'!D1024),('Teom ugm3'!D1024*'Teom grams'!$F1022*0.000000028317),\"\")","v":""},"","","","",null,"","","",null,"",""]
[null,null,{"$f":"IF('Teom ugm3'!A1025=\"\",\"\",C1022+1)","v":""},"",null,"",null,{"$f":"IF(ISNUMBER('Teom ugm3'!B1025),('Teom ugm3'!B1025*'Teom grams'!$F1023*0.000000028317),\"\")","v":""},{"$f":"IF(ISNUMBER('Teom ugm3'!C1025),('Teom ugm3'!C1025*'Teom grams'!$F1023*0.000000028317),\"\")","v":""},{"$f":"IF(ISNUMBER('Teom ugm3'!D1025),('Teom ugm3'!D1025*'Teom grams'!$F1023*0.000000028317),\"\")","v":""},"","","","",null,"","","",null,"",""]
[null,null,{"$f":"IF('Teom ugm3'!A1026=\"\",\"\",C1023+1)","v":""},"",null,"",null,{"$f":"IF(ISNUMBER('Teom ugm3'!B1026),('Teom ugm3'!B1026*'Teom grams'!$F1024*0.000000028317),\"\")","v":""},{"$f":"IF(ISNUMBER('Teom ugm3'!C1026),('Teom ugm3'!C1026*'Teom grams'!$F1024*0.000000028317),\"\")","v":""},{"$f":"IF(ISNUMBER('Teom ugm3'!D1026),('Teom ugm3'!D1026*'Teom grams'!$F1024*0.000000028317),\"\")","v":""},"","","","",null,"","","",null,"",""]
[null,null,{"$f":"IF('Teom ugm3'!A1027=\"\",\"\",C1024+1)","v":""},"",null,"",null,{"$f":"IF(ISNUMBER('Teom ugm3'!B1027),('Teom ugm3'!B1027*'Teom grams'!$F1025*0.000000028317),\"\")","v":""},{"$f":"IF(ISNUMBER('Teom ugm3'!C1027),('Teom ugm3'!C1027*'Teom grams'!$F1025*0.000000028317),\"\")","v":""},{"$f":"IF(ISNUMBER('Teom ugm3'!D1027),('Teom ugm3'!D1027*'Teom grams'!$F1025*0.000000028317),\"\")","v":""},"","","","",null,"","","",null,"",""]
[null,null,{"$f":"IF('Teom ugm3'!A1028=\"\",\"\",C1025+1)","v":""},"",null,"",null,{"$f":"IF(ISNUMBER('Teom ugm3'!B1028),('Teom ugm3'!B1028*'Teom grams'!$F1026*0.000000028317),\"\")","v":""},{"$f":"IF(ISNUMBER('Teom ugm3'!C1028),('Teom ugm3'!C1028*'Teom grams'!$F1026*0.000000028317),\"\")","v":""},{"$f":"IF(ISNUMBER('Teom ugm3'!D1028),('Teom ugm3'!D1028*'Teom grams'!$F1026*0.000000028317),\"\")","v":""},"","","","",null,"","","",null,"",""]
[null,null,{"$f":"IF('Teom ugm3'!A1029=\"\",\"\",C1026+1)","v":""},"",null,"",null,{"$f":"IF(ISNUMBER('Teom ugm3'!B1029),('Teom ugm3'!B1029*'Teom grams'!$F1027*0.000000028317),\"\")","v":""},{"$f":"IF(ISNUMBER('Teom ugm3'!C1029),('Teom ugm3'!C1029*'Teom grams'!$F1027*0.000000028317),\"\")","v":""},{"$f":"IF(ISNUMBER('Teom ugm3'!D1029),('Teom ugm3'!D1029*'Teom grams'!$F1027*0.000000028317),\"\")","v":""},"","","","",null,"","","",null,"",""]
[null,null,{"$f":"IF('Teom ugm3'!A1030=\"\",\"\",C1027+1)","v":""},"",null,"",null,{"$f":"IF(ISNUMBER('Teom ugm3'!B1030),('Teom ugm3'!B1030*'Teom grams'!$F1028*0.000000028317),\"\")","v":""},{"$f":"IF(ISNUMBER('Teom ugm3'!C1030),('Teom ugm3'!C1030*'Teom grams'!$F1028*0.000000028317),\"\")","v":""},{"$f":"IF(ISNUMBER('Teom ugm3'!D1030),('Teom ugm3'!D1030*'Teom grams'!$F1028*0.000000028317),\"\")","v":""},"","","",{"$f":"M1028","v":""},null,"","","",null,"",""]
[null,null,{"$f":"IF('Teom ugm3'!A1031=\"\",\"\",C1028+1)","v":""},"",null,{"$f":"IF(C1029=\"\",\"\",E1029*1.02041)","v":""},null,{"$f":"IF(ISNUMBER('Teom ugm3'!B1031),('Teom ugm3'!B1031*'Teom grams'!$F1029*0.000000028317),\"\")","v":""},{"$f":"IF(ISNUMBER('Teom ugm3'!C1031),('Teom ugm3'!C1031*'Teom grams'!$F1029*0.000000028317),\"\")","v":""},{"$f":"IF(ISNUMBER('Teom ugm3'!D1031),('Teom ugm3'!D1031*'Teom grams'!$F1029*0.000000028317),\"\")","v":""},{"$f":"IF(H1029<0,0,H1029)","v":""},"","","",null,{"$f":"IF(ISNUMBER(J1029),J1029*60,\"\")","v":""},"","",null,"",""]
[null,null,{"$f":"IF('Teom ugm3'!A1032=\"\",\"\",C1029+1)","v":""},{"$f":"IF(C1030=\"\",\"\",D1029 + TIME(0, 1, 0))","v":""},null,"",null,{"$f":"IF(ISNUMBER('Teom ugm3'!B1032),('Teom ugm3'!B1032*'Teom grams'!$F1030*0.000000028317),\"\")","v":""},{"$f":"IF(ISNUMBER('Teom ugm3'!C1032),('Teom ugm3'!C1032*'Teom grams'!$F1030*0.000000028317),\"\")","v":""},{"$f":"IF(ISNUMBER('Teom ugm3'!D1032),('Teom ugm3'!D1032*'Teom grams'!$F1030*0.000000028317),\"\")","v":""},"","","","",null,"","","",null,"",""]
[null,null,{"$f":"IF('Teom ugm3'!A1033=\"\",\"\",C1030+1)","v":""},"",null,"",null,{"$f":"IF(ISNUMBER('Teom ugm3'!B1033),('Teom ugm3'!B1033*'Teom grams'!$F1031*0.000000028317),\"\")","v":""},{"$f":"IF(ISNUMBER('Teom ugm3'!C1033),('Teom ugm3'!C1033*'Teom grams'!$F1031*0.000000028317),\"\")","v":""},{"$f":"IF(ISNUMBER('Teom ugm3'!D1033),('Teom ugm3'!D1033*'Teom grams'!$F1031*0.000000028317),\"\")","v":""},"","","","",null,"","","",null,"",""]
[null,null,{"$f":"IF('Teom ugm3'!A1034=\"\",\"\",C1031+1)","v":""},"",null,"",null,{"$f":"IF(ISNUMBER('Teom ugm3'!B1034),('Teom ugm3'!B1034*'Teom grams'!$F1032*0.000000028317),\"\")","v":""},{"$f":"IF(ISNUMBER('Teom ugm3'!C1034),('Teom ugm3'!C1034*'Teom grams'!$F1032*0.000000028317),\"\")","v":""},{"$f":"IF(ISNUMBER('Teom ugm3'!D1034),('Teom ugm3'!D1034*'Teom grams'!$F1032*0.000000028317),\"\")","v":""},"","","","",null,"","","",null,"",""]
[null,null,{"$f":"IF('Teom ugm3'!A1035=\"\",\"\",C1032+1)","v":""},"",null,"",null,{"$f":"IF(ISNUMBER('Teom ugm3'!B1035),('Teom ugm3'!B1035*'Teom grams'!$F1033*0.000000028317),\"\")","v":""},{"$f":"IF(ISNUMBER('Teom ugm3'!C1035),('Teom ugm3'!C1035*'Teom grams'!$F1033*0.000000028317),\"\")","v":""},{"$f":"IF(ISNUMBER('Teom ugm3'!D1035),('Teom ugm3'!D1035*'Teom grams'!$F1033*0.000000028317),\"\")","v":""},"","","","",null,"","","",null,"",""]
[null,null,{"$f":"IF('Teom ugm3'!A1036=\"\",\"\",C1033+1)","v":""},"",null,"",null,{"$f":"IF(ISNUMBER('Teom ugm3'!B1036),('Teom ugm3'!B1036*'Teom grams'!$F1034*0.000000028317),\"\")","v":""},{"$f":"IF(ISNUMBER('Teom ugm3'!C1036),('Teom ugm3'!C1036*'Teom grams'!$F1034*0.000000028317),\"\")","v":""},{"$f":"IF(ISNUMBER('Teom ugm3'!D1036),('Teom ugm3'!D1036*'Teom grams'!$F1034*0.000000028317),\"\")","v":""},"","","","",null,"","","",null,"",""]
[null,null,{"$f":"IF('Teom ugm3'!A1037=\"\",\"\",C1034+1)","v":""},"",null,"",null,{"$f":"IF(ISNUMBER('Teom ugm3'!B1037),('Teom ugm3'!B1037*'Teom grams'!$F1035*0.000000028317),\"\")","v":""},{"$f":"IF(ISNUMBER('Teom ugm3'!C1037),('Teom ugm3'!C1037*'Teom grams'!$F1035*0.000000028317),\"\")","v":""},{"$f":"IF(ISNUMBER('Teom ugm3'!D1037),('Teom ugm3'!D1037*'Teom grams'!$F1035*0.000000028317),\"\")","v":""},"","",{"$f":"IF(COUNT(K1035:L1035)>0,AVERAGE(K1035:L1035),\"\")","v":""},"",null,"","","",null,"",""]
[null,null,{"$f":"IF('Teom ugm3'!A1038=\"\",\"\",C1035+1)","v":""},"",null,"",null,{"$f":"IF(ISNUMBER('Teom ugm3'!B1038),('Teom ugm3'!B1038*'Teom grams'!$F1036*0.000000028317),\"\")","v":""},{"$f":"IF(ISNUMBER('Teom ugm3'!C1038),('Teom ugm3'!C1038*'Teom grams'!$F1036*0.000000028317),\"\")","v":""},{"$f":"IF(ISNUMBER('Teom ugm3'!D1038),('Teom ugm3'!D1038*'Teom grams'!$F1036*0.000000028317),\"\")","v":""},"","","","",null,"","","",null,"",""]
[null,null,{"$f":"IF('Teom ugm3'!A1039=\"\",\"\",C1036+1)","v":""},"",null,"",null,{"$f":"IF(ISNUMBER('Teom ugm3'!B1039),('Teom ugm3'!B1039*'Teom grams'!$F1037*0.000000028317),\"\")","v":""},{"$f":"IF(ISNUMBER('Teom ugm3'!C1039),('Teom ugm3'!C1039*'Teom grams'!$F1037*0.000000028317),\"\")","v":""},{"$f":"IF(ISNUMBER('Teom ugm3'!D1039),('Teom ugm3'!D1039*'Teom grams'!$F1037*0.000000028317),\"\")","v":""},"","","","",null,"","","",null,"",""]
[null,null,{"$f":"IF('Teom ugm3'!A1040=\"\",\"\",C1037+1)","v":""},"",null,"",null,{"$f":"IF(ISNUMBER('Teom ugm3'!B1040),('Teom ugm3'!B1040*'Teom grams'!$F1038*0.000000028317),\"\")","v":""},{"$f":"IF(ISNUMBER('Teom ugm3'!C1040),('Teom ugm3'!C1040*'Teom grams'!$F1038*0.000000028317),\"\")","v":""},{"$f":"IF(ISNUMBER('Teom ugm3'!D1040),('Teom ugm3'!D1040*'Teom grams'!$F1038*0.000000028317),\"\")","v":""},"","","","",null,"","","",null,"",""]
[null,null,{"$f":"IF('Teom ugm3'!A1041=\"\",\"\",C1038+1)","v":""},"",null,"",null,{"$f":"IF(ISNUMBER('Teom ugm3'!B1041),('Teom ugm3'!B1041*'Teom grams'!$F1039*0.000000028317),\"\")","v":""},{"$f":"IF(ISNUMBER('Teom ugm3'!C1041),('Teom ugm3'!C1041*'Teom grams'!$F1039*0.000000028317),\"\")","v":""},{"$f":"IF(ISNUMBER('Teom ugm3'!D1041),('Teom ugm3'!D1041*'Teom grams'!$F1039*0.000000028317),\"\")","v":""},"","","","",null,"","","",null,"",""]
[null,null,{"$f":"IF('Teom ugm3'!A1042=\"\",\"\",C1039+1)","v":""},"",null,"",null,{"$f":"IF(ISNUMBER('Teom ugm3'!B1042),('Teom ugm3'!B1042*'Teom grams'!$F1040*0.000000028317),\"\")","v":""},{"$f":"IF(ISNUMBER('Teom ugm3'!C1042),('Teom ugm3'!C1042*'Teom grams'!$F1040*0.000000028317),\"\")","v":""},{"$f":"IF(ISNUMBER('Teom ugm3'!D1042),('Teom ugm3'!D1042*'Teom grams'!$F1040*0.000000028317),\"\")","v":""},"","","","",null,"","","",null,"",""]
[null,null,{"$f":"IF('Teom ugm3'!A1043=\"\",\"\",C1040+1)","v":""},"",null,"",null,{"$f":"IF(ISNUMBER('Teom ugm3'!B1043),('Teom ugm3'!B1043*'Teom grams'!$F1041*0.000000028317),\"\")","v":""},{"$f":"IF(ISNUMBER('Teom ugm3'!C1043),('Teom ugm3'!C1043*'Teom grams'!$F1041*0.000000028317),\"\")","v":""},{"$f":"IF(ISNUMBER('Teom ugm3'!D1043),('Teom ugm3'!D1043*'Teom grams'!$F1041*0.000000028317),\"\")","v":""},"","","","",null,"","","",null,"",""]
[null,null,{"$f":"IF('Teom ugm3'!A1044=\"\",\"\",C1041+1)","v":""},"",null,"",null,{"$f":"IF(ISNUMBER('Teom ugm3'!B1044),('Teom ugm3'!B1044*'Teom grams'!$F1042*0.000000028317),\"\")","v":""},{"$f":"IF(ISNUMBER('Teom ugm3'!C1044),('Teom ugm3'!C1044*'Teom grams'!$F1042*0.000000028317),\"\")","v":""},{"$f":"IF(ISNUMBER('Teom ugm3'!D1044),('Teom ugm3'!D1044*'Teom grams'!$F1042*0.000000028317),\"\")","v":""},"","","","",null,"","","",null,"",""]
[null,null,{"$f":"IF('Teom ugm3'!A1045=\"\",\"\",C1042+1)","v":""},"",null,"",null,{"$f":"IF(ISNUMBER('Teom ugm3'!B1045),('Teom ugm3'!B1045*'Teom grams'!$F1043*0.000000028317),\"\")","v":""},{"$f":"IF(ISNUMBER('Teom ugm3'!C1045),('Teom ugm3'!C1045*'Teom grams'!$F1043*0.000000028317),\"\")","v":""},{"$f":"IF(ISNUMBER('Teom ugm3'!D1045),('Teom ugm3'!D1045*'Teom grams'!$F1043*0.000000028317),\"\")","v":""},"","","","",null,"","","",null,"",""]
[null,null,{"$f":"IF('Teom ugm3'!A1046=\"\",\"\",C1043+1)","v":""},"",null,"",null,{"$f":"IF(ISNUMBER('Teom ugm3'!B1046),('Teom ugm3'!B1046*'Teom grams'!$F1044*0.000000028317),\"\")","v":""},{"$f":"IF(ISNUMBER('Teom ugm3'!C1046),('Teom ugm3'!C1046*'Teom grams'!$F1044*0.000000028317),\"\")","v":""},{"$f":"IF(ISNUMBER('Teom ugm3'!D1046),('Teom ugm3'!D1046*'Teom grams'!$F1044*0.000000028317),\"\")","v":""},"","","","",null,"","","",null,"",""]
[null,null,{"$f":"IF('Teom ugm3'!A1047=\"\",\"\",C1044+1)","v":""},"",null,"",null,{"$f":"IF(ISNUMBER('Teom ugm3'!B1047),('Teom ugm3'!B1047*'Teom grams'!$F1045*0.000000028317),\"\")","v":""},{"$f":"IF(ISNUMBER('Teom ugm3'!C1047),('Teom ugm3'!C1047*'Teom grams'!$F1045*0.000000028317),\"\")","v":""},{"$f":"IF(ISNUMBER('Teom ugm3'!D1047),('Teom ugm3'!D1047*'Teom grams'!$F1045*0.000000028317),\"\")","v":""},"","","","",null,"","","",null,"",""]
[null,null,{"$f":"IF('Teom ugm3'!A1048=\"\",\"\",C1045+1)","v":""},"",null,"",null,{"$f":"IF(ISNUMBER('Teom ugm3'!B1048),('Teom ugm3'!B1048*'Teom grams'!$F1046*0.000000028317),\"\")","v":""},{"$f":"IF(ISNUMBER('Teom ugm3'!C1048),('Teom ugm3'!C1048*'Teom grams'!$F1046*0.000000028317),\"\")","v":""},{"$f":"IF(ISNUMBER('Teom ugm3'!D1048),('Teom ugm3'!D1048*'Teom grams'!$F1046*0.000000028317),\"\")","v":""},"","","","",null,"","","",null,"",""]
[null,null,{"$f":"IF('Teom ugm3'!A1049=\"\",\"\",C1046+1)","v":""},"",null,"",null,{"$f":"IF(ISNUMBER('Teom ugm3'!B1049),('Teom ugm3'!B1049*'Teom grams'!$F1047*0.000000028317),\"\")","v":""},{"$f":"IF(ISNUMBER('Teom ugm3'!C1049),('Teom ugm3'!C1049*'Teom grams'!$F1047*0.000000028317),\"\")","v":""},{"$f":"IF(ISNUMBER('Teom ugm3'!D1049),('Teom ugm3'!D1049*'Teom grams'!$F1047*0.000000028317),\"\")","v":""},"","","","",null,"","","",null,"",""]
[null,null,{"$f":"IF('Teom ugm3'!A1050=\"\",\"\",C1047+1)","v":""},"",null,"",null,{"$f":"IF(ISNUMBER('Teom ugm3'!B1050),('Teom ugm3'!B1050*'Teom grams'!$F1048*0.000000028317),\"\")","v":""},{"$f":"IF(ISNUMBER('Teom ugm3'!C1050),('Teom ugm3'!C1050*'Teom grams'!$F1048*0.000000028317),\"\")","v":""},{"$f":"IF(ISNUMBER('Teom ugm3'!D1050),('Teom ugm3'!D1050*'Teom grams'!$F1048*0.000000028317),\"\")","v":""},"","","","",null,"","","",null,"",""]
[null,null,{"$f":"IF('Teom ugm3'!A1051=\"\",\"\",C1048+1)","v":""},"",null,"",null,{"$f":"IF(ISNUMBER('Teom ugm3'!B1051),('Teom ugm3'!B1051*'Teom grams'!$F1049*0.000000028317),\"\")","v":""},{"$f":"IF(ISNUMBER('Teom ugm3'!C1051),('Teom ugm3'!C1051*'Teom grams'!$F1049*0.000000028317),\"\")","v":""},{"$f":"IF(ISNUMBER('Teom ugm3'!D1051),('Teom ugm3'!D1051*'Teom grams'!$F1049*0.000000028317),\"\")","v":""},"","","","",null,"","","",null,"",""]
[null,null,{"$f":"IF('Teom ugm3'!A1052=\"\",\"\",C1049+1)","v":""},"",null,"",null,{"$f":"IF(ISNUMBER('Teom ugm3'!B1052),('Teom ugm3'!B1052*'Teom grams'!$F1050*0.000000028317),\"\")","v":""},{"$f":"IF(ISNUMBER('Teom ugm3'!C1052),('Teom ugm3'!C1052*'Teom grams'!$F1050*0.000000028317),\"\")","v":""},{"$f":"IF(ISNUMBER('Teom ugm3'!D1052),('Teom ugm3'!D1052*'Teom grams'!$F1050*0.000000028317),\"\")","v":""},"","","","",null,"","","",null,"",""]
[null,null,{"$f":"IF('Teom ugm3'!A1053=\"\",\"\",C1050+1)","v":""},"",null,"",null,{"$f":"IF(ISNUMBER('Teom ugm3'!B1053),('Teom ugm3'!B1053*'Teom grams'!$F1051*0.000000028317),\"\")","v":""},{"$f":"IF(ISNUMBER('Teom ugm3'!C1053),('Teom ugm3'!C1053*'Teom grams'!$F1051*0.000000028317),\"\")","v":""},{"$f":"IF(ISNUMBER('Teom ugm3'!D1053),('Teom ugm3'!D1053*'Teom grams'!$F1051*0.000000028317),\"\")","v":""},"","","","",null,"","","",null,"",""]
[null,null,{"$f":"IF('Teom ugm3'!A1054=\"\",\"\",C1051+1)","v":""},"",null,"",null,{"$f":"IF(ISNUMBER('Teom ugm3'!B1054),('Teom ugm3'!B1054*'Teom grams'!$F1052*0.000000028317),\"\")","v":""},{"$f":"IF(ISNUMBER('Teom ugm3'!C1054),('Teom ugm3'!C1054*'Teom grams'!$F1052*0.000000028317),\"\")","v":""},{"$f":"IF(ISNUMBER('Teom ugm3'!D1054),('Teom ugm3'!D1054*'Teom grams'!$F1052*0.000000028317),\"\")","v":""},"","","","",null,"","","",null,"",""]
[null,null,{"$f":"IF('Teom ugm3'!A1055=\"\",\"\",C1052+1)","v":""},"",null,"",null,{"$f":"IF(ISNUMBER('Teom ugm3'!B1055),('Teom ugm3'!B1055*'Teom grams'!$F1053*0.000000028317),\"\")","v":""},{"$f":"IF(ISNUMBER('Teom ugm3'!C1055),('Teom ugm3'!C1055*'Teom grams'!$F1053*0.000000028317),\"\")","v":""},{"$f":"IF(ISNUMBER('Teom ugm3'!D1055),('Teom ugm3'!D1055*'Teom grams'!$F1053*0.000000028317),\"\")","v":""},"","","","",null,"","","",null,"",""]
[null,null,{"$f":"IF('Teom ugm3'!A1056=\"\",\"\",C1053+1)","v":""},"",null,"",null,{"$f":"IF(ISNUMBER('Teom ugm3'!B1056),('Teom ugm3'!B1056*'Teom grams'!$F1054*0.000000028317),\"\")","v":""},{"$f":"IF(ISNUMBER('Teom ugm3'!C1056),('Teom ugm3'!C1056*'Teom grams'!$F1054*0.000000028317),\"\")","v":""},{"$f":"IF(ISNUMBER('Teom ugm3'!D1056),('Teom ugm3'!D1056*'Teom grams'!$F1054*0.000000028317),\"\")","v":""},"","","","",null,"","","",null,"",""]
[null,null,{"$f":"IF('Teom ugm3'!A1057=\"\",\"\",C1054+1)","v":""},"",null,"",null,{"$f":"IF(ISNUMBER('Teom ugm3'!B1057),('Teom ugm3'!B1057*'Teom grams'!$F1055*0.000000028317),\"\")","v":""},{"$f":"IF(ISNUMBER('Teom ugm3'!C1057),('Teom ugm3'!C1057*'Teom grams'!$F1055*0.000000028317),\"\")","v":""},{"$f":"IF(ISNUMBER('Teom ugm3'!D1057),('Teom ugm3'!D1057*'Teom grams'!$F1055*0.000000028317),\"\")","v":""},"","","","",null,"","","",null,"",""]
[null,null,{"$f":"IF('Teom ugm3'!A1058=\"\",\"\",C1055+1)","v":""},"",null,"",null,{"$f":"IF(ISNUMBER('Teom ugm3'!B1058),('Teom ugm3'!B1058*'Teom grams'!$F1056*0.000000028317),\"\")","v":""},{"$f":"IF(ISNUMBER('Teom ugm3'!C1058),('Teom ugm3'!C1058*'Teom grams'!$F1056*0.000000028317),\"\")","v":""},{"$f":"IF(ISNUMBER('Teom ugm3'!D1058),('Teom ugm3'!D1058*'Teom grams'!$F1056*0.000000028317),\"\")","v":""},"","","","",null,"","","",null,"",""]
[null,null,{"$f":"IF('Teom ugm3'!A1059=\"\",\"\",C1056+1)","v":""},"",null,"",null,{"$f":"IF(ISNUMBER('Teom ugm3'!B1059),('Teom ugm3'!B1059*'Teom grams'!$F1057*0.000000028317),\"\")","v":""},{"$f":"IF(ISNUMBER('Teom ugm3'!C1059),('Teom ugm3'!C1059*'Teom grams'!$F1057*0.000000028317),\"\")","v":""},{"$f":"IF(ISNUMBER('Teom ugm3'!D1059),('Teom ugm3'!D1059*'Teom grams'!$F1057*0.000000028317),\"\")","v":""},"","","","",null,"","","",null,"",""]
[null,null,{"$f":"IF('Teom ugm3'!A1060=\"\",\"\",C1057+1)","v":""},"",null,"",null,{"$f":"IF(ISNUMBER('Teom ugm3'!B1060),('Teom ugm3'!B1060*'Teom grams'!$F1058*0.000000028317),\"\")","v":""},{"$f":"IF(ISNUMBER('Teom ugm3'!C1060),('Teom ugm3'!C1060*'Teom grams'!$F1058*0.000000028317),\"\")","v":""},{"$f":"IF(ISNUMBER('Teom ugm3'!D1060),('Teom ugm3'!D1060*'Teom grams'!$F1058*0.000000028317),\"\")","v":""},"","","","",null,"","","",null,"",""]
[null,null,{"$f":"IF('Teom ugm3'!A1061=\"\",\"\",C1058+1)","v":""},"",null,"",null,{"$f":"IF(ISNUMBER('Teom ugm3'!B1061),('Teom ugm3'!B1061*'Teom grams'!$F1059*0.000000028317),\"\")","v":""},{"$f":"IF(ISNUMBER('Teom ugm3'!C1061),('Teom ugm3'!C1061*'Teom grams'!$F1059*0.000000028317),\"\")","v":""},{"$f":"IF(ISNUMBER('Teom ugm3'!D1061),('Teom ugm3'!D1061*'Teom grams'!$F1059*0.000000028317),\"\")","v":""},"","","","",null,"",{"$f":"IF(ISNUMBER(M1059),M1059*60,\"\")","v":""},{"$f":"IF(ISNUMBER(N1059),N1059*60,\"\")","v":""},null,{"$f":"IF(COUNT(C1059:C1118)>59,AVERAGE(P1059:P1118),\"\")","v":""},{"$f":"IF(COUNT(C1059:C1118)>59,AVERAGE(Q1059:Q1118),\"\")","v":""}]
[null,null,{"$f":"IF('Teom ugm3'!A1062=\"\",\"\",C1059+1)","v":""},"",null,"",null,{"$f":"IF(ISNUMBER('Teom ugm3'!B1062),('Teom ugm3'!B1062*'Teom grams'!$F1060*0.000000028317),\"\")","v":""},{"$f":"IF(ISNUMBER('Teom ugm3'!C1062),('Teom ugm3'!C1062*'Teom grams'!$F1060*0.000000028317),\"\")","v":""},{"$f":"IF(ISNUMBER('Teom ugm3'!D1062),('Teom ugm3'!D1062*'Teom grams'!$F1060*0.000000028317),\"\")","v":""},"","","","",null,"","","",null,"",""]
[null,null,{"$f":"IF('Teom ugm3'!A1063=\"\",\"\",C1060+1)","v":""},"",null,"",null,{"$f":"IF(ISNUMBER('Teom ugm3'!B1063),('Teom ugm3'!B1063*'Teom grams'!$F1061*0.000000028317),\"\")","v":""},{"$f":"IF(ISNUMBER('Teom ugm3'!C1063),('Teom ugm3'!C1063*'Teom grams'!$F1061*0.000000028317),\"\")","v":""},{"$f":"IF(ISNUMBER('Teom ugm3'!D1063),('Teom ugm3'!D1063*'Teom grams'!$F1061*0.000000028317),\"\")","v":""},"","","","",null,"","","",null,"",""]
[null,null,{"$f":"IF('Teom ugm3'!A1064=\"\",\"\",C1061+1)","v":""},"",null,"",null,{"$f":"IF(ISNUMBER('Teom ugm3'!B1064),('Teom ugm3'!B1064*'Teom grams'!$F1062*0.000000028317),\"\")","v":""},{"$f":"IF(ISNUMBER('Teom ugm3'!C1064),('Teom ugm3'!C1064*'Teom grams'!$F1062*0.000000028317),\"\")","v":""},{"$f":"IF(ISNUMBER('Teom ugm3'!D1064),('Teom ugm3'!D1064*'Teom grams'!$F1062*0.000000028317),\"\")","v":""},"","","","",null,"","","",null,"",""]
[null,null,{"$f":"IF('Teom ugm3'!A1065=\"\",\"\",C1062+1)","v":""},"",null,"",null,{"$f":"IF(ISNUMBER('Teom ugm3'!B1065),('Teom ugm3'!B1065*'Teom grams'!$F1063*0.000000028317),\"\")","v":""},{"$f":"IF(ISNUMBER('Teom ugm3'!C1065),('Teom ugm3'!C1065*'Teom grams'!$F1063*0.000000028317),\"\")","v":""},{"$f":"IF(ISNUMBER('Teom ugm3'!D1065),('Teom ugm3'!D1065*'Teom grams'!$F1063*0.000000028317),\"\")","v":""},"","","","",null,"","","",null,"",""]
[null,null,{"$f":"IF('Teom ugm3'!A1066=\"\",\"\",C1063+1)","v":""},"",null,"",null,{"$f":"IF(ISNUMBER('Teom ugm3'!B1066),('Teom ugm3'!B1066*'Teom grams'!$F1064*0.000000028317),\"\")","v":""},{"$f":"IF(ISNUMBER('Teom ugm3'!C1066),('Teom ugm3'!C1066*'Teom grams'!$F1064*0.000000028317),\"\")","v":""},{"$f":"IF(ISNUMBER('Teom ugm3'!D1066),('Teom ugm3'!D1066*'Teom grams'!$F1064*0.000000028317),\"\")","v":""},"","","","",null,"","","",null,"",""]
[null,null,{"$f":"IF('Teom ugm3'!A1067=\"\",\"\",C1064+1)","v":""},"",null,"",null,{"$f":"IF(ISNUMBER('Teom ugm3'!B1067),('Teom ugm3'!B1067*'Teom grams'!$F1065*0.000000028317),\"\")","v":""},{"$f":"IF(ISNUMBER('Teom ugm3'!C1067),('Teom ugm3'!C1067*'Teom grams'!$F1065*0.000000028317),\"\")","v":""},{"$f":"IF(ISNUMBER('Teom ugm3'!D1067),('Teom ugm3'!D1067*'Teom grams'!$F1065*0.000000028317),\"\")","v":""},"","","","",null,"","","",null,"",""]
[null,null,{"$f":"IF('Teom ugm3'!A1068=\"\",\"\",C1065+1)","v":""},"",null,"",null,{"$f":"IF(ISNUMBER('Teom ugm3'!B1068),('Teom ugm3'!B1068*'Teom grams'!$F1066*0.000000028317),\"\")","v":""},{"$f":"IF(ISNUMBER('Teom ugm3'!C1068),('Teom ugm3'!C1068*'Teom grams'!$F1066*0.000000028317),\"\")","v":""},{"$f":"IF(ISNUMBER('Teom ugm3'!D1068),('Teom ugm3'!D1068*'Teom grams'!$F1066*0.000000028317),\"\")","v":""},"","","","",null,"","","",null,"",""]
[null,null,{"$f":"IF('Teom ugm3'!A1069=\"\",\"\",C1066+1)","v":""},"",null,"",null,{"$f":"IF(ISNUMBER('Teom ugm3'!B1069),('Teom ugm3'!B1069*'Teom grams'!$F1067*0.000000028317),\"\")","v":""},{"$f":"IF(ISNUMBER('Teom ugm3'!C1069),('Teom ugm3'!C1069*'Teom grams'!$F1067*0.000000028317),\"\")","v":""},{"$f":"IF(ISNUMBER('Teom ugm3'!D1069),('Teom ugm3'!D1069*'Teom grams'!$F1067*0.000000028317),\"\")","v":""},"","","","",null,"","","",null,"",""]
[null,null,{"$f":"IF('Teom ugm3'!A1070=\"\",\"\",C1067+1)","v":""},"",null,"",null,{"$f":"IF(ISNUMBER('Teom ugm3'!B1070),('Teom ugm3'!B1070*'Teom grams'!$F1068*0.000000028317),\"\")","v":""},{"$f":"IF(ISNUMBER('Teom ugm3'!C1070),('Teom ugm3'!C1070*'Teom grams'!$F1068*0.000000028317),\"\")","v":""},{"$f":"IF(ISNUMBER('Teom ugm3'!D1070),('Teom ugm3'!D1070*'Teom grams'!$F1068*0.000000028317),\"\")","v":""},"","","","",null,"","","",null,"",""]
[null,null,{"$f":"IF('Teom ugm3'!A1071=\"\",\"\",C1068+1)","v":""},"",null,"",null,{"$f":"IF(ISNUMBER('Teom ugm3'!B1071),('Teom ugm3'!B1071*'Teom grams'!$F1069*0.000000028317),\"\")","v":""},{"$f":"IF(ISNUMBER('Teom ugm3'!C1071),('Teom ugm3'!C1071*'Teom grams'!$F1069*0.000000028317),\"\")","v":""},{"$f":"IF(ISNUMBER('Teom ugm3'!D1071),('Teom ugm3'!D1071*'Teom grams'!$F1069*0.000000028317),\"\")","v":""},"","","","",null,"","","",null,"",""]
[null,null,{"$f":"IF('Teom ugm3'!A1072=\"\",\"\",C1069+1)","v":""},"",null,"",null,{"$f":"IF(ISNUMBER('Teom ugm3'!B1072),('Teom ugm3'!B1072*'Teom grams'!$F1070*0.000000028317),\"\")","v":""},{"$f":"IF(ISNUMBER('Teom ugm3'!C1072),('Teom ugm3'!C1072*'Teom grams'!$F1070*0.000000028317),\"\")","v":""},{"$f":"IF(ISNUMBER('Teom ugm3'!D1072),('Teom ugm3'!D1072*'Teom grams'!$F1070*0.000000028317),\"\")","v":""},"","","","",null,"","","",null,"",""]
[null,null,{"$f":"IF('Teom ugm3'!A1073=\"\",\"\",C1070+1)","v":""},"",null,"",null,{"$f":"IF(ISNUMBER('Teom ugm3'!B1073),('Teom ugm3'!B1073*'Teom grams'!$F1071*0.000000028317),\"\")","v":""},{"$f":"IF(ISNUMBER('Teom ugm3'!C1073),('Teom ugm3'!C1073*'Teom grams'!$F1071*0.000000028317),\"\")","v":""},{"$f":"IF(ISNUMBER('Teom ugm3'!D1073),('Teom ugm3'!D1073*'Teom grams'!$F1071*0.000000028317),\"\")","v":""},"","","","",null,"","","",null,"",""]
[null,null,{"$f":"IF('Teom ugm3'!A1074=\"\",\"\",C1071+1)","v":""},"",null,"",null,{"$f":"IF(ISNUMBER('Teom ugm3'!B1074),('Teom ugm3'!B1074*'Teom grams'!$F1072*0.000000028317),\"\")","v":""},{"$f":"IF(ISNUMBER('Teom ugm3'!C1074),('Teom ugm3'!C1074*'Teom grams'!$F1072*0.000000028317),\"\")","v":""},{"$f":"IF(ISNUMBER('Teom ugm3'!D1074),('Teom ugm3'!D1074*'Teom grams'!$F1072*0.000000028317),\"\")","v":""},"","","","",null,"","","",null,"",""]
[null,null,{"$f":"IF('Teom ugm3'!A1075=\"\",\"\",C1072+1)","v":""},"",null,"",null,{"$f":"IF(ISNUMBER('Teom ugm3'!B1075),('Teom ugm3'!B1075*'Teom grams'!$F1073*0.000000028317),\"\")","v":""},{"$f":"IF(ISNUMBER('Teom ugm3'!C1075),('Teom ugm3'!C1075*'Teom grams'!$F1073*0.000000028317),\"\")","v":""},{"$f":"IF(ISNUMBER('Teom ugm3'!D1075),('Teom ugm3'!D1075*'Teom grams'!$F1073*0.000000028317),\"\")","v":""},"","","","",null,"","","",null,"",""]
[null,null,{"$f":"IF('Teom ugm3'!A1076=\"\",\"\",C1073+1)","v":""},"",null,"",null,{"$f":"IF(ISNUMBER('Teom ugm3'!B1076),('Teom ugm3'!B1076*'Teom grams'!$F1074*0.000000028317),\"\")","v":""},{"$f":"IF(ISNUMBER('Teom ugm3'!C1076),('Teom ugm3'!C1076*'Teom grams'!$F1074*0.000000028317),\"\")","v":""},{"$f":"IF(ISNUMBER('Teom ugm3'!D1076),('Teom ugm3'!D1076*'Teom grams'!$F1074*0.000000028317),\"\")","v":""},"","","","",null,"","","",null,"",""]
[null,null,{"$f":"IF('Teom ugm3'!A1077=\"\",\"\",C1074+1)","v":""},"",null,"",null,{"$f":"IF(ISNUMBER('Teom ugm3'!B1077),('Teom ugm3'!B1077*'Teom grams'!$F1075*0.000000028317),\"\")","v":""},{"$f":"IF(ISNUMBER('Teom ugm3'!C1077),('Teom ugm3'!C1077*'Teom grams'!$F1075*0.000000028317),\"\")","v":""},{"$f":"IF(ISNUMBER('Teom ugm3'!D1077),('Teom ugm3'!D1077*'Teom grams'!$F1075*0.000000028317),\"\")","v":""},"","","","",null,"","","",null,"",""]
[null,null,{"$f":"IF('Teom ugm3'!A1078=\"\",\"\",C1075+1)","v":""},"",null,"",null,{"$f":"IF(ISNUMBER('Teom ugm3'!B1078),('Teom ugm3'!B1078*'Teom grams'!$F1076*0.000000028317),\"\")","v":""},{"$f":"IF(ISNUMBER('Teom ugm3'!C1078),('Teom ugm3'!C1078*'Teom grams'!$F1076*0.000000028317),\"\")","v":""},{"$f":"IF(ISNUMBER('Teom ugm3'!D1078),('Teom ugm3'!D1078*'Teom grams'!$F1076*0.000000028317),\"\")","v":""},"","","","",null,"","","",null,"",""]
[null,null,{"$f":"IF('Teom ugm3'!A1079=\"\",\"\",C1076+1)","v":""},"",null,"",null,{"$f":"IF(ISNUMBER('Teom ugm3'!B1079),('Teom ugm3'!B1079*'Teom grams'!$F1077*0.000000028317),\"\")","v":""},{"$f":"IF(ISNUMBER('Teom ugm3'!C1079),('Teom ugm3'!C1079*'Teom grams'!$F1077*0.000000028317),\"\")","v":""},{"$f":"IF(ISNUMBER('Teom ugm3'!D1079),('Teom ugm3'!D1079*'Teom grams'!$F1077*0.000000028317),\"\")","v":""},"","","","",null,"","","",null,"",""]
[null,null,{"$f":"IF('Teom ugm3'!A1080=\"\",\"\",C1077+1)","v":""},"",null,"",null,{"$f":"IF(ISNUMBER('Teom ugm3'!B1080),('Teom ugm3'!B1080*'Teom grams'!$F1078*0.000000028317),\"\")","v":""},{"$f":"IF(ISNUMBER('Teom ugm3'!C1080),('Teom ugm3'!C1080*'Teom grams'!$F1078*0.000000028317),\"\")","v":""},{"$f":"IF(ISNUMBER('Teom ugm3'!D1080),('Teom ugm3'!D1080*'Teom grams'!$F1078*0.000000028317),\"\")","v":""},"","","","",null,"","","",null,"",""]
[null,null,{"$f":"IF('Teom ugm3'!A1081=\"\",\"\",C1078+1)","v":""},"",null,"",null,{"$f":"IF(ISNUMBER('Teom ugm3'!B1081),('Teom ugm3'!B1081*'Teom grams'!$F1079*0.000000028317),\"\")","v":""},{"$f":"IF(ISNUMBER('Teom ugm3'!C1081),('Teom ugm3'!C1081*'Teom grams'!$F1079*0.000000028317),\"\")","v":""},{"$f":"IF(ISNUMBER('Teom ugm3'!D1081),('Teom ugm3'!D1081*'Teom grams'!$F1079*0.000000028317),\"\")","v":""},"","","","",null,"","","",null,"",""]
[null,null,{"$f":"IF('Teom ugm3'!A1082=\"\",\"\",C1079+1)","v":""},"",null,"",null,{"$f":"IF(ISNUMBER('Teom ugm3'!B1082),('Teom ugm3'!B1082*'Teom grams'!$F1080*0.000000028317),\"\")","v":""},{"$f":"IF(ISNUMBER('Teom ugm3'!C1082),('Teom ugm3'!C1082*'Teom grams'!$F1080*0.000000028317),\"\")","v":""},{"$f":"IF(ISNUMBER('Teom ugm3'!D1082),('Teom ugm3'!D1082*'Teom grams'!$F1080*0.000000028317),\"\")","v":""},"","","","",null,"","","",null,"",""]
[null,null,{"$f":"IF('Teom ugm3'!A1083=\"\",\"\",C1080+1)","v":""},"",null,"",null,{"$f":"IF(ISNUMBER('Teom ugm3'!B1083),('Teom ugm3'!B1083*'Teom grams'!$F1081*0.000000028317),\"\")","v":""},{"$f":"IF(ISNUMBER('Teom ugm3'!C1083),('Teom ugm3'!C1083*'Teom grams'!$F1081*0.000000028317),\"\")","v":""},{"$f":"IF(ISNUMBER('Teom ugm3'!D1083),('Teom ugm3'!D1083*'Teom grams'!$F1081*0.000000028317),\"\")","v":""},"","","","",null,"","","",null,"",""]
[null,null,{"$f":"IF('Teom ugm3'!A1084=\"\",\"\",C1081+1)","v":""},"",null,"",null,{"$f":"IF(ISNUMBER('Teom ugm3'!B1084),('Teom ugm3'!B1084*'Teom grams'!$F1082*0.000000028317),\"\")","v":""},{"$f":"IF(ISNUMBER('Teom ugm3'!C1084),('Teom ugm3'!C1084*'Teom grams'!$F1082*0.000000028317),\"\")","v":""},{"$f":"IF(ISNUMBER('Teom ugm3'!D1084),('Teom ugm3'!D1084*'Teom grams'!$F1082*0.000000028317),\"\")","v":""},"","","","",null,"","","",null,"",""]
[null,null,{"$f":"IF('Teom ugm3'!A1085=\"\",\"\",C1082+1)","v":""},"",null,"",null,{"$f":"IF(ISNUMBER('Teom ugm3'!B1085),('Teom ugm3'!B1085*'Teom grams'!$F1083*0.000000028317),\"\")","v":""},{"$f":"IF(ISNUMBER('Teom ugm3'!C1085),('Teom ugm3'!C1085*'Teom grams'!$F1083*0.000000028317),\"\")","v":""},{"$f":"IF(ISNUMBER('Teom ugm3'!D1085),('Teom ugm3'!D1085*'Teom grams'!$F1083*0.000000028317),\"\")","v":""},"","","","",null,"","","",null,"",""]
[null,null,{"$f":"IF('Teom ugm3'!A1086=\"\",\"\",C1083+1)","v":""},"",null,"",null,{"$f":"IF(ISNUMBER('Teom ugm3'!B1086),('Teom ugm3'!B1086*'Teom grams'!$F1084*0.000000028317),\"\")","v":""},{"$f":"IF(ISNUMBER('Teom ugm3'!C1086),('Teom ugm3'!C1086*'Teom grams'!$F1084*0.000000028317),\"\")","v":""},{"$f":"IF(ISNUMBER('Teom ugm3'!D1086),('Teom ugm3'!D1086*'Teom grams'!$F1084*0.000000028317),\"\")","v":""},"","","","",null,"","","",null,"",""]
[null,null,{"$f":"IF('Teom ugm3'!A1087=\"\",\"\",C1084+1)","v":""},"",null,"",null,{"$f":"IF(ISNUMBER('Teom ugm3'!B1087),('Teom ugm3'!B1087*'Teom grams'!$F1085*0.000000028317),\"\")","v":""},{"$f":"IF(ISNUMBER('Teom ugm3'!C1087),('Teom ugm3'!C1087*'Teom grams'!$F1085*0.000000028317),\"\")","v":""},{"$f":"IF(ISNUMBER('Teom ugm3'!D1087),('Teom ugm3'!D1087*'Teom grams'!$F1085*0.000000028317),\"\")","v":""},"","","","",null,"","","",null,"",""]
[null,null,{"$f":"IF('Teom ugm3'!A1088=\"\",\"\",C1085+1)","v":""},"",null,"",null,{"$f":"IF(ISNUMBER('Teom ugm3'!B1088),('Teom ugm3'!B1088*'Teom grams'!$F1086*0.000000028317),\"\")","v":""},{"$f":"IF(ISNUMBER('Teom ugm3'!C1088),('Teom ugm3'!C1088*'Teom grams'!$F1086*0.000000028317),\"\")","v":""},{"$f":"IF(ISNUMBER('Teom ugm3'!D1088),('Teom ugm3'!D1088*'Teom grams'!$F1086*0.000000028317),\"\")","v":""},"","","","",null,"","","",null,"",""]
[null,null,{"$f":"IF('Teom ugm3'!A1089=\"\",\"\",C1086+1)","v":""},"",null,"",null,{"$f":"IF(ISNUMBER('Teom ugm3'!B1089),('Teom ugm3'!B1089*'Teom grams'!$F1087*0.000000028317),\"\")","v":""},{"$f":"IF(ISNUMBER('Teom ugm3'!C1089),('Teom ugm3'!C1089*'Teom grams'!$F1087*0.000000028317),\"\")","v":""},{"$f":"IF(ISNUMBER('Teom ugm3'!D1089),('Teom ugm3'!D1089*'Teom grams'!$F1087*0.000000028317),\"\")","v":""},"","","","",null,"","","",null,"",""]
[null,null,{"$f":"IF('Teom ugm3'!A1090=\"\",\"\",C1087+1)","v":""},"",null,"",null,{"$f":"IF(ISNUMBER('Teom ugm3'!B1090),('Teom ugm3'!B1090*'Teom grams'!$F1088*0.000000028317),\"\")","v":""},{"$f":"IF(ISNUMBER('Teom ugm3'!C1090),('Teom ugm3'!C1090*'Teom grams'!$F1088*0.000000028317),\"\")","v":""},{"$f":"IF(ISNUMBER('Teom ugm3'!D1090),('Teom ugm3'!D1090*'Teom grams'!$F1088*0.000000028317),\"\")","v":""},"","","","",null,"","","",null,"",""]
[null,null,{"$f":"IF('Teom ugm3'!A1091=\"\",\"\",C1088+1)","v":""},"",null,"",null,{"$f":"IF(ISNUMBER('Teom ugm3'!B1091),('Teom ugm3'!B1091*'Teom grams'!$F1089*0.000000028317),\"\")","v":""},{"$f":"IF(ISNUMBER('Teom ugm3'!C1091),('Teom ugm3'!C1091*'Teom grams'!$F1089*0.000000028317),\"\")","v":""},{"$f":"IF(ISNUMBER('Teom ugm3'!D1091),('Teom ugm3'!D1091*'Teom grams'!$F1089*0.000000028317),\"\")","v":""},"","","","",null,"","","",null,"",""]
[null,null,{"$f":"IF('Teom ugm3'!A1092=\"\",\"\",C1089+1)","v":""},"",null,"",null,{"$f":"IF(ISNUMBER('Teom ugm3'!B1092),('Teom ugm3'!B1092*'Teom grams'!$F1090*0.000000028317),\"\")","v":""},{"$f":"IF(ISNUMBER('Teom ugm3'!C1092),('Teom ugm3'!C1092*'Teom grams'!$F1090*0.000000028317),\"\")","v":""},{"$f":"IF(ISNUMBER('Teom ugm3'!D1092),('Teom ugm3'!D1092*'Teom grams'!$F1090*0.000000028317),\"\")","v":""},"","","","",null,"","","",null,"",""]
[null,null,{"$f":"IF('Teom ugm3'!A1093=\"\",\"\",C1090+1)","v":""},"",null,"",null,{"$f":"IF(ISNUMBER('Teom ugm3'!B1093),('Teom ugm3'!B1093*'Teom grams'!$F1091*0.000000028317),\"\")","v":""},{"$f":"IF(ISNUMBER('Teom ugm3'!C1093),('Teom ugm3'!C1093*'Teom grams'!$F1091*0.000000028317),\"\")","v":""},{"$f":"IF(ISNUMBER('Teom ugm3'!D1093),('Teom ugm3'!D1093*'Teom grams'!$F1091*0.000000028317),\"\")","v":""},"","","","",null,"","","",null,"",""]
[null,null,{"$f":"IF('Teom ugm3'!A1094=\"\",\"\",C1091+1)","v":""},"",null,"",null,{"$f":"IF(ISNUMBER('Teom ugm3'!B1094),('Teom ugm3'!B1094*'Teom grams'!$F1092*0.000000028317),\"\")","v":""},{"$f":"IF(ISNUMBER('Teom ugm3'!C1094),('Teom ugm3'!C1094*'Teom grams'!$F1092*0.000000028317),\"\")","v":""},{"$f":"IF(ISNUMBER('Teom ugm3'!D1094),('Teom ugm3'!D1094*'Teom grams'!$F1092*0.000000028317),\"\")","v":""},"","","",{"$f":"M1092","v":""},null,"","","",null,"",""]
[null,null,{"$f":"IF('Teom ugm3'!A1095=\"\",\"\",C1092+1)","v":""},"",null,{"$f":"IF(C1093=\"\",\"\",E1093*1.02041)","v":""},null,{"$f":"IF(ISNUMBER('Teom ugm3'!B1095),('Teom ugm3'!B1095*'Teom grams'!$F1093*0.000000028317),\"\")","v":""},{"$f":"IF(ISNUMBER('Teom ugm3'!C1095),('Teom ugm3'!C1095*'Teom grams'!$F1093*0.000000028317),\"\")","v":""},{"$f":"IF(ISNUMBER('Teom ugm3'!D1095),('Teom ugm3'!D1095*'Teom grams'!$F1093*0.000000028317),\"\")","v":""},{"$f":"IF(H1093<0,0,H1093)","v":""},"","","",null,{"$f":"IF(ISNUMBER(J1093),J1093*60,\"\")","v":""},"","",null,"",""]
[null,null,{"$f":"IF('Teom ugm3'!A1096=\"\",\"\",C1093+1)","v":""},{"$f":"IF(C1094=\"\",\"\",D1093 + TIME(0, 1, 0))","v":""},null,"",null,{"$f":"IF(ISNUMBER('Teom ugm3'!B1096),('Teom ugm3'!B1096*'Teom grams'!$F1094*0.000000028317),\"\")","v":""},{"$f":"IF(ISNUMBER('Teom ugm3'!C1096),('Teom ugm3'!C1096*'Teom grams'!$F1094*0.000000028317),\"\")","v":""},{"$f":"IF(ISNUMBER('Teom ugm3'!D1096),('Teom ugm3'!D1096*'Teom grams'!$F1094*0.000000028317),\"\")","v":""},"","","","",null,"","","",null,"",""]
[null,null,{"$f":"IF('Teom ugm3'!A1097=\"\",\"\",C1094+1)","v":""},"",null,"",null,{"$f":"IF(ISNUMBER('Teom ugm3'!B1097),('Teom ugm3'!B1097*'Teom grams'!$F1095*0.000000028317),\"\")","v":""},{"$f":"IF(ISNUMBER('Teom ugm3'!C1097),('Teom ugm3'!C1097*'Teom grams'!$F1095*0.000000028317),\"\")","v":""},{"$f":"IF(ISNUMBER('Teom ugm3'!D1097),('Teom ugm3'!D1097*'Teom grams'!$F1095*0.000000028317),\"\")","v":""},"","","","",null,"","","",null,"",""]
[null,null,{"$f":"IF('Teom ugm3'!A1098=\"\",\"\",C1095+1)","v":""},"",null,"",null,{"$f":"IF(ISNUMBER('Teom ugm3'!B1098),('Teom ugm3'!B1098*'Teom grams'!$F1096*0.000000028317),\"\")","v":""},{"$f":"IF(ISNUMBER('Teom ugm3'!C1098),('Teom ugm3'!C1098*'Teom grams'!$F1096*0.000000028317),\"\")","v":""},{"$f":"IF(ISNUMBER('Teom ugm3'!D1098),('Teom ugm3'!D1098*'Teom grams'!$F1096*0.000000028317),\"\")","v":""},"","","","",null,"","","",null,"",""]
[null,null,{"$f":"IF('Teom ugm3'!A1099=\"\",\"\",C1096+1)","v":""},"",null,"",null,{"$f":"IF(ISNUMBER('Teom ugm3'!B1099),('Teom ugm3'!B1099*'Teom grams'!$F1097*0.000000028317),\"\")","v":""},{"$f":"IF(ISNUMBER('Teom ugm3'!C1099),('Teom ugm3'!C1099*'Teom grams'!$F1097*0.000000028317),\"\")","v":""},{"$f":"IF(ISNUMBER('Teom ugm3'!D1099),('Teom ugm3'!D1099*'Teom grams'!$F1097*0.000000028317),\"\")","v":""},"","","","",null,"","","",null,"",""]
[null,null,{"$f":"IF('Teom ugm3'!A1100=\"\",\"\",C1097+1)","v":""},"",null,"",null,{"$f":"IF(ISNUMBER('Teom ugm3'!B1100),('Teom ugm3'!B1100*'Teom grams'!$F1098*0.000000028317),\"\")","v":""},{"$f":"IF(ISNUMBER('Teom ugm3'!C1100),('Teom ugm3'!C1100*'Teom grams'!$F1098*0.000000028317),\"\")","v":""},{"$f":"IF(ISNUMBER('Teom ugm3'!D1100),('Teom ugm3'!D1100*'Teom grams'!$F1098*0.000000028317),\"\")","v":""},"","","","",null,"","","",null,"",""]
[null,null,{"$f":"IF('Teom ugm3'!A1101=\"\",\"\",C1098+1)","v":""},"",null,"",null,{"$f":"IF(ISNUMBER('Teom ugm3'!B1101),('Teom ugm3'!B1101*'Teom grams'!$F1099*0.000000028317),\"\")","v":""},{"$f":"IF(ISNUMBER('Teom ugm3'!C1101),('Teom ugm3'!C1101*'Teom grams'!$F1099*0.000000028317),\"\")","v":""},{"$f":"IF(ISNUMBER('Teom ugm3'!D1101),('Teom ugm3'!D1101*'Teom grams'!$F1099*0.000000028317),\"\")","v":""},"","",{"$f":"IF(COUNT(K1099:L1099)>0,AVERAGE(K1099:L1099),\"\")","v":""},"",null,"","","",null,"",""]
[null,null,{"$f":"IF('Teom ugm3'!A1102=\"\",\"\",C1099+1)","v":""},"",null,"",null,{"$f":"IF(ISNUMBER('Teom ugm3'!B1102),('Teom ugm3'!B1102*'Teom grams'!$F1100*0.000000028317),\"\")","v":""},{"$f":"IF(ISNUMBER('Teom ugm3'!C1102),('Teom ugm3'!C1102*'Teom grams'!$F1100*0.000000028317),\"\")","v":""},{"$f":"IF(ISNUMBER('Teom ugm3'!D1102),('Teom ugm3'!D1102*'Teom grams'!$F1100*0.000000028317),\"\")","v":""},"","","","",null,"","","",null,"",""]
[null,null,{"$f":"IF('Teom ugm3'!A1103=\"\",\"\",C1100+1)","v":""},"",null,"",null,{"$f":"IF(ISNUMBER('Teom ugm3'!B1103),('Teom ugm3'!B1103*'Teom grams'!$F1101*0.000000028317),\"\")","v":""},{"$f":"IF(ISNUMBER('Teom ugm3'!C1103),('Teom ugm3'!C1103*'Teom grams'!$F1101*0.000000028317),\"\")","v":""},{"$f":"IF(ISNUMBER('Teom ugm3'!D1103),('Teom ugm3'!D1103*'Teom grams'!$F1101*0.000000028317),\"\")","v":""},"","","","",null,"","","",null,"",""]
[null,null,{"$f":"IF('Teom ugm3'!A1104=\"\",\"\",C1101+1)","v":""},"",null,"",null,{"$f":"IF(ISNUMBER('Teom ugm3'!B1104),('Teom ugm3'!B1104*'Teom grams'!$F1102*0.000000028317),\"\")","v":""},{"$f":"IF(ISNUMBER('Teom ugm3'!C1104),('Teom ugm3'!C1104*'Teom grams'!$F1102*0.000000028317),\"\")","v":""},{"$f":"IF(ISNUMBER('Teom ugm3'!D1104),('Teom ugm3'!D1104*'Teom grams'!$F1102*0.000000028317),\"\")","v":""},"","","","",null,"","","",null,"",""]
[null,null,{"$f":"IF('Teom ugm3'!A1105=\"\",\"\",C1102+1)","v":""},"",null,"",null,{"$f":"IF(ISNUMBER('Teom ugm3'!B1105),('Teom ugm3'!B1105*'Teom grams'!$F1103*0.000000028317),\"\")","v":""},{"$f":"IF(ISNUMBER('Teom ugm3'!C1105),('Teom ugm3'!C1105*'Teom grams'!$F1103*0.000000028317),\"\")","v":""},{"$f":"IF(ISNUMBER('Teom ugm3'!D1105),('Teom ugm3'!D1105*'Teom grams'!$F1103*0.000000028317),\"\")","v":""},"","","","",null,"","","",null,"",""]
[null,null,{"$f":"IF('Teom ugm3'!A1106=\"\",\"\",C1103+1)","v":""},"",null,"",null,{"$f":"IF(ISNUMBER('Teom ugm3'!B1106),('Teom ugm3'!B1106*'Teom grams'!$F1104*0.000000028317),\"\")","v":""},{"$f":"IF(ISNUMBER('Teom ugm3'!C1106),('Teom ugm3'!C1106*'Teom grams'!$F1104*0.000000028317),\"\")","v":""},{"$f":"IF(ISNUMBER('Teom ugm3'!D1106),('Teom ugm3'!D1106*'Teom grams'!$F1104*0.000000028317),\"\")","v":""},"","","","",null,"","","",null,"",""]
[null,null,{"$f":"IF('Teom ugm3'!A1107=\"\",\"\",C1104+1)","v":""},"",null,"",null,{"$f":"IF(ISNUMBER('Teom ugm3'!B1107),('Teom ugm3'!B1107*'Teom grams'!$F1105*0.000000028317),\"\")","v":""},{"$f":"IF(ISNUMBER('Teom ugm3'!C1107),('Teom ugm3'!C1107*'Teom grams'!$F1105*0.000000028317),\"\")","v":""},{"$f":"IF(ISNUMBER('Teom ugm3'!D1107),('Teom ugm3'!D1107*'Teom grams'!$F1105*0.000000028317),\"\")","v":""},"","","","",null,"","","",null,"",""]
[null,null,{"$f":"IF('Teom ugm3'!A1108=\"\",\"\",C1105+1)","v":""},"",null,"",null,{"$f":"IF(ISNUMBER('Teom ugm3'!B1108),('Teom ugm3'!B1108*'Teom grams'!$F1106*0.000000028317),\"\")","v":""},{"$f":"IF(ISNUMBER('Teom ugm3'!C1108),('Teom ugm3'!C1108*'Teom grams'!$F1106*0.000000028317),\"\")","v":""},{"$f":"IF(ISNUMBER('Teom ugm3'!D1108),('Teom ugm3'!D1108*'Teom grams'!$F1106*0.000000028317),\"\")","v":""},"","","","",null,"","","",null,"",""]
[null,null,{"$f":"IF('Teom ugm3'!A1109=\"\",\"\",C1106+1)","v":""},"",null,"",null,{"$f":"IF(ISNUMBER('Teom ugm3'!B1109),('Teom ugm3'!B1109*'Teom grams'!$F1107*0.000000028317),\"\")","v":""},{"$f":"IF(ISNUMBER('Teom ugm3'!C1109),('Teom ugm3'!C1109*'Teom grams'!$F1107*0.000000028317),\"\")","v":""},{"$f":"IF(ISNUMBER('Teom ugm3'!D1109),('Teom ugm3'!D1109*'Teom grams'!$F1107*0.000000028317),\"\")","v":""},"","","","",null,"","","",null,"",""]
[null,null,{"$f":"IF('Teom ugm3'!A1110=\"\",\"\",C1107+1)","v":""},"",null,"",null,{"$f":"IF(ISNUMBER('Teom ugm3'!B1110),('Teom ugm3'!B1110*'Teom grams'!$F1108*0.000000028317),\"\")","v":""},{"$f":"IF(ISNUMBER('Teom ugm3'!C1110),('Teom ugm3'!C1110*'Teom grams'!$F1108*0.000000028317),\"\")","v":""},{"$f":"IF(ISNUMBER('Teom ugm3'!D1110),('Teom ugm3'!D1110*'Teom grams'!$F1108*0.000000028317),\"\")","v":""},"","","","",null,"","","",null,"",""]
[null,null,{"$f":"IF('Teom ugm3'!A1111=\"\",\"\",C1108+1)","v":""},"",null,"",null,{"$f":"IF(ISNUMBER('Teom ugm3'!B1111),('Teom ugm3'!B1111*'Teom grams'!$F1109*0.000000028317),\"\")","v":""},{"$f":"IF(ISNUMBER('Teom ugm3'!C1111),('Teom ugm3'!C1111*'Teom grams'!$F1109*0.000000028317),\"\")","v":""},{"$f":"IF(ISNUMBER('Teom ugm3'!D1111),('Teom ugm3'!D1111*'Teom grams'!$F1109*0.000000028317),\"\")","v":""},"","","","",null,"","","",null,"",""]
[null,null,{"$f":"IF('Teom ugm3'!A1112=\"\",\"\",C1109+1)","v":""},"",null,"",null,{"$f":"IF(ISNUMBER('Teom ugm3'!B1112),('Teom ugm3'!B1112*'Teom grams'!$F1110*0.000000028317),\"\")","v":""},{"$f":"IF(ISNUMBER('Teom ugm3'!C1112),('Teom ugm3'!C1112*'Teom grams'!$F1110*0.000000028317),\"\")","v":""},{"$f":"IF(ISNUMBER('Teom ugm3'!D1112),('Teom ugm3'!D1112*'Teom grams'!$F1110*0.000000028317),\"\")","v":""},"","","","",null,"","","",null,"",""]
[null,null,{"$f":"IF('Teom ugm3'!A1113=\"\",\"\",C1110+1)","v":""},"",null,"",null,{"$f":"IF(ISNUMBER('Teom ugm3'!B1113),('Teom ugm3'!B1113*'Teom grams'!$F1111*0.000000028317),\"\")","v":""},{"$f":"IF(ISNUMBER('Teom ugm3'!C1113),('Teom ugm3'!C1113*'Teom grams'!$F1111*0.000000028317),\"\")","v":""},{"$f":"IF(ISNUMBER('Teom ugm3'!D1113),('Teom ugm3'!D1113*'Teom grams'!$F1111*0.000000028317),\"\")","v":""},"","","","",null,"","","",null,"",""]
[null,null,{"$f":"IF('Teom ugm3'!A1114=\"\",\"\",C1111+1)","v":""},"",null,"",null,{"$f":"IF(ISNUMBER('Teom ugm3'!B1114),('Teom ugm3'!B1114*'Teom grams'!$F1112*0.000000028317),\"\")","v":""},{"$f":"IF(ISNUMBER('Teom ugm3'!C1114),('Teom ugm3'!C1114*'Teom grams'!$F1112*0.000000028317),\"\")","v":""},{"$f":"IF(ISNUMBER('Teom ugm3'!D1114),('Teom ugm3'!D1114*'Teom grams'!$F1112*0.000000028317),\"\")","v":""},"","","","",null,"","","",null,"",""]
[null,null,{"$f":"IF('Teom ugm3'!A1115=\"\",\"\",C1112+1)","v":""},"",null,"",null,{"$f":"IF(ISNUMBER('Teom ugm3'!B1115),('Teom ugm3'!B1115*'Teom grams'!$F1113*0.000000028317),\"\")","v":""},{"$f":"IF(ISNUMBER('Teom ugm3'!C1115),('Teom ugm3'!C1115*'Teom grams'!$F1113*0.000000028317),\"\")","v":""},{"$f":"IF(ISNUMBER('Teom ugm3'!D1115),('Teom ugm3'!D1115*'Teom grams'!$F1113*0.000000028317),\"\")","v":""},"","","","",null,"","","",null,"",""]
[null,null,{"$f":"IF('Teom ugm3'!A1116=\"\",\"\",C1113+1)","v":""},"",null,"",null,{"$f":"IF(ISNUMBER('Teom ugm3'!B1116),('Teom ugm3'!B1116*'Teom grams'!$F1114*0.000000028317),\"\")","v":""},{"$f":"IF(ISNUMBER('Teom ugm3'!C1116),('Teom ugm3'!C1116*'Teom grams'!$F1114*0.000000028317),\"\")","v":""},{"$f":"IF(ISNUMBER('Teom ugm3'!D1116),('Teom ugm3'!D1116*'Teom grams'!$F1114*0.000000028317),\"\")","v":""},"","","","",null,"","","",null,"",""]
[null,null,{"$f":"IF('Teom ugm3'!A1117=\"\",\"\",C1114+1)","v":""},"",null,"",null,{"$f":"IF(ISNUMBER('Teom ugm3'!B1117),('Teom ugm3'!B1117*'Teom grams'!$F1115*0.000000028317),\"\")","v":""},{"$f":"IF(ISNUMBER('Teom ugm3'!C1117),('Teom ugm3'!C1117*'Teom grams'!$F1115*0.000000028317),\"\")","v":""},{"$f":"IF(ISNUMBER('Teom ugm3'!D1117),('Teom ugm3'!D1117*'Teom grams'!$F1115*0.000000028317),\"\")","v":""},"","","","",null,"","","",null,"",""]
[null,null,{"$f":"IF('Teom ugm3'!A1118=\"\",\"\",C1115+1)","v":""},"",null,"",null,{"$f":"IF(ISNUMBER('Teom ugm3'!B1118),('Teom ugm3'!B1118*'Teom grams'!$F1116*0.000000028317),\"\")","v":""},{"$f":"IF(ISNUMBER('Teom ugm3'!C1118),('Teom ugm3'!C1118*'Teom grams'!$F1116*0.000000028317),\"\")","v":""},{"$f":"IF(ISNUMBER('Teom ugm3'!D1118),('Teom ugm3'!D1118*'Teom grams'!$F1116*0.000000028317),\"\")","v":""},"","","","",null,"","","",null,"",""]
[null,null,{"$f":"IF('Teom ugm3'!A1119=\"\",\"\",C1116+1)","v":""},"",null,"",null,{"$f":"IF(ISNUMBER('Teom ugm3'!B1119),('Teom ugm3'!B1119*'Teom grams'!$F1117*0.000000028317),\"\")","v":""},{"$f":"IF(ISNUMBER('Teom ugm3'!C1119),('Teom ugm3'!C1119*'Teom grams'!$F1117*0.000000028317),\"\")","v":""},{"$f":"IF(ISNUMBER('Teom ugm3'!D1119),('Teom ugm3'!D1119*'Teom grams'!$F1117*0.000000028317),\"\")","v":""},"","","","",null,"","","",null,"",""]
[null,null,{"$f":"IF('Teom ugm3'!A1120=\"\",\"\",C1117+1)","v":""},"",null,"",null,{"$f":"IF(ISNUMBER('Teom ugm3'!B1120),('Teom ugm3'!B1120*'Teom grams'!$F1118*0.000000028317),\"\")","v":""},{"$f":"IF(ISNUMBER('Teom ugm3'!C1120),('Teom ugm3'!C1120*'Teom grams'!$F1118*0.000000028317),\"\")","v":""},{"$f":"IF(ISNUMBER('Teom ugm3'!D1120),('Teom ugm3'!D1120*'Teom grams'!$F1118*0.000000028317),\"\")","v":""},"","","","",null,"","","",null,"",""]
[null,null,{"$f":"IF('Teom ugm3'!A1121=\"\",\"\",C1118+1)","v":""},"",null,"",null,{"$f":"IF(ISNUMBER('Teom ugm3'!B1121),('Teom ugm3'!B1121*'Teom grams'!$F1119*0.000000028317),\"\")","v":""},{"$f":"IF(ISNUMBER('Teom ugm3'!C1121),('Teom ugm3'!C1121*'Teom grams'!$F1119*0.000000028317),\"\")","v":""},{"$f":"IF(ISNUMBER('Teom ugm3'!D1121),('Teom ugm3'!D1121*'Teom grams'!$F1119*0.000000028317),\"\")","v":""},"","","","",null,"","","",null,"",""]
[null,null,{"$f":"IF('Teom ugm3'!A1122=\"\",\"\",C1119+1)","v":""},"",null,"",null,{"$f":"IF(ISNUMBER('Teom ugm3'!B1122),('Teom ugm3'!B1122*'Teom grams'!$F1120*0.000000028317),\"\")","v":""},{"$f":"IF(ISNUMBER('Teom ugm3'!C1122),('Teom ugm3'!C1122*'Teom grams'!$F1120*0.000000028317),\"\")","v":""},{"$f":"IF(ISNUMBER('Teom ugm3'!D1122),('Teom ugm3'!D1122*'Teom grams'!$F1120*0.000000028317),\"\")","v":""},"","","","",null,"","","",null,"",""]
[null,null,{"$f":"IF('Teom ugm3'!A1123=\"\",\"\",C1120+1)","v":""},"",null,"",null,{"$f":"IF(ISNUMBER('Teom ugm3'!B1123),('Teom ugm3'!B1123*'Teom grams'!$F1121*0.000000028317),\"\")","v":""},{"$f":"IF(ISNUMBER('Teom ugm3'!C1123),('Teom ugm3'!C1123*'Teom grams'!$F1121*0.000000028317),\"\")","v":""},{"$f":"IF(ISNUMBER('Teom ugm3'!D1123),('Teom ugm3'!D1123*'Teom grams'!$F1121*0.000000028317),\"\")","v":""},"","","","",null,"","","",null,"",""]
[null,null,{"$f":"IF('Teom ugm3'!A1124=\"\",\"\",C1121+1)","v":""},"",null,"",null,{"$f":"IF(ISNUMBER('Teom ugm3'!B1124),('Teom ugm3'!B1124*'Teom grams'!$F1122*0.000000028317),\"\")","v":""},{"$f":"IF(ISNUMBER('Teom ugm3'!C1124),('Teom ugm3'!C1124*'Teom grams'!$F1122*0.000000028317),\"\")","v":""},{"$f":"IF(ISNUMBER('Teom ugm3'!D1124),('Teom ugm3'!D1124*'Teom grams'!$F1122*0.000000028317),\"\")","v":""},"","","","",null,"","","",null,"",""]
[null,null,{"$f":"IF('Teom ugm3'!A1125=\"\",\"\",C1122+1)","v":""},"",null,"",null,{"$f":"IF(ISNUMBER('Teom ugm3'!B1125),('Teom ugm3'!B1125*'Teom grams'!$F1123*0.000000028317),\"\")","v":""},{"$f":"IF(ISNUMBER('Teom ugm3'!C1125),('Teom ugm3'!C1125*'Teom grams'!$F1123*0.000000028317),\"\")","v":""},{"$f":"IF(ISNUMBER('Teom ugm3'!D1125),('Teom ugm3'!D1125*'Teom grams'!$F1123*0.000000028317),\"\")","v":""},"","","","",null,"",{"$f":"IF(ISNUMBER(M1123),M1123*60,\"\")","v":""},{"$f":"IF(ISNUMBER(N1123),N1123*60,\"\")","v":""},null,{"$f":"IF(COUNT(C1123:C1182)>59,AVERAGE(P1123:P1182),\"\")","v":""},{"$f":"IF(COUNT(C1123:C1182)>59,AVERAGE(Q1123:Q1182),\"\")","v":""}]
[null,null,{"$f":"IF('Teom ugm3'!A1126=\"\",\"\",C1123+1)","v":""},"",null,"",null,{"$f":"IF(ISNUMBER('Teom ugm3'!B1126),('Teom ugm3'!B1126*'Teom grams'!$F1124*0.000000028317),\"\")","v":""},{"$f":"IF(ISNUMBER('Teom ugm3'!C1126),('Teom ugm3'!C1126*'Teom grams'!$F1124*0.000000028317),\"\")","v":""},{"$f":"IF(ISNUMBER('Teom ugm3'!D1126),('Teom ugm3'!D1126*'Teom grams'!$F1124*0.000000028317),\"\")","v":""},"","","","",null,"","","",null,"",""]
[null,null,{"$f":"IF('Teom ugm3'!A1127=\"\",\"\",C1124+1)","v":""},"",null,"",null,{"$f":"IF(ISNUMBER('Teom ugm3'!B1127),('Teom ugm3'!B1127*'Teom grams'!$F1125*0.000000028317),\"\")","v":""},{"$f":"IF(ISNUMBER('Teom ugm3'!C1127),('Teom ugm3'!C1127*'Teom grams'!$F1125*0.000000028317),\"\")","v":""},{"$f":"IF(ISNUMBER('Teom ugm3'!D1127),('Teom ugm3'!D1127*'Teom grams'!$F1125*0.000000028317),\"\")","v":""},"","","","",null,"","","",null,"",""]
[null,null,{"$f":"IF('Teom ugm3'!A1128=\"\",\"\",C1125+1)","v":""},"",null,"",null,{"$f":"IF(ISNUMBER('Teom ugm3'!B1128),('Teom ugm3'!B1128*'Teom grams'!$F1126*0.000000028317),\"\")","v":""},{"$f":"IF(ISNUMBER('Teom ugm3'!C1128),('Teom ugm3'!C1128*'Teom grams'!$F1126*0.000000028317),\"\")","v":""},{"$f":"IF(ISNUMBER('Teom ugm3'!D1128),('Teom ugm3'!D1128*'Teom grams'!$F1126*0.000000028317),\"\")","v":""},"","","","",null,"","","",null,"",""]
[null,null,{"$f":"IF('Teom ugm3'!A1129=\"\",\"\",C1126+1)","v":""},"",null,"",null,{"$f":"IF(ISNUMBER('Teom ugm3'!B1129),('Teom ugm3'!B1129*'Teom grams'!$F1127*0.000000028317),\"\")","v":""},{"$f":"IF(ISNUMBER('Teom ugm3'!C1129),('Teom ugm3'!C1129*'Teom grams'!$F1127*0.000000028317),\"\")","v":""},{"$f":"IF(ISNUMBER('Teom ugm3'!D1129),('Teom ugm3'!D1129*'Teom grams'!$F1127*0.000000028317),\"\")","v":""},"","","","",null,"","","",null,"",""]
[null,null,{"$f":"IF('Teom ugm3'!A1130=\"\",\"\",C1127+1)","v":""},"",null,"",null,{"$f":"IF(ISNUMBER('Teom ugm3'!B1130),('Teom ugm3'!B1130*'Teom grams'!$F1128*0.000000028317),\"\")","v":""},{"$f":"IF(ISNUMBER('Teom ugm3'!C1130),('Teom ugm3'!C1130*'Teom grams'!$F1128*0.000000028317),\"\")","v":""},{"$f":"IF(ISNUMBER('Teom ugm3'!D1130),('Teom ugm3'!D1130*'Teom grams'!$F1128*0.000000028317),\"\")","v":""},"","","","",null,"","","",null,"",""]
[null,null,{"$f":"IF('Teom ugm3'!A1131=\"\",\"\",C1128+1)","v":""},"",null,"",null,{"$f":"IF(ISNUMBER('Teom ugm3'!B1131),('Teom ugm3'!B1131*'Teom grams'!$F1129*0.000000028317),\"\")","v":""},{"$f":"IF(ISNUMBER('Teom ugm3'!C1131),('Teom ugm3'!C1131*'Teom grams'!$F1129*0.000000028317),\"\")","v":""},{"$f":"IF(ISNUMBER('Teom ugm3'!D1131),('Teom ugm3'!D1131*'Teom grams'!$F1129*0.000000028317),\"\")","v":""},"","","","",null,"","","",null,"",""]
[null,null,{"$f":"IF('Teom ugm3'!A1132=\"\",\"\",C1129+1)","v":""},"",null,"",null,{"$f":"IF(ISNUMBER('Teom ugm3'!B1132),('Teom ugm3'!B1132*'Teom grams'!$F1130*0.000000028317),\"\")","v":""},{"$f":"IF(ISNUMBER('Teom ugm3'!C1132),('Teom ugm3'!C1132*'Teom grams'!$F1130*0.000000028317),\"\")","v":""},{"$f":"IF(ISNUMBER('Teom ugm3'!D1132),('Teom ugm3'!D1132*'Teom grams'!$F1130*0.000000028317),\"\")","v":""},"","","","",null,"","","",null,"",""]
[null,null,{"$f":"IF('Teom ugm3'!A1133=\"\",\"\",C1130+1)","v":""},"",null,"",null,{"$f":"IF(ISNUMBER('Teom ugm3'!B1133),('Teom ugm3'!B1133*'Teom grams'!$F1131*0.000000028317),\"\")","v":""},{"$f":"IF(ISNUMBER('Teom ugm3'!C1133),('Teom ugm3'!C1133*'Teom grams'!$F1131*0.000000028317),\"\")","v":""},{"$f":"IF(ISNUMBER('Teom ugm3'!D1133),('Teom ugm3'!D1133*'Teom grams'!$F1131*0.000000028317),\"\")","v":""},"","","","",null,"","","",null,"",""]
[null,null,{"$f":"IF('Teom ugm3'!A1134=\"\",\"\",C1131+1)","v":""},"",null,"",null,{"$f":"IF(ISNUMBER('Teom ugm3'!B1134),('Teom ugm3'!B1134*'Teom grams'!$F1132*0.000000028317),\"\")","v":""},{"$f":"IF(ISNUMBER('Teom ugm3'!C1134),('Teom ugm3'!C1134*'Teom grams'!$F1132*0.000000028317),\"\")","v":""},{"$f":"IF(ISNUMBER('Teom ugm3'!D1134),('Teom ugm3'!D1134*'Teom grams'!$F1132*0.000000028317),\"\")","v":""},"","","","",null,"","","",null,"",""]
[null,null,{"$f":"IF('Teom ugm3'!A1135=\"\",\"\",C1132+1)","v":""},"",null,"",null,{"$f":"IF(ISNUMBER('Teom ugm3'!B1135),('Teom ugm3'!B1135*'Teom grams'!$F1133*0.000000028317),\"\")","v":""},{"$f":"IF(ISNUMBER('Teom ugm3'!C1135),('Teom ugm3'!C1135*'Teom grams'!$F1133*0.000000028317),\"\")","v":""},{"$f":"IF(ISNUMBER('Teom ugm3'!D1135),('Teom ugm3'!D1135*'Teom grams'!$F1133*0.000000028317),\"\")","v":""},"","","","",null,"","","",null,"",""]
[null,null,{"$f":"IF('Teom ugm3'!A1136=\"\",\"\",C1133+1)","v":""},"",null,"",null,{"$f":"IF(ISNUMBER('Teom ugm3'!B1136),('Teom ugm3'!B1136*'Teom grams'!$F1134*0.000000028317),\"\")","v":""},{"$f":"IF(ISNUMBER('Teom ugm3'!C1136),('Teom ugm3'!C1136*'Teom grams'!$F1134*0.000000028317),\"\")","v":""},{"$f":"IF(ISNUMBER('Teom ugm3'!D1136),('Teom ugm3'!D1136*'Teom grams'!$F1134*0.000000028317),\"\")","v":""},"","","","",null,"","","",null,"",""]
[null,null,{"$f":"IF('Teom ugm3'!A1137=\"\",\"\",C1134+1)","v":""},"",null,"",null,{"$f":"IF(ISNUMBER('Teom ugm3'!B1137),('Teom ugm3'!B1137*'Teom grams'!$F1135*0.000000028317),\"\")","v":""},{"$f":"IF(ISNUMBER('Teom ugm3'!C1137),('Teom ugm3'!C1137*'Teom grams'!$F1135*0.000000028317),\"\")","v":""},{"$f":"IF(ISNUMBER('Teom ugm3'!D1137),('Teom ugm3'!D1137*'Teom grams'!$F1135*0.000000028317),\"\")","v":""},"","","","",null,"","","",null,"",""]
[null,null,{"$f":"IF('Teom ugm3'!A1138=\"\",\"\",C1135+1)","v":""},"",null,"",null,{"$f":"IF(ISNUMBER('Teom ugm3'!B1138),('Teom ugm3'!B1138*'Teom grams'!$F1136*0.000000028317),\"\")","v":""},{"$f":"IF(ISNUMBER('Teom ugm3'!C1138),('Teom ugm3'!C1138*'Teom grams'!$F1136*0.000000028317),\"\")","v":""},{"$f":"IF(ISNUMBER('Teom ugm3'!D1138),('Teom ugm3'!D1138*'Teom grams'!$F1136*0.000000028317),\"\")","v":""},"","","","",null,"","","",null,"",""]
[null,null,{"$f":"IF('Teom ugm3'!A1139=\"\",\"\",C1136+1)","v":""},"",null,"",null,{"$f":"IF(ISNUMBER('Teom ugm3'!B1139),('Teom ugm3'!B1139*'Teom grams'!$F1137*0.000000028317),\"\")","v":""},{"$f":"IF(ISNUMBER('Teom ugm3'!C1139),('Teom ugm3'!C1139*'Teom grams'!$F1137*0.000000028317),\"\")","v":""},{"$f":"IF(ISNUMBER('Teom ugm3'!D1139),('Teom ugm3'!D1139*'Teom grams'!$F1137*0.000000028317),\"\")","v":""},"","","","",null,"","","",null,"",""]
[null,null,{"$f":"IF('Teom ugm3'!A1140=\"\",\"\",C1137+1)","v":""},"",null,"",null,{"$f":"IF(ISNUMBER('Teom ugm3'!B1140),('Teom ugm3'!B1140*'Teom grams'!$F1138*0.000000028317),\"\")","v":""},{"$f":"IF(ISNUMBER('Teom ugm3'!C1140),('Teom ugm3'!C1140*'Teom grams'!$F1138*0.000000028317),\"\")","v":""},{"$f":"IF(ISNUMBER('Teom ugm3'!D1140),('Teom ugm3'!D1140*'Teom grams'!$F1138*0.000000028317),\"\")","v":""},"","","","",null,"","","",null,"",""]
[null,null,{"$f":"IF('Teom ugm3'!A1141=\"\",\"\",C1138+1)","v":""},"",null,"",null,{"$f":"IF(ISNUMBER('Teom ugm3'!B1141),('Teom ugm3'!B1141*'Teom grams'!$F1139*0.000000028317),\"\")","v":""},{"$f":"IF(ISNUMBER('Teom ugm3'!C1141),('Teom ugm3'!C1141*'Teom grams'!$F1139*0.000000028317),\"\")","v":""},{"$f":"IF(ISNUMBER('Teom ugm3'!D1141),('Teom ugm3'!D1141*'Teom grams'!$F1139*0.000000028317),\"\")","v":""},"","","","",null,"","","",null,"",""]
[null,null,{"$f":"IF('Teom ugm3'!A1142=\"\",\"\",C1139+1)","v":""},"",null,"",null,{"$f":"IF(ISNUMBER('Teom ugm3'!B1142),('Teom ugm3'!B1142*'Teom grams'!$F1140*0.000000028317),\"\")","v":""},{"$f":"IF(ISNUMBER('Teom ugm3'!C1142),('Teom ugm3'!C1142*'Teom grams'!$F1140*0.000000028317),\"\")","v":""},{"$f":"IF(ISNUMBER('Teom ugm3'!D1142),('Teom ugm3'!D1142*'Teom grams'!$F1140*0.000000028317),\"\")","v":""},"","","","",null,"","","",null,"",""]
[null,null,{"$f":"IF('Teom ugm3'!A1143=\"\",\"\",C1140+1)","v":""},"",null,"",null,{"$f":"IF(ISNUMBER('Teom ugm3'!B1143),('Teom ugm3'!B1143*'Teom grams'!$F1141*0.000000028317),\"\")","v":""},{"$f":"IF(ISNUMBER('Teom ugm3'!C1143),('Teom ugm3'!C1143*'Teom grams'!$F1141*0.000000028317),\"\")","v":""},{"$f":"IF(ISNUMBER('Teom ugm3'!D1143),('Teom ugm3'!D1143*'Teom grams'!$F1141*0.000000028317),\"\")","v":""},"","","","",null,"","","",null,"",""]
[null,null,{"$f":"IF('Teom ugm3'!A1144=\"\",\"\",C1141+1)","v":""},"",null,"",null,{"$f":"IF(ISNUMBER('Teom ugm3'!B1144),('Teom ugm3'!B1144*'Teom grams'!$F1142*0.000000028317),\"\")","v":""},{"$f":"IF(ISNUMBER('Teom ugm3'!C1144),('Teom ugm3'!C1144*'Teom grams'!$F1142*0.000000028317),\"\")","v":""},{"$f":"IF(ISNUMBER('Teom ugm3'!D1144),('Teom ugm3'!D1144*'Teom grams'!$F1142*0.000000028317),\"\")","v":""},"","","","",null,"","","",null,"",""]
[null,null,{"$f":"IF('Teom ugm3'!A1145=\"\",\"\",C1142+1)","v":""},"",null,"",null,{"$f":"IF(ISNUMBER('Teom ugm3'!B1145),('Teom ugm3'!B1145*'Teom grams'!$F1143*0.000000028317),\"\")","v":""},{"$f":"IF(ISNUMBER('Teom ugm3'!C1145),('Teom ugm3'!C1145*'Teom grams'!$F1143*0.000000028317),\"\")","v":""},{"$f":"IF(ISNUMBER('Teom ugm3'!D1145),('Teom ugm3'!D1145*'Teom grams'!$F1143*0.000000028317),\"\")","v":""},"","","","",null,"","","",null,"",""]
[null,null,{"$f":"IF('Teom ugm3'!A1146=\"\",\"\",C1143+1)","v":""},"",null,"",null,{"$f":"IF(ISNUMBER('Teom ugm3'!B1146),('Teom ugm3'!B1146*'Teom grams'!$F1144*0.000000028317),\"\")","v":""},{"$f":"IF(ISNUMBER('Teom ugm3'!C1146),('Teom ugm3'!C1146*'Teom grams'!$F1144*0.000000028317),\"\")","v":""},{"$f":"IF(ISNUMBER('Teom ugm3'!D1146),('Teom ugm3'!D1146*'Teom grams'!$F1144*0.000000028317),\"\")","v":""},"","","","",null,"","","",null,"",""]
[null,null,{"$f":"IF('Teom ugm3'!A1147=\"\",\"\",C1144+1)","v":""},"",null,"",null,{"$f":"IF(ISNUMBER('Teom ugm3'!B1147),('Teom ugm3'!B1147*'Teom grams'!$F1145*0.000000028317),\"\")","v":""},{"$f":"IF(ISNUMBER('Teom ugm3'!C1147),('Teom ugm3'!C1147*'Teom grams'!$F1145*0.000000028317),\"\")","v":""},{"$f":"IF(ISNUMBER('Teom ugm3'!D1147),('Teom ugm3'!D1147*'Teom grams'!$F1145*0.000000028317),\"\")","v":""},"","","","",null,"","","",null,"",""]
[null,null,{"$f":"IF('Teom ugm3'!A1148=\"\",\"\",C1145+1)","v":""},"",null,"",null,{"$f":"IF(ISNUMBER('Teom ugm3'!B1148),('Teom ugm3'!B1148*'Teom grams'!$F1146*0.000000028317),\"\")","v":""},{"$f":"IF(ISNUMBER('Teom ugm3'!C1148),('Teom ugm3'!C1148*'Teom grams'!$F1146*0.000000028317),\"\")","v":""},{"$f":"IF(ISNUMBER('Teom ugm3'!D1148),('Teom ugm3'!D1148*'Teom grams'!$F1146*0.000000028317),\"\")","v":""},"","","","",null,"","","",null,"",""]
[null,null,{"$f":"IF('Teom ugm3'!A1149=\"\",\"\",C1146+1)","v":""},"",null,"",null,{"$f":"IF(ISNUMBER('Teom ugm3'!B1149),('Teom ugm3'!B1149*'Teom grams'!$F1147*0.000000028317),\"\")","v":""},{"$f":"IF(ISNUMBER('Teom ugm3'!C1149),('Teom ugm3'!C1149*'Teom grams'!$F1147*0.000000028317),\"\")","v":""},{"$f":"IF(ISNUMBER('Teom ugm3'!D1149),('Teom ugm3'!D1149*'Teom grams'!$F1147*0.000000028317),\"\")","v":""},"","","","",null,"","","",null,"",""]
[null,null,{"$f":"IF('Teom ugm3'!A1150=\"\",\"\",C1147+1)","v":""},"",null,"",null,{"$f":"IF(ISNUMBER('Teom ugm3'!B1150),('Teom ugm3'!B1150*'Teom grams'!$F1148*0.000000028317),\"\")","v":""},{"$f":"IF(ISNUMBER('Teom ugm3'!C1150),('Teom ugm3'!C1150*'Teom grams'!$F1148*0.000000028317),\"\")","v":""},{"$f":"IF(ISNUMBER('Teom ugm3'!D1150),('Teom ugm3'!D1150*'Teom grams'!$F1148*0.000000028317),\"\")","v":""},"","","","",null,"","","",null,"",""]
[null,null,{"$f":"IF('Teom ugm3'!A1151=\"\",\"\",C1148+1)","v":""},"",null,"",null,{"$f":"IF(ISNUMBER('Teom ugm3'!B1151),('Teom ugm3'!B1151*'Teom grams'!$F1149*0.000000028317),\"\")","v":""},{"$f":"IF(ISNUMBER('Teom ugm3'!C1151),('Teom ugm3'!C1151*'Teom grams'!$F1149*0.000000028317),\"\")","v":""},{"$f":"IF(ISNUMBER('Teom ugm3'!D1151),('Teom ugm3'!D1151*'Teom grams'!$F1149*0.000000028317),\"\")","v":""},"","","","",null,"","","",null,"",""]
[null,null,{"$f":"IF('Teom ugm3'!A1152=\"\",\"\",C1149+1)","v":""},"",null,"",null,{"$f":"IF(ISNUMBER('Teom ugm3'!B1152),('Teom ugm3'!B1152*'Teom grams'!$F1150*0.000000028317),\"\")","v":""},{"$f":"IF(ISNUMBER('Teom ugm3'!C1152),('Teom ugm3'!C1152*'Teom grams'!$F1150*0.000000028317),\"\")","v":""},{"$f":"IF(ISNUMBER('Teom ugm3'!D1152),('Teom ugm3'!D1152*'Teom grams'!$F1150*0.000000028317),\"\")","v":""},"","","","",null,"","","",null,"",""]
[null,null,{"$f":"IF('Teom ugm3'!A1153=\"\",\"\",C1150+1)","v":""},"",null,"",null,{"$f":"IF(ISNUMBER('Teom ugm3'!B1153),('Teom ugm3'!B1153*'Teom grams'!$F1151*0.000000028317),\"\")","v":""},{"$f":"IF(ISNUMBER('Teom ugm3'!C1153),('Teom ugm3'!C1153*'Teom grams'!$F1151*0.000000028317),\"\")","v":""},{"$f":"IF(ISNUMBER('Teom ugm3'!D1153),('Teom ugm3'!D1153*'Teom grams'!$F1151*0.000000028317),\"\")","v":""},"","","","",null,"","","",null,"",""]
[null,null,{"$f":"IF('Teom ugm3'!A1154=\"\",\"\",C1151+1)","v":""},"",null,"",null,{"$f":"IF(ISNUMBER('Teom ugm3'!B1154),('Teom ugm3'!B1154*'Teom grams'!$F1152*0.000000028317),\"\")","v":""},{"$f":"IF(ISNUMBER('Teom ugm3'!C1154),('Teom ugm3'!C1154*'Teom grams'!$F1152*0.000000028317),\"\")","v":""},{"$f":"IF(ISNUMBER('Teom ugm3'!D1154),('Teom ugm3'!D1154*'Teom grams'!$F1152*0.000000028317),\"\")","v":""},"","","","",null,"","","",null,"",""]
[null,null,{"$f":"IF('Teom ugm3'!A1155=\"\",\"\",C1152+1)","v":""},"",null,"",null,{"$f":"IF(ISNUMBER('Teom ugm3'!B1155),('Teom ugm3'!B1155*'Teom grams'!$F1153*0.000000028317),\"\")","v":""},{"$f":"IF(ISNUMBER('Teom ugm3'!C1155),('Teom ugm3'!C1155*'Teom grams'!$F1153*0.000000028317),\"\")","v":""},{"$f":"IF(ISNUMBER('Teom ugm3'!D1155),('Teom ugm3'!D1155*'Teom grams'!$F1153*0.000000028317),\"\")","v":""},"","","","",null,"","","",null,"",""]
[null,null,{"$f":"IF('Teom ugm3'!A1156=\"\",\"\",C1153+1)","v":""},"",null,"",null,{"$f":"IF(ISNUMBER('Teom ugm3'!B1156),('Teom ugm3'!B1156*'Teom grams'!$F1154*0.000000028317),\"\")","v":""},{"$f":"IF(ISNUMBER('Teom ugm3'!C1156),('Teom ugm3'!C1156*'Teom grams'!$F1154*0.000000028317),\"\")","v":""},{"$f":"IF(ISNUMBER('Teom ugm3'!D1156),('Teom ugm3'!D1156*'Teom grams'!$F1154*0.000000028317),\"\")","v":""},"","","","",null,"","","",null,"",""]
[null,null,{"$f":"IF('Teom ugm3'!A1157=\"\",\"\",C1154+1)","v":""},"",null,"",null,{"$f":"IF(ISNUMBER('Teom ugm3'!B1157),('Teom ugm3'!B1157*'Teom grams'!$F1155*0.000000028317),\"\")","v":""},{"$f":"IF(ISNUMBER('Teom ugm3'!C1157),('Teom ugm3'!C1157*'Teom grams'!$F1155*0.000000028317),\"\")","v":""},{"$f":"IF(ISNUMBER('Teom ugm3'!D1157),('Teom ugm3'!D1157*'Teom grams'!$F1155*0.000000028317),\"\")","v":""},"","","","",null,"","","",null,"",""]
[null,null,{"$f":"IF('Teom ugm3'!A1158=\"\",\"\",C1155+1)","v":""},"",null,"",null,{"$f":"IF(ISNUMBER('Teom ugm3'!B1158),('Teom ugm3'!B1158*'Teom grams'!$F1156*0.000000028317),\"\")","v":""},{"$f":"IF(ISNUMBER('Teom ugm3'!C1158),('Teom ugm3'!C1158*'Teom grams'!$F1156*0.000000028317),\"\")","v":""},{"$f":"IF(ISNUMBER('Teom ugm3'!D1158),('Teom ugm3'!D1158*'Teom grams'!$F1156*0.000000028317),\"\")","v":""},"","","",{"$f":"M1156","v":""},null,"","","",null,"",""]
[null,null,{"$f":"IF('Teom ugm3'!A1159=\"\",\"\",C1156+1)","v":""},"",null,{"$f":"IF(C1157=\"\",\"\",E1157*1.02041)","v":""},null,{"$f":"IF(ISNUMBER('Teom ugm3'!B1159),('Teom ugm3'!B1159*'Teom grams'!$F1157*0.000000028317),\"\")","v":""},{"$f":"IF(ISNUMBER('Teom ugm3'!C1159),('Teom ugm3'!C1159*'Teom grams'!$F1157*0.000000028317),\"\")","v":""},{"$f":"IF(ISNUMBER('Teom ugm3'!D1159),('Teom ugm3'!D1159*'Teom grams'!$F1157*0.000000028317),\"\")","v":""},{"$f":"IF(H1157<0,0,H1157)","v":""},"","","",null,{"$f":"IF(ISNUMBER(J1157),J1157*60,\"\")","v":""},"","",null,"",""]
[null,null,{"$f":"IF('Teom ugm3'!A1160=\"\",\"\",C1157+1)","v":""},{"$f":"IF(C1158=\"\",\"\",D1157 + TIME(0, 1, 0))","v":""},null,"",null,{"$f":"IF(ISNUMBER('Teom ugm3'!B1160),('Teom ugm3'!B1160*'Teom grams'!$F1158*0.000000028317),\"\")","v":""},{"$f":"IF(ISNUMBER('Teom ugm3'!C1160),('Teom ugm3'!C1160*'Teom grams'!$F1158*0.000000028317),\"\")","v":""},{"$f":"IF(ISNUMBER('Teom ugm3'!D1160),('Teom ugm3'!D1160*'Teom grams'!$F1158*0.000000028317),\"\")","v":""},"","","","",null,"","","",null,"",""]
[null,null,{"$f":"IF('Teom ugm3'!A1161=\"\",\"\",C1158+1)","v":""},"",null,"",null,{"$f":"IF(ISNUMBER('Teom ugm3'!B1161),('Teom ugm3'!B1161*'Teom grams'!$F1159*0.000000028317),\"\")","v":""},{"$f":"IF(ISNUMBER('Teom ugm3'!C1161),('Teom ugm3'!C1161*'Teom grams'!$F1159*0.000000028317),\"\")","v":""},{"$f":"IF(ISNUMBER('Teom ugm3'!D1161),('Teom ugm3'!D1161*'Teom grams'!$F1159*0.000000028317),\"\")","v":""},"","","","",null,"","","",null,"",""]
[null,null,{"$f":"IF('Teom ugm3'!A1162=\"\",\"\",C1159+1)","v":""},"",null,"",null,{"$f":"IF(ISNUMBER('Teom ugm3'!B1162),('Teom ugm3'!B1162*'Teom grams'!$F1160*0.000000028317),\"\")","v":""},{"$f":"IF(ISNUMBER('Teom ugm3'!C1162),('Teom ugm3'!C1162*'Teom grams'!$F1160*0.000000028317),\"\")","v":""},{"$f":"IF(ISNUMBER('Teom ugm3'!D1162),('Teom ugm3'!D1162*'Teom grams'!$F1160*0.000000028317),\"\")","v":""},"","","","",null,"","","",null,"",""]
[null,null,{"$f":"IF('Teom ugm3'!A1163=\"\",\"\",C1160+1)","v":""},"",null,"",null,{"$f":"IF(ISNUMBER('Teom ugm3'!B1163),('Teom ugm3'!B1163*'Teom grams'!$F1161*0.000000028317),\"\")","v":""},{"$f":"IF(ISNUMBER('Teom ugm3'!C1163),('Teom ugm3'!C1163*'Teom grams'!$F1161*0.000000028317),\"\")","v":""},{"$f":"IF(ISNUMBER('Teom ugm3'!D1163),('Teom ugm3'!D1163*'Teom grams'!$F1161*0.000000028317),\"\")","v":""},"","","","",null,"","","",null,"",""]
[null,null,{"$f":"IF('Teom ugm3'!A1164=\"\",\"\",C1161+1)","v":""},"",null,"",null,{"$f":"IF(ISNUMBER('Teom ugm3'!B1164),('Teom ugm3'!B1164*'Teom grams'!$F1162*0.000000028317),\"\")","v":""},{"$f":"IF(ISNUMBER('Teom ugm3'!C1164),('Teom ugm3'!C1164*'Teom grams'!$F1162*0.000000028317),\"\")","v":""},{"$f":"IF(ISNUMBER('Teom ugm3'!D1164),('Teom ugm3'!D1164*'Teom grams'!$F1162*0.000000028317),\"\")","v":""},"","","","",null,"","","",null,"",""]
[null,null,{"$f":"IF('Teom ugm3'!A1165=\"\",\"\",C1162+1)","v":""},"",null,"",null,{"$f":"IF(ISNUMBER('Teom ugm3'!B1165),('Teom ugm3'!B1165*'Teom grams'!$F1163*0.000000028317),\"\")","v":""},{"$f":"IF(ISNUMBER('Teom ugm3'!C1165),('Teom ugm3'!C1165*'Teom grams'!$F1163*0.000000028317),\"\")","v":""},{"$f":"IF(ISNUMBER('Teom ugm3'!D1165),('Teom ugm3'!D1165*'Teom grams'!$F1163*0.000000028317),\"\")","v":""},"","",{"$f":"IF(COUNT(K1163:L1163)>0,AVERAGE(K1163:L1163),\"\")","v":""},"",null,"","","",null,"",""]
[null,null,{"$f":"IF('Teom ugm3'!A1166=\"\",\"\",C1163+1)","v":""},"",null,"",null,{"$f":"IF(ISNUMBER('Teom ugm3'!B1166),('Teom ugm3'!B1166*'Teom grams'!$F1164*0.000000028317),\"\")","v":""},{"$f":"IF(ISNUMBER('Teom ugm3'!C1166),('Teom ugm3'!C1166*'Teom grams'!$F1164*0.000000028317),\"\")","v":""},{"$f":"IF(ISNUMBER('Teom ugm3'!D1166),('Teom ugm3'!D1166*'Teom grams'!$F1164*0.000000028317),\"\")","v":""},"","","","",null,"","","",null,"",""]
[null,null,{"$f":"IF('Teom ugm3'!A1167=\"\",\"\",C1164+1)","v":""},"",null,"",null,{"$f":"IF(ISNUMBER('Teom ugm3'!B1167),('Teom ugm3'!B1167*'Teom grams'!$F1165*0.000000028317),\"\")","v":""},{"$f":"IF(ISNUMBER('Teom ugm3'!C1167),('Teom ugm3'!C1167*'Teom grams'!$F1165*0.000000028317),\"\")","v":""},{"$f":"IF(ISNUMBER('Teom ugm3'!D1167),('Teom ugm3'!D1167*'Teom grams'!$F1165*0.000000028317),\"\")","v":""},"","","","",null,"","","",null,"",""]
[null,null,{"$f":"IF('Teom ugm3'!A1168=\"\",\"\",C1165+1)","v":""},"",null,"",null,{"$f":"IF(ISNUMBER('Teom ugm3'!B1168),('Teom ugm3'!B1168*'Teom grams'!$F1166*0.000000028317),\"\")","v":""},{"$f":"IF(ISNUMBER('Teom ugm3'!C1168),('Teom ugm3'!C1168*'Teom grams'!$F1166*0.000000028317),\"\")","v":""},{"$f":"IF(ISNUMBER('Teom ugm3'!D1168),('Teom ugm3'!D1168*'Teom grams'!$F1166*0.000000028317),\"\")","v":""},"","","","",null,"","","",null,"",""]
[null,null,{"$f":"IF('Teom ugm3'!A1169=\"\",\"\",C1166+1)","v":""},"",null,"",null,{"$f":"IF(ISNUMBER('Teom ugm3'!B1169),('Teom ugm3'!B1169*'Teom grams'!$F1167*0.000000028317),\"\")","v":""},{"$f":"IF(ISNUMBER('Teom ugm3'!C1169),('Teom ugm3'!C1169*'Teom grams'!$F1167*0.000000028317),\"\")","v":""},{"$f":"IF(ISNUMBER('Teom ugm3'!D1169),('Teom ugm3'!D1169*'Teom grams'!$F1167*0.000000028317),\"\")","v":""},"","","","",null,"","","",null,"",""]
[null,null,{"$f":"IF('Teom ugm3'!A1170=\"\",\"\",C1167+1)","v":""},"",null,"",null,{"$f":"IF(ISNUMBER('Teom ugm3'!B1170),('Teom ugm3'!B1170*'Teom grams'!$F1168*0.000000028317),\"\")","v":""},{"$f":"IF(ISNUMBER('Teom ugm3'!C1170),('Teom ugm3'!C1170*'Teom grams'!$F1168*0.000000028317),\"\")","v":""},{"$f":"IF(ISNUMBER('Teom ugm3'!D1170),('Teom ugm3'!D1170*'Teom grams'!$F1168*0.000000028317),\"\")","v":""},"","","","",null,"","","",null,"",""]
[null,null,{"$f":"IF('Teom ugm3'!A1171=\"\",\"\",C1168+1)","v":""},"",null,"",null,{"$f":"IF(ISNUMBER('Teom ugm3'!B1171),('Teom ugm3'!B1171*'Teom grams'!$F1169*0.000000028317),\"\")","v":""},{"$f":"IF(ISNUMBER('Teom ugm3'!C1171),('Teom ugm3'!C1171*'Teom grams'!$F1169*0.000000028317),\"\")","v":""},{"$f":"IF(ISNUMBER('Teom ugm3'!D1171),('Teom ugm3'!D1171*'Teom grams'!$F1169*0.000000028317),\"\")","v":""},"","","","",null,"","","",null,"",""]
[null,null,{"$f":"IF('Teom ugm3'!A1172=\"\",\"\",C1169+1)","v":""},"",null,"",null,{"$f":"IF(ISNUMBER('Teom ugm3'!B1172),('Teom ugm3'!B1172*'Teom grams'!$F1170*0.000000028317),\"\")","v":""},{"$f":"IF(ISNUMBER('Teom ugm3'!C1172),('Teom ugm3'!C1172*'Teom grams'!$F1170*0.000000028317),\"\")","v":""},{"$f":"IF(ISNUMBER('Teom ugm3'!D1172),('Teom ugm3'!D1172*'Teom grams'!$F1170*0.000000028317),\"\")","v":""},"","","","",null,"","","",null,"",""]
[null,null,{"$f":"IF('Teom ugm3'!A1173=\"\",\"\",C1170+1)","v":""},"",null,"",null,{"$f":"IF(ISNUMBER('Teom ugm3'!B1173),('Teom ugm3'!B1173*'Teom grams'!$F1171*0.000000028317),\"\")","v":""},{"$f":"IF(ISNUMBER('Teom ugm3'!C1173),('Teom ugm3'!C1173*'Teom grams'!$F1171*0.000000028317),\"\")","v":""},{"$f":"IF(ISNUMBER('Teom ugm3'!D1173),('Teom ugm3'!D1173*'Teom grams'!$F1171*0.000000028317),\"\")","v":""},"","","","",null,"","","",null,"",""]
[null,null,{"$f":"IF('Teom ugm3'!A1174=\"\",\"\",C1171+1)","v":""},"",null,"",null,{"$f":"IF(ISNUMBER('Teom ugm3'!B1174),('Teom ugm3'!B1174*'Teom grams'!$F1172*0.000000028317),\"\")","v":""},{"$f":"IF(ISNUMBER('Teom ugm3'!C1174),('Teom ugm3'!C1174*'Teom grams'!$F1172*0.000000028317),\"\")","v":""},{"$f":"IF(ISNUMBER('Teom ugm3'!D1174),('Teom ugm3'!D1174*'Teom grams'!$F1172*0.000000028317),\"\")","v":""},"","","","",null,"","","",null,"",""]
[null,null,{"$f":"IF('Teom ugm3'!A1175=\"\",\"\",C1172+1)","v":""},"",null,"",null,{"$f":"IF(ISNUMBER('Teom ugm3'!B1175),('Teom ugm3'!B1175*'Teom grams'!$F1173*0.000000028317),\"\")","v":""},{"$f":"IF(ISNUMBER('Teom ugm3'!C1175),('Teom ugm3'!C1175*'Teom grams'!$F1173*0.000000028317),\"\")","v":""},{"$f":"IF(ISNUMBER('Teom ugm3'!D1175),('Teom ugm3'!D1175*'Teom grams'!$F1173*0.000000028317),\"\")","v":""},"","","","",null,"","","",null,"",""]
[null,null,{"$f":"IF('Teom ugm3'!A1176=\"\",\"\",C1173+1)","v":""},"",null,"",null,{"$f":"IF(ISNUMBER('Teom ugm3'!B1176),('Teom ugm3'!B1176*'Teom grams'!$F1174*0.000000028317),\"\")","v":""},{"$f":"IF(ISNUMBER('Teom ugm3'!C1176),('Teom ugm3'!C1176*'Teom grams'!$F1174*0.000000028317),\"\")","v":""},{"$f":"IF(ISNUMBER('Teom ugm3'!D1176),('Teom ugm3'!D1176*'Teom grams'!$F1174*0.000000028317),\"\")","v":""},"","","","",null,"","","",null,"",""]
[null,null,{"$f":"IF('Teom ugm3'!A1177=\"\",\"\",C1174+1)","v":""},"",null,"",null,{"$f":"IF(ISNUMBER('Teom ugm3'!B1177),('Teom ugm3'!B1177*'Teom grams'!$F1175*0.000000028317),\"\")","v":""},{"$f":"IF(ISNUMBER('Teom ugm3'!C1177),('Teom ugm3'!C1177*'Teom grams'!$F1175*0.000000028317),\"\")","v":""},{"$f":"IF(ISNUMBER('Teom ugm3'!D1177),('Teom ugm3'!D1177*'Teom grams'!$F1175*0.000000028317),\"\")","v":""},"","","","",null,"","","",null,"",""]
[null,null,{"$f":"IF('Teom ugm3'!A1178=\"\",\"\",C1175+1)","v":""},"",null,"",null,{"$f":"IF(ISNUMBER('Teom ugm3'!B1178),('Teom ugm3'!B1178*'Teom grams'!$F1176*0.000000028317),\"\")","v":""},{"$f":"IF(ISNUMBER('Teom ugm3'!C1178),('Teom ugm3'!C1178*'Teom grams'!$F1176*0.000000028317),\"\")","v":""},{"$f":"IF(ISNUMBER('Teom ugm3'!D1178),('Teom ugm3'!D1178*'Teom grams'!$F1176*0.000000028317),\"\")","v":""},"","","","",null,"","","",null,"",""]
[null,null,{"$f":"IF('Teom ugm3'!A1179=\"\",\"\",C1176+1)","v":""},"",null,"",null,{"$f":"IF(ISNUMBER('Teom ugm3'!B1179),('Teom ugm3'!B1179*'Teom grams'!$F1177*0.000000028317),\"\")","v":""},{"$f":"IF(ISNUMBER('Teom ugm3'!C1179),('Teom ugm3'!C1179*'Teom grams'!$F1177*0.000000028317),\"\")","v":""},{"$f":"IF(ISNUMBER('Teom ugm3'!D1179),('Teom ugm3'!D1179*'Teom grams'!$F1177*0.000000028317),\"\")","v":""},"","","","",null,"","","",null,"",""]
[null,null,{"$f":"IF('Teom ugm3'!A1180=\"\",\"\",C1177+1)","v":""},"",null,"",null,{"$f":"IF(ISNUMBER('Teom ugm3'!B1180),('Teom ugm3'!B1180*'Teom grams'!$F1178*0.000000028317),\"\")","v":""},{"$f":"IF(ISNUMBER('Teom ugm3'!C1180),('Teom ugm3'!C1180*'Teom grams'!$F1178*0.000000028317),\"\")","v":""},{"$f":"IF(ISNUMBER('Teom ugm3'!D1180),('Teom ugm3'!D1180*'Teom grams'!$F1178*0.000000028317),\"\")","v":""},"","","","",null,"","","",null,"",""]
[null,null,{"$f":"IF('Teom ugm3'!A1181=\"\",\"\",C1178+1)","v":""},"",null,"",null,{"$f":"IF(ISNUMBER('Teom ugm3'!B1181),('Teom ugm3'!B1181*'Teom grams'!$F1179*0.000000028317),\"\")","v":""},{"$f":"IF(ISNUMBER('Teom ugm3'!C1181),('Teom ugm3'!C1181*'Teom grams'!$F1179*0.000000028317),\"\")","v":""},{"$f":"IF(ISNUMBER('Teom ugm3'!D1181),('Teom ugm3'!D1181*'Teom grams'!$F1179*0.000000028317),\"\")","v":""},"","","","",null,"","","",null,"",""]
[null,null,{"$f":"IF('Teom ugm3'!A1182=\"\",\"\",C1179+1)","v":""},"",null,"",null,{"$f":"IF(ISNUMBER('Teom ugm3'!B1182),('Teom ugm3'!B1182*'Teom grams'!$F1180*0.000000028317),\"\")","v":""},{"$f":"IF(ISNUMBER('Teom ugm3'!C1182),('Teom ugm3'!C1182*'Teom grams'!$F1180*0.000000028317),\"\")","v":""},{"$f":"IF(ISNUMBER('Teom ugm3'!D1182),('Teom ugm3'!D1182*'Teom grams'!$F1180*0.000000028317),\"\")","v":""},"","","","",null,"","","",null,"",""]
[null,null,{"$f":"IF('Teom ugm3'!A1183=\"\",\"\",C1180+1)","v":""},"",null,"",null,{"$f":"IF(ISNUMBER('Teom ugm3'!B1183),('Teom ugm3'!B1183*'Teom grams'!$F1181*0.000000028317),\"\")","v":""},{"$f":"IF(ISNUMBER('Teom ugm3'!C1183),('Teom ugm3'!C1183*'Teom grams'!$F1181*0.000000028317),\"\")","v":""},{"$f":"IF(ISNUMBER('Teom ugm3'!D1183),('Teom ugm3'!D1183*'Teom grams'!$F1181*0.000000028317),\"\")","v":""},"","","","",null,"","","",null,"",""]
[null,null,{"$f":"IF('Teom ugm3'!A1184=\"\",\"\",C1181+1)","v":""},"",null,"",null,{"$f":"IF(ISNUMBER('Teom ugm3'!B1184),('Teom ugm3'!B1184*'Teom grams'!$F1182*0.000000028317),\"\")","v":""},{"$f":"IF(ISNUMBER('Teom ugm3'!C1184),('Teom ugm3'!C1184*'Teom grams'!$F1182*0.000000028317),\"\")","v":""},{"$f":"IF(ISNUMBER('Teom ugm3'!D1184),('Teom ugm3'!D1184*'Teom grams'!$F1182*0.000000028317),\"\")","v":""},"","","","",null,"","","",null,"",""]
[null,null,{"$f":"IF('Teom ugm3'!A1185=\"\",\"\",C1182+1)","v":""},"",null,"",null,{"$f":"IF(ISNUMBER('Teom ugm3'!B1185),('Teom ugm3'!B1185*'Teom grams'!$F1183*0.000000028317),\"\")","v":""},{"$f":"IF(ISNUMBER('Teom ugm3'!C1185),('Teom ugm3'!C1185*'Teom grams'!$F1183*0.000000028317),\"\")","v":""},{"$f":"IF(ISNUMBER('Teom ugm3'!D1185),('Teom ugm3'!D1185*'Teom grams'!$F1183*0.000000028317),\"\")","v":""},"","","","",null,"","","",null,"",""]
[null,null,{"$f":"IF('Teom ugm3'!A1186=\"\",\"\",C1183+1)","v":""},"",null,"",null,{"$f":"IF(ISNUMBER('Teom ugm3'!B1186),('Teom ugm3'!B1186*'Teom grams'!$F1184*0.000000028317),\"\")","v":""},{"$f":"IF(ISNUMBER('Teom ugm3'!C1186),('Teom ugm3'!C1186*'Teom grams'!$F1184*0.000000028317),\"\")","v":""},{"$f":"IF(ISNUMBER('Teom ugm3'!D1186),('Teom ugm3'!D1186*'Teom grams'!$F1184*0.000000028317),\"\")","v":""},"","","","",null,"","","",null,"",""]
[null,null,{"$f":"IF('Teom ugm3'!A1187=\"\",\"\",C1184+1)","v":""},"",null,"",null,{"$f":"IF(ISNUMBER('Teom ugm3'!B1187),('Teom ugm3'!B1187*'Teom grams'!$F1185*0.000000028317),\"\")","v":""},{"$f":"IF(ISNUMBER('Teom ugm3'!C1187),('Teom ugm3'!C1187*'Teom grams'!$F1185*0.000000028317),\"\")","v":""},{"$f":"IF(ISNUMBER('Teom ugm3'!D1187),('Teom ugm3'!D1187*'Teom grams'!$F1185*0.000000028317),\"\")","v":""},"","","","",null,"","","",null,"",""]
[null,null,{"$f":"IF('Teom ugm3'!A1188=\"\",\"\",C1185+1)","v":""},"",null,"",null,{"$f":"IF(ISNUMBER('Teom ugm3'!B1188),('Teom ugm3'!B1188*'Teom grams'!$F1186*0.000000028317),\"\")","v":""},{"$f":"IF(ISNUMBER('Teom ugm3'!C1188),('Teom ugm3'!C1188*'Teom grams'!$F1186*0.000000028317),\"\")","v":""},{"$f":"IF(ISNUMBER('Teom ugm3'!D1188),('Teom ugm3'!D1188*'Teom grams'!$F1186*0.000000028317),\"\")","v":""},"","","","",null,"","","",null,"",""]
[null,null,{"$f":"IF('Teom ugm3'!A1189=\"\",\"\",C1186+1)","v":""},"",null,"",null,{"$f":"IF(ISNUMBER('Teom ugm3'!B1189),('Teom ugm3'!B1189*'Teom grams'!$F1187*0.000000028317),\"\")","v":""},{"$f":"IF(ISNUMBER('Teom ugm3'!C1189),('Teom ugm3'!C1189*'Teom grams'!$F1187*0.000000028317),\"\")","v":""},{"$f":"IF(ISNUMBER('Teom ugm3'!D1189),('Teom ugm3'!D1189*'Teom grams'!$F1187*0.000000028317),\"\")","v":""},"","","","",null,"",{"$f":"IF(ISNUMBER(M1187),M1187*60,\"\")","v":""},{"$f":"IF(ISNUMBER(N1187),N1187*60,\"\")","v":""},null,{"$f":"IF(COUNT(C1187:C1246)>59,AVERAGE(P1187:P1246),\"\")","v":""},{"$f":"IF(COUNT(C1187:C1246)>59,AVERAGE(Q1187:Q1246),\"\")","v":""}]
[null,null,{"$f":"IF('Teom ugm3'!A1190=\"\",\"\",C1187+1)","v":""},"",null,"",null,{"$f":"IF(ISNUMBER('Teom ugm3'!B1190),('Teom ugm3'!B1190*'Teom grams'!$F1188*0.000000028317),\"\")","v":""},{"$f":"IF(ISNUMBER('Teom ugm3'!C1190),('Teom ugm3'!C1190*'Teom grams'!$F1188*0.000000028317),\"\")","v":""},{"$f":"IF(ISNUMBER('Teom ugm3'!D1190),('Teom ugm3'!D1190*'Teom grams'!$F1188*0.000000028317),\"\")","v":""},"","","","",null,"","","",null,"",""]
[null,null,{"$f":"IF('Teom ugm3'!A1191=\"\",\"\",C1188+1)","v":""},"",null,"",null,{"$f":"IF(ISNUMBER('Teom ugm3'!B1191),('Teom ugm3'!B1191*'Teom grams'!$F1189*0.000000028317),\"\")","v":""},{"$f":"IF(ISNUMBER('Teom ugm3'!C1191),('Teom ugm3'!C1191*'Teom grams'!$F1189*0.000000028317),\"\")","v":""},{"$f":"IF(ISNUMBER('Teom ugm3'!D1191),('Teom ugm3'!D1191*'Teom grams'!$F1189*0.000000028317),\"\")","v":""},"","","","",null,"","","",null,"",""]
[null,null,{"$f":"IF('Teom ugm3'!A1192=\"\",\"\",C1189+1)","v":""},"",null,"",null,{"$f":"IF(ISNUMBER('Teom ugm3'!B1192),('Teom ugm3'!B1192*'Teom grams'!$F1190*0.000000028317),\"\")","v":""},{"$f":"IF(ISNUMBER('Teom ugm3'!C1192),('Teom ugm3'!C1192*'Teom grams'!$F1190*0.000000028317),\"\")","v":""},{"$f":"IF(ISNUMBER('Teom ugm3'!D1192),('Teom ugm3'!D1192*'Teom grams'!$F1190*0.000000028317),\"\")","v":""},"","","","",null,"","","",null,"",""]
[null,null,{"$f":"IF('Teom ugm3'!A1193=\"\",\"\",C1190+1)","v":""},"",null,"",null,{"$f":"IF(ISNUMBER('Teom ugm3'!B1193),('Teom ugm3'!B1193*'Teom grams'!$F1191*0.000000028317),\"\")","v":""},{"$f":"IF(ISNUMBER('Teom ugm3'!C1193),('Teom ugm3'!C1193*'Teom grams'!$F1191*0.000000028317),\"\")","v":""},{"$f":"IF(ISNUMBER('Teom ugm3'!D1193),('Teom ugm3'!D1193*'Teom grams'!$F1191*0.000000028317),\"\")","v":""},"","","","",null,"","","",null,"",""]
[null,null,{"$f":"IF('Teom ugm3'!A1194=\"\",\"\",C1191+1)","v":""},"",null,"",null,{"$f":"IF(ISNUMBER('Teom ugm3'!B1194),('Teom ugm3'!B1194*'Teom grams'!$F1192*0.000000028317),\"\")","v":""},{"$f":"IF(ISNUMBER('Teom ugm3'!C1194),('Teom ugm3'!C1194*'Teom grams'!$F1192*0.000000028317),\"\")","v":""},{"$f":"IF(ISNUMBER('Teom ugm3'!D1194),('Teom ugm3'!D1194*'Teom grams'!$F1192*0.000000028317),\"\")","v":""},"","","","",null,"","","",null,"",""]
[null,null,{"$f":"IF('Teom ugm3'!A1195=\"\",\"\",C1192+1)","v":""},"",null,"",null,{"$f":"IF(ISNUMBER('Teom ugm3'!B1195),('Teom ugm3'!B1195*'Teom grams'!$F1193*0.000000028317),\"\")","v":""},{"$f":"IF(ISNUMBER('Teom ugm3'!C1195),('Teom ugm3'!C1195*'Teom grams'!$F1193*0.000000028317),\"\")","v":""},{"$f":"IF(ISNUMBER('Teom ugm3'!D1195),('Teom ugm3'!D1195*'Teom grams'!$F1193*0.000000028317),\"\")","v":""},"","","","",null,"","","",null,"",""]
[null,null,{"$f":"IF('Teom ugm3'!A1196=\"\",\"\",C1193+1)","v":""},"",null,"",null,{"$f":"IF(ISNUMBER('Teom ugm3'!B1196),('Teom ugm3'!B1196*'Teom grams'!$F1194*0.000000028317),\"\")","v":""},{"$f":"IF(ISNUMBER('Teom ugm3'!C1196),('Teom ugm3'!C1196*'Teom grams'!$F1194*0.000000028317),\"\")","v":""},{"$f":"IF(ISNUMBER('Teom ugm3'!D1196),('Teom ugm3'!D1196*'Teom grams'!$F1194*0.000000028317),\"\")","v":""},"","","","",null,"","","",null,"",""]
[null,null,{"$f":"IF('Teom ugm3'!A1197=\"\",\"\",C1194+1)","v":""},"",null,"",null,{"$f":"IF(ISNUMBER('Teom ugm3'!B1197),('Teom ugm3'!B1197*'Teom grams'!$F1195*0.000000028317),\"\")","v":""},{"$f":"IF(ISNUMBER('Teom ugm3'!C1197),('Teom ugm3'!C1197*'Teom grams'!$F1195*0.000000028317),\"\")","v":""},{"$f":"IF(ISNUMBER('Teom ugm3'!D1197),('Teom ugm3'!D1197*'Teom grams'!$F1195*0.000000028317),\"\")","v":""},"","","","",null,"","","",null,"",""]
[null,null,{"$f":"IF('Teom ugm3'!A1198=\"\",\"\",C1195+1)","v":""},"",null,"",null,{"$f":"IF(ISNUMBER('Teom ugm3'!B1198),('Teom ugm3'!B1198*'Teom grams'!$F1196*0.000000028317),\"\")","v":""},{"$f":"IF(ISNUMBER('Teom ugm3'!C1198),('Teom ugm3'!C1198*'Teom grams'!$F1196*0.000000028317),\"\")","v":""},{"$f":"IF(ISNUMBER('Teom ugm3'!D1198),('Teom ugm3'!D1198*'Teom grams'!$F1196*0.000000028317),\"\")","v":""},"","","","",null,"","","",null,"",""]
[null,null,{"$f":"IF('Teom ugm3'!A1199=\"\",\"\",C1196+1)","v":""},"",null,"",null,{"$f":"IF(ISNUMBER('Teom ugm3'!B1199),('Teom ugm3'!B1199*'Teom grams'!$F1197*0.000000028317),\"\")","v":""},{"$f":"IF(ISNUMBER('Teom ugm3'!C1199),('Teom ugm3'!C1199*'Teom grams'!$F1197*0.000000028317),\"\")","v":""},{"$f":"IF(ISNUMBER('Teom ugm3'!D1199),('Teom ugm3'!D1199*'Teom grams'!$F1197*0.000000028317),\"\")","v":""},"","","","",null,"","","",null,"",""]
[null,null,{"$f":"IF('Teom ugm3'!A1200=\"\",\"\",C1197+1)","v":""},"",null,"",null,{"$f":"IF(ISNUMBER('Teom ugm3'!B1200),('Teom ugm3'!B1200*'Teom grams'!$F1198*0.000000028317),\"\")","v":""},{"$f":"IF(ISNUMBER('Teom ugm3'!C1200),('Teom ugm3'!C1200*'Teom grams'!$F1198*0.000000028317),\"\")","v":""},{"$f":"IF(ISNUMBER('Teom ugm3'!D1200),('Teom ugm3'!D1200*'Teom grams'!$F1198*0.000000028317),\"\")","v":""},"","","","",null,"","","",null,"",""]
[null,null,{"$f":"IF('Teom ugm3'!A1201=\"\",\"\",C1198+1)","v":""},"",null,"",null,{"$f":"IF(ISNUMBER('Teom ugm3'!B1201),('Teom ugm3'!B1201*'Teom grams'!$F1199*0.000000028317),\"\")","v":""},{"$f":"IF(ISNUMBER('Teom ugm3'!C1201),('Teom ugm3'!C1201*'Teom grams'!$F1199*0.000000028317),\"\")","v":""},{"$f":"IF(ISNUMBER('Teom ugm3'!D1201),('Teom ugm3'!D1201*'Teom grams'!$F1199*0.000000028317),\"\")","v":""},"","","","",null,"","","",null,"",""]
[null,null,{"$f":"IF('Teom ugm3'!A1202=\"\",\"\",C1199+1)","v":""},"",null,"",null,{"$f":"IF(ISNUMBER('Teom ugm3'!B1202),('Teom ugm3'!B1202*'Teom grams'!$F1200*0.000000028317),\"\")","v":""},{"$f":"IF(ISNUMBER('Teom ugm3'!C1202),('Teom ugm3'!C1202*'Teom grams'!$F1200*0.000000028317),\"\")","v":""},{"$f":"IF(ISNUMBER('Teom ugm3'!D1202),('Teom ugm3'!D1202*'Teom grams'!$F1200*0.000000028317),\"\")","v":""},"","","","",null,"","","",null,"",""]
[null,null,{"$f":"IF('Teom ugm3'!A1203=\"\",\"\",C1200+1)","v":""},"",null,"",null,{"$f":"IF(ISNUMBER('Teom ugm3'!B1203),('Teom ugm3'!B1203*'Teom grams'!$F1201*0.000000028317),\"\")","v":""},{"$f":"IF(ISNUMBER('Teom ugm3'!C1203),('Teom ugm3'!C1203*'Teom grams'!$F1201*0.000000028317),\"\")","v":""},{"$f":"IF(ISNUMBER('Teom ugm3'!D1203),('Teom ugm3'!D1203*'Teom grams'!$F1201*0.000000028317),\"\")","v":""},"","","","",null,"","","",null,"",""]
[null,null,{"$f":"IF('Teom ugm3'!A1204=\"\",\"\",C1201+1)","v":""},"",null,"",null,{"$f":"IF(ISNUMBER('Teom ugm3'!B1204),('Teom ugm3'!B1204*'Teom grams'!$F1202*0.000000028317),\"\")","v":""},{"$f":"IF(ISNUMBER('Teom ugm3'!C1204),('Teom ugm3'!C1204*'Teom grams'!$F1202*0.000000028317),\"\")","v":""},{"$f":"IF(ISNUMBER('Teom ugm3'!D1204),('Teom ugm3'!D1204*'Teom grams'!$F1202*0.000000028317),\"\")","v":""},"","","","",null,"","","",null,"",""]
[null,null,{"$f":"IF('Teom ugm3'!A1205=\"\",\"\",C1202+1)","v":""},"",null,"",null,{"$f":"IF(ISNUMBER('Teom ugm3'!B1205),('Teom ugm3'!B1205*'Teom grams'!$F1203*0.000000028317),\"\")","v":""},{"$f":"IF(ISNUMBER('Teom ugm3'!C1205),('Teom ugm3'!C1205*'Teom grams'!$F1203*0.000000028317),\"\")","v":""},{"$f":"IF(ISNUMBER('Teom ugm3'!D1205),('Teom ugm3'!D1205*'Teom grams'!$F1203*0.000000028317),\"\")","v":""},"","","","",null,"","","",null,"",""]
[null,null,{"$f":"IF('Teom ugm3'!A1206=\"\",\"\",C1203+1)","v":""},"",null,"",null,{"$f":"IF(ISNUMBER('Teom ugm3'!B1206),('Teom ugm3'!B1206*'Teom grams'!$F1204*0.000000028317),\"\")","v":""},{"$f":"IF(ISNUMBER('Teom ugm3'!C1206),('Teom ugm3'!C1206*'Teom grams'!$F1204*0.000000028317),\"\")","v":""},{"$f":"IF(ISNUMBER('Teom ugm3'!D1206),('Teom ugm3'!D1206*'Teom grams'!$F1204*0.000000028317),\"\")","v":""},"","","","",null,"","","",null,"",""]
[null,null,{"$f":"IF('Teom ugm3'!A1207=\"\",\"\",C1204+1)","v":""},"",null,"",null,{"$f":"IF(ISNUMBER('Teom ugm3'!B1207),('Teom ugm3'!B1207*'Teom grams'!$F1205*0.000000028317),\"\")","v":""},{"$f":"IF(ISNUMBER('Teom ugm3'!C1207),('Teom ugm3'!C1207*'Teom grams'!$F1205*0.000000028317),\"\")","v":""},{"$f":"IF(ISNUMBER('Teom ugm3'!D1207),('Teom ugm3'!D1207*'Teom grams'!$F1205*0.000000028317),\"\")","v":""},"","","","",null,"","","",null,"",""]
[null,null,{"$f":"IF('Teom ugm3'!A1208=\"\",\"\",C1205+1)","v":""},"",null,"",null,{"$f":"IF(ISNUMBER('Teom ugm3'!B1208),('Teom ugm3'!B1208*'Teom grams'!$F1206*0.000000028317),\"\")","v":""},{"$f":"IF(ISNUMBER('Teom ugm3'!C1208),('Teom ugm3'!C1208*'Teom grams'!$F1206*0.000000028317),\"\")","v":""},{"$f":"IF(ISNUMBER('Teom ugm3'!D1208),('Teom ugm3'!D1208*'Teom grams'!$F1206*0.000000028317),\"\")","v":""},"","","","",null,"","","",null,"",""]
[null,null,{"$f":"IF('Teom ugm3'!A1209=\"\",\"\",C1206+1)","v":""},"",null,"",null,{"$f":"IF(ISNUMBER('Teom ugm3'!B1209),('Teom ugm3'!B1209*'Teom grams'!$F1207*0.000000028317),\"\")","v":""},{"$f":"IF(ISNUMBER('Teom ugm3'!C1209),('Teom ugm3'!C1209*'Teom grams'!$F1207*0.000000028317),\"\")","v":""},{"$f":"IF(ISNUMBER('Teom ugm3'!D1209),('Teom ugm3'!D1209*'Teom grams'!$F1207*0.000000028317),\"\")","v":""},"","","","",null,"","","",null,"",""]
[null,null,{"$f":"IF('Teom ugm3'!A1210=\"\",\"\",C1207+1)","v":""},"",null,"",null,{"$f":"IF(ISNUMBER('Teom ugm3'!B1210),('Teom ugm3'!B1210*'Teom grams'!$F1208*0.000000028317),\"\")","v":""},{"$f":"IF(ISNUMBER('Teom ugm3'!C1210),('Teom ugm3'!C1210*'Teom grams'!$F1208*0.000000028317),\"\")","v":""},{"$f":"IF(ISNUMBER('Teom ugm3'!D1210),('Teom ugm3'!D1210*'Teom grams'!$F1208*0.000000028317),\"\")","v":""},"","","","",null,"","","",null,"",""]
[null,null,{"$f":"IF('Teom ugm3'!A1211=\"\",\"\",C1208+1)","v":""},"",null,"",null,{"$f":"IF(ISNUMBER('Teom ugm3'!B1211),('Teom ugm3'!B1211*'Teom grams'!$F1209*0.000000028317),\"\")","v":""},{"$f":"IF(ISNUMBER('Teom ugm3'!C1211),('Teom ugm3'!C1211*'Teom grams'!$F1209*0.000000028317),\"\")","v":""},{"$f":"IF(ISNUMBER('Teom ugm3'!D1211),('Teom ugm3'!D1211*'Teom grams'!$F1209*0.000000028317),\"\")","v":""},"","","","",null,"","","",null,"",""]
[null,null,{"$f":"IF('Teom ugm3'!A1212=\"\",\"\",C1209+1)","v":""},"",null,"",null,{"$f":"IF(ISNUMBER('Teom ugm3'!B1212),('Teom ugm3'!B1212*'Teom grams'!$F1210*0.000000028317),\"\")","v":""},{"$f":"IF(ISNUMBER('Teom ugm3'!C1212),('Teom ugm3'!C1212*'Teom grams'!$F1210*0.000000028317),\"\")","v":""},{"$f":"IF(ISNUMBER('Teom ugm3'!D1212),('Teom ugm3'!D1212*'Teom grams'!$F1210*0.000000028317),\"\")","v":""},"","","","",null,"","","",null,"",""]
[null,null,{"$f":"IF('Teom ugm3'!A1213=\"\",\"\",C1210+1)","v":""},"",null,"",null,{"$f":"IF(ISNUMBER('Teom ugm3'!B1213),('Teom ugm3'!B1213*'Teom grams'!$F1211*0.000000028317),\"\")","v":""},{"$f":"IF(ISNUMBER('Teom ugm3'!C1213),('Teom ugm3'!C1213*'Teom grams'!$F1211*0.000000028317),\"\")","v":""},{"$f":"IF(ISNUMBER('Teom ugm3'!D1213),('Teom ugm3'!D1213*'Teom grams'!$F1211*0.000000028317),\"\")","v":""},"","","","",null,"","","",null,"",""]
[null,null,{"$f":"IF('Teom ugm3'!A1214=\"\",\"\",C1211+1)","v":""},"",null,"",null,{"$f":"IF(ISNUMBER('Teom ugm3'!B1214),('Teom ugm3'!B1214*'Teom grams'!$F1212*0.000000028317),\"\")","v":""},{"$f":"IF(ISNUMBER('Teom ugm3'!C1214),('Teom ugm3'!C1214*'Teom grams'!$F1212*0.000000028317),\"\")","v":""},{"$f":"IF(ISNUMBER('Teom ugm3'!D1214),('Teom ugm3'!D1214*'Teom grams'!$F1212*0.000000028317),\"\")","v":""},"","","","",null,"","","",null,"",""]
[null,null,{"$f":"IF('Teom ugm3'!A1215=\"\",\"\",C1212+1)","v":""},"",null,"",null,{"$f":"IF(ISNUMBER('Teom ugm3'!B1215),('Teom ugm3'!B1215*'Teom grams'!$F1213*0.000000028317),\"\")","v":""},{"$f":"IF(ISNUMBER('Teom ugm3'!C1215),('Teom ugm3'!C1215*'Teom grams'!$F1213*0.000000028317),\"\")","v":""},{"$f":"IF(ISNUMBER('Teom ugm3'!D1215),('Teom ugm3'!D1215*'Teom grams'!$F1213*0.000000028317),\"\")","v":""},"","","","",null,"","","",null,"",""]
[null,null,{"$f":"IF('Teom ugm3'!A1216=\"\",\"\",C1213+1)","v":""},"",null,"",null,{"$f":"IF(ISNUMBER('Teom ugm3'!B1216),('Teom ugm3'!B1216*'Teom grams'!$F1214*0.000000028317),\"\")","v":""},{"$f":"IF(ISNUMBER('Teom ugm3'!C1216),('Teom ugm3'!C1216*'Teom grams'!$F1214*0.000000028317),\"\")","v":""},{"$f":"IF(ISNUMBER('Teom ugm3'!D1216),('Teom ugm3'!D1216*'Teom grams'!$F1214*0.000000028317),\"\")","v":""},"","","","",null,"","","",null,"",""]
[null,null,{"$f":"IF('Teom ugm3'!A1217=\"\",\"\",C1214+1)","v":""},"",null,"",null,{"$f":"IF(ISNUMBER('Teom ugm3'!B1217),('Teom ugm3'!B1217*'Teom grams'!$F1215*0.000000028317),\"\")","v":""},{"$f":"IF(ISNUMBER('Teom ugm3'!C1217),('Teom ugm3'!C1217*'Teom grams'!$F1215*0.000000028317),\"\")","v":""},{"$f":"IF(ISNUMBER('Teom ugm3'!D1217),('Teom ugm3'!D1217*'Teom grams'!$F1215*0.000000028317),\"\")","v":""},"","","","",null,"","","",null,"",""]
[null,null,{"$f":"IF('Teom ugm3'!A1218=\"\",\"\",C1215+1)","v":""},"",null,"",null,{"$f":"IF(ISNUMBER('Teom ugm3'!B1218),('Teom ugm3'!B1218*'Teom grams'!$F1216*0.000000028317),\"\")","v":""},{"$f":"IF(ISNUMBER('Teom ugm3'!C1218),('Teom ugm3'!C1218*'Teom grams'!$F1216*0.000000028317),\"\")","v":""},{"$f":"IF(ISNUMBER('Teom ugm3'!D1218),('Teom ugm3'!D1218*'Teom grams'!$F1216*0.000000028317),\"\")","v":""},"","","","",null,"","","",null,"",""]
[null,null,{"$f":"IF('Teom ugm3'!A1219=\"\",\"\",C1216+1)","v":""},"",null,"",null,{"$f":"IF(ISNUMBER('Teom ugm3'!B1219),('Teom ugm3'!B1219*'Teom grams'!$F1217*0.000000028317),\"\")","v":""},{"$f":"IF(ISNUMBER('Teom ugm3'!C1219),('Teom ugm3'!C1219*'Teom grams'!$F1217*0.000000028317),\"\")","v":""},{"$f":"IF(ISNUMBER('Teom ugm3'!D1219),('Teom ugm3'!D1219*'Teom grams'!$F1217*0.000000028317),\"\")","v":""},"","","","",null,"","","",null,"",""]
[null,null,{"$f":"IF('Teom ugm3'!A1220=\"\",\"\",C1217+1)","v":""},"",null,"",null,{"$f":"IF(ISNUMBER('Teom ugm3'!B1220),('Teom ugm3'!B1220*'Teom grams'!$F1218*0.000000028317),\"\")","v":""},{"$f":"IF(ISNUMBER('Teom ugm3'!C1220),('Teom ugm3'!C1220*'Teom grams'!$F1218*0.000000028317),\"\")","v":""},{"$f":"IF(ISNUMBER('Teom ugm3'!D1220),('Teom ugm3'!D1220*'Teom grams'!$F1218*0.000000028317),\"\")","v":""},"","","","",null,"","","",null,"",""]
[null,null,{"$f":"IF('Teom ugm3'!A1221=\"\",\"\",C1218+1)","v":""},"",null,"",null,{"$f":"IF(ISNUMBER('Teom ugm3'!B1221),('Teom ugm3'!B1221*'Teom grams'!$F1219*0.000000028317),\"\")","v":""},{"$f":"IF(ISNUMBER('Teom ugm3'!C1221),('Teom ugm3'!C1221*'Teom grams'!$F1219*0.000000028317),\"\")","v":""},{"$f":"IF(ISNUMBER('Teom ugm3'!D1221),('Teom ugm3'!D1221*'Teom grams'!$F1219*0.000000028317),\"\")","v":""},"","","","",null,"","","",null,"",""]
[null,null,{"$f":"IF('Teom ugm3'!A1222=\"\",\"\",C1219+1)","v":""},"",null,"",null,{"$f":"IF(ISNUMBER('Teom ugm3'!B1222),('Teom ugm3'!B1222*'Teom grams'!$F1220*0.000000028317),\"\")","v":""},{"$f":"IF(ISNUMBER('Teom ugm3'!C1222),('Teom ugm3'!C1222*'Teom grams'!$F1220*0.000000028317),\"\")","v":""},{"$f":"IF(ISNUMBER('Teom ugm3'!D1222),('Teom ugm3'!D1222*'Teom grams'!$F1220*0.000000028317),\"\")","v":""},"","","",{"$f":"M1220","v":""},null,"","","",null,"",""]
[null,null,{"$f":"IF('Teom ugm3'!A1223=\"\",\"\",C1220+1)","v":""},"",null,{"$f":"IF(C1221=\"\",\"\",E1221*1.02041)","v":""},null,{"$f":"IF(ISNUMBER('Teom ugm3'!B1223),('Teom ugm3'!B1223*'Teom grams'!$F1221*0.000000028317),\"\")","v":""},{"$f":"IF(ISNUMBER('Teom ugm3'!C1223),('Teom ugm3'!C1223*'Teom grams'!$F1221*0.000000028317),\"\")","v":""},{"$f":"IF(ISNUMBER('Teom ugm3'!D1223),('Teom ugm3'!D1223*'Teom grams'!$F1221*0.000000028317),\"\")","v":""},{"$f":"IF(H1221<0,0,H1221)","v":""},"","","",null,{"$f":"IF(ISNUMBER(J1221),J1221*60,\"\")","v":""},"","",null,"",""]
[null,null,{"$f":"IF('Teom ugm3'!A1224=\"\",\"\",C1221+1)","v":""},{"$f":"IF(C1222=\"\",\"\",D1221 + TIME(0, 1, 0))","v":""},null,"",null,{"$f":"IF(ISNUMBER('Teom ugm3'!B1224),('Teom ugm3'!B1224*'Teom grams'!$F1222*0.000000028317),\"\")","v":""},{"$f":"IF(ISNUMBER('Teom ugm3'!C1224),('Teom ugm3'!C1224*'Teom grams'!$F1222*0.000000028317),\"\")","v":""},{"$f":"IF(ISNUMBER('Teom ugm3'!D1224),('Teom ugm3'!D1224*'Teom grams'!$F1222*0.000000028317),\"\")","v":""},"","","","",null,"","","",null,"",""]
[null,null,{"$f":"IF('Teom ugm3'!A1225=\"\",\"\",C1222+1)","v":""},"",null,"",null,{"$f":"IF(ISNUMBER('Teom ugm3'!B1225),('Teom ugm3'!B1225*'Teom grams'!$F1223*0.000000028317),\"\")","v":""},{"$f":"IF(ISNUMBER('Teom ugm3'!C1225),('Teom ugm3'!C1225*'Teom grams'!$F1223*0.000000028317),\"\")","v":""},{"$f":"IF(ISNUMBER('Teom ugm3'!D1225),('Teom ugm3'!D1225*'Teom grams'!$F1223*0.000000028317),\"\")","v":""},"","","","",null,"","","",null,"",""]
[null,null,{"$f":"IF('Teom ugm3'!A1226=\"\",\"\",C1223+1)","v":""},"",null,"",null,{"$f":"IF(ISNUMBER('Teom ugm3'!B1226),('Teom ugm3'!B1226*'Teom grams'!$F1224*0.000000028317),\"\")","v":""},{"$f":"IF(ISNUMBER('Teom ugm3'!C1226),('Teom ugm3'!C1226*'Teom grams'!$F1224*0.000000028317),\"\")","v":""},{"$f":"IF(ISNUMBER('Teom ugm3'!D1226),('Teom ugm3'!D1226*'Teom grams'!$F1224*0.000000028317),\"\")","v":""},"","","","",null,"","","",null,"",""]
[null,null,{"$f":"IF('Teom ugm3'!A1227=\"\",\"\",C1224+1)","v":""},"",null,"",null,{"$f":"IF(ISNUMBER('Teom ugm3'!B1227),('Teom ugm3'!B1227*'Teom grams'!$F1225*0.000000028317),\"\")","v":""},{"$f":"IF(ISNUMBER('Teom ugm3'!C1227),('Teom ugm3'!C1227*'Teom grams'!$F1225*0.000000028317),\"\")","v":""},{"$f":"IF(ISNUMBER('Teom ugm3'!D1227),('Teom ugm3'!D1227*'Teom grams'!$F1225*0.000000028317),\"\")","v":""},"","","","",null,"","","",null,"",""]
[null,null,{"$f":"IF('Teom ugm3'!A1228=\"\",\"\",C1225+1)","v":""},"",null,"",null,{"$f":"IF(ISNUMBER('Teom ugm3'!B1228),('Teom ugm3'!B1228*'Teom grams'!$F1226*0.000000028317),\"\")","v":""},{"$f":"IF(ISNUMBER('Teom ugm3'!C1228),('Teom ugm3'!C1228*'Teom grams'!$F1226*0.000000028317),\"\")","v":""},{"$f":"IF(ISNUMBER('Teom ugm3'!D1228),('Teom ugm3'!D1228*'Teom grams'!$F1226*0.000000028317),\"\")","v":""},"","","","",null,"","","",null,"",""]
[null,null,{"$f":"IF('Teom ugm3'!A1229=\"\",\"\",C1226+1)","v":""},"",null,"",null,{"$f":"IF(ISNUMBER('Teom ugm3'!B1229),('Teom ugm3'!B1229*'Teom grams'!$F1227*0.000000028317),\"\")","v":""},{"$f":"IF(ISNUMBER('Teom ugm3'!C1229),('Teom ugm3'!C1229*'Teom grams'!$F1227*0.000000028317),\"\")","v":""},{"$f":"IF(ISNUMBER('Teom ugm3'!D1229),('Teom ugm3'!D1229*'Teom grams'!$F1227*0.000000028317),\"\")","v":""},"","",{"$f":"IF(COUNT(K1227:L1227)>0,AVERAGE(K1227:L1227),\"\")","v":""},"",null,"","","",null,"",""]
[null,null,{"$f":"IF('Teom ugm3'!A1230=\"\",\"\",C1227+1)","v":""},"",null,"",null,{"$f":"IF(ISNUMBER('Teom ugm3'!B1230),('Teom ugm3'!B1230*'Teom grams'!$F1228*0.000000028317),\"\")","v":""},{"$f":"IF(ISNUMBER('Teom ugm3'!C1230),('Teom ugm3'!C1230*'Teom grams'!$F1228*0.000000028317),\"\")","v":""},{"$f":"IF(ISNUMBER('Teom ugm3'!D1230),('Teom ugm3'!D1230*'Teom grams'!$F1228*0.000000028317),\"\")","v":""},"","","","",null,"","","",null,"",""]
[null,null,{"$f":"IF('Teom ugm3'!A1231=\"\",\"\",C1228+1)","v":""},"",null,"",null,{"$f":"IF(ISNUMBER('Teom ugm3'!B1231),('Teom ugm3'!B1231*'Teom grams'!$F1229*0.000000028317),\"\")","v":""},{"$f":"IF(ISNUMBER('Teom ugm3'!C1231),('Teom ugm3'!C1231*'Teom grams'!$F1229*0.000000028317),\"\")","v":""},{"$f":"IF(ISNUMBER('Teom ugm3'!D1231),('Teom ugm3'!D1231*'Teom grams'!$F1229*0.000000028317),\"\")","v":""},"","","","",null,"","","",null,"",""]
[null,null,{"$f":"IF('Teom ugm3'!A1232=\"\",\"\",C1229+1)","v":""},"",null,"",null,{"$f":"IF(ISNUMBER('Teom ugm3'!B1232),('Teom ugm3'!B1232*'Teom grams'!$F1230*0.000000028317),\"\")","v":""},{"$f":"IF(ISNUMBER('Teom ugm3'!C1232),('Teom ugm3'!C1232*'Teom grams'!$F1230*0.000000028317),\"\")","v":""},{"$f":"IF(ISNUMBER('Teom ugm3'!D1232),('Teom ugm3'!D1232*'Teom grams'!$F1230*0.000000028317),\"\")","v":""},"","","","",null,"","","",null,"",""]
[null,null,{"$f":"IF('Teom ugm3'!A1233=\"\",\"\",C1230+1)","v":""},"",null,"",null,{"$f":"IF(ISNUMBER('Teom ugm3'!B1233),('Teom ugm3'!B1233*'Teom grams'!$F1231*0.000000028317),\"\")","v":""},{"$f":"IF(ISNUMBER('Teom ugm3'!C1233),('Teom ugm3'!C1233*'Teom grams'!$F1231*0.000000028317),\"\")","v":""},{"$f":"IF(ISNUMBER('Teom ugm3'!D1233),('Teom ugm3'!D1233*'Teom grams'!$F1231*0.000000028317),\"\")","v":""},"","","","",null,"","","",null,"",""]
[null,null,{"$f":"IF('Teom ugm3'!A1234=\"\",\"\",C1231+1)","v":""},"",null,"",null,{"$f":"IF(ISNUMBER('Teom ugm3'!B1234),('Teom ugm3'!B1234*'Teom grams'!$F1232*0.000000028317),\"\")","v":""},{"$f":"IF(ISNUMBER('Teom ugm3'!C1234),('Teom ugm3'!C1234*'Teom grams'!$F1232*0.000000028317),\"\")","v":""},{"$f":"IF(ISNUMBER('Teom ugm3'!D1234),('Teom ugm3'!D1234*'Teom grams'!$F1232*0.000000028317),\"\")","v":""},"","","","",null,"","","",null,"",""]
[null,null,{"$f":"IF('Teom ugm3'!A1235=\"\",\"\",C1232+1)","v":""},"",null,"",null,{"$f":"IF(ISNUMBER('Teom ugm3'!B1235),('Teom ugm3'!B1235*'Teom grams'!$F1233*0.000000028317),\"\")","v":""},{"$f":"IF(ISNUMBER('Teom ugm3'!C1235),('Teom ugm3'!C1235*'Teom grams'!$F1233*0.000000028317),\"\")","v":""},{"$f":"IF(ISNUMBER('Teom ugm3'!D1235),('Teom ugm3'!D1235*'Teom grams'!$F1233*0.000000028317),\"\")","v":""},"","","","",null,"","","",null,"",""]
[null,null,{"$f":"IF('Teom ugm3'!A1236=\"\",\"\",C1233+1)","v":""},"",null,"",null,{"$f":"IF(ISNUMBER('Teom ugm3'!B1236),('Teom ugm3'!B1236*'Teom grams'!$F1234*0.000000028317),\"\")","v":""},{"$f":"IF(ISNUMBER('Teom ugm3'!C1236),('Teom ugm3'!C1236*'Teom grams'!$F1234*0.000000028317),\"\")","v":""},{"$f":"IF(ISNUMBER('Teom ugm3'!D1236),('Teom ugm3'!D1236*'Teom grams'!$F1234*0.000000028317),\"\")","v":""},"","","","",null,"","","",null,"",""]
[null,null,{"$f":"IF('Teom ugm3'!A1237=\"\",\"\",C1234+1)","v":""},"",null,"",null,{"$f":"IF(ISNUMBER('Teom ugm3'!B1237),('Teom ugm3'!B1237*'Teom grams'!$F1235*0.000000028317),\"\")","v":""},{"$f":"IF(ISNUMBER('Teom ugm3'!C1237),('Teom ugm3'!C1237*'Teom grams'!$F1235*0.000000028317),\"\")","v":""},{"$f":"IF(ISNUMBER('Teom ugm3'!D1237),('Teom ugm3'!D1237*'Teom grams'!$F1235*0.000000028317),\"\")","v":""},"","","","",null,"","","",null,"",""]
[null,null,{"$f":"IF('Teom ugm3'!A1238=\"\",\"\",C1235+1)","v":""},"",null,"",null,{"$f":"IF(ISNUMBER('Teom ugm3'!B1238),('Teom ugm3'!B1238*'Teom grams'!$F1236*0.000000028317),\"\")","v":""},{"$f":"IF(ISNUMBER('Teom ugm3'!C1238),('Teom ugm3'!C1238*'Teom grams'!$F1236*0.000000028317),\"\")","v":""},{"$f":"IF(ISNUMBER('Teom ugm3'!D1238),('Teom ugm3'!D1238*'Teom grams'!$F1236*0.000000028317),\"\")","v":""},"","","","",null,"","","",null,"",""]
[null,null,{"$f":"IF('Teom ugm3'!A1239=\"\",\"\",C1236+1)","v":""},"",null,"",null,{"$f":"IF(ISNUMBER('Teom ugm3'!B1239),('Teom ugm3'!B1239*'Teom grams'!$F1237*0.000000028317),\"\")","v":""},{"$f":"IF(ISNUMBER('Teom ugm3'!C1239),('Teom ugm3'!C1239*'Teom grams'!$F1237*0.000000028317),\"\")","v":""},{"$f":"IF(ISNUMBER('Teom ugm3'!D1239),('Teom ugm3'!D1239*'Teom grams'!$F1237*0.000000028317),\"\")","v":""},"","","","",null,"","","",null,"",""]
[null,null,{"$f":"IF('Teom ugm3'!A1240=\"\",\"\",C1237+1)","v":""},"",null,"",null,{"$f":"IF(ISNUMBER('Teom ugm3'!B1240),('Teom ugm3'!B1240*'Teom grams'!$F1238*0.000000028317),\"\")","v":""},{"$f":"IF(ISNUMBER('Teom ugm3'!C1240),('Teom ugm3'!C1240*'Teom grams'!$F1238*0.000000028317),\"\")","v":""},{"$f":"IF(ISNUMBER('Teom ugm3'!D1240),('Teom ugm3'!D1240*'Teom grams'!$F1238*0.000000028317),\"\")","v":""},"","","","",null,"","","",null,"",""]
[null,null,{"$f":"IF('Teom ugm3'!A1241=\"\",\"\",C1238+1)","v":""},"",null,"",null,{"$f":"IF(ISNUMBER('Teom ugm3'!B1241),('Teom ugm3'!B1241*'Teom grams'!$F1239*0.000000028317),\"\")","v":""},{"$f":"IF(ISNUMBER('Teom ugm3'!C1241),('Teom ugm3'!C1241*'Teom grams'!$F1239*0.000000028317),\"\")","v":""},{"$f":"IF(ISNUMBER('Teom ugm3'!D1241),('Teom ugm3'!D1241*'Teom grams'!$F1239*0.000000028317),\"\")","v":""},"","","","",null,"","","",null,"",""]
[null,null,{"$f":"IF('Teom ugm3'!A1242=\"\",\"\",C1239+1)","v":""},"",null,"",null,{"$f":"IF(ISNUMBER('Teom ugm3'!B1242),('Teom ugm3'!B1242*'Teom grams'!$F1240*0.000000028317),\"\")","v":""},{"$f":"IF(ISNUMBER('Teom ugm3'!C1242),('Teom ugm3'!C1242*'Teom grams'!$F1240*0.000000028317),\"\")","v":""},{"$f":"IF(ISNUMBER('Teom ugm3'!D1242),('Teom ugm3'!D1242*'Teom grams'!$F1240*0.000000028317),\"\")","v":""},"","","","",null,"","","",null,"",""]
[null,null,{"$f":"IF('Teom ugm3'!A1243=\"\",\"\",C1240+1)","v":""},"",null,"",null,{"$f":"IF(ISNUMBER('Teom ugm3'!B1243),('Teom ugm3'!B1243*'Teom grams'!$F1241*0.000000028317),\"\")","v":""},{"$f":"IF(ISNUMBER('Teom ugm3'!C1243),('Teom ugm3'!C1243*'Teom grams'!$F1241*0.000000028317),\"\")","v":""},{"$f":"IF(ISNUMBER('Teom ugm3'!D1243),('Teom ugm3'!D1243*'Teom grams'!$F1241*0.000000028317),\"\")","v":""},"","","","",null,"","","",null,"",""]
[null,null,{"$f":"IF('Teom ugm3'!A1244=\"\",\"\",C1241+1)","v":""},"",null,"",null,{"$f":"IF(ISNUMBER('Teom ugm3'!B1244),('Teom ugm3'!B1244*'Teom grams'!$F1242*0.000000028317),\"\")","v":""},{"$f":"IF(ISNUMBER('Teom ugm3'!C1244),('Teom ugm3'!C1244*'Teom grams'!$F1242*0.000000028317),\"\")","v":""},{"$f":"IF(ISNUMBER('Teom ugm3'!D1244),('Teom ugm3'!D1244*'Teom grams'!$F1242*0.000000028317),\"\")","v":""},"","","","",null,"","","",null,"",""]
[null,null,{"$f":"IF('Teom ugm3'!A1245=\"\",\"\",C1242+1)","v":""},"",null,"",null,{"$f":"IF(ISNUMBER('Teom ugm3'!B1245),('Teom ugm3'!B1245*'Teom grams'!$F1243*0.000000028317),\"\")","v":""},{"$f":"IF(ISNUMBER('Teom ugm3'!C1245),('Teom ugm3'!C1245*'Teom grams'!$F1243*0.000000028317),\"\")","v":""},{"$f":"IF(ISNUMBER('Teom ugm3'!D1245),('Teom ugm3'!D1245*'Teom grams'!$F1243*0.000000028317),\"\")","v":""},"","","","",null,"","","",null,"",""]
[null,null,{"$f":"IF('Teom ugm3'!A1246=\"\",\"\",C1243+1)","v":""},"",null,"",null,{"$f":"IF(ISNUMBER('Teom ugm3'!B1246),('Teom ugm3'!B1246*'Teom grams'!$F1244*0.000000028317),\"\")","v":""},{"$f":"IF(ISNUMBER('Teom ugm3'!C1246),('Teom ugm3'!C1246*'Teom grams'!$F1244*0.000000028317),\"\")","v":""},{"$f":"IF(ISNUMBER('Teom ugm3'!D1246),('Teom ugm3'!D1246*'Teom grams'!$F1244*0.000000028317),\"\")","v":""},"","","","",null,"","","",null,"",""]
[null,null,{"$f":"IF('Teom ugm3'!A1247=\"\",\"\",C1244+1)","v":""},"",null,"",null,{"$f":"IF(ISNUMBER('Teom ugm3'!B1247),('Teom ugm3'!B1247*'Teom grams'!$F1245*0.000000028317),\"\")","v":""},{"$f":"IF(ISNUMBER('Teom ugm3'!C1247),('Teom ugm3'!C1247*'Teom grams'!$F1245*0.000000028317),\"\")","v":""},{"$f":"IF(ISNUMBER('Teom ugm3'!D1247),('Teom ugm3'!D1247*'Teom grams'!$F1245*0.000000028317),\"\")","v":""},"","","","",null,"","","",null,"",""]
[null,null,{"$f":"IF('Teom ugm3'!A1248=\"\",\"\",C1245+1)","v":""},"",null,"",null,{"$f":"IF(ISNUMBER('Teom ugm3'!B1248),('Teom ugm3'!B1248*'Teom grams'!$F1246*0.000000028317),\"\")","v":""},{"$f":"IF(ISNUMBER('Teom ugm3'!C1248),('Teom ugm3'!C1248*'Teom grams'!$F1246*0.000000028317),\"\")","v":""},{"$f":"IF(ISNUMBER('Teom ugm3'!D1248),('Teom ugm3'!D1248*'Teom grams'!$F1246*0.000000028317),\"\")","v":""},"","","","",null,"","","",null,"",""]
[null,null,{"$f":"IF('Teom ugm3'!A1249=\"\",\"\",C1246+1)","v":""},"",null,"",null,{"$f":"IF(ISNUMBER('Teom ugm3'!B1249),('Teom ugm3'!B1249*'Teom grams'!$F1247*0.000000028317),\"\")","v":""},{"$f":"IF(ISNUMBER('Teom ugm3'!C1249),('Teom ugm3'!C1249*'Teom grams'!$F1247*0.000000028317),\"\")","v":""},{"$f":"IF(ISNUMBER('Teom ugm3'!D1249),('Teom ugm3'!D1249*'Teom grams'!$F1247*0.000000028317),\"\")","v":""},"","","","",null,"","","",null,"",""]
[null,null,{"$f":"IF('Teom ugm3'!A1250=\"\",\"\",C1247+1)","v":""},"",null,"",null,{"$f":"IF(ISNUMBER('Teom ugm3'!B1250),('Teom ugm3'!B1250*'Teom grams'!$F1248*0.000000028317),\"\")","v":""},{"$f":"IF(ISNUMBER('Teom ugm3'!C1250),('Teom ugm3'!C1250*'Teom grams'!$F1248*0.000000028317),\"\")","v":""},{"$f":"IF(ISNUMBER('Teom ugm3'!D1250),('Teom ugm3'!D1250*'Teom grams'!$F1248*0.000000028317),\"\")","v":""},"","","","",null,"","","",null,"",""]
[null,null,{"$f":"IF('Teom ugm3'!A1251=\"\",\"\",C1248+1)","v":""},"",null,"",null,{"$f":"IF(ISNUMBER('Teom ugm3'!B1251),('Teom ugm3'!B1251*'Teom grams'!$F1249*0.000000028317),\"\")","v":""},{"$f":"IF(ISNUMBER('Teom ugm3'!C1251),('Teom ugm3'!C1251*'Teom grams'!$F1249*0.000000028317),\"\")","v":""},{"$f":"IF(ISNUMBER('Teom ugm3'!D1251),('Teom ugm3'!D1251*'Teom grams'!$F1249*0.000000028317),\"\")","v":""},"","","","",null,"","","",null,"",""]
[null,null,{"$f":"IF('Teom ugm3'!A1252=\"\",\"\",C1249+1)","v":""},"",null,"",null,{"$f":"IF(ISNUMBER('Teom ugm3'!B1252),('Teom ugm3'!B1252*'Teom grams'!$F1250*0.000000028317),\"\")","v":""},{"$f":"IF(ISNUMBER('Teom ugm3'!C1252),('Teom ugm3'!C1252*'Teom grams'!$F1250*0.000000028317),\"\")","v":""},{"$f":"IF(ISNUMBER('Teom ugm3'!D1252),('Teom ugm3'!D1252*'Teom grams'!$F1250*0.000000028317),\"\")","v":""},"","","","",null,"","","",null,"",""]
[null,null,{"$f":"IF('Teom ugm3'!A1253=\"\",\"\",C1250+1)","v":""},"",null,"",null,{"$f":"IF(ISNUMBER('Teom ugm3'!B1253),('Teom ugm3'!B1253*'Teom grams'!$F1251*0.000000028317),\"\")","v":""},{"$f":"IF(ISNUMBER('Teom ugm3'!C1253),('Teom ugm3'!C1253*'Teom grams'!$F1251*0.000000028317),\"\")","v":""},{"$f":"IF(ISNUMBER('Teom ugm3'!D1253),('Teom ugm3'!D1253*'Teom grams'!$F1251*0.000000028317),\"\")","v":""},"","","","",null,"",{"$f":"IF(ISNUMBER(M1251),M1251*60,\"\")","v":""},{"$f":"IF(ISNUMBER(N1251),N1251*60,\"\")","v":""},null,{"$f":"IF(COUNT(C1251:C1310)>59,AVERAGE(P1251:P1310),\"\")","v":""},{"$f":"IF(COUNT(C1251:C1310)>59,AVERAGE(Q1251:Q1310),\"\")","v":""}]
[null,null,{"$f":"IF('Teom ugm3'!A1254=\"\",\"\",C1251+1)","v":""},"",null,"",null,{"$f":"IF(ISNUMBER('Teom ugm3'!B1254),('Teom ugm3'!B1254*'Teom grams'!$F1252*0.000000028317),\"\")","v":""},{"$f":"IF(ISNUMBER('Teom ugm3'!C1254),('Teom ugm3'!C1254*'Teom grams'!$F1252*0.000000028317),\"\")","v":""},{"$f":"IF(ISNUMBER('Teom ugm3'!D1254),('Teom ugm3'!D1254*'Teom grams'!$F1252*0.000000028317),\"\")","v":""},"","","","",null,"","","",null,"",""]
[null,null,{"$f":"IF('Teom ugm3'!A1255=\"\",\"\",C1252+1)","v":""},"",null,"",null,{"$f":"IF(ISNUMBER('Teom ugm3'!B1255),('Teom ugm3'!B1255*'Teom grams'!$F1253*0.000000028317),\"\")","v":""},{"$f":"IF(ISNUMBER('Teom ugm3'!C1255),('Teom ugm3'!C1255*'Teom grams'!$F1253*0.000000028317),\"\")","v":""},{"$f":"IF(ISNUMBER('Teom ugm3'!D1255),('Teom ugm3'!D1255*'Teom grams'!$F1253*0.000000028317),\"\")","v":""},"","","","",null,"","","",null,"",""]
[null,null,{"$f":"IF('Teom ugm3'!A1256=\"\",\"\",C1253+1)","v":""},"",null,"",null,{"$f":"IF(ISNUMBER('Teom ugm3'!B1256),('Teom ugm3'!B1256*'Teom grams'!$F1254*0.000000028317),\"\")","v":""},{"$f":"IF(ISNUMBER('Teom ugm3'!C1256),('Teom ugm3'!C1256*'Teom grams'!$F1254*0.000000028317),\"\")","v":""},{"$f":"IF(ISNUMBER('Teom ugm3'!D1256),('Teom ugm3'!D1256*'Teom grams'!$F1254*0.000000028317),\"\")","v":""},"","","","",null,"","","",null,"",""]
[null,null,{"$f":"IF('Teom ugm3'!A1257=\"\",\"\",C1254+1)","v":""},"",null,"",null,{"$f":"IF(ISNUMBER('Teom ugm3'!B1257),('Teom ugm3'!B1257*'Teom grams'!$F1255*0.000000028317),\"\")","v":""},{"$f":"IF(ISNUMBER('Teom ugm3'!C1257),('Teom ugm3'!C1257*'Teom grams'!$F1255*0.000000028317),\"\")","v":""},{"$f":"IF(ISNUMBER('Teom ugm3'!D1257),('Teom ugm3'!D1257*'Teom grams'!$F1255*0.000000028317),\"\")","v":""},"","","","",null,"","","",null,"",""]
[null,null,{"$f":"IF('Teom ugm3'!A1258=\"\",\"\",C1255+1)","v":""},"",null,"",null,{"$f":"IF(ISNUMBER('Teom ugm3'!B1258),('Teom ugm3'!B1258*'Teom grams'!$F1256*0.000000028317),\"\")","v":""},{"$f":"IF(ISNUMBER('Teom ugm3'!C1258),('Teom ugm3'!C1258*'Teom grams'!$F1256*0.000000028317),\"\")","v":""},{"$f":"IF(ISNUMBER('Teom ugm3'!D1258),('Teom ugm3'!D1258*'Teom grams'!$F1256*0.000000028317),\"\")","v":""},"","","","",null,"","","",null,"",""]
[null,null,{"$f":"IF('Teom ugm3'!A1259=\"\",\"\",C1256+1)","v":""},"",null,"",null,{"$f":"IF(ISNUMBER('Teom ugm3'!B1259),('Teom ugm3'!B1259*'Teom grams'!$F1257*0.000000028317),\"\")","v":""},{"$f":"IF(ISNUMBER('Teom ugm3'!C1259),('Teom ugm3'!C1259*'Teom grams'!$F1257*0.000000028317),\"\")","v":""},{"$f":"IF(ISNUMBER('Teom ugm3'!D1259),('Teom ugm3'!D1259*'Teom grams'!$F1257*0.000000028317),\"\")","v":""},"","","","",null,"","","",null,"",""]
[null,null,{"$f":"IF('Teom ugm3'!A1260=\"\",\"\",C1257+1)","v":""},"",null,"",null,{"$f":"IF(ISNUMBER('Teom ugm3'!B1260),('Teom ugm3'!B1260*'Teom grams'!$F1258*0.000000028317),\"\")","v":""},{"$f":"IF(ISNUMBER('Teom ugm3'!C1260),('Teom ugm3'!C1260*'Teom grams'!$F1258*0.000000028317),\"\")","v":""},{"$f":"IF(ISNUMBER('Teom ugm3'!D1260),('Teom ugm3'!D1260*'Teom grams'!$F1258*0.000000028317),\"\")","v":""},"","","","",null,"","","",null,"",""]
[null,null,{"$f":"IF('Teom ugm3'!A1261=\"\",\"\",C1258+1)","v":""},"",null,"",null,{"$f":"IF(ISNUMBER('Teom ugm3'!B1261),('Teom ugm3'!B1261*'Teom grams'!$F1259*0.000000028317),\"\")","v":""},{"$f":"IF(ISNUMBER('Teom ugm3'!C1261),('Teom ugm3'!C1261*'Teom grams'!$F1259*0.000000028317),\"\")","v":""},{"$f":"IF(ISNUMBER('Teom ugm3'!D1261),('Teom ugm3'!D1261*'Teom grams'!$F1259*0.000000028317),\"\")","v":""},"","","","",null,"","","",null,"",""]
[null,null,{"$f":"IF('Teom ugm3'!A1262=\"\",\"\",C1259+1)","v":""},"",null,"",null,{"$f":"IF(ISNUMBER('Teom ugm3'!B1262),('Teom ugm3'!B1262*'Teom grams'!$F1260*0.000000028317),\"\")","v":""},{"$f":"IF(ISNUMBER('Teom ugm3'!C1262),('Teom ugm3'!C1262*'Teom grams'!$F1260*0.000000028317),\"\")","v":""},{"$f":"IF(ISNUMBER('Teom ugm3'!D1262),('Teom ugm3'!D1262*'Teom grams'!$F1260*0.000000028317),\"\")","v":""},"","","","",null,"","","",null,"",""]
[null,null,{"$f":"IF('Teom ugm3'!A1263=\"\",\"\",C1260+1)","v":""},"",null,"",null,{"$f":"IF(ISNUMBER('Teom ugm3'!B1263),('Teom ugm3'!B1263*'Teom grams'!$F1261*0.000000028317),\"\")","v":""},{"$f":"IF(ISNUMBER('Teom ugm3'!C1263),('Teom ugm3'!C1263*'Teom grams'!$F1261*0.000000028317),\"\")","v":""},{"$f":"IF(ISNUMBER('Teom ugm3'!D1263),('Teom ugm3'!D1263*'Teom grams'!$F1261*0.000000028317),\"\")","v":""},"","","","",null,"","","",null,"",""]
[null,null,{"$f":"IF('Teom ugm3'!A1264=\"\",\"\",C1261+1)","v":""},"",null,"",null,{"$f":"IF(ISNUMBER('Teom ugm3'!B1264),('Teom ugm3'!B1264*'Teom grams'!$F1262*0.000000028317),\"\")","v":""},{"$f":"IF(ISNUMBER('Teom ugm3'!C1264),('Teom ugm3'!C1264*'Teom grams'!$F1262*0.000000028317),\"\")","v":""},{"$f":"IF(ISNUMBER('Teom ugm3'!D1264),('Teom ugm3'!D1264*'Teom grams'!$F1262*0.000000028317),\"\")","v":""},"","","","",null,"","","",null,"",""]
[null,null,{"$f":"IF('Teom ugm3'!A1265=\"\",\"\",C1262+1)","v":""},"",null,"",null,{"$f":"IF(ISNUMBER('Teom ugm3'!B1265),('Teom ugm3'!B1265*'Teom grams'!$F1263*0.000000028317),\"\")","v":""},{"$f":"IF(ISNUMBER('Teom ugm3'!C1265),('Teom ugm3'!C1265*'Teom grams'!$F1263*0.000000028317),\"\")","v":""},{"$f":"IF(ISNUMBER('Teom ugm3'!D1265),('Teom ugm3'!D1265*'Teom grams'!$F1263*0.000000028317),\"\")","v":""},"","","","",null,"","","",null,"",""]
[null,null,{"$f":"IF('Teom ugm3'!A1266=\"\",\"\",C1263+1)","v":""},"",null,"",null,{"$f":"IF(ISNUMBER('Teom ugm3'!B1266),('Teom ugm3'!B1266*'Teom grams'!$F1264*0.000000028317),\"\")","v":""},{"$f":"IF(ISNUMBER('Teom ugm3'!C1266),('Teom ugm3'!C1266*'Teom grams'!$F1264*0.000000028317),\"\")","v":""},{"$f":"IF(ISNUMBER('Teom ugm3'!D1266),('Teom ugm3'!D1266*'Teom grams'!$F1264*0.000000028317),\"\")","v":""},"","","","",null,"","","",null,"",""]
[null,null,{"$f":"IF('Teom ugm3'!A1267=\"\",\"\",C1264+1)","v":""},"",null,"",null,{"$f":"IF(ISNUMBER('Teom ugm3'!B1267),('Teom ugm3'!B1267*'Teom grams'!$F1265*0.000000028317),\"\")","v":""},{"$f":"IF(ISNUMBER('Teom ugm3'!C1267),('Teom ugm3'!C1267*'Teom grams'!$F1265*0.000000028317),\"\")","v":""},{"$f":"IF(ISNUMBER('Teom ugm3'!D1267),('Teom ugm3'!D1267*'Teom grams'!$F1265*0.000000028317),\"\")","v":""},"","","","",null,"","","",null,"",""]
[null,null,{"$f":"IF('Teom ugm3'!A1268=\"\",\"\",C1265+1)","v":""},"",null,"",null,{"$f":"IF(ISNUMBER('Teom ugm3'!B1268),('Teom ugm3'!B1268*'Teom grams'!$F1266*0.000000028317),\"\")","v":""},{"$f":"IF(ISNUMBER('Teom ugm3'!C1268),('Teom ugm3'!C1268*'Teom grams'!$F1266*0.000000028317),\"\")","v":""},{"$f":"IF(ISNUMBER('Teom ugm3'!D1268),('Teom ugm3'!D1268*'Teom grams'!$F1266*0.000000028317),\"\")","v":""},"","","","",null,"","","",null,"",""]
[null,null,{"$f":"IF('Teom ugm3'!A1269=\"\",\"\",C1266+1)","v":""},"",null,"",null,{"$f":"IF(ISNUMBER('Teom ugm3'!B1269),('Teom ugm3'!B1269*'Teom grams'!$F1267*0.000000028317),\"\")","v":""},{"$f":"IF(ISNUMBER('Teom ugm3'!C1269),('Teom ugm3'!C1269*'Teom grams'!$F1267*0.000000028317),\"\")","v":""},{"$f":"IF(ISNUMBER('Teom ugm3'!D1269),('Teom ugm3'!D1269*'Teom grams'!$F1267*0.000000028317),\"\")","v":""},"","","","",null,"","","",null,"",""]
[null,null,{"$f":"IF('Teom ugm3'!A1270=\"\",\"\",C1267+1)","v":""},"",null,"",null,{"$f":"IF(ISNUMBER('Teom ugm3'!B1270),('Teom ugm3'!B1270*'Teom grams'!$F1268*0.000000028317),\"\")","v":""},{"$f":"IF(ISNUMBER('Teom ugm3'!C1270),('Teom ugm3'!C1270*'Teom grams'!$F1268*0.000000028317),\"\")","v":""},{"$f":"IF(ISNUMBER('Teom ugm3'!D1270),('Teom ugm3'!D1270*'Teom grams'!$F1268*0.000000028317),\"\")","v":""},"","","","",null,"","","",null,"",""]
[null,null,{"$f":"IF('Teom ugm3'!A1271=\"\",\"\",C1268+1)","v":""},"",null,"",null,{"$f":"IF(ISNUMBER('Teom ugm3'!B1271),('Teom ugm3'!B1271*'Teom grams'!$F1269*0.000000028317),\"\")","v":""},{"$f":"IF(ISNUMBER('Teom ugm3'!C1271),('Teom ugm3'!C1271*'Teom grams'!$F1269*0.000000028317),\"\")","v":""},{"$f":"IF(ISNUMBER('Teom ugm3'!D1271),('Teom ugm3'!D1271*'Teom grams'!$F1269*0.000000028317),\"\")","v":""},"","","","",null,"","","",null,"",""]
[null,null,{"$f":"IF('Teom ugm3'!A1272=\"\",\"\",C1269+1)","v":""},"",null,"",null,{"$f":"IF(ISNUMBER('Teom ugm3'!B1272),('Teom ugm3'!B1272*'Teom grams'!$F1270*0.000000028317),\"\")","v":""},{"$f":"IF(ISNUMBER('Teom ugm3'!C1272),('Teom ugm3'!C1272*'Teom grams'!$F1270*0.000000028317),\"\")","v":""},{"$f":"IF(ISNUMBER('Teom ugm3'!D1272),('Teom ugm3'!D1272*'Teom grams'!$F1270*0.000000028317),\"\")","v":""},"","","","",null,"","","",null,"",""]
[null,null,{"$f":"IF('Teom ugm3'!A1273=\"\",\"\",C1270+1)","v":""},"",null,"",null,{"$f":"IF(ISNUMBER('Teom ugm3'!B1273),('Teom ugm3'!B1273*'Teom grams'!$F1271*0.000000028317),\"\")","v":""},{"$f":"IF(ISNUMBER('Teom ugm3'!C1273),('Teom ugm3'!C1273*'Teom grams'!$F1271*0.000000028317),\"\")","v":""},{"$f":"IF(ISNUMBER('Teom ugm3'!D1273),('Teom ugm3'!D1273*'Teom grams'!$F1271*0.000000028317),\"\")","v":""},"","","","",null,"","","",null,"",""]
[null,null,{"$f":"IF('Teom ugm3'!A1274=\"\",\"\",C1271+1)","v":""},"",null,"",null,{"$f":"IF(ISNUMBER('Teom ugm3'!B1274),('Teom ugm3'!B1274*'Teom grams'!$F1272*0.000000028317),\"\")","v":""},{"$f":"IF(ISNUMBER('Teom ugm3'!C1274),('Teom ugm3'!C1274*'Teom grams'!$F1272*0.000000028317),\"\")","v":""},{"$f":"IF(ISNUMBER('Teom ugm3'!D1274),('Teom ugm3'!D1274*'Teom grams'!$F1272*0.000000028317),\"\")","v":""},"","","","",null,"","","",null,"",""]
[null,null,{"$f":"IF('Teom ugm3'!A1275=\"\",\"\",C1272+1)","v":""},"",null,"",null,{"$f":"IF(ISNUMBER('Teom ugm3'!B1275),('Teom ugm3'!B1275*'Teom grams'!$F1273*0.000000028317),\"\")","v":""},{"$f":"IF(ISNUMBER('Teom ugm3'!C1275),('Teom ugm3'!C1275*'Teom grams'!$F1273*0.000000028317),\"\")","v":""},{"$f":"IF(ISNUMBER('Teom ugm3'!D1275),('Teom ugm3'!D1275*'Teom grams'!$F1273*0.000000028317),\"\")","v":""},"","","","",null,"","","",null,"",""]
[null,null,{"$f":"IF('Teom ugm3'!A1276=\"\",\"\",C1273+1)","v":""},"",null,"",null,{"$f":"IF(ISNUMBER('Teom ugm3'!B1276),('Teom ugm3'!B1276*'Teom grams'!$F1274*0.000000028317),\"\")","v":""},{"$f":"IF(ISNUMBER('Teom ugm3'!C1276),('Teom ugm3'!C1276*'Teom grams'!$F1274*0.000000028317),\"\")","v":""},{"$f":"IF(ISNUMBER('Teom ugm3'!D1276),('Teom ugm3'!D1276*'Teom grams'!$F1274*0.000000028317),\"\")","v":""},"","","","",null,"","","",null,"",""]
[null,null,{"$f":"IF('Teom ugm3'!A1277=\"\",\"\",C1274+1)","v":""},"",null,"",null,{"$f":"IF(ISNUMBER('Teom ugm3'!B1277),('Teom ugm3'!B1277*'Teom grams'!$F1275*0.000000028317),\"\")","v":""},{"$f":"IF(ISNUMBER('Teom ugm3'!C1277),('Teom ugm3'!C1277*'Teom grams'!$F1275*0.000000028317),\"\")","v":""},{"$f":"IF(ISNUMBER('Teom ugm3'!D1277),('Teom ugm3'!D1277*'Teom grams'!$F1275*0.000000028317),\"\")","v":""},"","","","",null,"","","",null,"",""]
[null,null,{"$f":"IF('Teom ugm3'!A1278=\"\",\"\",C1275+1)","v":""},"",null,"",null,{"$f":"IF(ISNUMBER('Teom ugm3'!B1278),('Teom ugm3'!B1278*'Teom grams'!$F1276*0.000000028317),\"\")","v":""},{"$f":"IF(ISNUMBER('Teom ugm3'!C1278),('Teom ugm3'!C1278*'Teom grams'!$F1276*0.000000028317),\"\")","v":""},{"$f":"IF(ISNUMBER('Teom ugm3'!D1278),('Teom ugm3'!D1278*'Teom grams'!$F1276*0.000000028317),\"\")","v":""},"","","","",null,"","","",null,"",""]
[null,null,{"$f":"IF('Teom ugm3'!A1279=\"\",\"\",C1276+1)","v":""},"",null,"",null,{"$f":"IF(ISNUMBER('Teom ugm3'!B1279),('Teom ugm3'!B1279*'Teom grams'!$F1277*0.000000028317),\"\")","v":""},{"$f":"IF(ISNUMBER('Teom ugm3'!C1279),('Teom ugm3'!C1279*'Teom grams'!$F1277*0.000000028317),\"\")","v":""},{"$f":"IF(ISNUMBER('Teom ugm3'!D1279),('Teom ugm3'!D1279*'Teom grams'!$F1277*0.000000028317),\"\")","v":""},"","","","",null,"","","",null,"",""]
[null,null,{"$f":"IF('Teom ugm3'!A1280=\"\",\"\",C1277+1)","v":""},"",null,"",null,{"$f":"IF(ISNUMBER('Teom ugm3'!B1280),('Teom ugm3'!B1280*'Teom grams'!$F1278*0.000000028317),\"\")","v":""},{"$f":"IF(ISNUMBER('Teom ugm3'!C1280),('Teom ugm3'!C1280*'Teom grams'!$F1278*0.000000028317),\"\")","v":""},{"$f":"IF(ISNUMBER('Teom ugm3'!D1280),('Teom ugm3'!D1280*'Teom grams'!$F1278*0.000000028317),\"\")","v":""},"","","","",null,"","","",null,"",""]
[null,null,{"$f":"IF('Teom ugm3'!A1281=\"\",\"\",C1278+1)","v":""},"",null,"",null,{"$f":"IF(ISNUMBER('Teom ugm3'!B1281),('Teom ugm3'!B1281*'Teom grams'!$F1279*0.000000028317),\"\")","v":""},{"$f":"IF(ISNUMBER('Teom ugm3'!C1281),('Teom ugm3'!C1281*'Teom grams'!$F1279*0.000000028317),\"\")","v":""},{"$f":"IF(ISNUMBER('Teom ugm3'!D1281),('Teom ugm3'!D1281*'Teom grams'!$F1279*0.000000028317),\"\")","v":""},"","","","",null,"","","",null,"",""]
[null,null,{"$f":"IF('Teom ugm3'!A1282=\"\",\"\",C1279+1)","v":""},"",null,"",null,{"$f":"IF(ISNUMBER('Teom ugm3'!B1282),('Teom ugm3'!B1282*'Teom grams'!$F1280*0.000000028317),\"\")","v":""},{"$f":"IF(ISNUMBER('Teom ugm3'!C1282),('Teom ugm3'!C1282*'Teom grams'!$F1280*0.000000028317),\"\")","v":""},{"$f":"IF(ISNUMBER('Teom ugm3'!D1282),('Teom ugm3'!D1282*'Teom grams'!$F1280*0.000000028317),\"\")","v":""},"","","","",null,"","","",null,"",""]
[null,null,{"$f":"IF('Teom ugm3'!A1283=\"\",\"\",C1280+1)","v":""},"",null,"",null,{"$f":"IF(ISNUMBER('Teom ugm3'!B1283),('Teom ugm3'!B1283*'Teom grams'!$F1281*0.000000028317),\"\")","v":""},{"$f":"IF(ISNUMBER('Teom ugm3'!C1283),('Teom ugm3'!C1283*'Teom grams'!$F1281*0.000000028317),\"\")","v":""},{"$f":"IF(ISNUMBER('Teom ugm3'!D1283),('Teom ugm3'!D1283*'Teom grams'!$F1281*0.000000028317),\"\")","v":""},"","","","",null,"","","",null,"",""]
[null,null,{"$f":"IF('Teom ugm3'!A1284=\"\",\"\",C1281+1)","v":""},"",null,"",null,{"$f":"IF(ISNUMBER('Teom ugm3'!B1284),('Teom ugm3'!B1284*'Teom grams'!$F1282*0.000000028317),\"\")","v":""},{"$f":"IF(ISNUMBER('Teom ugm3'!C1284),('Teom ugm3'!C1284*'Teom grams'!$F1282*0.000000028317),\"\")","v":""},{"$f":"IF(ISNUMBER('Teom ugm3'!D1284),('Teom ugm3'!D1284*'Teom grams'!$F1282*0.000000028317),\"\")","v":""},"","","","",null,"","","",null,"",""]
[null,null,{"$f":"IF('Teom ugm3'!A1285=\"\",\"\",C1282+1)","v":""},"",null,"",null,{"$f":"IF(ISNUMBER('Teom ugm3'!B1285),('Teom ugm3'!B1285*'Teom grams'!$F1283*0.000000028317),\"\")","v":""},{"$f":"IF(ISNUMBER('Teom ugm3'!C1285),('Teom ugm3'!C1285*'Teom grams'!$F1283*0.000000028317),\"\")","v":""},{"$f":"IF(ISNUMBER('Teom ugm3'!D1285),('Teom ugm3'!D1285*'Teom grams'!$F1283*0.000000028317),\"\")","v":""},"","","","",null,"","","",null,"",""]
[null,null,{"$f":"IF('Teom ugm3'!A1286=\"\",\"\",C1283+1)","v":""},"",null,"",null,{"$f":"IF(ISNUMBER('Teom ugm3'!B1286),('Teom ugm3'!B1286*'Teom grams'!$F1284*0.000000028317),\"\")","v":""},{"$f":"IF(ISNUMBER('Teom ugm3'!C1286),('Teom ugm3'!C1286*'Teom grams'!$F1284*0.000000028317),\"\")","v":""},{"$f":"IF(ISNUMBER('Teom ugm3'!D1286),('Teom ugm3'!D1286*'Teom grams'!$F1284*0.000000028317),\"\")","v":""},"","","",{"$f":"M1284","v":""},null,"","","",null,"",""]
[null,null,{"$f":"IF('Teom ugm3'!A1287=\"\",\"\",C1284+1)","v":""},"",null,{"$f":"IF(C1285=\"\",\"\",E1285*1.02041)","v":""},null,{"$f":"IF(ISNUMBER('Teom ugm3'!B1287),('Teom ugm3'!B1287*'Teom grams'!$F1285*0.000000028317),\"\")","v":""},{"$f":"IF(ISNUMBER('Teom ugm3'!C1287),('Teom ugm3'!C1287*'Teom grams'!$F1285*0.000000028317),\"\")","v":""},{"$f":"IF(ISNUMBER('Teom ugm3'!D1287),('Teom ugm3'!D1287*'Teom grams'!$F1285*0.000000028317),\"\")","v":""},{"$f":"IF(H1285<0,0,H1285)","v":""},"","","",null,{"$f":"IF(ISNUMBER(J1285),J1285*60,\"\")","v":""},"","",null,"",""]
[null,null,{"$f":"IF('Teom ugm3'!A1288=\"\",\"\",C1285+1)","v":""},{"$f":"IF(C1286=\"\",\"\",D1285 + TIME(0, 1, 0))","v":""},null,"",null,{"$f":"IF(ISNUMBER('Teom ugm3'!B1288),('Teom ugm3'!B1288*'Teom grams'!$F1286*0.000000028317),\"\")","v":""},{"$f":"IF(ISNUMBER('Teom ugm3'!C1288),('Teom ugm3'!C1288*'Teom grams'!$F1286*0.000000028317),\"\")","v":""},{"$f":"IF(ISNUMBER('Teom ugm3'!D1288),('Teom ugm3'!D1288*'Teom grams'!$F1286*0.000000028317),\"\")","v":""},"","","","",null,"","","",null,"",""]
[null,null,{"$f":"IF('Teom ugm3'!A1289=\"\",\"\",C1286+1)","v":""},"",null,"",null,{"$f":"IF(ISNUMBER('Teom ugm3'!B1289),('Teom ugm3'!B1289*'Teom grams'!$F1287*0.000000028317),\"\")","v":""},{"$f":"IF(ISNUMBER('Teom ugm3'!C1289),('Teom ugm3'!C1289*'Teom grams'!$F1287*0.000000028317),\"\")","v":""},{"$f":"IF(ISNUMBER('Teom ugm3'!D1289),('Teom ugm3'!D1289*'Teom grams'!$F1287*0.000000028317),\"\")","v":""},"","","","",null,"","","",null,"",""]
[null,null,{"$f":"IF('Teom ugm3'!A1290=\"\",\"\",C1287+1)","v":""},"",null,"",null,{"$f":"IF(ISNUMBER('Teom ugm3'!B1290),('Teom ugm3'!B1290*'Teom grams'!$F1288*0.000000028317),\"\")","v":""},{"$f":"IF(ISNUMBER('Teom ugm3'!C1290),('Teom ugm3'!C1290*'Teom grams'!$F1288*0.000000028317),\"\")","v":""},{"$f":"IF(ISNUMBER('Teom ugm3'!D1290),('Teom ugm3'!D1290*'Teom grams'!$F1288*0.000000028317),\"\")","v":""},"","","","",null,"","","",null,"",""]
[null,null,{"$f":"IF('Teom ugm3'!A1291=\"\",\"\",C1288+1)","v":""},"",null,"",null,{"$f":"IF(ISNUMBER('Teom ugm3'!B1291),('Teom ugm3'!B1291*'Teom grams'!$F1289*0.000000028317),\"\")","v":""},{"$f":"IF(ISNUMBER('Teom ugm3'!C1291),('Teom ugm3'!C1291*'Teom grams'!$F1289*0.000000028317),\"\")","v":""},{"$f":"IF(ISNUMBER('Teom ugm3'!D1291),('Teom ugm3'!D1291*'Teom grams'!$F1289*0.000000028317),\"\")","v":""},"","","","",null,"","","",null,"",""]
[null,null,{"$f":"IF('Teom ugm3'!A1292=\"\",\"\",C1289+1)","v":""},"",null,"",null,{"$f":"IF(ISNUMBER('Teom ugm3'!B1292),('Teom ugm3'!B1292*'Teom grams'!$F1290*0.000000028317),\"\")","v":""},{"$f":"IF(ISNUMBER('Teom ugm3'!C1292),('Teom ugm3'!C1292*'Teom grams'!$F1290*0.000000028317),\"\")","v":""},{"$f":"IF(ISNUMBER('Teom ugm3'!D1292),('Teom ugm3'!D1292*'Teom grams'!$F1290*0.000000028317),\"\")","v":""},"","","","",null,"","","",null,"",""]
[null,null,{"$f":"IF('Teom ugm3'!A1293=\"\",\"\",C1290+1)","v":""},"",null,"",null,{"$f":"IF(ISNUMBER('Teom ugm3'!B1293),('Teom ugm3'!B1293*'Teom grams'!$F1291*0.000000028317),\"\")","v":""},{"$f":"IF(ISNUMBER('Teom ugm3'!C1293),('Teom ugm3'!C1293*'Teom grams'!$F1291*0.000000028317),\"\")","v":""},{"$f":"IF(ISNUMBER('Teom ugm3'!D1293),('Teom ugm3'!D1293*'Teom grams'!$F1291*0.000000028317),\"\")","v":""},"","",{"$f":"IF(COUNT(K1291:L1291)>0,AVERAGE(K1291:L1291),\"\")","v":""},"",null,"","","",null,"",""]
[null,null,{"$f":"IF('Teom ugm3'!A1294=\"\",\"\",C1291+1)","v":""},"",null,"",null,{"$f":"IF(ISNUMBER('Teom ugm3'!B1294),('Teom ugm3'!B1294*'Teom grams'!$F1292*0.000000028317),\"\")","v":""},{"$f":"IF(ISNUMBER('Teom ugm3'!C1294),('Teom ugm3'!C1294*'Teom grams'!$F1292*0.000000028317),\"\")","v":""},{"$f":"IF(ISNUMBER('Teom ugm3'!D1294),('Teom ugm3'!D1294*'Teom grams'!$F1292*0.000000028317),\"\")","v":""},"","","","",null,"","","",null,"",""]
[null,null,{"$f":"IF('Teom ugm3'!A1295=\"\",\"\",C1292+1)","v":""},"",null,"",null,{"$f":"IF(ISNUMBER('Teom ugm3'!B1295),('Teom ugm3'!B1295*'Teom grams'!$F1293*0.000000028317),\"\")","v":""},{"$f":"IF(ISNUMBER('Teom ugm3'!C1295),('Teom ugm3'!C1295*'Teom grams'!$F1293*0.000000028317),\"\")","v":""},{"$f":"IF(ISNUMBER('Teom ugm3'!D1295),('Teom ugm3'!D1295*'Teom grams'!$F1293*0.000000028317),\"\")","v":""},"","","","",null,"","","",null,"",""]
[null,null,{"$f":"IF('Teom ugm3'!A1296=\"\",\"\",C1293+1)","v":""},"",null,"",null,{"$f":"IF(ISNUMBER('Teom ugm3'!B1296),('Teom ugm3'!B1296*'Teom grams'!$F1294*0.000000028317),\"\")","v":""},{"$f":"IF(ISNUMBER('Teom ugm3'!C1296),('Teom ugm3'!C1296*'Teom grams'!$F1294*0.000000028317),\"\")","v":""},{"$f":"IF(ISNUMBER('Teom ugm3'!D1296),('Teom ugm3'!D1296*'Teom grams'!$F1294*0.000000028317),\"\")","v":""},"","","","",null,"","","",null,"",""]
[null,null,{"$f":"IF('Teom ugm3'!A1297=\"\",\"\",C1294+1)","v":""},"",null,"",null,{"$f":"IF(ISNUMBER('Teom ugm3'!B1297),('Teom ugm3'!B1297*'Teom grams'!$F1295*0.000000028317),\"\")","v":""},{"$f":"IF(ISNUMBER('Teom ugm3'!C1297),('Teom ugm3'!C1297*'Teom grams'!$F1295*0.000000028317),\"\")","v":""},{"$f":"IF(ISNUMBER('Teom ugm3'!D1297),('Teom ugm3'!D1297*'Teom grams'!$F1295*0.000000028317),\"\")","v":""},"","","","",null,"","","",null,"",""]
[null,null,{"$f":"IF('Teom ugm3'!A1298=\"\",\"\",C1295+1)","v":""},"",null,"",null,{"$f":"IF(ISNUMBER('Teom ugm3'!B1298),('Teom ugm3'!B1298*'Teom grams'!$F1296*0.000000028317),\"\")","v":""},{"$f":"IF(ISNUMBER('Teom ugm3'!C1298),('Teom ugm3'!C1298*'Teom grams'!$F1296*0.000000028317),\"\")","v":""},{"$f":"IF(ISNUMBER('Teom ugm3'!D1298),('Teom ugm3'!D1298*'Teom grams'!$F1296*0.000000028317),\"\")","v":""},"","","","",null,"","","",null,"",""]
[null,null,{"$f":"IF('Teom ugm3'!A1299=\"\",\"\",C1296+1)","v":""},"",null,"",null,{"$f":"IF(ISNUMBER('Teom ugm3'!B1299),('Teom ugm3'!B1299*'Teom grams'!$F1297*0.000000028317),\"\")","v":""},{"$f":"IF(ISNUMBER('Teom ugm3'!C1299),('Teom ugm3'!C1299*'Teom grams'!$F1297*0.000000028317),\"\")","v":""},{"$f":"IF(ISNUMBER('Teom ugm3'!D1299),('Teom ugm3'!D1299*'Teom grams'!$F1297*0.000000028317),\"\")","v":""},"","","","",null,"","","",null,"",""]
[null,null,{"$f":"IF('Teom ugm3'!A1300=\"\",\"\",C1297+1)","v":""},"",null,"",null,{"$f":"IF(ISNUMBER('Teom ugm3'!B1300),('Teom ugm3'!B1300*'Teom grams'!$F1298*0.000000028317),\"\")","v":""},{"$f":"IF(ISNUMBER('Teom ugm3'!C1300),('Teom ugm3'!C1300*'Teom grams'!$F1298*0.000000028317),\"\")","v":""},{"$f":"IF(ISNUMBER('Teom ugm3'!D1300),('Teom ugm3'!D1300*'Teom grams'!$F1298*0.000000028317),\"\")","v":""},"","","","",null,"","","",null,"",""]
[null,null,{"$f":"IF('Teom ugm3'!A1301=\"\",\"\",C1298+1)","v":""},"",null,"",null,{"$f":"IF(ISNUMBER('Teom ugm3'!B1301),('Teom ugm3'!B1301*'Teom grams'!$F1299*0.000000028317),\"\")","v":""},{"$f":"IF(ISNUMBER('Teom ugm3'!C1301),('Teom ugm3'!C1301*'Teom grams'!$F1299*0.000000028317),\"\")","v":""},{"$f":"IF(ISNUMBER('Teom ugm3'!D1301),('Teom ugm3'!D1301*'Teom grams'!$F1299*0.000000028317),\"\")","v":""},"","","","",null,"","","",null,"",""]
[null,null,{"$f":"IF('Teom ugm3'!A1302=\"\",\"\",C1299+1)","v":""},"",null,"",null,{"$f":"IF(ISNUMBER('Teom ugm3'!B1302),('Teom ugm3'!B1302*'Teom grams'!$F1300*0.000000028317),\"\")","v":""},{"$f":"IF(ISNUMBER('Teom ugm3'!C1302),('Teom ugm3'!C1302*'Teom grams'!$F1300*0.000000028317),\"\")","v":""},{"$f":"IF(ISNUMBER('Teom ugm3'!D1302),('Teom ugm3'!D1302*'Teom grams'!$F1300*0.000000028317),\"\")","v":""},"","","","",null,"","","",null,"",""]
[null,null,{"$f":"IF('Teom ugm3'!A1303=\"\",\"\",C1300+1)","v":""},"",null,"",null,{"$f":"IF(ISNUMBER('Teom ugm3'!B1303),('Teom ugm3'!B1303*'Teom grams'!$F1301*0.000000028317),\"\")","v":""},{"$f":"IF(ISNUMBER('Teom ugm3'!C1303),('Teom ugm3'!C1303*'Teom grams'!$F1301*0.000000028317),\"\")","v":""},{"$f":"IF(ISNUMBER('Teom ugm3'!D1303),('Teom ugm3'!D1303*'Teom grams'!$F1301*0.000000028317),\"\")","v":""},"","","","",null,"","","",null,"",""]
[null,null,{"$f":"IF('Teom ugm3'!A1304=\"\",\"\",C1301+1)","v":""},"",null,"",null,{"$f":"IF(ISNUMBER('Teom ugm3'!B1304),('Teom ugm3'!B1304*'Teom grams'!$F1302*0.000000028317),\"\")","v":""},{"$f":"IF(ISNUMBER('Teom ugm3'!C1304),('Teom ugm3'!C1304*'Teom grams'!$F1302*0.000000028317),\"\")","v":""},{"$f":"IF(ISNUMBER('Teom ugm3'!D1304),('Teom ugm3'!D1304*'Teom grams'!$F1302*0.000000028317),\"\")","v":""},"","","","",null,"","","",null,"",""]
[null,null,{"$f":"IF('Teom ugm3'!A1305=\"\",\"\",C1302+1)","v":""},"",null,"",null,{"$f":"IF(ISNUMBER('Teom ugm3'!B1305),('Teom ugm3'!B1305*'Teom grams'!$F1303*0.000000028317),\"\")","v":""},{"$f":"IF(ISNUMBER('Teom ugm3'!C1305),('Teom ugm3'!C1305*'Teom grams'!$F1303*0.000000028317),\"\")","v":""},{"$f":"IF(ISNUMBER('Teom ugm3'!D1305),('Teom ugm3'!D1305*'Teom grams'!$F1303*0.000000028317),\"\")","v":""},"","","","",null,"","","",null,"",""]
[null,null,{"$f":"IF('Teom ugm3'!A1306=\"\",\"\",C1303+1)","v":""},"",null,"",null,{"$f":"IF(ISNUMBER('Teom ugm3'!B1306),('Teom ugm3'!B1306*'Teom grams'!$F1304*0.000000028317),\"\")","v":""},{"$f":"IF(ISNUMBER('Teom ugm3'!C1306),('Teom ugm3'!C1306*'Teom grams'!$F1304*0.000000028317),\"\")","v":""},{"$f":"IF(ISNUMBER('Teom ugm3'!D1306),('Teom ugm3'!D1306*'Teom grams'!$F1304*0.000000028317),\"\")","v":""},"","","","",null,"","","",null,"",""]
[null,null,{"$f":"IF('Teom ugm3'!A1307=\"\",\"\",C1304+1)","v":""},"",null,"",null,{"$f":"IF(ISNUMBER('Teom ugm3'!B1307),('Teom ugm3'!B1307*'Teom grams'!$F1305*0.000000028317),\"\")","v":""},{"$f":"IF(ISNUMBER('Teom ugm3'!C1307),('Teom ugm3'!C1307*'Teom grams'!$F1305*0.000000028317),\"\")","v":""},{"$f":"IF(ISNUMBER('Teom ugm3'!D1307),('Teom ugm3'!D1307*'Teom grams'!$F1305*0.000000028317),\"\")","v":""},"","","","",null,"","","",null,"",""]
[null,null,{"$f":"IF('Teom ugm3'!A1308=\"\",\"\",C1305+1)","v":""},"",null,"",null,{"$f":"IF(ISNUMBER('Teom ugm3'!B1308),('Teom ugm3'!B1308*'Teom grams'!$F1306*0.000000028317),\"\")","v":""},{"$f":"IF(ISNUMBER('Teom ugm3'!C1308),('Teom ugm3'!C1308*'Teom grams'!$F1306*0.000000028317),\"\")","v":""},{"$f":"IF(ISNUMBER('Teom ugm3'!D1308),('Teom ugm3'!D1308*'Teom grams'!$F1306*0.000000028317),\"\")","v":""},"","","","",null,"","","",null,"",""]
[null,null,{"$f":"IF('Teom ugm3'!A1309=\"\",\"\",C1306+1)","v":""},"",null,"",null,{"$f":"IF(ISNUMBER('Teom ugm3'!B1309),('Teom ugm3'!B1309*'Teom grams'!$F1307*0.000000028317),\"\")","v":""},{"$f":"IF(ISNUMBER('Teom ugm3'!C1309),('Teom ugm3'!C1309*'Teom grams'!$F1307*0.000000028317),\"\")","v":""},{"$f":"IF(ISNUMBER('Teom ugm3'!D1309),('Teom ugm3'!D1309*'Teom grams'!$F1307*0.000000028317),\"\")","v":""},"","","","",null,"","","",null,"",""]
[null,null,{"$f":"IF('Teom ugm3'!A1310=\"\",\"\",C1307+1)","v":""},"",null,"",null,{"$f":"IF(ISNUMBER('Teom ugm3'!B1310),('Teom ugm3'!B1310*'Teom grams'!$F1308*0.000000028317),\"\")","v":""},{"$f":"IF(ISNUMBER('Teom ugm3'!C1310),('Teom ugm3'!C1310*'Teom grams'!$F1308*0.000000028317),\"\")","v":""},{"$f":"IF(ISNUMBER('Teom ugm3'!D1310),('Teom ugm3'!D1310*'Teom grams'!$F1308*0.000000028317),\"\")","v":""},"","","","",null,"","","",null,"",""]
[null,null,{"$f":"IF('Teom ugm3'!A1311=\"\",\"\",C1308+1)","v":""},"",null,"",null,{"$f":"IF(ISNUMBER('Teom ugm3'!B1311),('Teom ugm3'!B1311*'Teom grams'!$F1309*0.000000028317),\"\")","v":""},{"$f":"IF(ISNUMBER('Teom ugm3'!C1311),('Teom ugm3'!C1311*'Teom grams'!$F1309*0.000000028317),\"\")","v":""},{"$f":"IF(ISNUMBER('Teom ugm3'!D1311),('Teom ugm3'!D1311*'Teom grams'!$F1309*0.000000028317),\"\")","v":""},"","","","",null,"","","",null,"",""]
[null,null,{"$f":"IF('Teom ugm3'!A1312=\"\",\"\",C1309+1)","v":""},"",null,"",null,{"$f":"IF(ISNUMBER('Teom ugm3'!B1312),('Teom ugm3'!B1312*'Teom grams'!$F1310*0.000000028317),\"\")","v":""},{"$f":"IF(ISNUMBER('Teom ugm3'!C1312),('Teom ugm3'!C1312*'Teom grams'!$F1310*0.000000028317),\"\")","v":""},{"$f":"IF(ISNUMBER('Teom ugm3'!D1312),('Teom ugm3'!D1312*'Teom grams'!$F1310*0.000000028317),\"\")","v":""},"","","","",null,"","","",null,"",""]
[null,null,{"$f":"IF('Teom ugm3'!A1313=\"\",\"\",C1310+1)","v":""},"",null,"",null,{"$f":"IF(ISNUMBER('Teom ugm3'!B1313),('Teom ugm3'!B1313*'Teom grams'!$F1311*0.000000028317),\"\")","v":""},{"$f":"IF(ISNUMBER('Teom ugm3'!C1313),('Teom ugm3'!C1313*'Teom grams'!$F1311*0.000000028317),\"\")","v":""},{"$f":"IF(ISNUMBER('Teom ugm3'!D1313),('Teom ugm3'!D1313*'Teom grams'!$F1311*0.000000028317),\"\")","v":""},"","","","",null,"","","",null,"",""]
[null,null,{"$f":"IF('Teom ugm3'!A1314=\"\",\"\",C1311+1)","v":""},"",null,"",null,{"$f":"IF(ISNUMBER('Teom ugm3'!B1314),('Teom ugm3'!B1314*'Teom grams'!$F1312*0.000000028317),\"\")","v":""},{"$f":"IF(ISNUMBER('Teom ugm3'!C1314),('Teom ugm3'!C1314*'Teom grams'!$F1312*0.000000028317),\"\")","v":""},{"$f":"IF(ISNUMBER('Teom ugm3'!D1314),('Teom ugm3'!D1314*'Teom grams'!$F1312*0.000000028317),\"\")","v":""},"","","","",null,"","","",null,"",""]
[null,null,{"$f":"IF('Teom ugm3'!A1315=\"\",\"\",C1312+1)","v":""},"",null,"",null,{"$f":"IF(ISNUMBER('Teom ugm3'!B1315),('Teom ugm3'!B1315*'Teom grams'!$F1313*0.000000028317),\"\")","v":""},{"$f":"IF(ISNUMBER('Teom ugm3'!C1315),('Teom ugm3'!C1315*'Teom grams'!$F1313*0.000000028317),\"\")","v":""},{"$f":"IF(ISNUMBER('Teom ugm3'!D1315),('Teom ugm3'!D1315*'Teom grams'!$F1313*0.000000028317),\"\")","v":""},"","","","",null,"","","",null,"",""]
[null,null,{"$f":"IF('Teom ugm3'!A1316=\"\",\"\",C1313+1)","v":""},"",null,"",null,{"$f":"IF(ISNUMBER('Teom ugm3'!B1316),('Teom ugm3'!B1316*'Teom grams'!$F1314*0.000000028317),\"\")","v":""},{"$f":"IF(ISNUMBER('Teom ugm3'!C1316),('Teom ugm3'!C1316*'Teom grams'!$F1314*0.000000028317),\"\")","v":""},{"$f":"IF(ISNUMBER('Teom ugm3'!D1316),('Teom ugm3'!D1316*'Teom grams'!$F1314*0.000000028317),\"\")","v":""},"","","","",null,"","","",null,"",""]
[null,null,{"$f":"IF('Teom ugm3'!A1317=\"\",\"\",C1314+1)","v":""},"",null,"",null,{"$f":"IF(ISNUMBER('Teom ugm3'!B1317),('Teom ugm3'!B1317*'Teom grams'!$F1315*0.000000028317),\"\")","v":""},{"$f":"IF(ISNUMBER('Teom ugm3'!C1317),('Teom ugm3'!C1317*'Teom grams'!$F1315*0.000000028317),\"\")","v":""},{"$f":"IF(ISNUMBER('Teom ugm3'!D1317),('Teom ugm3'!D1317*'Teom grams'!$F1315*0.000000028317),\"\")","v":""},"","","","",null,"",{"$f":"IF(ISNUMBER(M1315),M1315*60,\"\")","v":""},{"$f":"IF(ISNUMBER(N1315),N1315*60,\"\")","v":""},null,{"$f":"IF(COUNT(C1315:C1374)>59,AVERAGE(P1315:P1374),\"\")","v":""},{"$f":"IF(COUNT(C1315:C1374)>59,AVERAGE(Q1315:Q1374),\"\")","v":""}]
[null,null,{"$f":"IF('Teom ugm3'!A1318=\"\",\"\",C1315+1)","v":""},"",null,"",null,{"$f":"IF(ISNUMBER('Teom ugm3'!B1318),('Teom ugm3'!B1318*'Teom grams'!$F1316*0.000000028317),\"\")","v":""},{"$f":"IF(ISNUMBER('Teom ugm3'!C1318),('Teom ugm3'!C1318*'Teom grams'!$F1316*0.000000028317),\"\")","v":""},{"$f":"IF(ISNUMBER('Teom ugm3'!D1318),('Teom ugm3'!D1318*'Teom grams'!$F1316*0.000000028317),\"\")","v":""},"","","","",null,"","","",null,"",""]
[null,null,{"$f":"IF('Teom ugm3'!A1319=\"\",\"\",C1316+1)","v":""},"",null,"",null,{"$f":"IF(ISNUMBER('Teom ugm3'!B1319),('Teom ugm3'!B1319*'Teom grams'!$F1317*0.000000028317),\"\")","v":""},{"$f":"IF(ISNUMBER('Teom ugm3'!C1319),('Teom ugm3'!C1319*'Teom grams'!$F1317*0.000000028317),\"\")","v":""},{"$f":"IF(ISNUMBER('Teom ugm3'!D1319),('Teom ugm3'!D1319*'Teom grams'!$F1317*0.000000028317),\"\")","v":""},"","","","",null,"","","",null,"",""]
[null,null,{"$f":"IF('Teom ugm3'!A1320=\"\",\"\",C1317+1)","v":""},"",null,"",null,{"$f":"IF(ISNUMBER('Teom ugm3'!B1320),('Teom ugm3'!B1320*'Teom grams'!$F1318*0.000000028317),\"\")","v":""},{"$f":"IF(ISNUMBER('Teom ugm3'!C1320),('Teom ugm3'!C1320*'Teom grams'!$F1318*0.000000028317),\"\")","v":""},{"$f":"IF(ISNUMBER('Teom ugm3'!D1320),('Teom ugm3'!D1320*'Teom grams'!$F1318*0.000000028317),\"\")","v":""},"","","","",null,"","","",null,"",""]
[null,null,{"$f":"IF('Teom ugm3'!A1321=\"\",\"\",C1318+1)","v":""},"",null,"",null,{"$f":"IF(ISNUMBER('Teom ugm3'!B1321),('Teom ugm3'!B1321*'Teom grams'!$F1319*0.000000028317),\"\")","v":""},{"$f":"IF(ISNUMBER('Teom ugm3'!C1321),('Teom ugm3'!C1321*'Teom grams'!$F1319*0.000000028317),\"\")","v":""},{"$f":"IF(ISNUMBER('Teom ugm3'!D1321),('Teom ugm3'!D1321*'Teom grams'!$F1319*0.000000028317),\"\")","v":""},"","","","",null,"","","",null,"",""]
[null,null,{"$f":"IF('Teom ugm3'!A1322=\"\",\"\",C1319+1)","v":""},"",null,"",null,{"$f":"IF(ISNUMBER('Teom ugm3'!B1322),('Teom ugm3'!B1322*'Teom grams'!$F1320*0.000000028317),\"\")","v":""},{"$f":"IF(ISNUMBER('Teom ugm3'!C1322),('Teom ugm3'!C1322*'Teom grams'!$F1320*0.000000028317),\"\")","v":""},{"$f":"IF(ISNUMBER('Teom ugm3'!D1322),('Teom ugm3'!D1322*'Teom grams'!$F1320*0.000000028317),\"\")","v":""},"","","","",null,"","","",null,"",""]
[null,null,{"$f":"IF('Teom ugm3'!A1323=\"\",\"\",C1320+1)","v":""},"",null,"",null,{"$f":"IF(ISNUMBER('Teom ugm3'!B1323),('Teom ugm3'!B1323*'Teom grams'!$F1321*0.000000028317),\"\")","v":""},{"$f":"IF(ISNUMBER('Teom ugm3'!C1323),('Teom ugm3'!C1323*'Teom grams'!$F1321*0.000000028317),\"\")","v":""},{"$f":"IF(ISNUMBER('Teom ugm3'!D1323),('Teom ugm3'!D1323*'Teom grams'!$F1321*0.000000028317),\"\")","v":""},"","","","",null,"","","",null,"",""]
[null,null,{"$f":"IF('Teom ugm3'!A1324=\"\",\"\",C1321+1)","v":""},"",null,"",null,{"$f":"IF(ISNUMBER('Teom ugm3'!B1324),('Teom ugm3'!B1324*'Teom grams'!$F1322*0.000000028317),\"\")","v":""},{"$f":"IF(ISNUMBER('Teom ugm3'!C1324),('Teom ugm3'!C1324*'Teom grams'!$F1322*0.000000028317),\"\")","v":""},{"$f":"IF(ISNUMBER('Teom ugm3'!D1324),('Teom ugm3'!D1324*'Teom grams'!$F1322*0.000000028317),\"\")","v":""},"","","","",null,"","","",null,"",""]
[null,null,{"$f":"IF('Teom ugm3'!A1325=\"\",\"\",C1322+1)","v":""},"",null,"",null,{"$f":"IF(ISNUMBER('Teom ugm3'!B1325),('Teom ugm3'!B1325*'Teom grams'!$F1323*0.000000028317),\"\")","v":""},{"$f":"IF(ISNUMBER('Teom ugm3'!C1325),('Teom ugm3'!C1325*'Teom grams'!$F1323*0.000000028317),\"\")","v":""},{"$f":"IF(ISNUMBER('Teom ugm3'!D1325),('Teom ugm3'!D1325*'Teom grams'!$F1323*0.000000028317),\"\")","v":""},"","","","",null,"","","",null,"",""]
[null,null,{"$f":"IF('Teom ugm3'!A1326=\"\",\"\",C1323+1)","v":""},"",null,"",null,{"$f":"IF(ISNUMBER('Teom ugm3'!B1326),('Teom ugm3'!B1326*'Teom grams'!$F1324*0.000000028317),\"\")","v":""},{"$f":"IF(ISNUMBER('Teom ugm3'!C1326),('Teom ugm3'!C1326*'Teom grams'!$F1324*0.000000028317),\"\")","v":""},{"$f":"IF(ISNUMBER('Teom ugm3'!D1326),('Teom ugm3'!D1326*'Teom grams'!$F1324*0.000000028317),\"\")","v":""},"","","","",null,"","","",null,"",""]
[null,null,{"$f":"IF('Teom ugm3'!A1327=\"\",\"\",C1324+1)","v":""},"",null,"",null,{"$f":"IF(ISNUMBER('Teom ugm3'!B1327),('Teom ugm3'!B1327*'Teom grams'!$F1325*0.000000028317),\"\")","v":""},{"$f":"IF(ISNUMBER('Teom ugm3'!C1327),('Teom ugm3'!C1327*'Teom grams'!$F1325*0.000000028317),\"\")","v":""},{"$f":"IF(ISNUMBER('Teom ugm3'!D1327),('Teom ugm3'!D1327*'Teom grams'!$F1325*0.000000028317),\"\")","v":""},"","","","",null,"","","",null,"",""]
[null,null,{"$f":"IF('Teom ugm3'!A1328=\"\",\"\",C1325+1)","v":""},"",null,"",null,{"$f":"IF(ISNUMBER('Teom ugm3'!B1328),('Teom ugm3'!B1328*'Teom grams'!$F1326*0.000000028317),\"\")","v":""},{"$f":"IF(ISNUMBER('Teom ugm3'!C1328),('Teom ugm3'!C1328*'Teom grams'!$F1326*0.000000028317),\"\")","v":""},{"$f":"IF(ISNUMBER('Teom ugm3'!D1328),('Teom ugm3'!D1328*'Teom grams'!$F1326*0.000000028317),\"\")","v":""},"","","","",null,"","","",null,"",""]
[null,null,{"$f":"IF('Teom ugm3'!A1329=\"\",\"\",C1326+1)","v":""},"",null,"",null,{"$f":"IF(ISNUMBER('Teom ugm3'!B1329),('Teom ugm3'!B1329*'Teom grams'!$F1327*0.000000028317),\"\")","v":""},{"$f":"IF(ISNUMBER('Teom ugm3'!C1329),('Teom ugm3'!C1329*'Teom grams'!$F1327*0.000000028317),\"\")","v":""},{"$f":"IF(ISNUMBER('Teom ugm3'!D1329),('Teom ugm3'!D1329*'Teom grams'!$F1327*0.000000028317),\"\")","v":""},"","","","",null,"","","",null,"",""]
[null,null,{"$f":"IF('Teom ugm3'!A1330=\"\",\"\",C1327+1)","v":""},"",null,"",null,{"$f":"IF(ISNUMBER('Teom ugm3'!B1330),('Teom ugm3'!B1330*'Teom grams'!$F1328*0.000000028317),\"\")","v":""},{"$f":"IF(ISNUMBER('Teom ugm3'!C1330),('Teom ugm3'!C1330*'Teom grams'!$F1328*0.000000028317),\"\")","v":""},{"$f":"IF(ISNUMBER('Teom ugm3'!D1330),('Teom ugm3'!D1330*'Teom grams'!$F1328*0.000000028317),\"\")","v":""},"","","","",null,"","","",null,"",""]
[null,null,{"$f":"IF('Teom ugm3'!A1331=\"\",\"\",C1328+1)","v":""},"",null,"",null,{"$f":"IF(ISNUMBER('Teom ugm3'!B1331),('Teom ugm3'!B1331*'Teom grams'!$F1329*0.000000028317),\"\")","v":""},{"$f":"IF(ISNUMBER('Teom ugm3'!C1331),('Teom ugm3'!C1331*'Teom grams'!$F1329*0.000000028317),\"\")","v":""},{"$f":"IF(ISNUMBER('Teom ugm3'!D1331),('Teom ugm3'!D1331*'Teom grams'!$F1329*0.000000028317),\"\")","v":""},"","","","",null,"","","",null,"",""]
[null,null,{"$f":"IF('Teom ugm3'!A1332=\"\",\"\",C1329+1)","v":""},"",null,"",null,{"$f":"IF(ISNUMBER('Teom ugm3'!B1332),('Teom ugm3'!B1332*'Teom grams'!$F1330*0.000000028317),\"\")","v":""},{"$f":"IF(ISNUMBER('Teom ugm3'!C1332),('Teom ugm3'!C1332*'Teom grams'!$F1330*0.000000028317),\"\")","v":""},{"$f":"IF(ISNUMBER('Teom ugm3'!D1332),('Teom ugm3'!D1332*'Teom grams'!$F1330*0.000000028317),\"\")","v":""},"","","","",null,"","","",null,"",""]
[null,null,{"$f":"IF('Teom ugm3'!A1333=\"\",\"\",C1330+1)","v":""},"",null,"",null,{"$f":"IF(ISNUMBER('Teom ugm3'!B1333),('Teom ugm3'!B1333*'Teom grams'!$F1331*0.000000028317),\"\")","v":""},{"$f":"IF(ISNUMBER('Teom ugm3'!C1333),('Teom ugm3'!C1333*'Teom grams'!$F1331*0.000000028317),\"\")","v":""},{"$f":"IF(ISNUMBER('Teom ugm3'!D1333),('Teom ugm3'!D1333*'Teom grams'!$F1331*0.000000028317),\"\")","v":""},"","","","",null,"","","",null,"",""]
[null,null,{"$f":"IF('Teom ugm3'!A1334=\"\",\"\",C1331+1)","v":""},"",null,"",null,{"$f":"IF(ISNUMBER('Teom ugm3'!B1334),('Teom ugm3'!B1334*'Teom grams'!$F1332*0.000000028317),\"\")","v":""},{"$f":"IF(ISNUMBER('Teom ugm3'!C1334),('Teom ugm3'!C1334*'Teom grams'!$F1332*0.000000028317),\"\")","v":""},{"$f":"IF(ISNUMBER('Teom ugm3'!D1334),('Teom ugm3'!D1334*'Teom grams'!$F1332*0.000000028317),\"\")","v":""},"","","","",null,"","","",null,"",""]
[null,null,{"$f":"IF('Teom ugm3'!A1335=\"\",\"\",C1332+1)","v":""},"",null,"",null,{"$f":"IF(ISNUMBER('Teom ugm3'!B1335),('Teom ugm3'!B1335*'Teom grams'!$F1333*0.000000028317),\"\")","v":""},{"$f":"IF(ISNUMBER('Teom ugm3'!C1335),('Teom ugm3'!C1335*'Teom grams'!$F1333*0.000000028317),\"\")","v":""},{"$f":"IF(ISNUMBER('Teom ugm3'!D1335),('Teom ugm3'!D1335*'Teom grams'!$F1333*0.000000028317),\"\")","v":""},"","","","",null,"","","",null,"",""]
[null,null,{"$f":"IF('Teom ugm3'!A1336=\"\",\"\",C1333+1)","v":""},"",null,"",null,{"$f":"IF(ISNUMBER('Teom ugm3'!B1336),('Teom ugm3'!B1336*'Teom grams'!$F1334*0.000000028317),\"\")","v":""},{"$f":"IF(ISNUMBER('Teom ugm3'!C1336),('Teom ugm3'!C1336*'Teom grams'!$F1334*0.000000028317),\"\")","v":""},{"$f":"IF(ISNUMBER('Teom ugm3'!D1336),('Teom ugm3'!D1336*'Teom grams'!$F1334*0.000000028317),\"\")","v":""},"","","","",null,"","","",null,"",""]
[null,null,{"$f":"IF('Teom ugm3'!A1337=\"\",\"\",C1334+1)","v":""},"",null,"",null,{"$f":"IF(ISNUMBER('Teom ugm3'!B1337),('Teom ugm3'!B1337*'Teom grams'!$F1335*0.000000028317),\"\")","v":""},{"$f":"IF(ISNUMBER('Teom ugm3'!C1337),('Teom ugm3'!C1337*'Teom grams'!$F1335*0.000000028317),\"\")","v":""},{"$f":"IF(ISNUMBER('Teom ugm3'!D1337),('Teom ugm3'!D1337*'Teom grams'!$F1335*0.000000028317),\"\")","v":""},"","","","",null,"","","",null,"",""]
[null,null,{"$f":"IF('Teom ugm3'!A1338=\"\",\"\",C1335+1)","v":""},"",null,"",null,{"$f":"IF(ISNUMBER('Teom ugm3'!B1338),('Teom ugm3'!B1338*'Teom grams'!$F1336*0.000000028317),\"\")","v":""},{"$f":"IF(ISNUMBER('Teom ugm3'!C1338),('Teom ugm3'!C1338*'Teom grams'!$F1336*0.000000028317),\"\")","v":""},{"$f":"IF(ISNUMBER('Teom ugm3'!D1338),('Teom ugm3'!D1338*'Teom grams'!$F1336*0.000000028317),\"\")","v":""},"","","","",null,"","","",null,"",""]
[null,null,{"$f":"IF('Teom ugm3'!A1339=\"\",\"\",C1336+1)","v":""},"",null,"",null,{"$f":"IF(ISNUMBER('Teom ugm3'!B1339),('Teom ugm3'!B1339*'Teom grams'!$F1337*0.000000028317),\"\")","v":""},{"$f":"IF(ISNUMBER('Teom ugm3'!C1339),('Teom ugm3'!C1339*'Teom grams'!$F1337*0.000000028317),\"\")","v":""},{"$f":"IF(ISNUMBER('Teom ugm3'!D1339),('Teom ugm3'!D1339*'Teom grams'!$F1337*0.000000028317),\"\")","v":""},"","","","",null,"","","",null,"",""]
[null,null,{"$f":"IF('Teom ugm3'!A1340=\"\",\"\",C1337+1)","v":""},"",null,"",null,{"$f":"IF(ISNUMBER('Teom ugm3'!B1340),('Teom ugm3'!B1340*'Teom grams'!$F1338*0.000000028317),\"\")","v":""},{"$f":"IF(ISNUMBER('Teom ugm3'!C1340),('Teom ugm3'!C1340*'Teom grams'!$F1338*0.000000028317),\"\")","v":""},{"$f":"IF(ISNUMBER('Teom ugm3'!D1340),('Teom ugm3'!D1340*'Teom grams'!$F1338*0.000000028317),\"\")","v":""},"","","","",null,"","","",null,"",""]
[null,null,{"$f":"IF('Teom ugm3'!A1341=\"\",\"\",C1338+1)","v":""},"",null,"",null,{"$f":"IF(ISNUMBER('Teom ugm3'!B1341),('Teom ugm3'!B1341*'Teom grams'!$F1339*0.000000028317),\"\")","v":""},{"$f":"IF(ISNUMBER('Teom ugm3'!C1341),('Teom ugm3'!C1341*'Teom grams'!$F1339*0.000000028317),\"\")","v":""},{"$f":"IF(ISNUMBER('Teom ugm3'!D1341),('Teom ugm3'!D1341*'Teom grams'!$F1339*0.000000028317),\"\")","v":""},"","","","",null,"","","",null,"",""]
[null,null,{"$f":"IF('Teom ugm3'!A1342=\"\",\"\",C1339+1)","v":""},"",null,"",null,{"$f":"IF(ISNUMBER('Teom ugm3'!B1342),('Teom ugm3'!B1342*'Teom grams'!$F1340*0.000000028317),\"\")","v":""},{"$f":"IF(ISNUMBER('Teom ugm3'!C1342),('Teom ugm3'!C1342*'Teom grams'!$F1340*0.000000028317),\"\")","v":""},{"$f":"IF(ISNUMBER('Teom ugm3'!D1342),('Teom ugm3'!D1342*'Teom grams'!$F1340*0.000000028317),\"\")","v":""},"","","","",null,"","","",null,"",""]
[null,null,{"$f":"IF('Teom ugm3'!A1343=\"\",\"\",C1340+1)","v":""},"",null,"",null,{"$f":"IF(ISNUMBER('Teom ugm3'!B1343),('Teom ugm3'!B1343*'Teom grams'!$F1341*0.000000028317),\"\")","v":""},{"$f":"IF(ISNUMBER('Teom ugm3'!C1343),('Teom ugm3'!C1343*'Teom grams'!$F1341*0.000000028317),\"\")","v":""},{"$f":"IF(ISNUMBER('Teom ugm3'!D1343),('Teom ugm3'!D1343*'Teom grams'!$F1341*0.000000028317),\"\")","v":""},"","","","",null,"","","",null,"",""]
[null,null,{"$f":"IF('Teom ugm3'!A1344=\"\",\"\",C1341+1)","v":""},"",null,"",null,{"$f":"IF(ISNUMBER('Teom ugm3'!B1344),('Teom ugm3'!B1344*'Teom grams'!$F1342*0.000000028317),\"\")","v":""},{"$f":"IF(ISNUMBER('Teom ugm3'!C1344),('Teom ugm3'!C1344*'Teom grams'!$F1342*0.000000028317),\"\")","v":""},{"$f":"IF(ISNUMBER('Teom ugm3'!D1344),('Teom ugm3'!D1344*'Teom grams'!$F1342*0.000000028317),\"\")","v":""},"","","","",null,"","","",null,"",""]
[null,null,{"$f":"IF('Teom ugm3'!A1345=\"\",\"\",C1342+1)","v":""},"",null,"",null,{"$f":"IF(ISNUMBER('Teom ugm3'!B1345),('Teom ugm3'!B1345*'Teom grams'!$F1343*0.000000028317),\"\")","v":""},{"$f":"IF(ISNUMBER('Teom ugm3'!C1345),('Teom ugm3'!C1345*'Teom grams'!$F1343*0.000000028317),\"\")","v":""},{"$f":"IF(ISNUMBER('Teom ugm3'!D1345),('Teom ugm3'!D1345*'Teom grams'!$F1343*0.000000028317),\"\")","v":""},"","","","",null,"","","",null,"",""]
[null,null,{"$f":"IF('Teom ugm3'!A1346=\"\",\"\",C1343+1)","v":""},"",null,"",null,{"$f":"IF(ISNUMBER('Teom ugm3'!B1346),('Teom ugm3'!B1346*'Teom grams'!$F1344*0.000000028317),\"\")","v":""},{"$f":"IF(ISNUMBER('Teom ugm3'!C1346),('Teom ugm3'!C1346*'Teom grams'!$F1344*0.000000028317),\"\")","v":""},{"$f":"IF(ISNUMBER('Teom ugm3'!D1346),('Teom ugm3'!D1346*'Teom grams'!$F1344*0.000000028317),\"\")","v":""},"","","","",null,"","","",null,"",""]
[null,null,{"$f":"IF('Teom ugm3'!A1347=\"\",\"\",C1344+1)","v":""},"",null,"",null,{"$f":"IF(ISNUMBER('Teom ugm3'!B1347),('Teom ugm3'!B1347*'Teom grams'!$F1345*0.000000028317),\"\")","v":""},{"$f":"IF(ISNUMBER('Teom ugm3'!C1347),('Teom ugm3'!C1347*'Teom grams'!$F1345*0.000000028317),\"\")","v":""},{"$f":"IF(ISNUMBER('Teom ugm3'!D1347),('Teom ugm3'!D1347*'Teom grams'!$F1345*0.000000028317),\"\")","v":""},"","","","",null,"","","",null,"",""]
[null,null,{"$f":"IF('Teom ugm3'!A1348=\"\",\"\",C1345+1)","v":""},"",null,"",null,{"$f":"IF(ISNUMBER('Teom ugm3'!B1348),('Teom ugm3'!B1348*'Teom grams'!$F1346*0.000000028317),\"\")","v":""},{"$f":"IF(ISNUMBER('Teom ugm3'!C1348),('Teom ugm3'!C1348*'Teom grams'!$F1346*0.000000028317),\"\")","v":""},{"$f":"IF(ISNUMBER('Teom ugm3'!D1348),('Teom ugm3'!D1348*'Teom grams'!$F1346*0.000000028317),\"\")","v":""},"","","","",null,"","","",null,"",""]
[null,null,{"$f":"IF('Teom ugm3'!A1349=\"\",\"\",C1346+1)","v":""},"",null,"",null,{"$f":"IF(ISNUMBER('Teom ugm3'!B1349),('Teom ugm3'!B1349*'Teom grams'!$F1347*0.000000028317),\"\")","v":""},{"$f":"IF(ISNUMBER('Teom ugm3'!C1349),('Teom ugm3'!C1349*'Teom grams'!$F1347*0.000000028317),\"\")","v":""},{"$f":"IF(ISNUMBER('Teom ugm3'!D1349),('Teom ugm3'!D1349*'Teom grams'!$F1347*0.000000028317),\"\")","v":""},"","","","",null,"","","",null,"",""]
[null,null,{"$f":"IF('Teom ugm3'!A1350=\"\",\"\",C1347+1)","v":""},"",null,"",null,{"$f":"IF(ISNUMBER('Teom ugm3'!B1350),('Teom ugm3'!B1350*'Teom grams'!$F1348*0.000000028317),\"\")","v":""},{"$f":"IF(ISNUMBER('Teom ugm3'!C1350),('Teom ugm3'!C1350*'Teom grams'!$F1348*0.000000028317),\"\")","v":""},{"$f":"IF(ISNUMBER('Teom ugm3'!D1350),('Teom ugm3'!D1350*'Teom grams'!$F1348*0.000000028317),\"\")","v":""},"","","",{"$f":"M1348","v":""},null,"","","",null,"",""]
[null,null,{"$f":"IF('Teom ugm3'!A1351=\"\",\"\",C1348+1)","v":""},"",null,{"$f":"IF(C1349=\"\",\"\",E1349*1.02041)","v":""},null,{"$f":"IF(ISNUMBER('Teom ugm3'!B1351),('Teom ugm3'!B1351*'Teom grams'!$F1349*0.000000028317),\"\")","v":""},{"$f":"IF(ISNUMBER('Teom ugm3'!C1351),('Teom ugm3'!C1351*'Teom grams'!$F1349*0.000000028317),\"\")","v":""},{"$f":"IF(ISNUMBER('Teom ugm3'!D1351),('Teom ugm3'!D1351*'Teom grams'!$F1349*0.000000028317),\"\")","v":""},{"$f":"IF(H1349<0,0,H1349)","v":""},"","","",null,{"$f":"IF(ISNUMBER(J1349),J1349*60,\"\")","v":""},"","",null,"",""]
[null,null,{"$f":"IF('Teom ugm3'!A1352=\"\",\"\",C1349+1)","v":""},{"$f":"IF(C1350=\"\",\"\",D1349 + TIME(0, 1, 0))","v":""},null,"",null,{"$f":"IF(ISNUMBER('Teom ugm3'!B1352),('Teom ugm3'!B1352*'Teom grams'!$F1350*0.000000028317),\"\")","v":""},{"$f":"IF(ISNUMBER('Teom ugm3'!C1352),('Teom ugm3'!C1352*'Teom grams'!$F1350*0.000000028317),\"\")","v":""},{"$f":"IF(ISNUMBER('Teom ugm3'!D1352),('Teom ugm3'!D1352*'Teom grams'!$F1350*0.000000028317),\"\")","v":""},"","","","",null,"","","",null,"",""]
[null,null,{"$f":"IF('Teom ugm3'!A1353=\"\",\"\",C1350+1)","v":""},"",null,"",null,{"$f":"IF(ISNUMBER('Teom ugm3'!B1353),('Teom ugm3'!B1353*'Teom grams'!$F1351*0.000000028317),\"\")","v":""},{"$f":"IF(ISNUMBER('Teom ugm3'!C1353),('Teom ugm3'!C1353*'Teom grams'!$F1351*0.000000028317),\"\")","v":""},{"$f":"IF(ISNUMBER('Teom ugm3'!D1353),('Teom ugm3'!D1353*'Teom grams'!$F1351*0.000000028317),\"\")","v":""},"","","","",null,"","","",null,"",""]
[null,null,{"$f":"IF('Teom ugm3'!A1354=\"\",\"\",C1351+1)","v":""},"",null,"",null,{"$f":"IF(ISNUMBER('Teom ugm3'!B1354),('Teom ugm3'!B1354*'Teom grams'!$F1352*0.000000028317),\"\")","v":""},{"$f":"IF(ISNUMBER('Teom ugm3'!C1354),('Teom ugm3'!C1354*'Teom grams'!$F1352*0.000000028317),\"\")","v":""},{"$f":"IF(ISNUMBER('Teom ugm3'!D1354),('Teom ugm3'!D1354*'Teom grams'!$F1352*0.000000028317),\"\")","v":""},"","","","",null,"","","",null,"",""]
[null,null,{"$f":"IF('Teom ugm3'!A1355=\"\",\"\",C1352+1)","v":""},"",null,"",null,{"$f":"IF(ISNUMBER('Teom ugm3'!B1355),('Teom ugm3'!B1355*'Teom grams'!$F1353*0.000000028317),\"\")","v":""},{"$f":"IF(ISNUMBER('Teom ugm3'!C1355),('Teom ugm3'!C1355*'Teom grams'!$F1353*0.000000028317),\"\")","v":""},{"$f":"IF(ISNUMBER('Teom ugm3'!D1355),('Teom ugm3'!D1355*'Teom grams'!$F1353*0.000000028317),\"\")","v":""},"","","","",null,"","","",null,"",""]
[null,null,{"$f":"IF('Teom ugm3'!A1356=\"\",\"\",C1353+1)","v":""},"",null,"",null,{"$f":"IF(ISNUMBER('Teom ugm3'!B1356),('Teom ugm3'!B1356*'Teom grams'!$F1354*0.000000028317),\"\")","v":""},{"$f":"IF(ISNUMBER('Teom ugm3'!C1356),('Teom ugm3'!C1356*'Teom grams'!$F1354*0.000000028317),\"\")","v":""},{"$f":"IF(ISNUMBER('Teom ugm3'!D1356),('Teom ugm3'!D1356*'Teom grams'!$F1354*0.000000028317),\"\")","v":""},"","","","",null,"","","",null,"",""]
[null,null,{"$f":"IF('Teom ugm3'!A1357=\"\",\"\",C1354+1)","v":""},"",null,"",null,{"$f":"IF(ISNUMBER('Teom ugm3'!B1357),('Teom ugm3'!B1357*'Teom grams'!$F1355*0.000000028317),\"\")","v":""},{"$f":"IF(ISNUMBER('Teom ugm3'!C1357),('Teom ugm3'!C1357*'Teom grams'!$F1355*0.000000028317),\"\")","v":""},{"$f":"IF(ISNUMBER('Teom ugm3'!D1357),('Teom ugm3'!D1357*'Teom grams'!$F1355*0.000000028317),\"\")","v":""},"","",{"$f":"IF(COUNT(K1355:L1355)>0,AVERAGE(K1355:L1355),\"\")","v":""},"",null,"","","",null,"",""]
[null,null,{"$f":"IF('Teom ugm3'!A1358=\"\",\"\",C1355+1)","v":""},"",null,"",null,{"$f":"IF(ISNUMBER('Teom ugm3'!B1358),('Teom ugm3'!B1358*'Teom grams'!$F1356*0.000000028317),\"\")","v":""},{"$f":"IF(ISNUMBER('Teom ugm3'!C1358),('Teom ugm3'!C1358*'Teom grams'!$F1356*0.000000028317),\"\")","v":""},{"$f":"IF(ISNUMBER('Teom ugm3'!D1358),('Teom ugm3'!D1358*'Teom grams'!$F1356*0.000000028317),\"\")","v":""},"","","","",null,"","","",null,"",""]
[null,null,{"$f":"IF('Teom ugm3'!A1359=\"\",\"\",C1356+1)","v":""},"",null,"",null,{"$f":"IF(ISNUMBER('Teom ugm3'!B1359),('Teom ugm3'!B1359*'Teom grams'!$F1357*0.000000028317),\"\")","v":""},{"$f":"IF(ISNUMBER('Teom ugm3'!C1359),('Teom ugm3'!C1359*'Teom grams'!$F1357*0.000000028317),\"\")","v":""},{"$f":"IF(ISNUMBER('Teom ugm3'!D1359),('Teom ugm3'!D1359*'Teom grams'!$F1357*0.000000028317),\"\")","v":""},"","","","",null,"","","",null,"",""]
[null,null,{"$f":"IF('Teom ugm3'!A1360=\"\",\"\",C1357+1)","v":""},"",null,"",null,{"$f":"IF(ISNUMBER('Teom ugm3'!B1360),('Teom ugm3'!B1360*'Teom grams'!$F1358*0.000000028317),\"\")","v":""},{"$f":"IF(ISNUMBER('Teom ugm3'!C1360),('Teom ugm3'!C1360*'Teom grams'!$F1358*0.000000028317),\"\")","v":""},{"$f":"IF(ISNUMBER('Teom ugm3'!D1360),('Teom ugm3'!D1360*'Teom grams'!$F1358*0.000000028317),\"\")","v":""},"","","","",null,"","","",null,"",""]
[null,null,{"$f":"IF('Teom ugm3'!A1361=\"\",\"\",C1358+1)","v":""},"",null,"",null,{"$f":"IF(ISNUMBER('Teom ugm3'!B1361),('Teom ugm3'!B1361*'Teom grams'!$F1359*0.000000028317),\"\")","v":""},{"$f":"IF(ISNUMBER('Teom ugm3'!C1361),('Teom ugm3'!C1361*'Teom grams'!$F1359*0.000000028317),\"\")","v":""},{"$f":"IF(ISNUMBER('Teom ugm3'!D1361),('Teom ugm3'!D1361*'Teom grams'!$F1359*0.000000028317),\"\")","v":""},"","","","",null,"","","",null,"",""]
[null,null,{"$f":"IF('Teom ugm3'!A1362=\"\",\"\",C1359+1)","v":""},"",null,"",null,{"$f":"IF(ISNUMBER('Teom ugm3'!B1362),('Teom ugm3'!B1362*'Teom grams'!$F1360*0.000000028317),\"\")","v":""},{"$f":"IF(ISNUMBER('Teom ugm3'!C1362),('Teom ugm3'!C1362*'Teom grams'!$F1360*0.000000028317),\"\")","v":""},{"$f":"IF(ISNUMBER('Teom ugm3'!D1362),('Teom ugm3'!D1362*'Teom grams'!$F1360*0.000000028317),\"\")","v":""},"","","","",null,"","","",null,"",""]
[null,null,{"$f":"IF('Teom ugm3'!A1363=\"\",\"\",C1360+1)","v":""},"",null,"",null,{"$f":"IF(ISNUMBER('Teom ugm3'!B1363),('Teom ugm3'!B1363*'Teom grams'!$F1361*0.000000028317),\"\")","v":""},{"$f":"IF(ISNUMBER('Teom ugm3'!C1363),('Teom ugm3'!C1363*'Teom grams'!$F1361*0.000000028317),\"\")","v":""},{"$f":"IF(ISNUMBER('Teom ugm3'!D1363),('Teom ugm3'!D1363*'Teom grams'!$F1361*0.000000028317),\"\")","v":""},"","","","",null,"","","",null,"",""]
[null,null,{"$f":"IF('Teom ugm3'!A1364=\"\",\"\",C1361+1)","v":""},"",null,"",null,{"$f":"IF(ISNUMBER('Teom ugm3'!B1364),('Teom ugm3'!B1364*'Teom grams'!$F1362*0.000000028317),\"\")","v":""},{"$f":"IF(ISNUMBER('Teom ugm3'!C1364),('Teom ugm3'!C1364*'Teom grams'!$F1362*0.000000028317),\"\")","v":""},{"$f":"IF(ISNUMBER('Teom ugm3'!D1364),('Teom ugm3'!D1364*'Teom grams'!$F1362*0.000000028317),\"\")","v":""},"","","","",null,"","","",null,"",""]
[null,null,{"$f":"IF('Teom ugm3'!A1365=\"\",\"\",C1362+1)","v":""},"",null,"",null,{"$f":"IF(ISNUMBER('Teom ugm3'!B1365),('Teom ugm3'!B1365*'Teom grams'!$F1363*0.000000028317),\"\")","v":""},{"$f":"IF(ISNUMBER('Teom ugm3'!C1365),('Teom ugm3'!C1365*'Teom grams'!$F1363*0.000000028317),\"\")","v":""},{"$f":"IF(ISNUMBER('Teom ugm3'!D1365),('Teom ugm3'!D1365*'Teom grams'!$F1363*0.000000028317),\"\")","v":""},"","","","",null,"","","",null,"",""]
[null,null,{"$f":"IF('Teom ugm3'!A1366=\"\",\"\",C1363+1)","v":""},"",null,"",null,{"$f":"IF(ISNUMBER('Teom ugm3'!B1366),('Teom ugm3'!B1366*'Teom grams'!$F1364*0.000000028317),\"\")","v":""},{"$f":"IF(ISNUMBER('Teom ugm3'!C1366),('Teom ugm3'!C1366*'Teom grams'!$F1364*0.000000028317),\"\")","v":""},{"$f":"IF(ISNUMBER('Teom ugm3'!D1366),('Teom ugm3'!D1366*'Teom grams'!$F1364*0.000000028317),\"\")","v":""},"","","","",null,"","","",null,"",""]
[null,null,{"$f":"IF('Teom ugm3'!A1367=\"\",\"\",C1364+1)","v":""},"",null,"",null,{"$f":"IF(ISNUMBER('Teom ugm3'!B1367),('Teom ugm3'!B1367*'Teom grams'!$F1365*0.000000028317),\"\")","v":""},{"$f":"IF(ISNUMBER('Teom ugm3'!C1367),('Teom ugm3'!C1367*'Teom grams'!$F1365*0.000000028317),\"\")","v":""},{"$f":"IF(ISNUMBER('Teom ugm3'!D1367),('Teom ugm3'!D1367*'Teom grams'!$F1365*0.000000028317),\"\")","v":""},"","","","",null,"","","",null,"",""]
[null,null,{"$f":"IF('Teom ugm3'!A1368=\"\",\"\",C1365+1)","v":""},"",null,"",null,{"$f":"IF(ISNUMBER('Teom ugm3'!B1368),('Teom ugm3'!B1368*'Teom grams'!$F1366*0.000000028317),\"\")","v":""},{"$f":"IF(ISNUMBER('Teom ugm3'!C1368),('Teom ugm3'!C1368*'Teom grams'!$F1366*0.000000028317),\"\")","v":""},{"$f":"IF(ISNUMBER('Teom ugm3'!D1368),('Teom ugm3'!D1368*'Teom grams'!$F1366*0.000000028317),\"\")","v":""},"","","","",null,"","","",null,"",""]
[null,null,{"$f":"IF('Teom ugm3'!A1369=\"\",\"\",C1366+1)","v":""},"",null,"",null,{"$f":"IF(ISNUMBER('Teom ugm3'!B1369),('Teom ugm3'!B1369*'Teom grams'!$F1367*0.000000028317),\"\")","v":""},{"$f":"IF(ISNUMBER('Teom ugm3'!C1369),('Teom ugm3'!C1369*'Teom grams'!$F1367*0.000000028317),\"\")","v":""},{"$f":"IF(ISNUMBER('Teom ugm3'!D1369),('Teom ugm3'!D1369*'Teom grams'!$F1367*0.000000028317),\"\")","v":""},"","","","",null,"","","",null,"",""]
[null,null,{"$f":"IF('Teom ugm3'!A1370=\"\",\"\",C1367+1)","v":""},"",null,"",null,{"$f":"IF(ISNUMBER('Teom ugm3'!B1370),('Teom ugm3'!B1370*'Teom grams'!$F1368*0.000000028317),\"\")","v":""},{"$f":"IF(ISNUMBER('Teom ugm3'!C1370),('Teom ugm3'!C1370*'Teom grams'!$F1368*0.000000028317),\"\")","v":""},{"$f":"IF(ISNUMBER('Teom ugm3'!D1370),('Teom ugm3'!D1370*'Teom grams'!$F1368*0.000000028317),\"\")","v":""},"","","","",null,"","","",null,"",""]
[null,null,{"$f":"IF('Teom ugm3'!A1371=\"\",\"\",C1368+1)","v":""},"",null,"",null,{"$f":"IF(ISNUMBER('Teom ugm3'!B1371),('Teom ugm3'!B1371*'Teom grams'!$F1369*0.000000028317),\"\")","v":""},{"$f":"IF(ISNUMBER('Teom ugm3'!C1371),('Teom ugm3'!C1371*'Teom grams'!$F1369*0.000000028317),\"\")","v":""},{"$f":"IF(ISNUMBER('Teom ugm3'!D1371),('Teom ugm3'!D1371*'Teom grams'!$F1369*0.000000028317),\"\")","v":""},"","","","",null,"","","",null,"",""]
[null,null,{"$f":"IF('Teom ugm3'!A1372=\"\",\"\",C1369+1)","v":""},"",null,"",null,{"$f":"IF(ISNUMBER('Teom ugm3'!B1372),('Teom ugm3'!B1372*'Teom grams'!$F1370*0.000000028317),\"\")","v":""},{"$f":"IF(ISNUMBER('Teom ugm3'!C1372),('Teom ugm3'!C1372*'Teom grams'!$F1370*0.000000028317),\"\")","v":""},{"$f":"IF(ISNUMBER('Teom ugm3'!D1372),('Teom ugm3'!D1372*'Teom grams'!$F1370*0.000000028317),\"\")","v":""},"","","","",null,"","","",null,"",""]
[null,null,{"$f":"IF('Teom ugm3'!A1373=\"\",\"\",C1370+1)","v":""},"",null,"",null,{"$f":"IF(ISNUMBER('Teom ugm3'!B1373),('Teom ugm3'!B1373*'Teom grams'!$F1371*0.000000028317),\"\")","v":""},{"$f":"IF(ISNUMBER('Teom ugm3'!C1373),('Teom ugm3'!C1373*'Teom grams'!$F1371*0.000000028317),\"\")","v":""},{"$f":"IF(ISNUMBER('Teom ugm3'!D1373),('Teom ugm3'!D1373*'Teom grams'!$F1371*0.000000028317),\"\")","v":""},"","","","",null,"","","",null,"",""]
[null,null,{"$f":"IF('Teom ugm3'!A1374=\"\",\"\",C1371+1)","v":""},"",null,"",null,{"$f":"IF(ISNUMBER('Teom ugm3'!B1374),('Teom ugm3'!B1374*'Teom grams'!$F1372*0.000000028317),\"\")","v":""},{"$f":"IF(ISNUMBER('Teom ugm3'!C1374),('Teom ugm3'!C1374*'Teom grams'!$F1372*0.000000028317),\"\")","v":""},{"$f":"IF(ISNUMBER('Teom ugm3'!D1374),('Teom ugm3'!D1374*'Teom grams'!$F1372*0.000000028317),\"\")","v":""},"","","","",null,"","","",null,"",""]
[null,null,{"$f":"IF('Teom ugm3'!A1375=\"\",\"\",C1372+1)","v":""},"",null,"",null,{"$f":"IF(ISNUMBER('Teom ugm3'!B1375),('Teom ugm3'!B1375*'Teom grams'!$F1373*0.000000028317),\"\")","v":""},{"$f":"IF(ISNUMBER('Teom ugm3'!C1375),('Teom ugm3'!C1375*'Teom grams'!$F1373*0.000000028317),\"\")","v":""},{"$f":"IF(ISNUMBER('Teom ugm3'!D1375),('Teom ugm3'!D1375*'Teom grams'!$F1373*0.000000028317),\"\")","v":""},"","","","",null,"","","",null,"",""]
[null,null,{"$f":"IF('Teom ugm3'!A1376=\"\",\"\",C1373+1)","v":""},"",null,"",null,{"$f":"IF(ISNUMBER('Teom ugm3'!B1376),('Teom ugm3'!B1376*'Teom grams'!$F1374*0.000000028317),\"\")","v":""},{"$f":"IF(ISNUMBER('Teom ugm3'!C1376),('Teom ugm3'!C1376*'Teom grams'!$F1374*0.000000028317),\"\")","v":""},{"$f":"IF(ISNUMBER('Teom ugm3'!D1376),('Teom ugm3'!D1376*'Teom grams'!$F1374*0.000000028317),\"\")","v":""},"","","","",null,"","","",null,"",""]
[null,null,{"$f":"IF('Teom ugm3'!A1377=\"\",\"\",C1374+1)","v":""},"",null,"",null,{"$f":"IF(ISNUMBER('Teom ugm3'!B1377),('Teom ugm3'!B1377*'Teom grams'!$F1375*0.000000028317),\"\")","v":""},{"$f":"IF(ISNUMBER('Teom ugm3'!C1377),('Teom ugm3'!C1377*'Teom grams'!$F1375*0.000000028317),\"\")","v":""},{"$f":"IF(ISNUMBER('Teom ugm3'!D1377),('Teom ugm3'!D1377*'Teom grams'!$F1375*0.000000028317),\"\")","v":""},"","","","",null,"","","",null,"",""]
[null,null,{"$f":"IF('Teom ugm3'!A1378=\"\",\"\",C1375+1)","v":""},"",null,"",null,{"$f":"IF(ISNUMBER('Teom ugm3'!B1378),('Teom ugm3'!B1378*'Teom grams'!$F1376*0.000000028317),\"\")","v":""},{"$f":"IF(ISNUMBER('Teom ugm3'!C1378),('Teom ugm3'!C1378*'Teom grams'!$F1376*0.000000028317),\"\")","v":""},{"$f":"IF(ISNUMBER('Teom ugm3'!D1378),('Teom ugm3'!D1378*'Teom grams'!$F1376*0.000000028317),\"\")","v":""},"","","","",null,"","","",null,"",""]
[null,null,{"$f":"IF('Teom ugm3'!A1379=\"\",\"\",C1376+1)","v":""},"",null,"",null,{"$f":"IF(ISNUMBER('Teom ugm3'!B1379),('Teom ugm3'!B1379*'Teom grams'!$F1377*0.000000028317),\"\")","v":""},{"$f":"IF(ISNUMBER('Teom ugm3'!C1379),('Teom ugm3'!C1379*'Teom grams'!$F1377*0.000000028317),\"\")","v":""},{"$f":"IF(ISNUMBER('Teom ugm3'!D1379),('Teom ugm3'!D1379*'Teom grams'!$F1377*0.000000028317),\"\")","v":""},"","","","",null,"","","",null,"",""]
[null,null,{"$f":"IF('Teom ugm3'!A1380=\"\",\"\",C1377+1)","v":""},"",null,"",null,{"$f":"IF(ISNUMBER('Teom ugm3'!B1380),('Teom ugm3'!B1380*'Teom grams'!$F1378*0.000000028317),\"\")","v":""},{"$f":"IF(ISNUMBER('Teom ugm3'!C1380),('Teom ugm3'!C1380*'Teom grams'!$F1378*0.000000028317),\"\")","v":""},{"$f":"IF(ISNUMBER('Teom ugm3'!D1380),('Teom ugm3'!D1380*'Teom grams'!$F1378*0.000000028317),\"\")","v":""},"","","","",null,"","","",null,"",""]
[null,null,{"$f":"IF('Teom ugm3'!A1381=\"\",\"\",C1378+1)","v":""},"",null,"",null,{"$f":"IF(ISNUMBER('Teom ugm3'!B1381),('Teom ugm3'!B1381*'Teom grams'!$F1379*0.000000028317),\"\")","v":""},{"$f":"IF(ISNUMBER('Teom ugm3'!C1381),('Teom ugm3'!C1381*'Teom grams'!$F1379*0.000000028317),\"\")","v":""},{"$f":"IF(ISNUMBER('Teom ugm3'!D1381),('Teom ugm3'!D1381*'Teom grams'!$F1379*0.000000028317),\"\")","v":""},"","","","",null,"",{"$f":"IF(ISNUMBER(M1379),M1379*60,\"\")","v":""},{"$f":"IF(ISNUMBER(N1379),N1379*60,\"\")","v":""},null,{"$f":"IF(COUNT(C1379:C1438)>59,AVERAGE(P1379:P1438),\"\")","v":""},{"$f":"IF(COUNT(C1379:C1438)>59,AVERAGE(Q1379:Q1438),\"\")","v":""}]
[null,null,{"$f":"IF('Teom ugm3'!A1382=\"\",\"\",C1379+1)","v":""},"",null,"",null,{"$f":"IF(ISNUMBER('Teom ugm3'!B1382),('Teom ugm3'!B1382*'Teom grams'!$F1380*0.000000028317),\"\")","v":""},{"$f":"IF(ISNUMBER('Teom ugm3'!C1382),('Teom ugm3'!C1382*'Teom grams'!$F1380*0.000000028317),\"\")","v":""},{"$f":"IF(ISNUMBER('Teom ugm3'!D1382),('Teom ugm3'!D1382*'Teom grams'!$F1380*0.000000028317),\"\")","v":""},"","","","",null,"","","",null,"",""]
[null,null,{"$f":"IF('Teom ugm3'!A1383=\"\",\"\",C1380+1)","v":""},"",null,"",null,{"$f":"IF(ISNUMBER('Teom ugm3'!B1383),('Teom ugm3'!B1383*'Teom grams'!$F1381*0.000000028317),\"\")","v":""},{"$f":"IF(ISNUMBER('Teom ugm3'!C1383),('Teom ugm3'!C1383*'Teom grams'!$F1381*0.000000028317),\"\")","v":""},{"$f":"IF(ISNUMBER('Teom ugm3'!D1383),('Teom ugm3'!D1383*'Teom grams'!$F1381*0.000000028317),\"\")","v":""},"","","","",null,"","","",null,"",""]
[null,null,{"$f":"IF('Teom ugm3'!A1384=\"\",\"\",C1381+1)","v":""},"",null,"",null,{"$f":"IF(ISNUMBER('Teom ugm3'!B1384),('Teom ugm3'!B1384*'Teom grams'!$F1382*0.000000028317),\"\")","v":""},{"$f":"IF(ISNUMBER('Teom ugm3'!C1384),('Teom ugm3'!C1384*'Teom grams'!$F1382*0.000000028317),\"\")","v":""},{"$f":"IF(ISNUMBER('Teom ugm3'!D1384),('Teom ugm3'!D1384*'Teom grams'!$F1382*0.000000028317),\"\")","v":""},"","","","",null,"","","",null,"",""]
[null,null,{"$f":"IF('Teom ugm3'!A1385=\"\",\"\",C1382+1)","v":""},"",null,"",null,{"$f":"IF(ISNUMBER('Teom ugm3'!B1385),('Teom ugm3'!B1385*'Teom grams'!$F1383*0.000000028317),\"\")","v":""},{"$f":"IF(ISNUMBER('Teom ugm3'!C1385),('Teom ugm3'!C1385*'Teom grams'!$F1383*0.000000028317),\"\")","v":""},{"$f":"IF(ISNUMBER('Teom ugm3'!D1385),('Teom ugm3'!D1385*'Teom grams'!$F1383*0.000000028317),\"\")","v":""},"","","","",null,"","","",null,"",""]
[null,null,{"$f":"IF('Teom ugm3'!A1386=\"\",\"\",C1383+1)","v":""},"",null,"",null,{"$f":"IF(ISNUMBER('Teom ugm3'!B1386),('Teom ugm3'!B1386*'Teom grams'!$F1384*0.000000028317),\"\")","v":""},{"$f":"IF(ISNUMBER('Teom ugm3'!C1386),('Teom ugm3'!C1386*'Teom grams'!$F1384*0.000000028317),\"\")","v":""},{"$f":"IF(ISNUMBER('Teom ugm3'!D1386),('Teom ugm3'!D1386*'Teom grams'!$F1384*0.000000028317),\"\")","v":""},"","","","",null,"","","",null,"",""]
[null,null,{"$f":"IF('Teom ugm3'!A1387=\"\",\"\",C1384+1)","v":""},"",null,"",null,{"$f":"IF(ISNUMBER('Teom ugm3'!B1387),('Teom ugm3'!B1387*'Teom grams'!$F1385*0.000000028317),\"\")","v":""},{"$f":"IF(ISNUMBER('Teom ugm3'!C1387),('Teom ugm3'!C1387*'Teom grams'!$F1385*0.000000028317),\"\")","v":""},{"$f":"IF(ISNUMBER('Teom ugm3'!D1387),('Teom ugm3'!D1387*'Teom grams'!$F1385*0.000000028317),\"\")","v":""},"","","","",null,"","","",null,"",""]
[null,null,{"$f":"IF('Teom ugm3'!A1388=\"\",\"\",C1385+1)","v":""},"",null,"",null,{"$f":"IF(ISNUMBER('Teom ugm3'!B1388),('Teom ugm3'!B1388*'Teom grams'!$F1386*0.000000028317),\"\")","v":""},{"$f":"IF(ISNUMBER('Teom ugm3'!C1388),('Teom ugm3'!C1388*'Teom grams'!$F1386*0.000000028317),\"\")","v":""},{"$f":"IF(ISNUMBER('Teom ugm3'!D1388),('Teom ugm3'!D1388*'Teom grams'!$F1386*0.000000028317),\"\")","v":""},"","","","",null,"","","",null,"",""]
[null,null,{"$f":"IF('Teom ugm3'!A1389=\"\",\"\",C1386+1)","v":""},"",null,"",null,{"$f":"IF(ISNUMBER('Teom ugm3'!B1389),('Teom ugm3'!B1389*'Teom grams'!$F1387*0.000000028317),\"\")","v":""},{"$f":"IF(ISNUMBER('Teom ugm3'!C1389),('Teom ugm3'!C1389*'Teom grams'!$F1387*0.000000028317),\"\")","v":""},{"$f":"IF(ISNUMBER('Teom ugm3'!D1389),('Teom ugm3'!D1389*'Teom grams'!$F1387*0.000000028317),\"\")","v":""},"","","","",null,"","","",null,"",""]
[null,null,{"$f":"IF('Teom ugm3'!A1390=\"\",\"\",C1387+1)","v":""},"",null,"",null,{"$f":"IF(ISNUMBER('Teom ugm3'!B1390),('Teom ugm3'!B1390*'Teom grams'!$F1388*0.000000028317),\"\")","v":""},{"$f":"IF(ISNUMBER('Teom ugm3'!C1390),('Teom ugm3'!C1390*'Teom grams'!$F1388*0.000000028317),\"\")","v":""},{"$f":"IF(ISNUMBER('Teom ugm3'!D1390),('Teom ugm3'!D1390*'Teom grams'!$F1388*0.000000028317),\"\")","v":""},"","","","",null,"","","",null,"",""]
[null,null,{"$f":"IF('Teom ugm3'!A1391=\"\",\"\",C1388+1)","v":""},"",null,"",null,{"$f":"IF(ISNUMBER('Teom ugm3'!B1391),('Teom ugm3'!B1391*'Teom grams'!$F1389*0.000000028317),\"\")","v":""},{"$f":"IF(ISNUMBER('Teom ugm3'!C1391),('Teom ugm3'!C1391*'Teom grams'!$F1389*0.000000028317),\"\")","v":""},{"$f":"IF(ISNUMBER('Teom ugm3'!D1391),('Teom ugm3'!D1391*'Teom grams'!$F1389*0.000000028317),\"\")","v":""},"","","","",null,"","","",null,"",""]
[null,null,{"$f":"IF('Teom ugm3'!A1392=\"\",\"\",C1389+1)","v":""},"",null,"",null,{"$f":"IF(ISNUMBER('Teom ugm3'!B1392),('Teom ugm3'!B1392*'Teom grams'!$F1390*0.000000028317),\"\")","v":""},{"$f":"IF(ISNUMBER('Teom ugm3'!C1392),('Teom ugm3'!C1392*'Teom grams'!$F1390*0.000000028317),\"\")","v":""},{"$f":"IF(ISNUMBER('Teom ugm3'!D1392),('Teom ugm3'!D1392*'Teom grams'!$F1390*0.000000028317),\"\")","v":""},"","","","",null,"","","",null,"",""]
[null,null,{"$f":"IF('Teom ugm3'!A1393=\"\",\"\",C1390+1)","v":""},"",null,"",null,{"$f":"IF(ISNUMBER('Teom ugm3'!B1393),('Teom ugm3'!B1393*'Teom grams'!$F1391*0.000000028317),\"\")","v":""},{"$f":"IF(ISNUMBER('Teom ugm3'!C1393),('Teom ugm3'!C1393*'Teom grams'!$F1391*0.000000028317),\"\")","v":""},{"$f":"IF(ISNUMBER('Teom ugm3'!D1393),('Teom ugm3'!D1393*'Teom grams'!$F1391*0.000000028317),\"\")","v":""},"","","","",null,"","","",null,"",""]
[null,null,{"$f":"IF('Teom ugm3'!A1394=\"\",\"\",C1391+1)","v":""},"",null,"",null,{"$f":"IF(ISNUMBER('Teom ugm3'!B1394),('Teom ugm3'!B1394*'Teom grams'!$F1392*0.000000028317),\"\")","v":""},{"$f":"IF(ISNUMBER('Teom ugm3'!C1394),('Teom ugm3'!C1394*'Teom grams'!$F1392*0.000000028317),\"\")","v":""},{"$f":"IF(ISNUMBER('Teom ugm3'!D1394),('Teom ugm3'!D1394*'Teom grams'!$F1392*0.000000028317),\"\")","v":""},"","","","",null,"","","",null,"",""]
[null,null,{"$f":"IF('Teom ugm3'!A1395=\"\",\"\",C1392+1)","v":""},"",null,"",null,{"$f":"IF(ISNUMBER('Teom ugm3'!B1395),('Teom ugm3'!B1395*'Teom grams'!$F1393*0.000000028317),\"\")","v":""},{"$f":"IF(ISNUMBER('Teom ugm3'!C1395),('Teom ugm3'!C1395*'Teom grams'!$F1393*0.000000028317),\"\")","v":""},{"$f":"IF(ISNUMBER('Teom ugm3'!D1395),('Teom ugm3'!D1395*'Teom grams'!$F1393*0.000000028317),\"\")","v":""},"","","","",null,"","","",null,"",""]
[null,null,{"$f":"IF('Teom ugm3'!A1396=\"\",\"\",C1393+1)","v":""},"",null,"",null,{"$f":"IF(ISNUMBER('Teom ugm3'!B1396),('Teom ugm3'!B1396*'Teom grams'!$F1394*0.000000028317),\"\")","v":""},{"$f":"IF(ISNUMBER('Teom ugm3'!C1396),('Teom ugm3'!C1396*'Teom grams'!$F1394*0.000000028317),\"\")","v":""},{"$f":"IF(ISNUMBER('Teom ugm3'!D1396),('Teom ugm3'!D1396*'Teom grams'!$F1394*0.000000028317),\"\")","v":""},"","","","",null,"","","",null,"",""]
[null,null,{"$f":"IF('Teom ugm3'!A1397=\"\",\"\",C1394+1)","v":""},"",null,"",null,{"$f":"IF(ISNUMBER('Teom ugm3'!B1397),('Teom ugm3'!B1397*'Teom grams'!$F1395*0.000000028317),\"\")","v":""},{"$f":"IF(ISNUMBER('Teom ugm3'!C1397),('Teom ugm3'!C1397*'Teom grams'!$F1395*0.000000028317),\"\")","v":""},{"$f":"IF(ISNUMBER('Teom ugm3'!D1397),('Teom ugm3'!D1397*'Teom grams'!$F1395*0.000000028317),\"\")","v":""},"","","","",null,"","","",null,"",""]
[null,null,{"$f":"IF('Teom ugm3'!A1398=\"\",\"\",C1395+1)","v":""},"",null,"",null,{"$f":"IF(ISNUMBER('Teom ugm3'!B1398),('Teom ugm3'!B1398*'Teom grams'!$F1396*0.000000028317),\"\")","v":""},{"$f":"IF(ISNUMBER('Teom ugm3'!C1398),('Teom ugm3'!C1398*'Teom grams'!$F1396*0.000000028317),\"\")","v":""},{"$f":"IF(ISNUMBER('Teom ugm3'!D1398),('Teom ugm3'!D1398*'Teom grams'!$F1396*0.000000028317),\"\")","v":""},"","","","",null,"","","",null,"",""]
[null,null,{"$f":"IF('Teom ugm3'!A1399=\"\",\"\",C1396+1)","v":""},"",null,"",null,{"$f":"IF(ISNUMBER('Teom ugm3'!B1399),('Teom ugm3'!B1399*'Teom grams'!$F1397*0.000000028317),\"\")","v":""},{"$f":"IF(ISNUMBER('Teom ugm3'!C1399),('Teom ugm3'!C1399*'Teom grams'!$F1397*0.000000028317),\"\")","v":""},{"$f":"IF(ISNUMBER('Teom ugm3'!D1399),('Teom ugm3'!D1399*'Teom grams'!$F1397*0.000000028317),\"\")","v":""},"","","","",null,"","","",null,"",""]
[null,null,{"$f":"IF('Teom ugm3'!A1400=\"\",\"\",C1397+1)","v":""},"",null,"",null,{"$f":"IF(ISNUMBER('Teom ugm3'!B1400),('Teom ugm3'!B1400*'Teom grams'!$F1398*0.000000028317),\"\")","v":""},{"$f":"IF(ISNUMBER('Teom ugm3'!C1400),('Teom ugm3'!C1400*'Teom grams'!$F1398*0.000000028317),\"\")","v":""},{"$f":"IF(ISNUMBER('Teom ugm3'!D1400),('Teom ugm3'!D1400*'Teom grams'!$F1398*0.000000028317),\"\")","v":""},"","","","",null,"","","",null,"",""]
[null,null,{"$f":"IF('Teom ugm3'!A1401=\"\",\"\",C1398+1)","v":""},"",null,"",null,{"$f":"IF(ISNUMBER('Teom ugm3'!B1401),('Teom ugm3'!B1401*'Teom grams'!$F1399*0.000000028317),\"\")","v":""},{"$f":"IF(ISNUMBER('Teom ugm3'!C1401),('Teom ugm3'!C1401*'Teom grams'!$F1399*0.000000028317),\"\")","v":""},{"$f":"IF(ISNUMBER('Teom ugm3'!D1401),('Teom ugm3'!D1401*'Teom grams'!$F1399*0.000000028317),\"\")","v":""},"","","","",null,"","","",null,"",""]
[null,null,{"$f":"IF('Teom ugm3'!A1402=\"\",\"\",C1399+1)","v":""},"",null,"",null,{"$f":"IF(ISNUMBER('Teom ugm3'!B1402),('Teom ugm3'!B1402*'Teom grams'!$F1400*0.000000028317),\"\")","v":""},{"$f":"IF(ISNUMBER('Teom ugm3'!C1402),('Teom ugm3'!C1402*'Teom grams'!$F1400*0.000000028317),\"\")","v":""},{"$f":"IF(ISNUMBER('Teom ugm3'!D1402),('Teom ugm3'!D1402*'Teom grams'!$F1400*0.000000028317),\"\")","v":""},"","","","",null,"","","",null,"",""]
[null,null,{"$f":"IF('Teom ugm3'!A1403=\"\",\"\",C1400+1)","v":""},"",null,"",null,{"$f":"IF(ISNUMBER('Teom ugm3'!B1403),('Teom ugm3'!B1403*'Teom grams'!$F1401*0.000000028317),\"\")","v":""},{"$f":"IF(ISNUMBER('Teom ugm3'!C1403),('Teom ugm3'!C1403*'Teom grams'!$F1401*0.000000028317),\"\")","v":""},{"$f":"IF(ISNUMBER('Teom ugm3'!D1403),('Teom ugm3'!D1403*'Teom grams'!$F1401*0.000000028317),\"\")","v":""},"","","","",null,"","","",null,"",""]
[null,null,{"$f":"IF('Teom ugm3'!A1404=\"\",\"\",C1401+1)","v":""},"",null,"",null,{"$f":"IF(ISNUMBER('Teom ugm3'!B1404),('Teom ugm3'!B1404*'Teom grams'!$F1402*0.000000028317),\"\")","v":""},{"$f":"IF(ISNUMBER('Teom ugm3'!C1404),('Teom ugm3'!C1404*'Teom grams'!$F1402*0.000000028317),\"\")","v":""},{"$f":"IF(ISNUMBER('Teom ugm3'!D1404),('Teom ugm3'!D1404*'Teom grams'!$F1402*0.000000028317),\"\")","v":""},"","","","",null,"","","",null,"",""]
[null,null,{"$f":"IF('Teom ugm3'!A1405=\"\",\"\",C1402+1)","v":""},"",null,"",null,{"$f":"IF(ISNUMBER('Teom ugm3'!B1405),('Teom ugm3'!B1405*'Teom grams'!$F1403*0.000000028317),\"\")","v":""},{"$f":"IF(ISNUMBER('Teom ugm3'!C1405),('Teom ugm3'!C1405*'Teom grams'!$F1403*0.000000028317),\"\")","v":""},{"$f":"IF(ISNUMBER('Teom ugm3'!D1405),('Teom ugm3'!D1405*'Teom grams'!$F1403*0.000000028317),\"\")","v":""},"","","","",null,"","","",null,"",""]
[null,null,{"$f":"IF('Teom ugm3'!A1406=\"\",\"\",C1403+1)","v":""},"",null,"",null,{"$f":"IF(ISNUMBER('Teom ugm3'!B1406),('Teom ugm3'!B1406*'Teom grams'!$F1404*0.000000028317),\"\")","v":""},{"$f":"IF(ISNUMBER('Teom ugm3'!C1406),('Teom ugm3'!C1406*'Teom grams'!$F1404*0.000000028317),\"\")","v":""},{"$f":"IF(ISNUMBER('Teom ugm3'!D1406),('Teom ugm3'!D1406*'Teom grams'!$F1404*0.000000028317),\"\")","v":""},"","","","",null,"","","",null,"",""]
[null,null,{"$f":"IF('Teom ugm3'!A1407=\"\",\"\",C1404+1)","v":""},"",null,"",null,{"$f":"IF(ISNUMBER('Teom ugm3'!B1407),('Teom ugm3'!B1407*'Teom grams'!$F1405*0.000000028317),\"\")","v":""},{"$f":"IF(ISNUMBER('Teom ugm3'!C1407),('Teom ugm3'!C1407*'Teom grams'!$F1405*0.000000028317),\"\")","v":""},{"$f":"IF(ISNUMBER('Teom ugm3'!D1407),('Teom ugm3'!D1407*'Teom grams'!$F1405*0.000000028317),\"\")","v":""},"","","","",null,"","","",null,"",""]
[null,null,{"$f":"IF('Teom ugm3'!A1408=\"\",\"\",C1405+1)","v":""},"",null,"",null,{"$f":"IF(ISNUMBER('Teom ugm3'!B1408),('Teom ugm3'!B1408*'Teom grams'!$F1406*0.000000028317),\"\")","v":""},{"$f":"IF(ISNUMBER('Teom ugm3'!C1408),('Teom ugm3'!C1408*'Teom grams'!$F1406*0.000000028317),\"\")","v":""},{"$f":"IF(ISNUMBER('Teom ugm3'!D1408),('Teom ugm3'!D1408*'Teom grams'!$F1406*0.000000028317),\"\")","v":""},"","","","",null,"","","",null,"",""]
[null,null,{"$f":"IF('Teom ugm3'!A1409=\"\",\"\",C1406+1)","v":""},"",null,"",null,{"$f":"IF(ISNUMBER('Teom ugm3'!B1409),('Teom ugm3'!B1409*'Teom grams'!$F1407*0.000000028317),\"\")","v":""},{"$f":"IF(ISNUMBER('Teom ugm3'!C1409),('Teom ugm3'!C1409*'Teom grams'!$F1407*0.000000028317),\"\")","v":""},{"$f":"IF(ISNUMBER('Teom ugm3'!D1409),('Teom ugm3'!D1409*'Teom grams'!$F1407*0.000000028317),\"\")","v":""},"","","","",null,"","","",null,"",""]
[null,null,{"$f":"IF('Teom ugm3'!A1410=\"\",\"\",C1407+1)","v":""},"",null,"",null,{"$f":"IF(ISNUMBER('Teom ugm3'!B1410),('Teom ugm3'!B1410*'Teom grams'!$F1408*0.000000028317),\"\")","v":""},{"$f":"IF(ISNUMBER('Teom ugm3'!C1410),('Teom ugm3'!C1410*'Teom grams'!$F1408*0.000000028317),\"\")","v":""},{"$f":"IF(ISNUMBER('Teom ugm3'!D1410),('Teom ugm3'!D1410*'Teom grams'!$F1408*0.000000028317),\"\")","v":""},"","","","",null,"","","",null,"",""]
[null,null,{"$f":"IF('Teom ugm3'!A1411=\"\",\"\",C1408+1)","v":""},"",null,"",null,{"$f":"IF(ISNUMBER('Teom ugm3'!B1411),('Teom ugm3'!B1411*'Teom grams'!$F1409*0.000000028317),\"\")","v":""},{"$f":"IF(ISNUMBER('Teom ugm3'!C1411),('Teom ugm3'!C1411*'Teom grams'!$F1409*0.000000028317),\"\")","v":""},{"$f":"IF(ISNUMBER('Teom ugm3'!D1411),('Teom ugm3'!D1411*'Teom grams'!$F1409*0.000000028317),\"\")","v":""},"","","","",null,"","","",null,"",""]
[null,null,{"$f":"IF('Teom ugm3'!A1412=\"\",\"\",C1409+1)","v":""},"",null,"",null,{"$f":"IF(ISNUMBER('Teom ugm3'!B1412),('Teom ugm3'!B1412*'Teom grams'!$F1410*0.000000028317),\"\")","v":""},{"$f":"IF(ISNUMBER('Teom ugm3'!C1412),('Teom ugm3'!C1412*'Teom grams'!$F1410*0.000000028317),\"\")","v":""},{"$f":"IF(ISNUMBER('Teom ugm3'!D1412),('Teom ugm3'!D1412*'Teom grams'!$F1410*0.000000028317),\"\")","v":""},"","","","",null,"","","",null,"",""]
[null,null,{"$f":"IF('Teom ugm3'!A1413=\"\",\"\",C1410+1)","v":""},"",null,"",null,{"$f":"IF(ISNUMBER('Teom ugm3'!B1413),('Teom ugm3'!B1413*'Teom grams'!$F1411*0.000000028317),\"\")","v":""},{"$f":"IF(ISNUMBER('Teom ugm3'!C1413),('Teom ugm3'!C1413*'Teom grams'!$F1411*0.000000028317),\"\")","v":""},{"$f":"IF(ISNUMBER('Teom ugm3'!D1413),('Teom ugm3'!D1413*'Teom grams'!$F1411*0.000000028317),\"\")","v":""},"","","","",null,"","","",null,"",""]
[null,null,{"$f":"IF('Teom ugm3'!A1414=\"\",\"\",C1411+1)","v":""},"",null,"",null,{"$f":"IF(ISNUMBER('Teom ugm3'!B1414),('Teom ugm3'!B1414*'Teom grams'!$F1412*0.000000028317),\"\")","v":""},{"$f":"IF(ISNUMBER('Teom ugm3'!C1414),('Teom ugm3'!C1414*'Teom grams'!$F1412*0.000000028317),\"\")","v":""},{"$f":"IF(ISNUMBER('Teom ugm3'!D1414),('Teom ugm3'!D1414*'Teom grams'!$F1412*0.000000028317),\"\")","v":""},"","","",{"$f":"M1412","v":""},null,"","","",null,"",""]
[null,null,{"$f":"IF('Teom ugm3'!A1415=\"\",\"\",C1412+1)","v":""},"",null,{"$f":"IF(C1413=\"\",\"\",E1413*1.02041)","v":""},null,{"$f":"IF(ISNUMBER('Teom ugm3'!B1415),('Teom ugm3'!B1415*'Teom grams'!$F1413*0.000000028317),\"\")","v":""},{"$f":"IF(ISNUMBER('Teom ugm3'!C1415),('Teom ugm3'!C1415*'Teom grams'!$F1413*0.000000028317),\"\")","v":""},{"$f":"IF(ISNUMBER('Teom ugm3'!D1415),('Teom ugm3'!D1415*'Teom grams'!$F1413*0.000000028317),\"\")","v":""},{"$f":"IF(H1413<0,0,H1413)","v":""},"","","",null,{"$f":"IF(ISNUMBER(J1413),J1413*60,\"\")","v":""},"","",null,"",""]
[null,null,{"$f":"IF('Teom ugm3'!A1416=\"\",\"\",C1413+1)","v":""},{"$f":"IF(C1414=\"\",\"\",D1413 + TIME(0, 1, 0))","v":""},null,"",null,{"$f":"IF(ISNUMBER('Teom ugm3'!B1416),('Teom ugm3'!B1416*'Teom grams'!$F1414*0.000000028317),\"\")","v":""},{"$f":"IF(ISNUMBER('Teom ugm3'!C1416),('Teom ugm3'!C1416*'Teom grams'!$F1414*0.000000028317),\"\")","v":""},{"$f":"IF(ISNUMBER('Teom ugm3'!D1416),('Teom ugm3'!D1416*'Teom grams'!$F1414*0.000000028317),\"\")","v":""},"","","","",null,"","","",null,"",""]
[null,null,{"$f":"IF('Teom ugm3'!A1417=\"\",\"\",C1414+1)","v":""},"",null,"",null,{"$f":"IF(ISNUMBER('Teom ugm3'!B1417),('Teom ugm3'!B1417*'Teom grams'!$F1415*0.000000028317),\"\")","v":""},{"$f":"IF(ISNUMBER('Teom ugm3'!C1417),('Teom ugm3'!C1417*'Teom grams'!$F1415*0.000000028317),\"\")","v":""},{"$f":"IF(ISNUMBER('Teom ugm3'!D1417),('Teom ugm3'!D1417*'Teom grams'!$F1415*0.000000028317),\"\")","v":""},"","","","",null,"","","",null,"",""]
[null,null,{"$f":"IF('Teom ugm3'!A1418=\"\",\"\",C1415+1)","v":""},"",null,"",null,{"$f":"IF(ISNUMBER('Teom ugm3'!B1418),('Teom ugm3'!B1418*'Teom grams'!$F1416*0.000000028317),\"\")","v":""},{"$f":"IF(ISNUMBER('Teom ugm3'!C1418),('Teom ugm3'!C1418*'Teom grams'!$F1416*0.000000028317),\"\")","v":""},{"$f":"IF(ISNUMBER('Teom ugm3'!D1418),('Teom ugm3'!D1418*'Teom grams'!$F1416*0.000000028317),\"\")","v":""},"","","","",null,"","","",null,"",""]
[null,null,{"$f":"IF('Teom ugm3'!A1419=\"\",\"\",C1416+1)","v":""},"",null,"",null,{"$f":"IF(ISNUMBER('Teom ugm3'!B1419),('Teom ugm3'!B1419*'Teom grams'!$F1417*0.000000028317),\"\")","v":""},{"$f":"IF(ISNUMBER('Teom ugm3'!C1419),('Teom ugm3'!C1419*'Teom grams'!$F1417*0.000000028317),\"\")","v":""},{"$f":"IF(ISNUMBER('Teom ugm3'!D1419),('Teom ugm3'!D1419*'Teom grams'!$F1417*0.000000028317),\"\")","v":""},"","","","",null,"","","",null,"",""]
[null,null,{"$f":"IF('Teom ugm3'!A1420=\"\",\"\",C1417+1)","v":""},"",null,"",null,{"$f":"IF(ISNUMBER('Teom ugm3'!B1420),('Teom ugm3'!B1420*'Teom grams'!$F1418*0.000000028317),\"\")","v":""},{"$f":"IF(ISNUMBER('Teom ugm3'!C1420),('Teom ugm3'!C1420*'Teom grams'!$F1418*0.000000028317),\"\")","v":""},{"$f":"IF(ISNUMBER('Teom ugm3'!D1420),('Teom ugm3'!D1420*'Teom grams'!$F1418*0.000000028317),\"\")","v":""},"","","","",null,"","","",null,"",""]
[null,null,{"$f":"IF('Teom ugm3'!A1421=\"\",\"\",C1418+1)","v":""},"",null,"",null,{"$f":"IF(ISNUMBER('Teom ugm3'!B1421),('Teom ugm3'!B1421*'Teom grams'!$F1419*0.000000028317),\"\")","v":""},{"$f":"IF(ISNUMBER('Teom ugm3'!C1421),('Teom ugm3'!C1421*'Teom grams'!$F1419*0.000000028317),\"\")","v":""},{"$f":"IF(ISNUMBER('Teom ugm3'!D1421),('Teom ugm3'!D1421*'Teom grams'!$F1419*0.000000028317),\"\")","v":""},"","",{"$f":"IF(COUNT(K1419:L1419)>0,AVERAGE(K1419:L1419),\"\")","v":""},"",null,"","","",null,"",""]
[null,null,{"$f":"IF('Teom ugm3'!A1422=\"\",\"\",C1419+1)","v":""},"",null,"",null,{"$f":"IF(ISNUMBER('Teom ugm3'!B1422),('Teom ugm3'!B1422*'Teom grams'!$F1420*0.000000028317),\"\")","v":""},{"$f":"IF(ISNUMBER('Teom ugm3'!C1422),('Teom ugm3'!C1422*'Teom grams'!$F1420*0.000000028317),\"\")","v":""},{"$f":"IF(ISNUMBER('Teom ugm3'!D1422),('Teom ugm3'!D1422*'Teom grams'!$F1420*0.000000028317),\"\")","v":""},"","","","",null,"","","",null,"",""]
[null,null,{"$f":"IF('Teom ugm3'!A1423=\"\",\"\",C1420+1)","v":""},"",null,"",null,{"$f":"IF(ISNUMBER('Teom ugm3'!B1423),('Teom ugm3'!B1423*'Teom grams'!$F1421*0.000000028317),\"\")","v":""},{"$f":"IF(ISNUMBER('Teom ugm3'!C1423),('Teom ugm3'!C1423*'Teom grams'!$F1421*0.000000028317),\"\")","v":""},{"$f":"IF(ISNUMBER('Teom ugm3'!D1423),('Teom ugm3'!D1423*'Teom grams'!$F1421*0.000000028317),\"\")","v":""},"","","","",null,"","","",null,"",""]
[null,null,{"$f":"IF('Teom ugm3'!A1424=\"\",\"\",C1421+1)","v":""},"",null,"",null,{"$f":"IF(ISNUMBER('Teom ugm3'!B1424),('Teom ugm3'!B1424*'Teom grams'!$F1422*0.000000028317),\"\")","v":""},{"$f":"IF(ISNUMBER('Teom ugm3'!C1424),('Teom ugm3'!C1424*'Teom grams'!$F1422*0.000000028317),\"\")","v":""},{"$f":"IF(ISNUMBER('Teom ugm3'!D1424),('Teom ugm3'!D1424*'Teom grams'!$F1422*0.000000028317),\"\")","v":""},"","","","",null,"","","",null,"",""]
[null,null,{"$f":"IF('Teom ugm3'!A1425=\"\",\"\",C1422+1)","v":""},"",null,"",null,{"$f":"IF(ISNUMBER('Teom ugm3'!B1425),('Teom ugm3'!B1425*'Teom grams'!$F1423*0.000000028317),\"\")","v":""},{"$f":"IF(ISNUMBER('Teom ugm3'!C1425),('Teom ugm3'!C1425*'Teom grams'!$F1423*0.000000028317),\"\")","v":""},{"$f":"IF(ISNUMBER('Teom ugm3'!D1425),('Teom ugm3'!D1425*'Teom grams'!$F1423*0.000000028317),\"\")","v":""},"","","","",null,"","","",null,"",""]
[null,null,{"$f":"IF('Teom ugm3'!A1426=\"\",\"\",C1423+1)","v":""},"",null,"",null,{"$f":"IF(ISNUMBER('Teom ugm3'!B1426),('Teom ugm3'!B1426*'Teom grams'!$F1424*0.000000028317),\"\")","v":""},{"$f":"IF(ISNUMBER('Teom ugm3'!C1426),('Teom ugm3'!C1426*'Teom grams'!$F1424*0.000000028317),\"\")","v":""},{"$f":"IF(ISNUMBER('Teom ugm3'!D1426),('Teom ugm3'!D1426*'Teom grams'!$F1424*0.000000028317),\"\")","v":""},"","","","",null,"","","",null,"",""]
[null,null,{"$f":"IF('Teom ugm3'!A1427=\"\",\"\",C1424+1)","v":""},"",null,"",null,{"$f":"IF(ISNUMBER('Teom ugm3'!B1427),('Teom ugm3'!B1427*'Teom grams'!$F1425*0.000000028317),\"\")","v":""},{"$f":"IF(ISNUMBER('Teom ugm3'!C1427),('Teom ugm3'!C1427*'Teom grams'!$F1425*0.000000028317),\"\")","v":""},{"$f":"IF(ISNUMBER('Teom ugm3'!D1427),('Teom ugm3'!D1427*'Teom grams'!$F1425*0.000000028317),\"\")","v":""},"","","","",null,"","","",null,"",""]
[null,null,{"$f":"IF('Teom ugm3'!A1428=\"\",\"\",C1425+1)","v":""},"",null,"",null,{"$f":"IF(ISNUMBER('Teom ugm3'!B1428),('Teom ugm3'!B1428*'Teom grams'!$F1426*0.000000028317),\"\")","v":""},{"$f":"IF(ISNUMBER('Teom ugm3'!C1428),('Teom ugm3'!C1428*'Teom grams'!$F1426*0.000000028317),\"\")","v":""},{"$f":"IF(ISNUMBER('Teom ugm3'!D1428),('Teom ugm3'!D1428*'Teom grams'!$F1426*0.000000028317),\"\")","v":""},"","","","",null,"","","",null,"",""]
[null,null,{"$f":"IF('Teom ugm3'!A1429=\"\",\"\",C1426+1)","v":""},"",null,"",null,{"$f":"IF(ISNUMBER('Teom ugm3'!B1429),('Teom ugm3'!B1429*'Teom grams'!$F1427*0.000000028317),\"\")","v":""},{"$f":"IF(ISNUMBER('Teom ugm3'!C1429),('Teom ugm3'!C1429*'Teom grams'!$F1427*0.000000028317),\"\")","v":""},{"$f":"IF(ISNUMBER('Teom ugm3'!D1429),('Teom ugm3'!D1429*'Teom grams'!$F1427*0.000000028317),\"\")","v":""},"","","","",null,"","","",null,"",""]
[null,null,{"$f":"IF('Teom ugm3'!A1430=\"\",\"\",C1427+1)","v":""},"",null,"",null,{"$f":"IF(ISNUMBER('Teom ugm3'!B1430),('Teom ugm3'!B1430*'Teom grams'!$F1428*0.000000028317),\"\")","v":""},{"$f":"IF(ISNUMBER('Teom ugm3'!C1430),('Teom ugm3'!C1430*'Teom grams'!$F1428*0.000000028317),\"\")","v":""},{"$f":"IF(ISNUMBER('Teom ugm3'!D1430),('Teom ugm3'!D1430*'Teom grams'!$F1428*0.000000028317),\"\")","v":""},"","","","",null,"","","",null,"",""]
[null,null,{"$f":"IF('Teom ugm3'!A1431=\"\",\"\",C1428+1)","v":""},"",null,"",null,{"$f":"IF(ISNUMBER('Teom ugm3'!B1431),('Teom ugm3'!B1431*'Teom grams'!$F1429*0.000000028317),\"\")","v":""},{"$f":"IF(ISNUMBER('Teom ugm3'!C1431),('Teom ugm3'!C1431*'Teom grams'!$F1429*0.000000028317),\"\")","v":""},{"$f":"IF(ISNUMBER('Teom ugm3'!D1431),('Teom ugm3'!D1431*'Teom grams'!$F1429*0.000000028317),\"\")","v":""},"","","","",null,"","","",null,"",""]
[null,null,{"$f":"IF('Teom ugm3'!A1432=\"\",\"\",C1429+1)","v":""},"",null,"",null,{"$f":"IF(ISNUMBER('Teom ugm3'!B1432),('Teom ugm3'!B1432*'Teom grams'!$F1430*0.000000028317),\"\")","v":""},{"$f":"IF(ISNUMBER('Teom ugm3'!C1432),('Teom ugm3'!C1432*'Teom grams'!$F1430*0.000000028317),\"\")","v":""},{"$f":"IF(ISNUMBER('Teom ugm3'!D1432),('Teom ugm3'!D1432*'Teom grams'!$F1430*0.000000028317),\"\")","v":""},"","","","",null,"","","",null,"",""]
[null,null,{"$f":"IF('Teom ugm3'!A1433=\"\",\"\",C1430+1)","v":""},"",null,"",null,{"$f":"IF(ISNUMBER('Teom ugm3'!B1433),('Teom ugm3'!B1433*'Teom grams'!$F1431*0.000000028317),\"\")","v":""},{"$f":"IF(ISNUMBER('Teom ugm3'!C1433),('Teom ugm3'!C1433*'Teom grams'!$F1431*0.000000028317),\"\")","v":""},{"$f":"IF(ISNUMBER('Teom ugm3'!D1433),('Teom ugm3'!D1433*'Teom grams'!$F1431*0.000000028317),\"\")","v":""},"","","","",null,"","","",null,"",""]
[null,null,{"$f":"IF('Teom ugm3'!A1434=\"\",\"\",C1431+1)","v":""},"",null,"",null,{"$f":"IF(ISNUMBER('Teom ugm3'!B1434),('Teom ugm3'!B1434*'Teom grams'!$F1432*0.000000028317),\"\")","v":""},{"$f":"IF(ISNUMBER('Teom ugm3'!C1434),('Teom ugm3'!C1434*'Teom grams'!$F1432*0.000000028317),\"\")","v":""},{"$f":"IF(ISNUMBER('Teom ugm3'!D1434),('Teom ugm3'!D1434*'Teom grams'!$F1432*0.000000028317),\"\")","v":""},"","","","",null,"","","",null,"",""]
[null,null,{"$f":"IF('Teom ugm3'!A1435=\"\",\"\",C1432+1)","v":""},"",null,"",null,{"$f":"IF(ISNUMBER('Teom ugm3'!B1435),('Teom ugm3'!B1435*'Teom grams'!$F1433*0.000000028317),\"\")","v":""},{"$f":"IF(ISNUMBER('Teom ugm3'!C1435),('Teom ugm3'!C1435*'Teom grams'!$F1433*0.000000028317),\"\")","v":""},{"$f":"IF(ISNUMBER('Teom ugm3'!D1435),('Teom ugm3'!D1435*'Teom grams'!$F1433*0.000000028317),\"\")","v":""},"","","","",null,"","","",null,"",""]
[null,null,{"$f":"IF('Teom ugm3'!A1436=\"\",\"\",C1433+1)","v":""},"",null,"",null,{"$f":"IF(ISNUMBER('Teom ugm3'!B1436),('Teom ugm3'!B1436*'Teom grams'!$F1434*0.000000028317),\"\")","v":""},{"$f":"IF(ISNUMBER('Teom ugm3'!C1436),('Teom ugm3'!C1436*'Teom grams'!$F1434*0.000000028317),\"\")","v":""},{"$f":"IF(ISNUMBER('Teom ugm3'!D1436),('Teom ugm3'!D1436*'Teom grams'!$F1434*0.000000028317),\"\")","v":""},"","","","",null,"","","",null,"",""]
[null,null,{"$f":"IF('Teom ugm3'!A1437=\"\",\"\",C1434+1)","v":""},"",null,"",null,{"$f":"IF(ISNUMBER('Teom ugm3'!B1437),('Teom ugm3'!B1437*'Teom grams'!$F1435*0.000000028317),\"\")","v":""},{"$f":"IF(ISNUMBER('Teom ugm3'!C1437),('Teom ugm3'!C1437*'Teom grams'!$F1435*0.000000028317),\"\")","v":""},{"$f":"IF(ISNUMBER('Teom ugm3'!D1437),('Teom ugm3'!D1437*'Teom grams'!$F1435*0.000000028317),\"\")","v":""},"","","","",null,"","","",null,"",""]
[null,null,{"$f":"IF('Teom ugm3'!A1438=\"\",\"\",C1435+1)","v":""},"",null,"",null,{"$f":"IF(ISNUMBER('Teom ugm3'!B1438),('Teom ugm3'!B1438*'Teom grams'!$F1436*0.000000028317),\"\")","v":""},{"$f":"IF(ISNUMBER('Teom ugm3'!C1438),('Teom ugm3'!C1438*'Teom grams'!$F1436*0.000000028317),\"\")","v":""},{"$f":"IF(ISNUMBER('Teom ugm3'!D1438),('Teom ugm3'!D1438*'Teom grams'!$F1436*0.000000028317),\"\")","v":""},"","","","",null,"","","",null,"",""]
[null,null,{"$f":"IF('Teom ugm3'!A1439=\"\",\"\",C1436+1)","v":""},"",null,"",null,{"$f":"IF(ISNUMBER('Teom ugm3'!B1439),('Teom ugm3'!B1439*'Teom grams'!$F1437*0.000000028317),\"\")","v":""},{"$f":"IF(ISNUMBER('Teom ugm3'!C1439),('Teom ugm3'!C1439*'Teom grams'!$F1437*0.000000028317),\"\")","v":""},{"$f":"IF(ISNUMBER('Teom ugm3'!D1439),('Teom ugm3'!D1439*'Teom grams'!$F1437*0.000000028317),\"\")","v":""},"","","","",null,"","","",null,"",""]
[null,null,{"$f":"IF('Teom ugm3'!A1440=\"\",\"\",C1437+1)","v":""},"",null,"",null,{"$f":"IF(ISNUMBER('Teom ugm3'!B1440),('Teom ugm3'!B1440*'Teom grams'!$F1438*0.000000028317),\"\")","v":""},{"$f":"IF(ISNUMBER('Teom ugm3'!C1440),('Teom ugm3'!C1440*'Teom grams'!$F1438*0.000000028317),\"\")","v":""},{"$f":"IF(ISNUMBER('Teom ugm3'!D1440),('Teom ugm3'!D1440*'Teom grams'!$F1438*0.000000028317),\"\")","v":""},"","","","",null,"","","",null,"",""]
[null,null,{"$f":"IF('Teom ugm3'!A1441=\"\",\"\",C1438+1)","v":""},"",null,"",null,{"$f":"IF(ISNUMBER('Teom ugm3'!B1441),('Teom ugm3'!B1441*'Teom grams'!$F1439*0.000000028317),\"\")","v":""},{"$f":"IF(ISNUMBER('Teom ugm3'!C1441),('Teom ugm3'!C1441*'Teom grams'!$F1439*0.000000028317),\"\")","v":""},{"$f":"IF(ISNUMBER('Teom ugm3'!D1441),('Teom ugm3'!D1441*'Teom grams'!$F1439*0.000000028317),\"\")","v":""},"","","","",null,"","","",null,"",""]
[null,null,{"$f":"IF('Teom ugm3'!A1442=\"\",\"\",C1439+1)","v":""},"",null,"",null,{"$f":"IF(ISNUMBER('Teom ugm3'!B1442),('Teom ugm3'!B1442*'Teom grams'!$F1440*0.000000028317),\"\")","v":""},{"$f":"IF(ISNUMBER('Teom ugm3'!C1442),('Teom ugm3'!C1442*'Teom grams'!$F1440*0.000000028317),\"\")","v":""},{"$f":"IF(ISNUMBER('Teom ugm3'!D1442),('Teom ugm3'!D1442*'Teom grams'!$F1440*0.000000028317),\"\")","v":""},"","","","",null,"","","",null,"",""]
[null,null,{"$f":"IF('Teom ugm3'!A1443=\"\",\"\",C1440+1)","v":""},"",null,"",null,{"$f":"IF(ISNUMBER('Teom ugm3'!B1443),('Teom ugm3'!B1443*'Teom grams'!$F1441*0.000000028317),\"\")","v":""},{"$f":"IF(ISNUMBER('Teom ugm3'!C1443),('Teom ugm3'!C1443*'Teom grams'!$F1441*0.000000028317),\"\")","v":""},{"$f":"IF(ISNUMBER('Teom ugm3'!D1443),('Teom ugm3'!D1443*'Teom grams'!$F1441*0.000000028317),\"\")","v":""},"","","","",null,"","","",null,"",""]
[null,null,{"$f":"IF('Teom ugm3'!A1444=\"\",\"\",C1441+1)","v":""},"",null,"",null,{"$f":"IF(ISNUMBER('Teom ugm3'!B1444),('Teom ugm3'!B1444*'Teom grams'!$F1442*0.000000028317),\"\")","v":""},{"$f":"IF(ISNUMBER('Teom ugm3'!C1444),('Teom ugm3'!C1444*'Teom grams'!$F1442*0.000000028317),\"\")","v":""},{"$f":"IF(ISNUMBER('Teom ugm3'!D1444),('Teom ugm3'!D1444*'Teom grams'!$F1442*0.000000028317),\"\")","v":""},"","","","",null,"","","",null,"",""]
[null,null,{"$f":"IF('Teom ugm3'!A1445=\"\",\"\",C1442+1)","v":""},"",null,"",null,{"$f":"IF(ISNUMBER('Teom ugm3'!B1445),('Teom ugm3'!B1445*'Teom grams'!$F1443*0.000000028317),\"\")","v":""},{"$f":"IF(ISNUMBER('Teom ugm3'!C1445),('Teom ugm3'!C1445*'Teom grams'!$F1443*0.000000028317),\"\")","v":""},{"$f":"IF(ISNUMBER('Teom ugm3'!D1445),('Teom ugm3'!D1445*'Teom grams'!$F1443*0.000000028317),\"\")","v":""},"","","","",null,"",{"$f":"IF(ISNUMBER(M1443),M1443*60,\"\")","v":""},{"$f":"IF(ISNUMBER(N1443),N1443*60,\"\")","v":""},null,{"$f":"IF(COUNT(C1443:C1502)>59,AVERAGE(P1443:P1502),\"\")","v":""},{"$f":"IF(COUNT(C1443:C1502)>59,AVERAGE(Q1443:Q1502),\"\")","v":""}]
[null,null,{"$f":"IF('Teom ugm3'!A1446=\"\",\"\",C1443+1)","v":""},"",null,"",null,{"$f":"IF(ISNUMBER('Teom ugm3'!B1446),('Teom ugm3'!B1446*'Teom grams'!$F1444*0.000000028317),\"\")","v":""},{"$f":"IF(ISNUMBER('Teom ugm3'!C1446),('Teom ugm3'!C1446*'Teom grams'!$F1444*0.000000028317),\"\")","v":""},{"$f":"IF(ISNUMBER('Teom ugm3'!D1446),('Teom ugm3'!D1446*'Teom grams'!$F1444*0.000000028317),\"\")","v":""},"","","","",null,"","","",null,"",""]
[null,null,{"$f":"IF('Teom ugm3'!A1447=\"\",\"\",C1444+1)","v":""},"",null,"",null,{"$f":"IF(ISNUMBER('Teom ugm3'!B1447),('Teom ugm3'!B1447*'Teom grams'!$F1445*0.000000028317),\"\")","v":""},{"$f":"IF(ISNUMBER('Teom ugm3'!C1447),('Teom ugm3'!C1447*'Teom grams'!$F1445*0.000000028317),\"\")","v":""},{"$f":"IF(ISNUMBER('Teom ugm3'!D1447),('Teom ugm3'!D1447*'Teom grams'!$F1445*0.000000028317),\"\")","v":""},"","","","",null,"","","",null,"",""]
[null,null,{"$f":"IF('Teom ugm3'!A1448=\"\",\"\",C1445+1)","v":""},"",null,"",null,{"$f":"IF(ISNUMBER('Teom ugm3'!B1448),('Teom ugm3'!B1448*'Teom grams'!$F1446*0.000000028317),\"\")","v":""},{"$f":"IF(ISNUMBER('Teom ugm3'!C1448),('Teom ugm3'!C1448*'Teom grams'!$F1446*0.000000028317),\"\")","v":""},{"$f":"IF(ISNUMBER('Teom ugm3'!D1448),('Teom ugm3'!D1448*'Teom grams'!$F1446*0.000000028317),\"\")","v":""},"","","","",null,"","","",null,"",""]
[null,null,{"$f":"IF('Teom ugm3'!A1449=\"\",\"\",C1446+1)","v":""},"",null,"",null,{"$f":"IF(ISNUMBER('Teom ugm3'!B1449),('Teom ugm3'!B1449*'Teom grams'!$F1447*0.000000028317),\"\")","v":""},{"$f":"IF(ISNUMBER('Teom ugm3'!C1449),('Teom ugm3'!C1449*'Teom grams'!$F1447*0.000000028317),\"\")","v":""},{"$f":"IF(ISNUMBER('Teom ugm3'!D1449),('Teom ugm3'!D1449*'Teom grams'!$F1447*0.000000028317),\"\")","v":""},"","","","",null,"","","",null,"",""]
[null,null,{"$f":"IF('Teom ugm3'!A1450=\"\",\"\",C1447+1)","v":""},"",null,"",null,{"$f":"IF(ISNUMBER('Teom ugm3'!B1450),('Teom ugm3'!B1450*'Teom grams'!$F1448*0.000000028317),\"\")","v":""},{"$f":"IF(ISNUMBER('Teom ugm3'!C1450),('Teom ugm3'!C1450*'Teom grams'!$F1448*0.000000028317),\"\")","v":""},{"$f":"IF(ISNUMBER('Teom ugm3'!D1450),('Teom ugm3'!D1450*'Teom grams'!$F1448*0.000000028317),\"\")","v":""},"","","","",null,"","","",null,"",""]
[null,null,{"$f":"IF('Teom ugm3'!A1451=\"\",\"\",C1448+1)","v":""},"",null,"",null,{"$f":"IF(ISNUMBER('Teom ugm3'!B1451),('Teom ugm3'!B1451*'Teom grams'!$F1449*0.000000028317),\"\")","v":""},{"$f":"IF(ISNUMBER('Teom ugm3'!C1451),('Teom ugm3'!C1451*'Teom grams'!$F1449*0.000000028317),\"\")","v":""},{"$f":"IF(ISNUMBER('Teom ugm3'!D1451),('Teom ugm3'!D1451*'Teom grams'!$F1449*0.000000028317),\"\")","v":""},"","","","",null,"","","",null,"",""]
[null,null,{"$f":"IF('Teom ugm3'!A1452=\"\",\"\",C1449+1)","v":""},"",null,"",null,{"$f":"IF(ISNUMBER('Teom ugm3'!B1452),('Teom ugm3'!B1452*'Teom grams'!$F1450*0.000000028317),\"\")","v":""},{"$f":"IF(ISNUMBER('Teom ugm3'!C1452),('Teom ugm3'!C1452*'Teom grams'!$F1450*0.000000028317),\"\")","v":""},{"$f":"IF(ISNUMBER('Teom ugm3'!D1452),('Teom ugm3'!D1452*'Teom grams'!$F1450*0.000000028317),\"\")","v":""},"","","","",null,"","","",null,"",""]
[null,null,{"$f":"IF('Teom ugm3'!A1453=\"\",\"\",C1450+1)","v":""},"",null,"",null,{"$f":"IF(ISNUMBER('Teom ugm3'!B1453),('Teom ugm3'!B1453*'Teom grams'!$F1451*0.000000028317),\"\")","v":""},{"$f":"IF(ISNUMBER('Teom ugm3'!C1453),('Teom ugm3'!C1453*'Teom grams'!$F1451*0.000000028317),\"\")","v":""},{"$f":"IF(ISNUMBER('Teom ugm3'!D1453),('Teom ugm3'!D1453*'Teom grams'!$F1451*0.000000028317),\"\")","v":""},"","","","",null,"","","",null,"",""]
[null,null,{"$f":"IF('Teom ugm3'!A1454=\"\",\"\",C1451+1)","v":""},"",null,"",null,{"$f":"IF(ISNUMBER('Teom ugm3'!B1454),('Teom ugm3'!B1454*'Teom grams'!$F1452*0.000000028317),\"\")","v":""},{"$f":"IF(ISNUMBER('Teom ugm3'!C1454),('Teom ugm3'!C1454*'Teom grams'!$F1452*0.000000028317),\"\")","v":""},{"$f":"IF(ISNUMBER('Teom ugm3'!D1454),('Teom ugm3'!D1454*'Teom grams'!$F1452*0.000000028317),\"\")","v":""},"","","","",null,"","","",null,"",""]
[null,null,{"$f":"IF('Teom ugm3'!A1455=\"\",\"\",C1452+1)","v":""},"",null,"",null,{"$f":"IF(ISNUMBER('Teom ugm3'!B1455),('Teom ugm3'!B1455*'Teom grams'!$F1453*0.000000028317),\"\")","v":""},{"$f":"IF(ISNUMBER('Teom ugm3'!C1455),('Teom ugm3'!C1455*'Teom grams'!$F1453*0.000000028317),\"\")","v":""},{"$f":"IF(ISNUMBER('Teom ugm3'!D1455),('Teom ugm3'!D1455*'Teom grams'!$F1453*0.000000028317),\"\")","v":""},"","","","",null,"","","",null,"",""]
[null,null,{"$f":"IF('Teom ugm3'!A1456=\"\",\"\",C1453+1)","v":""},"",null,"",null,{"$f":"IF(ISNUMBER('Teom ugm3'!B1456),('Teom ugm3'!B1456*'Teom grams'!$F1454*0.000000028317),\"\")","v":""},{"$f":"IF(ISNUMBER('Teom ugm3'!C1456),('Teom ugm3'!C1456*'Teom grams'!$F1454*0.000000028317),\"\")","v":""},{"$f":"IF(ISNUMBER('Teom ugm3'!D1456),('Teom ugm3'!D1456*'Teom grams'!$F1454*0.000000028317),\"\")","v":""},"","","","",null,"","","",null,"",""]
[null,null,{"$f":"IF('Teom ugm3'!A1457=\"\",\"\",C1454+1)","v":""},"",null,"",null,{"$f":"IF(ISNUMBER('Teom ugm3'!B1457),('Teom ugm3'!B1457*'Teom grams'!$F1455*0.000000028317),\"\")","v":""},{"$f":"IF(ISNUMBER('Teom ugm3'!C1457),('Teom ugm3'!C1457*'Teom grams'!$F1455*0.000000028317),\"\")","v":""},{"$f":"IF(ISNUMBER('Teom ugm3'!D1457),('Teom ugm3'!D1457*'Teom grams'!$F1455*0.000000028317),\"\")","v":""},"","","","",null,"","","",null,"",""]
[null,null,{"$f":"IF('Teom ugm3'!A1458=\"\",\"\",C1455+1)","v":""},"",null,"",null,{"$f":"IF(ISNUMBER('Teom ugm3'!B1458),('Teom ugm3'!B1458*'Teom grams'!$F1456*0.000000028317),\"\")","v":""},{"$f":"IF(ISNUMBER('Teom ugm3'!C1458),('Teom ugm3'!C1458*'Teom grams'!$F1456*0.000000028317),\"\")","v":""},{"$f":"IF(ISNUMBER('Teom ugm3'!D1458),('Teom ugm3'!D1458*'Teom grams'!$F1456*0.000000028317),\"\")","v":""},"","","","",null,"","","",null,"",""]
[null,null,{"$f":"IF('Teom ugm3'!A1459=\"\",\"\",C1456+1)","v":""},"",null,"",null,{"$f":"IF(ISNUMBER('Teom ugm3'!B1459),('Teom ugm3'!B1459*'Teom grams'!$F1457*0.000000028317),\"\")","v":""},{"$f":"IF(ISNUMBER('Teom ugm3'!C1459),('Teom ugm3'!C1459*'Teom grams'!$F1457*0.000000028317),\"\")","v":""},{"$f":"IF(ISNUMBER('Teom ugm3'!D1459),('Teom ugm3'!D1459*'Teom grams'!$F1457*0.000000028317),\"\")","v":""},"","","","",null,"","","",null,"",""]
[null,null,{"$f":"IF('Teom ugm3'!A1460=\"\",\"\",C1457+1)","v":""},"",null,"",null,{"$f":"IF(ISNUMBER('Teom ugm3'!B1460),('Teom ugm3'!B1460*'Teom grams'!$F1458*0.000000028317),\"\")","v":""},{"$f":"IF(ISNUMBER('Teom ugm3'!C1460),('Teom ugm3'!C1460*'Teom grams'!$F1458*0.000000028317),\"\")","v":""},{"$f":"IF(ISNUMBER('Teom ugm3'!D1460),('Teom ugm3'!D1460*'Teom grams'!$F1458*0.000000028317),\"\")","v":""},"","","","",null,"","","",null,"",""]
[null,null,{"$f":"IF('Teom ugm3'!A1461=\"\",\"\",C1458+1)","v":""},"",null,"",null,{"$f":"IF(ISNUMBER('Teom ugm3'!B1461),('Teom ugm3'!B1461*'Teom grams'!$F1459*0.000000028317),\"\")","v":""},{"$f":"IF(ISNUMBER('Teom ugm3'!C1461),('Teom ugm3'!C1461*'Teom grams'!$F1459*0.000000028317),\"\")","v":""},{"$f":"IF(ISNUMBER('Teom ugm3'!D1461),('Teom ugm3'!D1461*'Teom grams'!$F1459*0.000000028317),\"\")","v":""},"","","","",null,"","","",null,"",""]
[null,null,{"$f":"IF('Teom ugm3'!A1462=\"\",\"\",C1459+1)","v":""},"",null,"",null,{"$f":"IF(ISNUMBER('Teom ugm3'!B1462),('Teom ugm3'!B1462*'Teom grams'!$F1460*0.000000028317),\"\")","v":""},{"$f":"IF(ISNUMBER('Teom ugm3'!C1462),('Teom ugm3'!C1462*'Teom grams'!$F1460*0.000000028317),\"\")","v":""},{"$f":"IF(ISNUMBER('Teom ugm3'!D1462),('Teom ugm3'!D1462*'Teom grams'!$F1460*0.000000028317),\"\")","v":""},"","","","",null,"","","",null,"",""]
[null,null,{"$f":"IF('Teom ugm3'!A1463=\"\",\"\",C1460+1)","v":""},"",null,"",null,{"$f":"IF(ISNUMBER('Teom ugm3'!B1463),('Teom ugm3'!B1463*'Teom grams'!$F1461*0.000000028317),\"\")","v":""},{"$f":"IF(ISNUMBER('Teom ugm3'!C1463),('Teom ugm3'!C1463*'Teom grams'!$F1461*0.000000028317),\"\")","v":""},{"$f":"IF(ISNUMBER('Teom ugm3'!D1463),('Teom ugm3'!D1463*'Teom grams'!$F1461*0.000000028317),\"\")","v":""},"","","","",null,"","","",null,"",""]
[null,null,{"$f":"IF('Teom ugm3'!A1464=\"\",\"\",C1461+1)","v":""},"",null,"",null,{"$f":"IF(ISNUMBER('Teom ugm3'!B1464),('Teom ugm3'!B1464*'Teom grams'!$F1462*0.000000028317),\"\")","v":""},{"$f":"IF(ISNUMBER('Teom ugm3'!C1464),('Teom ugm3'!C1464*'Teom grams'!$F1462*0.000000028317),\"\")","v":""},{"$f":"IF(ISNUMBER('Teom ugm3'!D1464),('Teom ugm3'!D1464*'Teom grams'!$F1462*0.000000028317),\"\")","v":""},"","","","",null,"","","",null,"",""]
[null,null,{"$f":"IF('Teom ugm3'!A1465=\"\",\"\",C1462+1)","v":""},"",null,"",null,{"$f":"IF(ISNUMBER('Teom ugm3'!B1465),('Teom ugm3'!B1465*'Teom grams'!$F1463*0.000000028317),\"\")","v":""},{"$f":"IF(ISNUMBER('Teom ugm3'!C1465),('Teom ugm3'!C1465*'Teom grams'!$F1463*0.000000028317),\"\")","v":""},{"$f":"IF(ISNUMBER('Teom ugm3'!D1465),('Teom ugm3'!D1465*'Teom grams'!$F1463*0.000000028317),\"\")","v":""},"","","","",null,"","","",null,"",""]
[null,null,{"$f":"IF('Teom ugm3'!A1466=\"\",\"\",C1463+1)","v":""},"",null,"",null,{"$f":"IF(ISNUMBER('Teom ugm3'!B1466),('Teom ugm3'!B1466*'Teom grams'!$F1464*0.000000028317),\"\")","v":""},{"$f":"IF(ISNUMBER('Teom ugm3'!C1466),('Teom ugm3'!C1466*'Teom grams'!$F1464*0.000000028317),\"\")","v":""},{"$f":"IF(ISNUMBER('Teom ugm3'!D1466),('Teom ugm3'!D1466*'Teom grams'!$F1464*0.000000028317),\"\")","v":""},"","","","",null,"","","",null,"",""]
[null,null,{"$f":"IF('Teom ugm3'!A1467=\"\",\"\",C1464+1)","v":""},"",null,"",null,{"$f":"IF(ISNUMBER('Teom ugm3'!B1467),('Teom ugm3'!B1467*'Teom grams'!$F1465*0.000000028317),\"\")","v":""},{"$f":"IF(ISNUMBER('Teom ugm3'!C1467),('Teom ugm3'!C1467*'Teom grams'!$F1465*0.000000028317),\"\")","v":""},{"$f":"IF(ISNUMBER('Teom ugm3'!D1467),('Teom ugm3'!D1467*'Teom grams'!$F1465*0.000000028317),\"\")","v":""},"","","","",null,"","","",null,"",""]
[null,null,{"$f":"IF('Teom ugm3'!A1468=\"\",\"\",C1465+1)","v":""},"",null,"",null,{"$f":"IF(ISNUMBER('Teom ugm3'!B1468),('Teom ugm3'!B1468*'Teom grams'!$F1466*0.000000028317),\"\")","v":""},{"$f":"IF(ISNUMBER('Teom ugm3'!C1468),('Teom ugm3'!C1468*'Teom grams'!$F1466*0.000000028317),\"\")","v":""},{"$f":"IF(ISNUMBER('Teom ugm3'!D1468),('Teom ugm3'!D1468*'Teom grams'!$F1466*0.000000028317),\"\")","v":""},"","","","",null,"","","",null,"",""]
[null,null,{"$f":"IF('Teom ugm3'!A1469=\"\",\"\",C1466+1)","v":""},"",null,"",null,{"$f":"IF(ISNUMBER('Teom ugm3'!B1469),('Teom ugm3'!B1469*'Teom grams'!$F1467*0.000000028317),\"\")","v":""},{"$f":"IF(ISNUMBER('Teom ugm3'!C1469),('Teom ugm3'!C1469*'Teom grams'!$F1467*0.000000028317),\"\")","v":""},{"$f":"IF(ISNUMBER('Teom ugm3'!D1469),('Teom ugm3'!D1469*'Teom grams'!$F1467*0.000000028317),\"\")","v":""},"","","","",null,"","","",null,"",""]
[null,null,{"$f":"IF('Teom ugm3'!A1470=\"\",\"\",C1467+1)","v":""},"",null,"",null,{"$f":"IF(ISNUMBER('Teom ugm3'!B1470),('Teom ugm3'!B1470*'Teom grams'!$F1468*0.000000028317),\"\")","v":""},{"$f":"IF(ISNUMBER('Teom ugm3'!C1470),('Teom ugm3'!C1470*'Teom grams'!$F1468*0.000000028317),\"\")","v":""},{"$f":"IF(ISNUMBER('Teom ugm3'!D1470),('Teom ugm3'!D1470*'Teom grams'!$F1468*0.000000028317),\"\")","v":""},"","","","",null,"","","",null,"",""]
[null,null,{"$f":"IF('Teom ugm3'!A1471=\"\",\"\",C1468+1)","v":""},"",null,"",null,{"$f":"IF(ISNUMBER('Teom ugm3'!B1471),('Teom ugm3'!B1471*'Teom grams'!$F1469*0.000000028317),\"\")","v":""},{"$f":"IF(ISNUMBER('Teom ugm3'!C1471),('Teom ugm3'!C1471*'Teom grams'!$F1469*0.000000028317),\"\")","v":""},{"$f":"IF(ISNUMBER('Teom ugm3'!D1471),('Teom ugm3'!D1471*'Teom grams'!$F1469*0.000000028317),\"\")","v":""},"","","","",null,"","","",null,"",""]
[null,null,{"$f":"IF('Teom ugm3'!A1472=\"\",\"\",C1469+1)","v":""},"",null,"",null,{"$f":"IF(ISNUMBER('Teom ugm3'!B1472),('Teom ugm3'!B1472*'Teom grams'!$F1470*0.000000028317),\"\")","v":""},{"$f":"IF(ISNUMBER('Teom ugm3'!C1472),('Teom ugm3'!C1472*'Teom grams'!$F1470*0.000000028317),\"\")","v":""},{"$f":"IF(ISNUMBER('Teom ugm3'!D1472),('Teom ugm3'!D1472*'Teom grams'!$F1470*0.000000028317),\"\")","v":""},"","","","",null,"","","",null,"",""]
[null,null,{"$f":"IF('Teom ugm3'!A1473=\"\",\"\",C1470+1)","v":""},"",null,"",null,{"$f":"IF(ISNUMBER('Teom ugm3'!B1473),('Teom ugm3'!B1473*'Teom grams'!$F1471*0.000000028317),\"\")","v":""},{"$f":"IF(ISNUMBER('Teom ugm3'!C1473),('Teom ugm3'!C1473*'Teom grams'!$F1471*0.000000028317),\"\")","v":""},{"$f":"IF(ISNUMBER('Teom ugm3'!D1473),('Teom ugm3'!D1473*'Teom grams'!$F1471*0.000000028317),\"\")","v":""},"","","","",null,"","","",null,"",""]
[null,null,{"$f":"IF('Teom ugm3'!A1474=\"\",\"\",C1471+1)","v":""},"",null,"",null,{"$f":"IF(ISNUMBER('Teom ugm3'!B1474),('Teom ugm3'!B1474*'Teom grams'!$F1472*0.000000028317),\"\")","v":""},{"$f":"IF(ISNUMBER('Teom ugm3'!C1474),('Teom ugm3'!C1474*'Teom grams'!$F1472*0.000000028317),\"\")","v":""},{"$f":"IF(ISNUMBER('Teom ugm3'!D1474),('Teom ugm3'!D1474*'Teom grams'!$F1472*0.000000028317),\"\")","v":""},"","","","",null,"","","",null,"",""]
[null,null,{"$f":"IF('Teom ugm3'!A1475=\"\",\"\",C1472+1)","v":""},"",null,"",null,{"$f":"IF(ISNUMBER('Teom ugm3'!B1475),('Teom ugm3'!B1475*'Teom grams'!$F1473*0.000000028317),\"\")","v":""},{"$f":"IF(ISNUMBER('Teom ugm3'!C1475),('Teom ugm3'!C1475*'Teom grams'!$F1473*0.000000028317),\"\")","v":""},{"$f":"IF(ISNUMBER('Teom ugm3'!D1475),('Teom ugm3'!D1475*'Teom grams'!$F1473*0.000000028317),\"\")","v":""},"","","","",null,"","","",null,"",""]
[null,null,{"$f":"IF('Teom ugm3'!A1476=\"\",\"\",C1473+1)","v":""},"",null,"",null,{"$f":"IF(ISNUMBER('Teom ugm3'!B1476),('Teom ugm3'!B1476*'Teom grams'!$F1474*0.000000028317),\"\")","v":""},{"$f":"IF(ISNUMBER('Teom ugm3'!C1476),('Teom ugm3'!C1476*'Teom grams'!$F1474*0.000000028317),\"\")","v":""},{"$f":"IF(ISNUMBER('Teom ugm3'!D1476),('Teom ugm3'!D1476*'Teom grams'!$F1474*0.000000028317),\"\")","v":""},"","","","",null,"","","",null,"",""]
[null,null,{"$f":"IF('Teom ugm3'!A1477=\"\",\"\",C1474+1)","v":""},"",null,"",null,{"$f":"IF(ISNUMBER('Teom ugm3'!B1477),('Teom ugm3'!B1477*'Teom grams'!$F1475*0.000000028317),\"\")","v":""},{"$f":"IF(ISNUMBER('Teom ugm3'!C1477),('Teom ugm3'!C1477*'Teom grams'!$F1475*0.000000028317),\"\")","v":""},{"$f":"IF(ISNUMBER('Teom ugm3'!D1477),('Teom ugm3'!D1477*'Teom grams'!$F1475*0.000000028317),\"\")","v":""},"","","","",null,"","","",null,"",""]
[null,null,{"$f":"IF('Teom ugm3'!A1478=\"\",\"\",C1475+1)","v":""},"",null,"",null,{"$f":"IF(ISNUMBER('Teom ugm3'!B1478),('Teom ugm3'!B1478*'Teom grams'!$F1476*0.000000028317),\"\")","v":""},{"$f":"IF(ISNUMBER('Teom ugm3'!C1478),('Teom ugm3'!C1478*'Teom grams'!$F1476*0.000000028317),\"\")","v":""},{"$f":"IF(ISNUMBER('Teom ugm3'!D1478),('Teom ugm3'!D1478*'Teom grams'!$F1476*0.000000028317),\"\")","v":""},"","","",{"$f":"M1476","v":""},null,"","","",null,"",""]
[null,null,{"$f":"IF('Teom ugm3'!A1479=\"\",\"\",C1476+1)","v":""},"",null,{"$f":"IF(C1477=\"\",\"\",E1477*1.02041)","v":""},null,{"$f":"IF(ISNUMBER('Teom ugm3'!B1479),('Teom ugm3'!B1479*'Teom grams'!$F1477*0.000000028317),\"\")","v":""},{"$f":"IF(ISNUMBER('Teom ugm3'!C1479),('Teom ugm3'!C1479*'Teom grams'!$F1477*0.000000028317),\"\")","v":""},{"$f":"IF(ISNUMBER('Teom ugm3'!D1479),('Teom ugm3'!D1479*'Teom grams'!$F1477*0.000000028317),\"\")","v":""},{"$f":"IF(H1477<0,0,H1477)","v":""},"","","",null,{"$f":"IF(ISNUMBER(J1477),J1477*60,\"\")","v":""},"","",null,"",""]
[null,null,{"$f":"IF('Teom ugm3'!A1480=\"\",\"\",C1477+1)","v":""},{"$f":"IF(C1478=\"\",\"\",D1477 + TIME(0, 1, 0))","v":""},null,"",null,{"$f":"IF(ISNUMBER('Teom ugm3'!B1480),('Teom ugm3'!B1480*'Teom grams'!$F1478*0.000000028317),\"\")","v":""},{"$f":"IF(ISNUMBER('Teom ugm3'!C1480),('Teom ugm3'!C1480*'Teom grams'!$F1478*0.000000028317),\"\")","v":""},{"$f":"IF(ISNUMBER('Teom ugm3'!D1480),('Teom ugm3'!D1480*'Teom grams'!$F1478*0.000000028317),\"\")","v":""},"","","","",null,"","","",null,"",""]
[null,null,{"$f":"IF('Teom ugm3'!A1481=\"\",\"\",C1478+1)","v":""},"",null,"",null,{"$f":"IF(ISNUMBER('Teom ugm3'!B1481),('Teom ugm3'!B1481*'Teom grams'!$F1479*0.000000028317),\"\")","v":""},{"$f":"IF(ISNUMBER('Teom ugm3'!C1481),('Teom ugm3'!C1481*'Teom grams'!$F1479*0.000000028317),\"\")","v":""},{"$f":"IF(ISNUMBER('Teom ugm3'!D1481),('Teom ugm3'!D1481*'Teom grams'!$F1479*0.000000028317),\"\")","v":""},"","","","",null,"","","",null,"",""]
[null,null,{"$f":"IF('Teom ugm3'!A1482=\"\",\"\",C1479+1)","v":""},"",null,"",null,{"$f":"IF(ISNUMBER('Teom ugm3'!B1482),('Teom ugm3'!B1482*'Teom grams'!$F1480*0.000000028317),\"\")","v":""},{"$f":"IF(ISNUMBER('Teom ugm3'!C1482),('Teom ugm3'!C1482*'Teom grams'!$F1480*0.000000028317),\"\")","v":""},{"$f":"IF(ISNUMBER('Teom ugm3'!D1482),('Teom ugm3'!D1482*'Teom grams'!$F1480*0.000000028317),\"\")","v":""},"","","","",null,"","","",null,"",""]
[null,null,{"$f":"IF('Teom ugm3'!A1483=\"\",\"\",C1480+1)","v":""},"",null,"",null,{"$f":"IF(ISNUMBER('Teom ugm3'!B1483),('Teom ugm3'!B1483*'Teom grams'!$F1481*0.000000028317),\"\")","v":""},{"$f":"IF(ISNUMBER('Teom ugm3'!C1483),('Teom ugm3'!C1483*'Teom grams'!$F1481*0.000000028317),\"\")","v":""},{"$f":"IF(ISNUMBER('Teom ugm3'!D1483),('Teom ugm3'!D1483*'Teom grams'!$F1481*0.000000028317),\"\")","v":""},"","","","",null,"","","",null,"",""]
[null,null,{"$f":"IF('Teom ugm3'!A1484=\"\",\"\",C1481+1)","v":""},"",null,"",null,{"$f":"IF(ISNUMBER('Teom ugm3'!B1484),('Teom ugm3'!B1484*'Teom grams'!$F1482*0.000000028317),\"\")","v":""},{"$f":"IF(ISNUMBER('Teom ugm3'!C1484),('Teom ugm3'!C1484*'Teom grams'!$F1482*0.000000028317),\"\")","v":""},{"$f":"IF(ISNUMBER('Teom ugm3'!D1484),('Teom ugm3'!D1484*'Teom grams'!$F1482*0.000000028317),\"\")","v":""},"","","","",null,"","","",null,"",""]
[null,null,{"$f":"IF('Teom ugm3'!A1485=\"\",\"\",C1482+1)","v":""},"",null,"",null,{"$f":"IF(ISNUMBER('Teom ugm3'!B1485),('Teom ugm3'!B1485*'Teom grams'!$F1483*0.000000028317),\"\")","v":""},{"$f":"IF(ISNUMBER('Teom ugm3'!C1485),('Teom ugm3'!C1485*'Teom grams'!$F1483*0.000000028317),\"\")","v":""},{"$f":"IF(ISNUMBER('Teom ugm3'!D1485),('Teom ugm3'!D1485*'Teom grams'!$F1483*0.000000028317),\"\")","v":""},"","",{"$f":"IF(COUNT(K1483:L1483)>0,AVERAGE(K1483:L1483),\"\")","v":""},"",null,"","","",null,"",""]
[null,null,{"$f":"IF('Teom ugm3'!A1486=\"\",\"\",C1483+1)","v":""},"",null,"",null,{"$f":"IF(ISNUMBER('Teom ugm3'!B1486),('Teom ugm3'!B1486*'Teom grams'!$F1484*0.000000028317),\"\")","v":""},{"$f":"IF(ISNUMBER('Teom ugm3'!C1486),('Teom ugm3'!C1486*'Teom grams'!$F1484*0.000000028317),\"\")","v":""},{"$f":"IF(ISNUMBER('Teom ugm3'!D1486),('Teom ugm3'!D1486*'Teom grams'!$F1484*0.000000028317),\"\")","v":""},"","","","",null,"","","",null,"",""]
[null,null,{"$f":"IF('Teom ugm3'!A1487=\"\",\"\",C1484+1)","v":""},"",null,"",null,{"$f":"IF(ISNUMBER('Teom ugm3'!B1487),('Teom ugm3'!B1487*'Teom grams'!$F1485*0.000000028317),\"\")","v":""},{"$f":"IF(ISNUMBER('Teom ugm3'!C1487),('Teom ugm3'!C1487*'Teom grams'!$F1485*0.000000028317),\"\")","v":""},{"$f":"IF(ISNUMBER('Teom ugm3'!D1487),('Teom ugm3'!D1487*'Teom grams'!$F1485*0.000000028317),\"\")","v":""},"","","","",null,"","","",null,"",""]
[null,null,{"$f":"IF('Teom ugm3'!A1488=\"\",\"\",C1485+1)","v":""},"",null,"",null,{"$f":"IF(ISNUMBER('Teom ugm3'!B1488),('Teom ugm3'!B1488*'Teom grams'!$F1486*0.000000028317),\"\")","v":""},{"$f":"IF(ISNUMBER('Teom ugm3'!C1488),('Teom ugm3'!C1488*'Teom grams'!$F1486*0.000000028317),\"\")","v":""},{"$f":"IF(ISNUMBER('Teom ugm3'!D1488),('Teom ugm3'!D1488*'Teom grams'!$F1486*0.000000028317),\"\")","v":""},"","","","",null,"","","",null,"",""]
[null,null,{"$f":"IF('Teom ugm3'!A1489=\"\",\"\",C1486+1)","v":""},"",null,"",null,{"$f":"IF(ISNUMBER('Teom ugm3'!B1489),('Teom ugm3'!B1489*'Teom grams'!$F1487*0.000000028317),\"\")","v":""},{"$f":"IF(ISNUMBER('Teom ugm3'!C1489),('Teom ugm3'!C1489*'Teom grams'!$F1487*0.000000028317),\"\")","v":""},{"$f":"IF(ISNUMBER('Teom ugm3'!D1489),('Teom ugm3'!D1489*'Teom grams'!$F1487*0.000000028317),\"\")","v":""},"","","","",null,"","","",null,"",""]
[null,null,{"$f":"IF('Teom ugm3'!A1490=\"\",\"\",C1487+1)","v":""},"",null,"",null,{"$f":"IF(ISNUMBER('Teom ugm3'!B1490),('Teom ugm3'!B1490*'Teom grams'!$F1488*0.000000028317),\"\")","v":""},{"$f":"IF(ISNUMBER('Teom ugm3'!C1490),('Teom ugm3'!C1490*'Teom grams'!$F1488*0.000000028317),\"\")","v":""},{"$f":"IF(ISNUMBER('Teom ugm3'!D1490),('Teom ugm3'!D1490*'Teom grams'!$F1488*0.000000028317),\"\")","v":""},"","","","",null,"","","",null,"",""]
[null,null,{"$f":"IF('Teom ugm3'!A1491=\"\",\"\",C1488+1)","v":""},"",null,"",null,{"$f":"IF(ISNUMBER('Teom ugm3'!B1491),('Teom ugm3'!B1491*'Teom grams'!$F1489*0.000000028317),\"\")","v":""},{"$f":"IF(ISNUMBER('Teom ugm3'!C1491),('Teom ugm3'!C1491*'Teom grams'!$F1489*0.000000028317),\"\")","v":""},{"$f":"IF(ISNUMBER('Teom ugm3'!D1491),('Teom ugm3'!D1491*'Teom grams'!$F1489*0.000000028317),\"\")","v":""},"","","","",null,"","","",null,"",""]
[null,null,{"$f":"IF('Teom ugm3'!A1492=\"\",\"\",C1489+1)","v":""},"",null,"",null,{"$f":"IF(ISNUMBER('Teom ugm3'!B1492),('Teom ugm3'!B1492*'Teom grams'!$F1490*0.000000028317),\"\")","v":""},{"$f":"IF(ISNUMBER('Teom ugm3'!C1492),('Teom ugm3'!C1492*'Teom grams'!$F1490*0.000000028317),\"\")","v":""},{"$f":"IF(ISNUMBER('Teom ugm3'!D1492),('Teom ugm3'!D1492*'Teom grams'!$F1490*0.000000028317),\"\")","v":""},"","","","",null,"","","",null,"",""]
[null,null,{"$f":"IF('Teom ugm3'!A1493=\"\",\"\",C1490+1)","v":""},"",null,"",null,{"$f":"IF(ISNUMBER('Teom ugm3'!B1493),('Teom ugm3'!B1493*'Teom grams'!$F1491*0.000000028317),\"\")","v":""},{"$f":"IF(ISNUMBER('Teom ugm3'!C1493),('Teom ugm3'!C1493*'Teom grams'!$F1491*0.000000028317),\"\")","v":""},{"$f":"IF(ISNUMBER('Teom ugm3'!D1493),('Teom ugm3'!D1493*'Teom grams'!$F1491*0.000000028317),\"\")","v":""},"","","","",null,"","","",null,"",""]
[null,null,{"$f":"IF('Teom ugm3'!A1494=\"\",\"\",C1491+1)","v":""},"",null,"",null,{"$f":"IF(ISNUMBER('Teom ugm3'!B1494),('Teom ugm3'!B1494*'Teom grams'!$F1492*0.000000028317),\"\")","v":""},{"$f":"IF(ISNUMBER('Teom ugm3'!C1494),('Teom ugm3'!C1494*'Teom grams'!$F1492*0.000000028317),\"\")","v":""},{"$f":"IF(ISNUMBER('Teom ugm3'!D1494),('Teom ugm3'!D1494*'Teom grams'!$F1492*0.000000028317),\"\")","v":""},"","","","",null,"","","",null,"",""]
[null,null,{"$f":"IF('Teom ugm3'!A1495=\"\",\"\",C1492+1)","v":""},"",null,"",null,{"$f":"IF(ISNUMBER('Teom ugm3'!B1495),('Teom ugm3'!B1495*'Teom grams'!$F1493*0.000000028317),\"\")","v":""},{"$f":"IF(ISNUMBER('Teom ugm3'!C1495),('Teom ugm3'!C1495*'Teom grams'!$F1493*0.000000028317),\"\")","v":""},{"$f":"IF(ISNUMBER('Teom ugm3'!D1495),('Teom ugm3'!D1495*'Teom grams'!$F1493*0.000000028317),\"\")","v":""},"","","","",null,"","","",null,"",""]
[null,null,{"$f":"IF('Teom ugm3'!A1496=\"\",\"\",C1493+1)","v":""},"",null,"",null,{"$f":"IF(ISNUMBER('Teom ugm3'!B1496),('Teom ugm3'!B1496*'Teom grams'!$F1494*0.000000028317),\"\")","v":""},{"$f":"IF(ISNUMBER('Teom ugm3'!C1496),('Teom ugm3'!C1496*'Teom grams'!$F1494*0.000000028317),\"\")","v":""},{"$f":"IF(ISNUMBER('Teom ugm3'!D1496),('Teom ugm3'!D1496*'Teom grams'!$F1494*0.000000028317),\"\")","v":""},"","","","",null,"","","",null,"",""]
[null,null,{"$f":"IF('Teom ugm3'!A1497=\"\",\"\",C1494+1)","v":""},"",null,"",null,{"$f":"IF(ISNUMBER('Teom ugm3'!B1497),('Teom ugm3'!B1497*'Teom grams'!$F1495*0.000000028317),\"\")","v":""},{"$f":"IF(ISNUMBER('Teom ugm3'!C1497),('Teom ugm3'!C1497*'Teom grams'!$F1495*0.000000028317),\"\")","v":""},{"$f":"IF(ISNUMBER('Teom ugm3'!D1497),('Teom ugm3'!D1497*'Teom grams'!$F1495*0.000000028317),\"\")","v":""},"","","","",null,"","","",null,"",""]
[null,null,{"$f":"IF('Teom ugm3'!A1498=\"\",\"\",C1495+1)","v":""},"",null,"",null,{"$f":"IF(ISNUMBER('Teom ugm3'!B1498),('Teom ugm3'!B1498*'Teom grams'!$F1496*0.000000028317),\"\")","v":""},{"$f":"IF(ISNUMBER('Teom ugm3'!C1498),('Teom ugm3'!C1498*'Teom grams'!$F1496*0.000000028317),\"\")","v":""},{"$f":"IF(ISNUMBER('Teom ugm3'!D1498),('Teom ugm3'!D1498*'Teom grams'!$F1496*0.000000028317),\"\")","v":""},"","","","",null,"","","",null,"",""]
[null,null,{"$f":"IF('Teom ugm3'!A1499=\"\",\"\",C1496+1)","v":""},"",null,"",null,{"$f":"IF(ISNUMBER('Teom ugm3'!B1499),('Teom ugm3'!B1499*'Teom grams'!$F1497*0.000000028317),\"\")","v":""},{"$f":"IF(ISNUMBER('Teom ugm3'!C1499),('Teom ugm3'!C1499*'Teom grams'!$F1497*0.000000028317),\"\")","v":""},{"$f":"IF(ISNUMBER('Teom ugm3'!D1499),('Teom ugm3'!D1499*'Teom grams'!$F1497*0.000000028317),\"\")","v":""},"","","","",null,"","","",null,"",""]
[null,null,{"$f":"IF('Teom ugm3'!A1500=\"\",\"\",C1497+1)","v":""},"",null,"",null,{"$f":"IF(ISNUMBER('Teom ugm3'!B1500),('Teom ugm3'!B1500*'Teom grams'!$F1498*0.000000028317),\"\")","v":""},{"$f":"IF(ISNUMBER('Teom ugm3'!C1500),('Teom ugm3'!C1500*'Teom grams'!$F1498*0.000000028317),\"\")","v":""},{"$f":"IF(ISNUMBER('Teom ugm3'!D1500),('Teom ugm3'!D1500*'Teom grams'!$F1498*0.000000028317),\"\")","v":""},"","","","",null,"","","",null,"",""]
[null,null,{"$f":"IF('Teom ugm3'!A1501=\"\",\"\",C1498+1)","v":""},"",null,"",null,{"$f":"IF(ISNUMBER('Teom ugm3'!B1501),('Teom ugm3'!B1501*'Teom grams'!$F1499*0.000000028317),\"\")","v":""},{"$f":"IF(ISNUMBER('Teom ugm3'!C1501),('Teom ugm3'!C1501*'Teom grams'!$F1499*0.000000028317),\"\")","v":""},{"$f":"IF(ISNUMBER('Teom ugm3'!D1501),('Teom ugm3'!D1501*'Teom grams'!$F1499*0.000000028317),\"\")","v":""},"","","","",null,"","","",null,"",""]
[null,null,{"$f":"IF('Teom ugm3'!A1502=\"\",\"\",C1499+1)","v":""},"",null,"",null,{"$f":"IF(ISNUMBER('Teom ugm3'!B1502),('Teom ugm3'!B1502*'Teom grams'!$F1500*0.000000028317),\"\")","v":""},{"$f":"IF(ISNUMBER('Teom ugm3'!C1502),('Teom ugm3'!C1502*'Teom grams'!$F1500*0.000000028317),\"\")","v":""},{"$f":"IF(ISNUMBER('Teom ugm3'!D1502),('Teom ugm3'!D1502*'Teom grams'!$F1500*0.000000028317),\"\")","v":""},"","","","",null,"","","",null,"",""]
[null,null,{"$f":"IF('Teom ugm3'!A1503=\"\",\"\",C1500+1)","v":""},"",null,"",null,{"$f":"IF(ISNUMBER('Teom ugm3'!B1503),('Teom ugm3'!B1503*'Teom grams'!$F1501*0.000000028317),\"\")","v":""},{"$f":"IF(ISNUMBER('Teom ugm3'!C1503),('Teom ugm3'!C1503*'Teom grams'!$F1501*0.000000028317),\"\")","v":""},{"$f":"IF(ISNUMBER('Teom ugm3'!D1503),('Teom ugm3'!D1503*'Teom grams'!$F1501*0.000000028317),\"\")","v":""},"","","","",null,"","","",null,"",""]
[null,null,{"$f":"IF('Teom ugm3'!A1504=\"\",\"\",C1501+1)","v":""},"",null,"",null,{"$f":"IF(ISNUMBER('Teom ugm3'!B1504),('Teom ugm3'!B1504*'Teom grams'!$F1502*0.000000028317),\"\")","v":""},{"$f":"IF(ISNUMBER('Teom ugm3'!C1504),('Teom ugm3'!C1504*'Teom grams'!$F1502*0.000000028317),\"\")","v":""},{"$f":"IF(ISNUMBER('Teom ugm3'!D1504),('Teom ugm3'!D1504*'Teom grams'!$F1502*0.000000028317),\"\")","v":""},"","","","",null,"","","",null,"",""]
[null,null,{"$f":"IF('Teom ugm3'!A1505=\"\",\"\",C1502+1)","v":""},"",null,"",null,{"$f":"IF(ISNUMBER('Teom ugm3'!B1505),('Teom ugm3'!B1505*'Teom grams'!$F1503*0.000000028317),\"\")","v":""},{"$f":"IF(ISNUMBER('Teom ugm3'!C1505),('Teom ugm3'!C1505*'Teom grams'!$F1503*0.000000028317),\"\")","v":""},{"$f":"IF(ISNUMBER('Teom ugm3'!D1505),('Teom ugm3'!D1505*'Teom grams'!$F1503*0.000000028317),\"\")","v":""},"","","","",null,"","","",null,"",""]
[null,null,{"$f":"IF('Teom ugm3'!A1506=\"\",\"\",C1503+1)","v":""},"",null,"",null,{"$f":"IF(ISNUMBER('Teom ugm3'!B1506),('Teom ugm3'!B1506*'Teom grams'!$F1504*0.000000028317),\"\")","v":""},{"$f":"IF(ISNUMBER('Teom ugm3'!C1506),('Teom ugm3'!C1506*'Teom grams'!$F1504*0.000000028317),\"\")","v":""},{"$f":"IF(ISNUMBER('Teom ugm3'!D1506),('Teom ugm3'!D1506*'Teom grams'!$F1504*0.000000028317),\"\")","v":""},"","","","",null,"","","",null,"",""]
[null,null,{"$f":"IF('Teom ugm3'!A1507=\"\",\"\",C1504+1)","v":""},"",null,"",null,{"$f":"IF(ISNUMBER('Teom ugm3'!B1507),('Teom ugm3'!B1507*'Teom grams'!$F1505*0.000000028317),\"\")","v":""},{"$f":"IF(ISNUMBER('Teom ugm3'!C1507),('Teom ugm3'!C1507*'Teom grams'!$F1505*0.000000028317),\"\")","v":""},{"$f":"IF(ISNUMBER('Teom ugm3'!D1507),('Teom ugm3'!D1507*'Teom grams'!$F1505*0.000000028317),\"\")","v":""},"","","","",null,"","","",null,"",""]
[null,null,{"$f":"IF('Teom ugm3'!A1508=\"\",\"\",C1505+1)","v":""},"",null,"",null,{"$f":"IF(ISNUMBER('Teom ugm3'!B1508),('Teom ugm3'!B1508*'Teom grams'!$F1506*0.000000028317),\"\")","v":""},{"$f":"IF(ISNUMBER('Teom ugm3'!C1508),('Teom ugm3'!C1508*'Teom grams'!$F1506*0.000000028317),\"\")","v":""},{"$f":"IF(ISNUMBER('Teom ugm3'!D1508),('Teom ugm3'!D1508*'Teom grams'!$F1506*0.000000028317),\"\")","v":""},"","","","",null,"","","",null,"",""]
[null,null,{"$f":"IF('Teom ugm3'!A1509=\"\",\"\",C1506+1)","v":""},"",null,"",null,{"$f":"IF(ISNUMBER('Teom ugm3'!B1509),('Teom ugm3'!B1509*'Teom grams'!$F1507*0.000000028317),\"\")","v":""},{"$f":"IF(ISNUMBER('Teom ugm3'!C1509),('Teom ugm3'!C1509*'Teom grams'!$F1507*0.000000028317),\"\")","v":""},{"$f":"IF(ISNUMBER('Teom ugm3'!D1509),('Teom ugm3'!D1509*'Teom grams'!$F1507*0.000000028317),\"\")","v":""},"","","","",null,"",{"$f":"IF(ISNUMBER(M1507),M1507*60,\"\")","v":""},{"$f":"IF(ISNUMBER(N1507),N1507*60,\"\")","v":""},null,{"$f":"IF(COUNT(C1507:C1566)>59,AVERAGE(P1507:P1566),\"\")","v":""},{"$f":"IF(COUNT(C1507:C1566)>59,AVERAGE(Q1507:Q1566),\"\")","v":""}]
[null,null,{"$f":"IF('Teom ugm3'!A1510=\"\",\"\",C1507+1)","v":""},"",null,"",null,{"$f":"IF(ISNUMBER('Teom ugm3'!B1510),('Teom ugm3'!B1510*'Teom grams'!$F1508*0.000000028317),\"\")","v":""},{"$f":"IF(ISNUMBER('Teom ugm3'!C1510),('Teom ugm3'!C1510*'Teom grams'!$F1508*0.000000028317),\"\")","v":""},{"$f":"IF(ISNUMBER('Teom ugm3'!D1510),('Teom ugm3'!D1510*'Teom grams'!$F1508*0.000000028317),\"\")","v":""},"","","","",null,"","","",null,"",""]
[null,null,{"$f":"IF('Teom ugm3'!A1511=\"\",\"\",C1508+1)","v":""},"",null,"",null,{"$f":"IF(ISNUMBER('Teom ugm3'!B1511),('Teom ugm3'!B1511*'Teom grams'!$F1509*0.000000028317),\"\")","v":""},{"$f":"IF(ISNUMBER('Teom ugm3'!C1511),('Teom ugm3'!C1511*'Teom grams'!$F1509*0.000000028317),\"\")","v":""},{"$f":"IF(ISNUMBER('Teom ugm3'!D1511),('Teom ugm3'!D1511*'Teom grams'!$F1509*0.000000028317),\"\")","v":""},"","","","",null,"","","",null,"",""]
[null,null,{"$f":"IF('Teom ugm3'!A1512=\"\",\"\",C1509+1)","v":""},"",null,"",null,{"$f":"IF(ISNUMBER('Teom ugm3'!B1512),('Teom ugm3'!B1512*'Teom grams'!$F1510*0.000000028317),\"\")","v":""},{"$f":"IF(ISNUMBER('Teom ugm3'!C1512),('Teom ugm3'!C1512*'Teom grams'!$F1510*0.000000028317),\"\")","v":""},{"$f":"IF(ISNUMBER('Teom ugm3'!D1512),('Teom ugm3'!D1512*'Teom grams'!$F1510*0.000000028317),\"\")","v":""},"","","","",null,"","","",null,"",""]
[null,null,{"$f":"IF('Teom ugm3'!A1513=\"\",\"\",C1510+1)","v":""},"",null,"",null,{"$f":"IF(ISNUMBER('Teom ugm3'!B1513),('Teom ugm3'!B1513*'Teom grams'!$F1511*0.000000028317),\"\")","v":""},{"$f":"IF(ISNUMBER('Teom ugm3'!C1513),('Teom ugm3'!C1513*'Teom grams'!$F1511*0.000000028317),\"\")","v":""},{"$f":"IF(ISNUMBER('Teom ugm3'!D1513),('Teom ugm3'!D1513*'Teom grams'!$F1511*0.000000028317),\"\")","v":""},"","","","",null,"","","",null,"",""]
[null,null,{"$f":"IF('Teom ugm3'!A1514=\"\",\"\",C1511+1)","v":""},"",null,"",null,{"$f":"IF(ISNUMBER('Teom ugm3'!B1514),('Teom ugm3'!B1514*'Teom grams'!$F1512*0.000000028317),\"\")","v":""},{"$f":"IF(ISNUMBER('Teom ugm3'!C1514),('Teom ugm3'!C1514*'Teom grams'!$F1512*0.000000028317),\"\")","v":""},{"$f":"IF(ISNUMBER('Teom ugm3'!D1514),('Teom ugm3'!D1514*'Teom grams'!$F1512*0.000000028317),\"\")","v":""},"","","","",null,"","","",null,"",""]
[null,null,{"$f":"IF('Teom ugm3'!A1515=\"\",\"\",C1512+1)","v":""},"",null,"",null,{"$f":"IF(ISNUMBER('Teom ugm3'!B1515),('Teom ugm3'!B1515*'Teom grams'!$F1513*0.000000028317),\"\")","v":""},{"$f":"IF(ISNUMBER('Teom ugm3'!C1515),('Teom ugm3'!C1515*'Teom grams'!$F1513*0.000000028317),\"\")","v":""},{"$f":"IF(ISNUMBER('Teom ugm3'!D1515),('Teom ugm3'!D1515*'Teom grams'!$F1513*0.000000028317),\"\")","v":""},"","","","",null,"","","",null,"",""]
[null,null,{"$f":"IF('Teom ugm3'!A1516=\"\",\"\",C1513+1)","v":""},"",null,"",null,{"$f":"IF(ISNUMBER('Teom ugm3'!B1516),('Teom ugm3'!B1516*'Teom grams'!$F1514*0.000000028317),\"\")","v":""},{"$f":"IF(ISNUMBER('Teom ugm3'!C1516),('Teom ugm3'!C1516*'Teom grams'!$F1514*0.000000028317),\"\")","v":""},{"$f":"IF(ISNUMBER('Teom ugm3'!D1516),('Teom ugm3'!D1516*'Teom grams'!$F1514*0.000000028317),\"\")","v":""},"","","","",null,"","","",null,"",""]
[null,null,{"$f":"IF('Teom ugm3'!A1517=\"\",\"\",C1514+1)","v":""},"",null,"",null,{"$f":"IF(ISNUMBER('Teom ugm3'!B1517),('Teom ugm3'!B1517*'Teom grams'!$F1515*0.000000028317),\"\")","v":""},{"$f":"IF(ISNUMBER('Teom ugm3'!C1517),('Teom ugm3'!C1517*'Teom grams'!$F1515*0.000000028317),\"\")","v":""},{"$f":"IF(ISNUMBER('Teom ugm3'!D1517),('Teom ugm3'!D1517*'Teom grams'!$F1515*0.000000028317),\"\")","v":""},"","","","",null,"","","",null,"",""]
[null,null,{"$f":"IF('Teom ugm3'!A1518=\"\",\"\",C1515+1)","v":""},"",null,"",null,{"$f":"IF(ISNUMBER('Teom ugm3'!B1518),('Teom ugm3'!B1518*'Teom grams'!$F1516*0.000000028317),\"\")","v":""},{"$f":"IF(ISNUMBER('Teom ugm3'!C1518),('Teom ugm3'!C1518*'Teom grams'!$F1516*0.000000028317),\"\")","v":""},{"$f":"IF(ISNUMBER('Teom ugm3'!D1518),('Teom ugm3'!D1518*'Teom grams'!$F1516*0.000000028317),\"\")","v":""},"","","","",null,"","","",null,"",""]
[null,null,{"$f":"IF('Teom ugm3'!A1519=\"\",\"\",C1516+1)","v":""},"",null,"",null,{"$f":"IF(ISNUMBER('Teom ugm3'!B1519),('Teom ugm3'!B1519*'Teom grams'!$F1517*0.000000028317),\"\")","v":""},{"$f":"IF(ISNUMBER('Teom ugm3'!C1519),('Teom ugm3'!C1519*'Teom grams'!$F1517*0.000000028317),\"\")","v":""},{"$f":"IF(ISNUMBER('Teom ugm3'!D1519),('Teom ugm3'!D1519*'Teom grams'!$F1517*0.000000028317),\"\")","v":""},"","","","",null,"","","",null,"",""]
[null,null,{"$f":"IF('Teom ugm3'!A1520=\"\",\"\",C1517+1)","v":""},"",null,"",null,{"$f":"IF(ISNUMBER('Teom ugm3'!B1520),('Teom ugm3'!B1520*'Teom grams'!$F1518*0.000000028317),\"\")","v":""},{"$f":"IF(ISNUMBER('Teom ugm3'!C1520),('Teom ugm3'!C1520*'Teom grams'!$F1518*0.000000028317),\"\")","v":""},{"$f":"IF(ISNUMBER('Teom ugm3'!D1520),('Teom ugm3'!D1520*'Teom grams'!$F1518*0.000000028317),\"\")","v":""},"","","","",null,"","","",null,"",""]
[null,null,{"$f":"IF('Teom ugm3'!A1521=\"\",\"\",C1518+1)","v":""},"",null,"",null,{"$f":"IF(ISNUMBER('Teom ugm3'!B1521),('Teom ugm3'!B1521*'Teom grams'!$F1519*0.000000028317),\"\")","v":""},{"$f":"IF(ISNUMBER('Teom ugm3'!C1521),('Teom ugm3'!C1521*'Teom grams'!$F1519*0.000000028317),\"\")","v":""},{"$f":"IF(ISNUMBER('Teom ugm3'!D1521),('Teom ugm3'!D1521*'Teom grams'!$F1519*0.000000028317),\"\")","v":""},"","","","",null,"","","",null,"",""]
[null,null,{"$f":"IF('Teom ugm3'!A1522=\"\",\"\",C1519+1)","v":""},"",null,"",null,{"$f":"IF(ISNUMBER('Teom ugm3'!B1522),('Teom ugm3'!B1522*'Teom grams'!$F1520*0.000000028317),\"\")","v":""},{"$f":"IF(ISNUMBER('Teom ugm3'!C1522),('Teom ugm3'!C1522*'Teom grams'!$F1520*0.000000028317),\"\")","v":""},{"$f":"IF(ISNUMBER('Teom ugm3'!D1522),('Teom ugm3'!D1522*'Teom grams'!$F1520*0.000000028317),\"\")","v":""},"","","","",null,"","","",null,"",""]
[null,null,{"$f":"IF('Teom ugm3'!A1523=\"\",\"\",C1520+1)","v":""},"",null,"",null,{"$f":"IF(ISNUMBER('Teom ugm3'!B1523),('Teom ugm3'!B1523*'Teom grams'!$F1521*0.000000028317),\"\")","v":""},{"$f":"IF(ISNUMBER('Teom ugm3'!C1523),('Teom ugm3'!C1523*'Teom grams'!$F1521*0.000000028317),\"\")","v":""},{"$f":"IF(ISNUMBER('Teom ugm3'!D1523),('Teom ugm3'!D1523*'Teom grams'!$F1521*0.000000028317),\"\")","v":""},"","","","",null,"","","",null,"",""]
[null,null,{"$f":"IF('Teom ugm3'!A1524=\"\",\"\",C1521+1)","v":""},"",null,"",null,{"$f":"IF(ISNUMBER('Teom ugm3'!B1524),('Teom ugm3'!B1524*'Teom grams'!$F1522*0.000000028317),\"\")","v":""},{"$f":"IF(ISNUMBER('Teom ugm3'!C1524),('Teom ugm3'!C1524*'Teom grams'!$F1522*0.000000028317),\"\")","v":""},{"$f":"IF(ISNUMBER('Teom ugm3'!D1524),('Teom ugm3'!D1524*'Teom grams'!$F1522*0.000000028317),\"\")","v":""},"","","","",null,"","","",null,"",""]
[null,null,{"$f":"IF('Teom ugm3'!A1525=\"\",\"\",C1522+1)","v":""},"",null,"",null,{"$f":"IF(ISNUMBER('Teom ugm3'!B1525),('Teom ugm3'!B1525*'Teom grams'!$F1523*0.000000028317),\"\")","v":""},{"$f":"IF(ISNUMBER('Teom ugm3'!C1525),('Teom ugm3'!C1525*'Teom grams'!$F1523*0.000000028317),\"\")","v":""},{"$f":"IF(ISNUMBER('Teom ugm3'!D1525),('Teom ugm3'!D1525*'Teom grams'!$F1523*0.000000028317),\"\")","v":""},"","","","",null,"","","",null,"",""]
[null,null,{"$f":"IF('Teom ugm3'!A1526=\"\",\"\",C1523+1)","v":""},"",null,"",null,{"$f":"IF(ISNUMBER('Teom ugm3'!B1526),('Teom ugm3'!B1526*'Teom grams'!$F1524*0.000000028317),\"\")","v":""},{"$f":"IF(ISNUMBER('Teom ugm3'!C1526),('Teom ugm3'!C1526*'Teom grams'!$F1524*0.000000028317),\"\")","v":""},{"$f":"IF(ISNUMBER('Teom ugm3'!D1526),('Teom ugm3'!D1526*'Teom grams'!$F1524*0.000000028317),\"\")","v":""},"","","","",null,"","","",null,"",""]
[null,null,{"$f":"IF('Teom ugm3'!A1527=\"\",\"\",C1524+1)","v":""},"",null,"",null,{"$f":"IF(ISNUMBER('Teom ugm3'!B1527),('Teom ugm3'!B1527*'Teom grams'!$F1525*0.000000028317),\"\")","v":""},{"$f":"IF(ISNUMBER('Teom ugm3'!C1527),('Teom ugm3'!C1527*'Teom grams'!$F1525*0.000000028317),\"\")","v":""},{"$f":"IF(ISNUMBER('Teom ugm3'!D1527),('Teom ugm3'!D1527*'Teom grams'!$F1525*0.000000028317),\"\")","v":""},"","","","",null,"","","",null,"",""]
[null,null,{"$f":"IF('Teom ugm3'!A1528=\"\",\"\",C1525+1)","v":""},"",null,"",null,{"$f":"IF(ISNUMBER('Teom ugm3'!B1528),('Teom ugm3'!B1528*'Teom grams'!$F1526*0.000000028317),\"\")","v":""},{"$f":"IF(ISNUMBER('Teom ugm3'!C1528),('Teom ugm3'!C1528*'Teom grams'!$F1526*0.000000028317),\"\")","v":""},{"$f":"IF(ISNUMBER('Teom ugm3'!D1528),('Teom ugm3'!D1528*'Teom grams'!$F1526*0.000000028317),\"\")","v":""},"","","","",null,"","","",null,"",""]
[null,null,{"$f":"IF('Teom ugm3'!A1529=\"\",\"\",C1526+1)","v":""},"",null,"",null,{"$f":"IF(ISNUMBER('Teom ugm3'!B1529),('Teom ugm3'!B1529*'Teom grams'!$F1527*0.000000028317),\"\")","v":""},{"$f":"IF(ISNUMBER('Teom ugm3'!C1529),('Teom ugm3'!C1529*'Teom grams'!$F1527*0.000000028317),\"\")","v":""},{"$f":"IF(ISNUMBER('Teom ugm3'!D1529),('Teom ugm3'!D1529*'Teom grams'!$F1527*0.000000028317),\"\")","v":""},"","","","",null,"","","",null,"",""]
[null,null,{"$f":"IF('Teom ugm3'!A1530=\"\",\"\",C1527+1)","v":""},"",null,"",null,{"$f":"IF(ISNUMBER('Teom ugm3'!B1530),('Teom ugm3'!B1530*'Teom grams'!$F1528*0.000000028317),\"\")","v":""},{"$f":"IF(ISNUMBER('Teom ugm3'!C1530),('Teom ugm3'!C1530*'Teom grams'!$F1528*0.000000028317),\"\")","v":""},{"$f":"IF(ISNUMBER('Teom ugm3'!D1530),('Teom ugm3'!D1530*'Teom grams'!$F1528*0.000000028317),\"\")","v":""},"","","","",null,"","","",null,"",""]
[null,null,{"$f":"IF('Teom ugm3'!A1531=\"\",\"\",C1528+1)","v":""},"",null,"",null,{"$f":"IF(ISNUMBER('Teom ugm3'!B1531),('Teom ugm3'!B1531*'Teom grams'!$F1529*0.000000028317),\"\")","v":""},{"$f":"IF(ISNUMBER('Teom ugm3'!C1531),('Teom ugm3'!C1531*'Teom grams'!$F1529*0.000000028317),\"\")","v":""},{"$f":"IF(ISNUMBER('Teom ugm3'!D1531),('Teom ugm3'!D1531*'Teom grams'!$F1529*0.000000028317),\"\")","v":""},"","","","",null,"","","",null,"",""]
[null,null,{"$f":"IF('Teom ugm3'!A1532=\"\",\"\",C1529+1)","v":""},"",null,"",null,{"$f":"IF(ISNUMBER('Teom ugm3'!B1532),('Teom ugm3'!B1532*'Teom grams'!$F1530*0.000000028317),\"\")","v":""},{"$f":"IF(ISNUMBER('Teom ugm3'!C1532),('Teom ugm3'!C1532*'Teom grams'!$F1530*0.000000028317),\"\")","v":""},{"$f":"IF(ISNUMBER('Teom ugm3'!D1532),('Teom ugm3'!D1532*'Teom grams'!$F1530*0.000000028317),\"\")","v":""},"","","","",null,"","","",null,"",""]
[null,null,{"$f":"IF('Teom ugm3'!A1533=\"\",\"\",C1530+1)","v":""},"",null,"",null,{"$f":"IF(ISNUMBER('Teom ugm3'!B1533),('Teom ugm3'!B1533*'Teom grams'!$F1531*0.000000028317),\"\")","v":""},{"$f":"IF(ISNUMBER('Teom ugm3'!C1533),('Teom ugm3'!C1533*'Teom grams'!$F1531*0.000000028317),\"\")","v":""},{"$f":"IF(ISNUMBER('Teom ugm3'!D1533),('Teom ugm3'!D1533*'Teom grams'!$F1531*0.000000028317),\"\")","v":""},"","","","",null,"","","",null,"",""]
[null,null,{"$f":"IF('Teom ugm3'!A1534=\"\",\"\",C1531+1)","v":""},"",null,"",null,{"$f":"IF(ISNUMBER('Teom ugm3'!B1534),('Teom ugm3'!B1534*'Teom grams'!$F1532*0.000000028317),\"\")","v":""},{"$f":"IF(ISNUMBER('Teom ugm3'!C1534),('Teom ugm3'!C1534*'Teom grams'!$F1532*0.000000028317),\"\")","v":""},{"$f":"IF(ISNUMBER('Teom ugm3'!D1534),('Teom ugm3'!D1534*'Teom grams'!$F1532*0.000000028317),\"\")","v":""},"","","","",null,"","","",null,"",""]
[null,null,{"$f":"IF('Teom ugm3'!A1535=\"\",\"\",C1532+1)","v":""},"",null,"",null,{"$f":"IF(ISNUMBER('Teom ugm3'!B1535),('Teom ugm3'!B1535*'Teom grams'!$F1533*0.000000028317),\"\")","v":""},{"$f":"IF(ISNUMBER('Teom ugm3'!C1535),('Teom ugm3'!C1535*'Teom grams'!$F1533*0.000000028317),\"\")","v":""},{"$f":"IF(ISNUMBER('Teom ugm3'!D1535),('Teom ugm3'!D1535*'Teom grams'!$F1533*0.000000028317),\"\")","v":""},"","","","",null,"","","",null,"",""]
[null,null,{"$f":"IF('Teom ugm3'!A1536=\"\",\"\",C1533+1)","v":""},"",null,"",null,{"$f":"IF(ISNUMBER('Teom ugm3'!B1536),('Teom ugm3'!B1536*'Teom grams'!$F1534*0.000000028317),\"\")","v":""},{"$f":"IF(ISNUMBER('Teom ugm3'!C1536),('Teom ugm3'!C1536*'Teom grams'!$F1534*0.000000028317),\"\")","v":""},{"$f":"IF(ISNUMBER('Teom ugm3'!D1536),('Teom ugm3'!D1536*'Teom grams'!$F1534*0.000000028317),\"\")","v":""},"","","","",null,"","","",null,"",""]
[null,null,{"$f":"IF('Teom ugm3'!A1537=\"\",\"\",C1534+1)","v":""},"",null,"",null,{"$f":"IF(ISNUMBER('Teom ugm3'!B1537),('Teom ugm3'!B1537*'Teom grams'!$F1535*0.000000028317),\"\")","v":""},{"$f":"IF(ISNUMBER('Teom ugm3'!C1537),('Teom ugm3'!C1537*'Teom grams'!$F1535*0.000000028317),\"\")","v":""},{"$f":"IF(ISNUMBER('Teom ugm3'!D1537),('Teom ugm3'!D1537*'Teom grams'!$F1535*0.000000028317),\"\")","v":""},"","","","",null,"","","",null,"",""]
[null,null,{"$f":"IF('Teom ugm3'!A1538=\"\",\"\",C1535+1)","v":""},"",null,"",null,{"$f":"IF(ISNUMBER('Teom ugm3'!B1538),('Teom ugm3'!B1538*'Teom grams'!$F1536*0.000000028317),\"\")","v":""},{"$f":"IF(ISNUMBER('Teom ugm3'!C1538),('Teom ugm3'!C1538*'Teom grams'!$F1536*0.000000028317),\"\")","v":""},{"$f":"IF(ISNUMBER('Teom ugm3'!D1538),('Teom ugm3'!D1538*'Teom grams'!$F1536*0.000000028317),\"\")","v":""},"","","","",null,"","","",null,"",""]
[null,null,{"$f":"IF('Teom ugm3'!A1539=\"\",\"\",C1536+1)","v":""},"",null,"",null,{"$f":"IF(ISNUMBER('Teom ugm3'!B1539),('Teom ugm3'!B1539*'Teom grams'!$F1537*0.000000028317),\"\")","v":""},{"$f":"IF(ISNUMBER('Teom ugm3'!C1539),('Teom ugm3'!C1539*'Teom grams'!$F1537*0.000000028317),\"\")","v":""},{"$f":"IF(ISNUMBER('Teom ugm3'!D1539),('Teom ugm3'!D1539*'Teom grams'!$F1537*0.000000028317),\"\")","v":""},"","","","",null,"","","",null,"",""]
[null,null,{"$f":"IF('Teom ugm3'!A1540=\"\",\"\",C1537+1)","v":""},"",null,"",null,{"$f":"IF(ISNUMBER('Teom ugm3'!B1540),('Teom ugm3'!B1540*'Teom grams'!$F1538*0.000000028317),\"\")","v":""},{"$f":"IF(ISNUMBER('Teom ugm3'!C1540),('Teom ugm3'!C1540*'Teom grams'!$F1538*0.000000028317),\"\")","v":""},{"$f":"IF(ISNUMBER('Teom ugm3'!D1540),('Teom ugm3'!D1540*'Teom grams'!$F1538*0.000000028317),\"\")","v":""},"","","","",null,"","","",null,"",""]
[null,null,{"$f":"IF('Teom ugm3'!A1541=\"\",\"\",C1538+1)","v":""},"",null,"",null,{"$f":"IF(ISNUMBER('Teom ugm3'!B1541),('Teom ugm3'!B1541*'Teom grams'!$F1539*0.000000028317),\"\")","v":""},{"$f":"IF(ISNUMBER('Teom ugm3'!C1541),('Teom ugm3'!C1541*'Teom grams'!$F1539*0.000000028317),\"\")","v":""},{"$f":"IF(ISNUMBER('Teom ugm3'!D1541),('Teom ugm3'!D1541*'Teom grams'!$F1539*0.000000028317),\"\")","v":""},"","","","",null,"","","",null,"",""]
[null,null,{"$f":"IF('Teom ugm3'!A1542=\"\",\"\",C1539+1)","v":""},"",null,"",null,{"$f":"IF(ISNUMBER('Teom ugm3'!B1542),('Teom ugm3'!B1542*'Teom grams'!$F1540*0.000000028317),\"\")","v":""},{"$f":"IF(ISNUMBER('Teom ugm3'!C1542),('Teom ugm3'!C1542*'Teom grams'!$F1540*0.000000028317),\"\")","v":""},{"$f":"IF(ISNUMBER('Teom ugm3'!D1542),('Teom ugm3'!D1542*'Teom grams'!$F1540*0.000000028317),\"\")","v":""},"","","",{"$f":"M1540","v":""},null,"","","",null,"",""]
[null,null,{"$f":"IF('Teom ugm3'!A1543=\"\",\"\",C1540+1)","v":""},"",null,{"$f":"IF(C1541=\"\",\"\",E1541*1.02041)","v":""},null,{"$f":"IF(ISNUMBER('Teom ugm3'!B1543),('Teom ugm3'!B1543*'Teom grams'!$F1541*0.000000028317),\"\")","v":""},{"$f":"IF(ISNUMBER('Teom ugm3'!C1543),('Teom ugm3'!C1543*'Teom grams'!$F1541*0.000000028317),\"\")","v":""},{"$f":"IF(ISNUMBER('Teom ugm3'!D1543),('Teom ugm3'!D1543*'Teom grams'!$F1541*0.000000028317),\"\")","v":""},{"$f":"IF(H1541<0,0,H1541)","v":""},"","","",null,{"$f":"IF(ISNUMBER(J1541),J1541*60,\"\")","v":""},"","",null,"",""]
[null,null,{"$f":"IF('Teom ugm3'!A1544=\"\",\"\",C1541+1)","v":""},{"$f":"IF(C1542=\"\",\"\",D1541 + TIME(0, 1, 0))","v":""},null,"",null,{"$f":"IF(ISNUMBER('Teom ugm3'!B1544),('Teom ugm3'!B1544*'Teom grams'!$F1542*0.000000028317),\"\")","v":""},{"$f":"IF(ISNUMBER('Teom ugm3'!C1544),('Teom ugm3'!C1544*'Teom grams'!$F1542*0.000000028317),\"\")","v":""},{"$f":"IF(ISNUMBER('Teom ugm3'!D1544),('Teom ugm3'!D1544*'Teom grams'!$F1542*0.000000028317),\"\")","v":""},"","","","",null,"","","",null,"",""]
[null,null,{"$f":"IF('Teom ugm3'!A1545=\"\",\"\",C1542+1)","v":""},"",null,"",null,{"$f":"IF(ISNUMBER('Teom ugm3'!B1545),('Teom ugm3'!B1545*'Teom grams'!$F1543*0.000000028317),\"\")","v":""},{"$f":"IF(ISNUMBER('Teom ugm3'!C1545),('Teom ugm3'!C1545*'Teom grams'!$F1543*0.000000028317),\"\")","v":""},{"$f":"IF(ISNUMBER('Teom ugm3'!D1545),('Teom ugm3'!D1545*'Teom grams'!$F1543*0.000000028317),\"\")","v":""},"","","","",null,"","","",null,"",""]
[null,null,{"$f":"IF('Teom ugm3'!A1546=\"\",\"\",C1543+1)","v":""},"",null,"",null,{"$f":"IF(ISNUMBER('Teom ugm3'!B1546),('Teom ugm3'!B1546*'Teom grams'!$F1544*0.000000028317),\"\")","v":""},{"$f":"IF(ISNUMBER('Teom ugm3'!C1546),('Teom ugm3'!C1546*'Teom grams'!$F1544*0.000000028317),\"\")","v":""},{"$f":"IF(ISNUMBER('Teom ugm3'!D1546),('Teom ugm3'!D1546*'Teom grams'!$F1544*0.000000028317),\"\")","v":""},"","","","",null,"","","",null,"",""]
[null,null,{"$f":"IF('Teom ugm3'!A1547=\"\",\"\",C1544+1)","v":""},"",null,"",null,{"$f":"IF(ISNUMBER('Teom ugm3'!B1547),('Teom ugm3'!B1547*'Teom grams'!$F1545*0.000000028317),\"\")","v":""},{"$f":"IF(ISNUMBER('Teom ugm3'!C1547),('Teom ugm3'!C1547*'Teom grams'!$F1545*0.000000028317),\"\")","v":""},{"$f":"IF(ISNUMBER('Teom ugm3'!D1547),('Teom ugm3'!D1547*'Teom grams'!$F1545*0.000000028317),\"\")","v":""},"","","","",null,"","","",null,"",""]
[null,null,{"$f":"IF('Teom ugm3'!A1548=\"\",\"\",C1545+1)","v":""},"",null,"",null,{"$f":"IF(ISNUMBER('Teom ugm3'!B1548),('Teom ugm3'!B1548*'Teom grams'!$F1546*0.000000028317),\"\")","v":""},{"$f":"IF(ISNUMBER('Teom ugm3'!C1548),('Teom ugm3'!C1548*'Teom grams'!$F1546*0.000000028317),\"\")","v":""},{"$f":"IF(ISNUMBER('Teom ugm3'!D1548),('Teom ugm3'!D1548*'Teom grams'!$F1546*0.000000028317),\"\")","v":""},"","","","",null,"","","",null,"",""]
[null,null,{"$f":"IF('Teom ugm3'!A1549=\"\",\"\",C1546+1)","v":""},"",null,"",null,{"$f":"IF(ISNUMBER('Teom ugm3'!B1549),('Teom ugm3'!B1549*'Teom grams'!$F1547*0.000000028317),\"\")","v":""},{"$f":"IF(ISNUMBER('Teom ugm3'!C1549),('Teom ugm3'!C1549*'Teom grams'!$F1547*0.000000028317),\"\")","v":""},{"$f":"IF(ISNUMBER('Teom ugm3'!D1549),('Teom ugm3'!D1549*'Teom grams'!$F1547*0.000000028317),\"\")","v":""},"","",{"$f":"IF(COUNT(K1547:L1547)>0,AVERAGE(K1547:L1547),\"\")","v":""},"",null,"","","",null,"",""]
[null,null,{"$f":"IF('Teom ugm3'!A1550=\"\",\"\",C1547+1)","v":""},"",null,"",null,{"$f":"IF(ISNUMBER('Teom ugm3'!B1550),('Teom ugm3'!B1550*'Teom grams'!$F1548*0.000000028317),\"\")","v":""},{"$f":"IF(ISNUMBER('Teom ugm3'!C1550),('Teom ugm3'!C1550*'Teom grams'!$F1548*0.000000028317),\"\")","v":""},{"$f":"IF(ISNUMBER('Teom ugm3'!D1550),('Teom ugm3'!D1550*'Teom grams'!$F1548*0.000000028317),\"\")","v":""},"","","","",null,"","","",null,"",""]
[null,null,{"$f":"IF('Teom ugm3'!A1551=\"\",\"\",C1548+1)","v":""},"",null,"",null,{"$f":"IF(ISNUMBER('Teom ugm3'!B1551),('Teom ugm3'!B1551*'Teom grams'!$F1549*0.000000028317),\"\")","v":""},{"$f":"IF(ISNUMBER('Teom ugm3'!C1551),('Teom ugm3'!C1551*'Teom grams'!$F1549*0.000000028317),\"\")","v":""},{"$f":"IF(ISNUMBER('Teom ugm3'!D1551),('Teom ugm3'!D1551*'Teom grams'!$F1549*0.000000028317),\"\")","v":""},"","","","",null,"","","",null,"",""]
[null,null,{"$f":"IF('Teom ugm3'!A1552=\"\",\"\",C1549+1)","v":""},"",null,"",null,{"$f":"IF(ISNUMBER('Teom ugm3'!B1552),('Teom ugm3'!B1552*'Teom grams'!$F1550*0.000000028317),\"\")","v":""},{"$f":"IF(ISNUMBER('Teom ugm3'!C1552),('Teom ugm3'!C1552*'Teom grams'!$F1550*0.000000028317),\"\")","v":""},{"$f":"IF(ISNUMBER('Teom ugm3'!D1552),('Teom ugm3'!D1552*'Teom grams'!$F1550*0.000000028317),\"\")","v":""},"","","","",null,"","","",null,"",""]
[null,null,{"$f":"IF('Teom ugm3'!A1553=\"\",\"\",C1550+1)","v":""},"",null,"",null,{"$f":"IF(ISNUMBER('Teom ugm3'!B1553),('Teom ugm3'!B1553*'Teom grams'!$F1551*0.000000028317),\"\")","v":""},{"$f":"IF(ISNUMBER('Teom ugm3'!C1553),('Teom ugm3'!C1553*'Teom grams'!$F1551*0.000000028317),\"\")","v":""},{"$f":"IF(ISNUMBER('Teom ugm3'!D1553),('Teom ugm3'!D1553*'Teom grams'!$F1551*0.000000028317),\"\")","v":""},"","","","",null,"","","",null,"",""]
[null,null,{"$f":"IF('Teom ugm3'!A1554=\"\",\"\",C1551+1)","v":""},"",null,"",null,{"$f":"IF(ISNUMBER('Teom ugm3'!B1554),('Teom ugm3'!B1554*'Teom grams'!$F1552*0.000000028317),\"\")","v":""},{"$f":"IF(ISNUMBER('Teom ugm3'!C1554),('Teom ugm3'!C1554*'Teom grams'!$F1552*0.000000028317),\"\")","v":""},{"$f":"IF(ISNUMBER('Teom ugm3'!D1554),('Teom ugm3'!D1554*'Teom grams'!$F1552*0.000000028317),\"\")","v":""},"","","","",null,"","","",null,"",""]
[null,null,{"$f":"IF('Teom ugm3'!A1555=\"\",\"\",C1552+1)","v":""},"",null,"",null,{"$f":"IF(ISNUMBER('Teom ugm3'!B1555),('Teom ugm3'!B1555*'Teom grams'!$F1553*0.000000028317),\"\")","v":""},{"$f":"IF(ISNUMBER('Teom ugm3'!C1555),('Teom ugm3'!C1555*'Teom grams'!$F1553*0.000000028317),\"\")","v":""},{"$f":"IF(ISNUMBER('Teom ugm3'!D1555),('Teom ugm3'!D1555*'Teom grams'!$F1553*0.000000028317),\"\")","v":""},"","","","",null,"","","",null,"",""]
[null,null,{"$f":"IF('Teom ugm3'!A1556=\"\",\"\",C1553+1)","v":""},"",null,"",null,{"$f":"IF(ISNUMBER('Teom ugm3'!B1556),('Teom ugm3'!B1556*'Teom grams'!$F1554*0.000000028317),\"\")","v":""},{"$f":"IF(ISNUMBER('Teom ugm3'!C1556),('Teom ugm3'!C1556*'Teom grams'!$F1554*0.000000028317),\"\")","v":""},{"$f":"IF(ISNUMBER('Teom ugm3'!D1556),('Teom ugm3'!D1556*'Teom grams'!$F1554*0.000000028317),\"\")","v":""},"","","","",null,"","","",null,"",""]
[null,null,{"$f":"IF('Teom ugm3'!A1557=\"\",\"\",C1554+1)","v":""},"",null,"",null,{"$f":"IF(ISNUMBER('Teom ugm3'!B1557),('Teom ugm3'!B1557*'Teom grams'!$F1555*0.000000028317),\"\")","v":""},{"$f":"IF(ISNUMBER('Teom ugm3'!C1557),('Teom ugm3'!C1557*'Teom grams'!$F1555*0.000000028317),\"\")","v":""},{"$f":"IF(ISNUMBER('Teom ugm3'!D1557),('Teom ugm3'!D1557*'Teom grams'!$F1555*0.000000028317),\"\")","v":""},"","","","",null,"","","",null,"",""]
[null,null,{"$f":"IF('Teom ugm3'!A1558=\"\",\"\",C1555+1)","v":""},"",null,"",null,{"$f":"IF(ISNUMBER('Teom ugm3'!B1558),('Teom ugm3'!B1558*'Teom grams'!$F1556*0.000000028317),\"\")","v":""},{"$f":"IF(ISNUMBER('Teom ugm3'!C1558),('Teom ugm3'!C1558*'Teom grams'!$F1556*0.000000028317),\"\")","v":""},{"$f":"IF(ISNUMBER('Teom ugm3'!D1558),('Teom ugm3'!D1558*'Teom grams'!$F1556*0.000000028317),\"\")","v":""},"","","","",null,"","","",null,"",""]
[null,null,{"$f":"IF('Teom ugm3'!A1559=\"\",\"\",C1556+1)","v":""},"",null,"",null,{"$f":"IF(ISNUMBER('Teom ugm3'!B1559),('Teom ugm3'!B1559*'Teom grams'!$F1557*0.000000028317),\"\")","v":""},{"$f":"IF(ISNUMBER('Teom ugm3'!C1559),('Teom ugm3'!C1559*'Teom grams'!$F1557*0.000000028317),\"\")","v":""},{"$f":"IF(ISNUMBER('Teom ugm3'!D1559),('Teom ugm3'!D1559*'Teom grams'!$F1557*0.000000028317),\"\")","v":""},"","","","",null,"","","",null,"",""]
[null,null,{"$f":"IF('Teom ugm3'!A1560=\"\",\"\",C1557+1)","v":""},"",null,"",null,{"$f":"IF(ISNUMBER('Teom ugm3'!B1560),('Teom ugm3'!B1560*'Teom grams'!$F1558*0.000000028317),\"\")","v":""},{"$f":"IF(ISNUMBER('Teom ugm3'!C1560),('Teom ugm3'!C1560*'Teom grams'!$F1558*0.000000028317),\"\")","v":""},{"$f":"IF(ISNUMBER('Teom ugm3'!D1560),('Teom ugm3'!D1560*'Teom grams'!$F1558*0.000000028317),\"\")","v":""},"","","","",null,"","","",null,"",""]
[null,null,{"$f":"IF('Teom ugm3'!A1561=\"\",\"\",C1558+1)","v":""},"",null,"",null,{"$f":"IF(ISNUMBER('Teom ugm3'!B1561),('Teom ugm3'!B1561*'Teom grams'!$F1559*0.000000028317),\"\")","v":""},{"$f":"IF(ISNUMBER('Teom ugm3'!C1561),('Teom ugm3'!C1561*'Teom grams'!$F1559*0.000000028317),\"\")","v":""},{"$f":"IF(ISNUMBER('Teom ugm3'!D1561),('Teom ugm3'!D1561*'Teom grams'!$F1559*0.000000028317),\"\")","v":""},"","","","",null,"","","",null,"",""]
[null,null,{"$f":"IF('Teom ugm3'!A1562=\"\",\"\",C1559+1)","v":""},"",null,"",null,{"$f":"IF(ISNUMBER('Teom ugm3'!B1562),('Teom ugm3'!B1562*'Teom grams'!$F1560*0.000000028317),\"\")","v":""},{"$f":"IF(ISNUMBER('Teom ugm3'!C1562),('Teom ugm3'!C1562*'Teom grams'!$F1560*0.000000028317),\"\")","v":""},{"$f":"IF(ISNUMBER('Teom ugm3'!D1562),('Teom ugm3'!D1562*'Teom grams'!$F1560*0.000000028317),\"\")","v":""},"","","","",null,"","","",null,"",""]
[null,null,{"$f":"IF('Teom ugm3'!A1563=\"\",\"\",C1560+1)","v":""},"",null,"",null,{"$f":"IF(ISNUMBER('Teom ugm3'!B1563),('Teom ugm3'!B1563*'Teom grams'!$F1561*0.000000028317),\"\")","v":""},{"$f":"IF(ISNUMBER('Teom ugm3'!C1563),('Teom ugm3'!C1563*'Teom grams'!$F1561*0.000000028317),\"\")","v":""},{"$f":"IF(ISNUMBER('Teom ugm3'!D1563),('Teom ugm3'!D1563*'Teom grams'!$F1561*0.000000028317),\"\")","v":""},"","","","",null,"","","",null,"",""]
[null,null,{"$f":"IF('Teom ugm3'!A1564=\"\",\"\",C1561+1)","v":""},"",null,"",null,{"$f":"IF(ISNUMBER('Teom ugm3'!B1564),('Teom ugm3'!B1564*'Teom grams'!$F1562*0.000000028317),\"\")","v":""},{"$f":"IF(ISNUMBER('Teom ugm3'!C1564),('Teom ugm3'!C1564*'Teom grams'!$F1562*0.000000028317),\"\")","v":""},{"$f":"IF(ISNUMBER('Teom ugm3'!D1564),('Teom ugm3'!D1564*'Teom grams'!$F1562*0.000000028317),\"\")","v":""},"","","","",null,"","","",null,"",""]
[null,null,{"$f":"IF('Teom ugm3'!A1565=\"\",\"\",C1562+1)","v":""},"",null,"",null,{"$f":"IF(ISNUMBER('Teom ugm3'!B1565),('Teom ugm3'!B1565*'Teom grams'!$F1563*0.000000028317),\"\")","v":""},{"$f":"IF(ISNUMBER('Teom ugm3'!C1565),('Teom ugm3'!C1565*'Teom grams'!$F1563*0.000000028317),\"\")","v":""},{"$f":"IF(ISNUMBER('Teom ugm3'!D1565),('Teom ugm3'!D1565*'Teom grams'!$F1563*0.000000028317),\"\")","v":""},"","","","",null,"","","",null,"",""]
[null,null,{"$f":"IF('Teom ugm3'!A1566=\"\",\"\",C1563+1)","v":""},"",null,"",null,{"$f":"IF(ISNUMBER('Teom ugm3'!B1566),('Teom ugm3'!B1566*'Teom grams'!$F1564*0.000000028317),\"\")","v":""},{"$f":"IF(ISNUMBER('Teom ugm3'!C1566),('Teom ugm3'!C1566*'Teom grams'!$F1564*0.000000028317),\"\")","v":""},{"$f":"IF(ISNUMBER('Teom ugm3'!D1566),('Teom ugm3'!D1566*'Teom grams'!$F1564*0.000000028317),\"\")","v":""},"","","","",null,"","","",null,"",""]
[null,null,{"$f":"IF('Teom ugm3'!A1567=\"\",\"\",C1564+1)","v":""},"",null,"",null,{"$f":"IF(ISNUMBER('Teom ugm3'!B1567),('Teom ugm3'!B1567*'Teom grams'!$F1565*0.000000028317),\"\")","v":""},{"$f":"IF(ISNUMBER('Teom ugm3'!C1567),('Teom ugm3'!C1567*'Teom grams'!$F1565*0.000000028317),\"\")","v":""},{"$f":"IF(ISNUMBER('Teom ugm3'!D1567),('Teom ugm3'!D1567*'Teom grams'!$F1565*0.000000028317),\"\")","v":""},"","","","",null,"","","",null,"",""]
[null,null,{"$f":"IF('Teom ugm3'!A1568=\"\",\"\",C1565+1)","v":""},"",null,"",null,{"$f":"IF(ISNUMBER('Teom ugm3'!B1568),('Teom ugm3'!B1568*'Teom grams'!$F1566*0.000000028317),\"\")","v":""},{"$f":"IF(ISNUMBER('Teom ugm3'!C1568),('Teom ugm3'!C1568*'Teom grams'!$F1566*0.000000028317),\"\")","v":""},{"$f":"IF(ISNUMBER('Teom ugm3'!D1568),('Teom ugm3'!D1568*'Teom grams'!$F1566*0.000000028317),\"\")","v":""},"","","","",null,"","","",null,"",""]
[null,null,{"$f":"IF('Teom ugm3'!A1569=\"\",\"\",C1566+1)","v":""},"",null,"",null,{"$f":"IF(ISNUMBER('Teom ugm3'!B1569),('Teom ugm3'!B1569*'Teom grams'!$F1567*0.000000028317),\"\")","v":""},{"$f":"IF(ISNUMBER('Teom ugm3'!C1569),('Teom ugm3'!C1569*'Teom grams'!$F1567*0.000000028317),\"\")","v":""},{"$f":"IF(ISNUMBER('Teom ugm3'!D1569),('Teom ugm3'!D1569*'Teom grams'!$F1567*0.000000028317),\"\")","v":""},"","","","",null,"","","",null,"",""]
[null,null,{"$f":"IF('Teom ugm3'!A1570=\"\",\"\",C1567+1)","v":""},"",null,"",null,{"$f":"IF(ISNUMBER('Teom ugm3'!B1570),('Teom ugm3'!B1570*'Teom grams'!$F1568*0.000000028317),\"\")","v":""},{"$f":"IF(ISNUMBER('Teom ugm3'!C1570),('Teom ugm3'!C1570*'Teom grams'!$F1568*0.000000028317),\"\")","v":""},{"$f":"IF(ISNUMBER('Teom ugm3'!D1570),('Teom ugm3'!D1570*'Teom grams'!$F1568*0.000000028317),\"\")","v":""},"","","","",null,"","","",null,"",""]
[null,null,{"$f":"IF('Teom ugm3'!A1571=\"\",\"\",C1568+1)","v":""},"",null,"",null,{"$f":"IF(ISNUMBER('Teom ugm3'!B1571),('Teom ugm3'!B1571*'Teom grams'!$F1569*0.000000028317),\"\")","v":""},{"$f":"IF(ISNUMBER('Teom ugm3'!C1571),('Teom ugm3'!C1571*'Teom grams'!$F1569*0.000000028317),\"\")","v":""},{"$f":"IF(ISNUMBER('Teom ugm3'!D1571),('Teom ugm3'!D1571*'Teom grams'!$F1569*0.000000028317),\"\")","v":""},"","","","",null,"","","",null,"",""]
[null,null,{"$f":"IF('Teom ugm3'!A1572=\"\",\"\",C1569+1)","v":""},"",null,"",null,{"$f":"IF(ISNUMBER('Teom ugm3'!B1572),('Teom ugm3'!B1572*'Teom grams'!$F1570*0.000000028317),\"\")","v":""},{"$f":"IF(ISNUMBER('Teom ugm3'!C1572),('Teom ugm3'!C1572*'Teom grams'!$F1570*0.000000028317),\"\")","v":""},{"$f":"IF(ISNUMBER('Teom ugm3'!D1572),('Teom ugm3'!D1572*'Teom grams'!$F1570*0.000000028317),\"\")","v":""},"","","","",null,"","","",null,"",""]
[null,null,{"$f":"IF('Teom ugm3'!A1573=\"\",\"\",C1570+1)","v":""},"",null,"",null,{"$f":"IF(ISNUMBER('Teom ugm3'!B1573),('Teom ugm3'!B1573*'Teom grams'!$F1571*0.000000028317),\"\")","v":""},{"$f":"IF(ISNUMBER('Teom ugm3'!C1573),('Teom ugm3'!C1573*'Teom grams'!$F1571*0.000000028317),\"\")","v":""},{"$f":"IF(ISNUMBER('Teom ugm3'!D1573),('Teom ugm3'!D1573*'Teom grams'!$F1571*0.000000028317),\"\")","v":""},"","","","",null,"",{"$f":"IF(ISNUMBER(M1571),M1571*60,\"\")","v":""},{"$f":"IF(ISNUMBER(N1571),N1571*60,\"\")","v":""},null,{"$f":"IF(COUNT(C1571:C1630)>59,AVERAGE(P1571:P1630),\"\")","v":""},{"$f":"IF(COUNT(C1571:C1630)>59,AVERAGE(Q1571:Q1630),\"\")","v":""}]
[null,null,{"$f":"IF('Teom ugm3'!A1574=\"\",\"\",C1571+1)","v":""},"",null,"",null,{"$f":"IF(ISNUMBER('Teom ugm3'!B1574),('Teom ugm3'!B1574*'Teom grams'!$F1572*0.000000028317),\"\")","v":""},{"$f":"IF(ISNUMBER('Teom ugm3'!C1574),('Teom ugm3'!C1574*'Teom grams'!$F1572*0.000000028317),\"\")","v":""},{"$f":"IF(ISNUMBER('Teom ugm3'!D1574),('Teom ugm3'!D1574*'Teom grams'!$F1572*0.000000028317),\"\")","v":""},"","","","",null,"","","",null,"",""]
[null,null,{"$f":"IF('Teom ugm3'!A1575=\"\",\"\",C1572+1)","v":""},"",null,"",null,{"$f":"IF(ISNUMBER('Teom ugm3'!B1575),('Teom ugm3'!B1575*'Teom grams'!$F1573*0.000000028317),\"\")","v":""},{"$f":"IF(ISNUMBER('Teom ugm3'!C1575),('Teom ugm3'!C1575*'Teom grams'!$F1573*0.000000028317),\"\")","v":""},{"$f":"IF(ISNUMBER('Teom ugm3'!D1575),('Teom ugm3'!D1575*'Teom grams'!$F1573*0.000000028317),\"\")","v":""},"","","","",null,"","","",null,"",""]
[null,null,{"$f":"IF('Teom ugm3'!A1576=\"\",\"\",C1573+1)","v":""},"",null,"",null,{"$f":"IF(ISNUMBER('Teom ugm3'!B1576),('Teom ugm3'!B1576*'Teom grams'!$F1574*0.000000028317),\"\")","v":""},{"$f":"IF(ISNUMBER('Teom ugm3'!C1576),('Teom ugm3'!C1576*'Teom grams'!$F1574*0.000000028317),\"\")","v":""},{"$f":"IF(ISNUMBER('Teom ugm3'!D1576),('Teom ugm3'!D1576*'Teom grams'!$F1574*0.000000028317),\"\")","v":""},"","","","",null,"","","",null,"",""]
[null,null,{"$f":"IF('Teom ugm3'!A1577=\"\",\"\",C1574+1)","v":""},"",null,"",null,{"$f":"IF(ISNUMBER('Teom ugm3'!B1577),('Teom ugm3'!B1577*'Teom grams'!$F1575*0.000000028317),\"\")","v":""},{"$f":"IF(ISNUMBER('Teom ugm3'!C1577),('Teom ugm3'!C1577*'Teom grams'!$F1575*0.000000028317),\"\")","v":""},{"$f":"IF(ISNUMBER('Teom ugm3'!D1577),('Teom ugm3'!D1577*'Teom grams'!$F1575*0.000000028317),\"\")","v":""},"","","","",null,"","","",null,"",""]
[null,null,{"$f":"IF('Teom ugm3'!A1578=\"\",\"\",C1575+1)","v":""},"",null,"",null,{"$f":"IF(ISNUMBER('Teom ugm3'!B1578),('Teom ugm3'!B1578*'Teom grams'!$F1576*0.000000028317),\"\")","v":""},{"$f":"IF(ISNUMBER('Teom ugm3'!C1578),('Teom ugm3'!C1578*'Teom grams'!$F1576*0.000000028317),\"\")","v":""},{"$f":"IF(ISNUMBER('Teom ugm3'!D1578),('Teom ugm3'!D1578*'Teom grams'!$F1576*0.000000028317),\"\")","v":""},"","","","",null,"","","",null,"",""]
[null,null,{"$f":"IF('Teom ugm3'!A1579=\"\",\"\",C1576+1)","v":""},"",null,"",null,{"$f":"IF(ISNUMBER('Teom ugm3'!B1579),('Teom ugm3'!B1579*'Teom grams'!$F1577*0.000000028317),\"\")","v":""},{"$f":"IF(ISNUMBER('Teom ugm3'!C1579),('Teom ugm3'!C1579*'Teom grams'!$F1577*0.000000028317),\"\")","v":""},{"$f":"IF(ISNUMBER('Teom ugm3'!D1579),('Teom ugm3'!D1579*'Teom grams'!$F1577*0.000000028317),\"\")","v":""},"","","","",null,"","","",null,"",""]
[null,null,{"$f":"IF('Teom ugm3'!A1580=\"\",\"\",C1577+1)","v":""},"",null,"",null,{"$f":"IF(ISNUMBER('Teom ugm3'!B1580),('Teom ugm3'!B1580*'Teom grams'!$F1578*0.000000028317),\"\")","v":""},{"$f":"IF(ISNUMBER('Teom ugm3'!C1580),('Teom ugm3'!C1580*'Teom grams'!$F1578*0.000000028317),\"\")","v":""},{"$f":"IF(ISNUMBER('Teom ugm3'!D1580),('Teom ugm3'!D1580*'Teom grams'!$F1578*0.000000028317),\"\")","v":""},"","","","",null,"","","",null,"",""]
[null,null,{"$f":"IF('Teom ugm3'!A1581=\"\",\"\",C1578+1)","v":""},"",null,"",null,{"$f":"IF(ISNUMBER('Teom ugm3'!B1581),('Teom ugm3'!B1581*'Teom grams'!$F1579*0.000000028317),\"\")","v":""},{"$f":"IF(ISNUMBER('Teom ugm3'!C1581),('Teom ugm3'!C1581*'Teom grams'!$F1579*0.000000028317),\"\")","v":""},{"$f":"IF(ISNUMBER('Teom ugm3'!D1581),('Teom ugm3'!D1581*'Teom grams'!$F1579*0.000000028317),\"\")","v":""},"","","","",null,"","","",null,"",""]
[null,null,{"$f":"IF('Teom ugm3'!A1582=\"\",\"\",C1579+1)","v":""},"",null,"",null,{"$f":"IF(ISNUMBER('Teom ugm3'!B1582),('Teom ugm3'!B1582*'Teom grams'!$F1580*0.000000028317),\"\")","v":""},{"$f":"IF(ISNUMBER('Teom ugm3'!C1582),('Teom ugm3'!C1582*'Teom grams'!$F1580*0.000000028317),\"\")","v":""},{"$f":"IF(ISNUMBER('Teom ugm3'!D1582),('Teom ugm3'!D1582*'Teom grams'!$F1580*0.000000028317),\"\")","v":""},"","","","",null,"","","",null,"",""]
[null,null,{"$f":"IF('Teom ugm3'!A1583=\"\",\"\",C1580+1)","v":""},"",null,"",null,{"$f":"IF(ISNUMBER('Teom ugm3'!B1583),('Teom ugm3'!B1583*'Teom grams'!$F1581*0.000000028317),\"\")","v":""},{"$f":"IF(ISNUMBER('Teom ugm3'!C1583),('Teom ugm3'!C1583*'Teom grams'!$F1581*0.000000028317),\"\")","v":""},{"$f":"IF(ISNUMBER('Teom ugm3'!D1583),('Teom ugm3'!D1583*'Teom grams'!$F1581*0.000000028317),\"\")","v":""},"","","","",null,"","","",null,"",""]
[null,null,{"$f":"IF('Teom ugm3'!A1584=\"\",\"\",C1581+1)","v":""},"",null,"",null,{"$f":"IF(ISNUMBER('Teom ugm3'!B1584),('Teom ugm3'!B1584*'Teom grams'!$F1582*0.000000028317),\"\")","v":""},{"$f":"IF(ISNUMBER('Teom ugm3'!C1584),('Teom ugm3'!C1584*'Teom grams'!$F1582*0.000000028317),\"\")","v":""},{"$f":"IF(ISNUMBER('Teom ugm3'!D1584),('Teom ugm3'!D1584*'Teom grams'!$F1582*0.000000028317),\"\")","v":""},"","","","",null,"","","",null,"",""]
[null,null,{"$f":"IF('Teom ugm3'!A1585=\"\",\"\",C1582+1)","v":""},"",null,"",null,{"$f":"IF(ISNUMBER('Teom ugm3'!B1585),('Teom ugm3'!B1585*'Teom grams'!$F1583*0.000000028317),\"\")","v":""},{"$f":"IF(ISNUMBER('Teom ugm3'!C1585),('Teom ugm3'!C1585*'Teom grams'!$F1583*0.000000028317),\"\")","v":""},{"$f":"IF(ISNUMBER('Teom ugm3'!D1585),('Teom ugm3'!D1585*'Teom grams'!$F1583*0.000000028317),\"\")","v":""},"","","","",null,"","","",null,"",""]
[null,null,{"$f":"IF('Teom ugm3'!A1586=\"\",\"\",C1583+1)","v":""},"",null,"",null,{"$f":"IF(ISNUMBER('Teom ugm3'!B1586),('Teom ugm3'!B1586*'Teom grams'!$F1584*0.000000028317),\"\")","v":""},{"$f":"IF(ISNUMBER('Teom ugm3'!C1586),('Teom ugm3'!C1586*'Teom grams'!$F1584*0.000000028317),\"\")","v":""},{"$f":"IF(ISNUMBER('Teom ugm3'!D1586),('Teom ugm3'!D1586*'Teom grams'!$F1584*0.000000028317),\"\")","v":""},"","","","",null,"","","",null,"",""]
[null,null,{"$f":"IF('Teom ugm3'!A1587=\"\",\"\",C1584+1)","v":""},"",null,"",null,{"$f":"IF(ISNUMBER('Teom ugm3'!B1587),('Teom ugm3'!B1587*'Teom grams'!$F1585*0.000000028317),\"\")","v":""},{"$f":"IF(ISNUMBER('Teom ugm3'!C1587),('Teom ugm3'!C1587*'Teom grams'!$F1585*0.000000028317),\"\")","v":""},{"$f":"IF(ISNUMBER('Teom ugm3'!D1587),('Teom ugm3'!D1587*'Teom grams'!$F1585*0.000000028317),\"\")","v":""},"","","","",null,"","","",null,"",""]
[null,null,{"$f":"IF('Teom ugm3'!A1588=\"\",\"\",C1585+1)","v":""},"",null,"",null,{"$f":"IF(ISNUMBER('Teom ugm3'!B1588),('Teom ugm3'!B1588*'Teom grams'!$F1586*0.000000028317),\"\")","v":""},{"$f":"IF(ISNUMBER('Teom ugm3'!C1588),('Teom ugm3'!C1588*'Teom grams'!$F1586*0.000000028317),\"\")","v":""},{"$f":"IF(ISNUMBER('Teom ugm3'!D1588),('Teom ugm3'!D1588*'Teom grams'!$F1586*0.000000028317),\"\")","v":""},"","","","",null,"","","",null,"",""]
[null,null,{"$f":"IF('Teom ugm3'!A1589=\"\",\"\",C1586+1)","v":""},"",null,"",null,{"$f":"IF(ISNUMBER('Teom ugm3'!B1589),('Teom ugm3'!B1589*'Teom grams'!$F1587*0.000000028317),\"\")","v":""},{"$f":"IF(ISNUMBER('Teom ugm3'!C1589),('Teom ugm3'!C1589*'Teom grams'!$F1587*0.000000028317),\"\")","v":""},{"$f":"IF(ISNUMBER('Teom ugm3'!D1589),('Teom ugm3'!D1589*'Teom grams'!$F1587*0.000000028317),\"\")","v":""},"","","","",null,"","","",null,"",""]
[null,null,{"$f":"IF('Teom ugm3'!A1590=\"\",\"\",C1587+1)","v":""},"",null,"",null,{"$f":"IF(ISNUMBER('Teom ugm3'!B1590),('Teom ugm3'!B1590*'Teom grams'!$F1588*0.000000028317),\"\")","v":""},{"$f":"IF(ISNUMBER('Teom ugm3'!C1590),('Teom ugm3'!C1590*'Teom grams'!$F1588*0.000000028317),\"\")","v":""},{"$f":"IF(ISNUMBER('Teom ugm3'!D1590),('Teom ugm3'!D1590*'Teom grams'!$F1588*0.000000028317),\"\")","v":""},"","","","",null,"","","",null,"",""]
[null,null,{"$f":"IF('Teom ugm3'!A1591=\"\",\"\",C1588+1)","v":""},"",null,"",null,{"$f":"IF(ISNUMBER('Teom ugm3'!B1591),('Teom ugm3'!B1591*'Teom grams'!$F1589*0.000000028317),\"\")","v":""},{"$f":"IF(ISNUMBER('Teom ugm3'!C1591),('Teom ugm3'!C1591*'Teom grams'!$F1589*0.000000028317),\"\")","v":""},{"$f":"IF(ISNUMBER('Teom ugm3'!D1591),('Teom ugm3'!D1591*'Teom grams'!$F1589*0.000000028317),\"\")","v":""},"","","","",null,"","","",null,"",""]
[null,null,{"$f":"IF('Teom ugm3'!A1592=\"\",\"\",C1589+1)","v":""},"",null,"",null,{"$f":"IF(ISNUMBER('Teom ugm3'!B1592),('Teom ugm3'!B1592*'Teom grams'!$F1590*0.000000028317),\"\")","v":""},{"$f":"IF(ISNUMBER('Teom ugm3'!C1592),('Teom ugm3'!C1592*'Teom grams'!$F1590*0.000000028317),\"\")","v":""},{"$f":"IF(ISNUMBER('Teom ugm3'!D1592),('Teom ugm3'!D1592*'Teom grams'!$F1590*0.000000028317),\"\")","v":""},"","","","",null,"","","",null,"",""]
[null,null,{"$f":"IF('Teom ugm3'!A1593=\"\",\"\",C1590+1)","v":""},"",null,"",null,{"$f":"IF(ISNUMBER('Teom ugm3'!B1593),('Teom ugm3'!B1593*'Teom grams'!$F1591*0.000000028317),\"\")","v":""},{"$f":"IF(ISNUMBER('Teom ugm3'!C1593),('Teom ugm3'!C1593*'Teom grams'!$F1591*0.000000028317),\"\")","v":""},{"$f":"IF(ISNUMBER('Teom ugm3'!D1593),('Teom ugm3'!D1593*'Teom grams'!$F1591*0.000000028317),\"\")","v":""},"","","","",null,"","","",null,"",""]
[null,null,{"$f":"IF('Teom ugm3'!A1594=\"\",\"\",C1591+1)","v":""},"",null,"",null,{"$f":"IF(ISNUMBER('Teom ugm3'!B1594),('Teom ugm3'!B1594*'Teom grams'!$F1592*0.000000028317),\"\")","v":""},{"$f":"IF(ISNUMBER('Teom ugm3'!C1594),('Teom ugm3'!C1594*'Teom grams'!$F1592*0.000000028317),\"\")","v":""},{"$f":"IF(ISNUMBER('Teom ugm3'!D1594),('Teom ugm3'!D1594*'Teom grams'!$F1592*0.000000028317),\"\")","v":""},"","","","",null,"","","",null,"",""]
[null,null,{"$f":"IF('Teom ugm3'!A1595=\"\",\"\",C1592+1)","v":""},"",null,"",null,{"$f":"IF(ISNUMBER('Teom ugm3'!B1595),('Teom ugm3'!B1595*'Teom grams'!$F1593*0.000000028317),\"\")","v":""},{"$f":"IF(ISNUMBER('Teom ugm3'!C1595),('Teom ugm3'!C1595*'Teom grams'!$F1593*0.000000028317),\"\")","v":""},{"$f":"IF(ISNUMBER('Teom ugm3'!D1595),('Teom ugm3'!D1595*'Teom grams'!$F1593*0.000000028317),\"\")","v":""},"","","","",null,"","","",null,"",""]
[null,null,{"$f":"IF('Teom ugm3'!A1596=\"\",\"\",C1593+1)","v":""},"",null,"",null,{"$f":"IF(ISNUMBER('Teom ugm3'!B1596),('Teom ugm3'!B1596*'Teom grams'!$F1594*0.000000028317),\"\")","v":""},{"$f":"IF(ISNUMBER('Teom ugm3'!C1596),('Teom ugm3'!C1596*'Teom grams'!$F1594*0.000000028317),\"\")","v":""},{"$f":"IF(ISNUMBER('Teom ugm3'!D1596),('Teom ugm3'!D1596*'Teom grams'!$F1594*0.000000028317),\"\")","v":""},"","","","",null,"","","",null,"",""]
[null,null,{"$f":"IF('Teom ugm3'!A1597=\"\",\"\",C1594+1)","v":""},"",null,"",null,{"$f":"IF(ISNUMBER('Teom ugm3'!B1597),('Teom ugm3'!B1597*'Teom grams'!$F1595*0.000000028317),\"\")","v":""},{"$f":"IF(ISNUMBER('Teom ugm3'!C1597),('Teom ugm3'!C1597*'Teom grams'!$F1595*0.000000028317),\"\")","v":""},{"$f":"IF(ISNUMBER('Teom ugm3'!D1597),('Teom ugm3'!D1597*'Teom grams'!$F1595*0.000000028317),\"\")","v":""},"","","","",null,"","","",null,"",""]
[null,null,{"$f":"IF('Teom ugm3'!A1598=\"\",\"\",C1595+1)","v":""},"",null,"",null,{"$f":"IF(ISNUMBER('Teom ugm3'!B1598),('Teom ugm3'!B1598*'Teom grams'!$F1596*0.000000028317),\"\")","v":""},{"$f":"IF(ISNUMBER('Teom ugm3'!C1598),('Teom ugm3'!C1598*'Teom grams'!$F1596*0.000000028317),\"\")","v":""},{"$f":"IF(ISNUMBER('Teom ugm3'!D1598),('Teom ugm3'!D1598*'Teom grams'!$F1596*0.000000028317),\"\")","v":""},"","","","",null,"","","",null,"",""]
[null,null,{"$f":"IF('Teom ugm3'!A1599=\"\",\"\",C1596+1)","v":""},"",null,"",null,{"$f":"IF(ISNUMBER('Teom ugm3'!B1599),('Teom ugm3'!B1599*'Teom grams'!$F1597*0.000000028317),\"\")","v":""},{"$f":"IF(ISNUMBER('Teom ugm3'!C1599),('Teom ugm3'!C1599*'Teom grams'!$F1597*0.000000028317),\"\")","v":""},{"$f":"IF(ISNUMBER('Teom ugm3'!D1599),('Teom ugm3'!D1599*'Teom grams'!$F1597*0.000000028317),\"\")","v":""},"","","","",null,"","","",null,"",""]
[null,null,{"$f":"IF('Teom ugm3'!A1600=\"\",\"\",C1597+1)","v":""},"",null,"",null,{"$f":"IF(ISNUMBER('Teom ugm3'!B1600),('Teom ugm3'!B1600*'Teom grams'!$F1598*0.000000028317),\"\")","v":""},{"$f":"IF(ISNUMBER('Teom ugm3'!C1600),('Teom ugm3'!C1600*'Teom grams'!$F1598*0.000000028317),\"\")","v":""},{"$f":"IF(ISNUMBER('Teom ugm3'!D1600),('Teom ugm3'!D1600*'Teom grams'!$F1598*0.000000028317),\"\")","v":""},"","","","",null,"","","",null,"",""]
[null,null,{"$f":"IF('Teom ugm3'!A1601=\"\",\"\",C1598+1)","v":""},"",null,"",null,{"$f":"IF(ISNUMBER('Teom ugm3'!B1601),('Teom ugm3'!B1601*'Teom grams'!$F1599*0.000000028317),\"\")","v":""},{"$f":"IF(ISNUMBER('Teom ugm3'!C1601),('Teom ugm3'!C1601*'Teom grams'!$F1599*0.000000028317),\"\")","v":""},{"$f":"IF(ISNUMBER('Teom ugm3'!D1601),('Teom ugm3'!D1601*'Teom grams'!$F1599*0.000000028317),\"\")","v":""},"","","","",null,"","","",null,"",""]
[null,null,{"$f":"IF('Teom ugm3'!A1602=\"\",\"\",C1599+1)","v":""},"",null,"",null,{"$f":"IF(ISNUMBER('Teom ugm3'!B1602),('Teom ugm3'!B1602*'Teom grams'!$F1600*0.000000028317),\"\")","v":""},{"$f":"IF(ISNUMBER('Teom ugm3'!C1602),('Teom ugm3'!C1602*'Teom grams'!$F1600*0.000000028317),\"\")","v":""},{"$f":"IF(ISNUMBER('Teom ugm3'!D1602),('Teom ugm3'!D1602*'Teom grams'!$F1600*0.000000028317),\"\")","v":""},"","","","",null,"","","",null,"",""]
[null,null,{"$f":"IF('Teom ugm3'!A1603=\"\",\"\",C1600+1)","v":""},"",null,"",null,{"$f":"IF(ISNUMBER('Teom ugm3'!B1603),('Teom ugm3'!B1603*'Teom grams'!$F1601*0.000000028317),\"\")","v":""},{"$f":"IF(ISNUMBER('Teom ugm3'!C1603),('Teom ugm3'!C1603*'Teom grams'!$F1601*0.000000028317),\"\")","v":""},{"$f":"IF(ISNUMBER('Teom ugm3'!D1603),('Teom ugm3'!D1603*'Teom grams'!$F1601*0.000000028317),\"\")","v":""},"","","","",null,"","","",null,"",""]
[null,null,{"$f":"IF('Teom ugm3'!A1604=\"\",\"\",C1601+1)","v":""},"",null,"",null,{"$f":"IF(ISNUMBER('Teom ugm3'!B1604),('Teom ugm3'!B1604*'Teom grams'!$F1602*0.000000028317),\"\")","v":""},{"$f":"IF(ISNUMBER('Teom ugm3'!C1604),('Teom ugm3'!C1604*'Teom grams'!$F1602*0.000000028317),\"\")","v":""},{"$f":"IF(ISNUMBER('Teom ugm3'!D1604),('Teom ugm3'!D1604*'Teom grams'!$F1602*0.000000028317),\"\")","v":""},"","","","",null,"","","",null,"",""]
[null,null,{"$f":"IF('Teom ugm3'!A1605=\"\",\"\",C1602+1)","v":""},"",null,"",null,{"$f":"IF(ISNUMBER('Teom ugm3'!B1605),('Teom ugm3'!B1605*'Teom grams'!$F1603*0.000000028317),\"\")","v":""},{"$f":"IF(ISNUMBER('Teom ugm3'!C1605),('Teom ugm3'!C1605*'Teom grams'!$F1603*0.000000028317),\"\")","v":""},{"$f":"IF(ISNUMBER('Teom ugm3'!D1605),('Teom ugm3'!D1605*'Teom grams'!$F1603*0.000000028317),\"\")","v":""},"","","","",null,"","","",null,"",""]
[null,null,{"$f":"IF('Teom ugm3'!A1606=\"\",\"\",C1603+1)","v":""},"",null,"",null,{"$f":"IF(ISNUMBER('Teom ugm3'!B1606),('Teom ugm3'!B1606*'Teom grams'!$F1604*0.000000028317),\"\")","v":""},{"$f":"IF(ISNUMBER('Teom ugm3'!C1606),('Teom ugm3'!C1606*'Teom grams'!$F1604*0.000000028317),\"\")","v":""},{"$f":"IF(ISNUMBER('Teom ugm3'!D1606),('Teom ugm3'!D1606*'Teom grams'!$F1604*0.000000028317),\"\")","v":""},"","","",{"$f":"M1604","v":""},null,"","","",null,"",""]
[null,null,{"$f":"IF('Teom ugm3'!A1607=\"\",\"\",C1604+1)","v":""},"",null,{"$f":"IF(C1605=\"\",\"\",E1605*1.02041)","v":""},null,{"$f":"IF(ISNUMBER('Teom ugm3'!B1607),('Teom ugm3'!B1607*'Teom grams'!$F1605*0.000000028317),\"\")","v":""},{"$f":"IF(ISNUMBER('Teom ugm3'!C1607),('Teom ugm3'!C1607*'Teom grams'!$F1605*0.000000028317),\"\")","v":""},{"$f":"IF(ISNUMBER('Teom ugm3'!D1607),('Teom ugm3'!D1607*'Teom grams'!$F1605*0.000000028317),\"\")","v":""},{"$f":"IF(H1605<0,0,H1605)","v":""},"","","",null,{"$f":"IF(ISNUMBER(J1605),J1605*60,\"\")","v":""},"","",null,"",""]
[null,null,{"$f":"IF('Teom ugm3'!A1608=\"\",\"\",C1605+1)","v":""},{"$f":"IF(C1606=\"\",\"\",D1605 + TIME(0, 1, 0))","v":""},null,"",null,{"$f":"IF(ISNUMBER('Teom ugm3'!B1608),('Teom ugm3'!B1608*'Teom grams'!$F1606*0.000000028317),\"\")","v":""},{"$f":"IF(ISNUMBER('Teom ugm3'!C1608),('Teom ugm3'!C1608*'Teom grams'!$F1606*0.000000028317),\"\")","v":""},{"$f":"IF(ISNUMBER('Teom ugm3'!D1608),('Teom ugm3'!D1608*'Teom grams'!$F1606*0.000000028317),\"\")","v":""},"","","","",null,"","","",null,"",""]
[null,null,{"$f":"IF('Teom ugm3'!A1609=\"\",\"\",C1606+1)","v":""},"",null,"",null,{"$f":"IF(ISNUMBER('Teom ugm3'!B1609),('Teom ugm3'!B1609*'Teom grams'!$F1607*0.000000028317),\"\")","v":""},{"$f":"IF(ISNUMBER('Teom ugm3'!C1609),('Teom ugm3'!C1609*'Teom grams'!$F1607*0.000000028317),\"\")","v":""},{"$f":"IF(ISNUMBER('Teom ugm3'!D1609),('Teom ugm3'!D1609*'Teom grams'!$F1607*0.000000028317),\"\")","v":""},"","","","",null,"","","",null,"",""]
[null,null,{"$f":"IF('Teom ugm3'!A1610=\"\",\"\",C1607+1)","v":""},"",null,"",null,{"$f":"IF(ISNUMBER('Teom ugm3'!B1610),('Teom ugm3'!B1610*'Teom grams'!$F1608*0.000000028317),\"\")","v":""},{"$f":"IF(ISNUMBER('Teom ugm3'!C1610),('Teom ugm3'!C1610*'Teom grams'!$F1608*0.000000028317),\"\")","v":""},{"$f":"IF(ISNUMBER('Teom ugm3'!D1610),('Teom ugm3'!D1610*'Teom grams'!$F1608*0.000000028317),\"\")","v":""},"","","","",null,"","","",null,"",""]
[null,null,{"$f":"IF('Teom ugm3'!A1611=\"\",\"\",C1608+1)","v":""},"",null,"",null,{"$f":"IF(ISNUMBER('Teom ugm3'!B1611),('Teom ugm3'!B1611*'Teom grams'!$F1609*0.000000028317),\"\")","v":""},{"$f":"IF(ISNUMBER('Teom ugm3'!C1611),('Teom ugm3'!C1611*'Teom grams'!$F1609*0.000000028317),\"\")","v":""},{"$f":"IF(ISNUMBER('Teom ugm3'!D1611),('Teom ugm3'!D1611*'Teom grams'!$F1609*0.000000028317),\"\")","v":""},"","","","",null,"","","",null,"",""]
[null,null,{"$f":"IF('Teom ugm3'!A1612=\"\",\"\",C1609+1)","v":""},"",null,"",null,{"$f":"IF(ISNUMBER('Teom ugm3'!B1612),('Teom ugm3'!B1612*'Teom grams'!$F1610*0.000000028317),\"\")","v":""},{"$f":"IF(ISNUMBER('Teom ugm3'!C1612),('Teom ugm3'!C1612*'Teom grams'!$F1610*0.000000028317),\"\")","v":""},{"$f":"IF(ISNUMBER('Teom ugm3'!D1612),('Teom ugm3'!D1612*'Teom grams'!$F1610*0.000000028317),\"\")","v":""},"","","","",null,"","","",null,"",""]
[null,null,{"$f":"IF('Teom ugm3'!A1613=\"\",\"\",C1610+1)","v":""},"",null,"",null,{"$f":"IF(ISNUMBER('Teom ugm3'!B1613),('Teom ugm3'!B1613*'Teom grams'!$F1611*0.000000028317),\"\")","v":""},{"$f":"IF(ISNUMBER('Teom ugm3'!C1613),('Teom ugm3'!C1613*'Teom grams'!$F1611*0.000000028317),\"\")","v":""},{"$f":"IF(ISNUMBER('Teom ugm3'!D1613),('Teom ugm3'!D1613*'Teom grams'!$F1611*0.000000028317),\"\")","v":""},"","",{"$f":"IF(COUNT(K1611:L1611)>0,AVERAGE(K1611:L1611),\"\")","v":""},"",null,"","","",null,"",""]
[null,null,{"$f":"IF('Teom ugm3'!A1614=\"\",\"\",C1611+1)","v":""},"",null,"",null,{"$f":"IF(ISNUMBER('Teom ugm3'!B1614),('Teom ugm3'!B1614*'Teom grams'!$F1612*0.000000028317),\"\")","v":""},{"$f":"IF(ISNUMBER('Teom ugm3'!C1614),('Teom ugm3'!C1614*'Teom grams'!$F1612*0.000000028317),\"\")","v":""},{"$f":"IF(ISNUMBER('Teom ugm3'!D1614),('Teom ugm3'!D1614*'Teom grams'!$F1612*0.000000028317),\"\")","v":""},"","","","",null,"","","",null,"",""]
[null,null,{"$f":"IF('Teom ugm3'!A1615=\"\",\"\",C1612+1)","v":""},"",null,"",null,{"$f":"IF(ISNUMBER('Teom ugm3'!B1615),('Teom ugm3'!B1615*'Teom grams'!$F1613*0.000000028317),\"\")","v":""},{"$f":"IF(ISNUMBER('Teom ugm3'!C1615),('Teom ugm3'!C1615*'Teom grams'!$F1613*0.000000028317),\"\")","v":""},{"$f":"IF(ISNUMBER('Teom ugm3'!D1615),('Teom ugm3'!D1615*'Teom grams'!$F1613*0.000000028317),\"\")","v":""},"","","","",null,"","","",null,"",""]
[null,null,{"$f":"IF('Teom ugm3'!A1616=\"\",\"\",C1613+1)","v":""},"",null,"",null,{"$f":"IF(ISNUMBER('Teom ugm3'!B1616),('Teom ugm3'!B1616*'Teom grams'!$F1614*0.000000028317),\"\")","v":""},{"$f":"IF(ISNUMBER('Teom ugm3'!C1616),('Teom ugm3'!C1616*'Teom grams'!$F1614*0.000000028317),\"\")","v":""},{"$f":"IF(ISNUMBER('Teom ugm3'!D1616),('Teom ugm3'!D1616*'Teom grams'!$F1614*0.000000028317),\"\")","v":""},"","","","",null,"","","",null,"",""]
[null,null,{"$f":"IF('Teom ugm3'!A1617=\"\",\"\",C1614+1)","v":""},"",null,"",null,{"$f":"IF(ISNUMBER('Teom ugm3'!B1617),('Teom ugm3'!B1617*'Teom grams'!$F1615*0.000000028317),\"\")","v":""},{"$f":"IF(ISNUMBER('Teom ugm3'!C1617),('Teom ugm3'!C1617*'Teom grams'!$F1615*0.000000028317),\"\")","v":""},{"$f":"IF(ISNUMBER('Teom ugm3'!D1617),('Teom ugm3'!D1617*'Teom grams'!$F1615*0.000000028317),\"\")","v":""},"","","","",null,"","","",null,"",""]
[null,null,{"$f":"IF('Teom ugm3'!A1618=\"\",\"\",C1615+1)","v":""},"",null,"",null,{"$f":"IF(ISNUMBER('Teom ugm3'!B1618),('Teom ugm3'!B1618*'Teom grams'!$F1616*0.000000028317),\"\")","v":""},{"$f":"IF(ISNUMBER('Teom ugm3'!C1618),('Teom ugm3'!C1618*'Teom grams'!$F1616*0.000000028317),\"\")","v":""},{"$f":"IF(ISNUMBER('Teom ugm3'!D1618),('Teom ugm3'!D1618*'Teom grams'!$F1616*0.000000028317),\"\")","v":""},"","","","",null,"","","",null,"",""]
[null,null,{"$f":"IF('Teom ugm3'!A1619=\"\",\"\",C1616+1)","v":""},"",null,"",null,{"$f":"IF(ISNUMBER('Teom ugm3'!B1619),('Teom ugm3'!B1619*'Teom grams'!$F1617*0.000000028317),\"\")","v":""},{"$f":"IF(ISNUMBER('Teom ugm3'!C1619),('Teom ugm3'!C1619*'Teom grams'!$F1617*0.000000028317),\"\")","v":""},{"$f":"IF(ISNUMBER('Teom ugm3'!D1619),('Teom ugm3'!D1619*'Teom grams'!$F1617*0.000000028317),\"\")","v":""},"","","","",null,"","","",null,"",""]
[null,null,{"$f":"IF('Teom ugm3'!A1620=\"\",\"\",C1617+1)","v":""},"",null,"",null,{"$f":"IF(ISNUMBER('Teom ugm3'!B1620),('Teom ugm3'!B1620*'Teom grams'!$F1618*0.000000028317),\"\")","v":""},{"$f":"IF(ISNUMBER('Teom ugm3'!C1620),('Teom ugm3'!C1620*'Teom grams'!$F1618*0.000000028317),\"\")","v":""},{"$f":"IF(ISNUMBER('Teom ugm3'!D1620),('Teom ugm3'!D1620*'Teom grams'!$F1618*0.000000028317),\"\")","v":""},"","","","",null,"","","",null,"",""]
[null,null,{"$f":"IF('Teom ugm3'!A1621=\"\",\"\",C1618+1)","v":""},"",null,"",null,{"$f":"IF(ISNUMBER('Teom ugm3'!B1621),('Teom ugm3'!B1621*'Teom grams'!$F1619*0.000000028317),\"\")","v":""},{"$f":"IF(ISNUMBER('Teom ugm3'!C1621),('Teom ugm3'!C1621*'Teom grams'!$F1619*0.000000028317),\"\")","v":""},{"$f":"IF(ISNUMBER('Teom ugm3'!D1621),('Teom ugm3'!D1621*'Teom grams'!$F1619*0.000000028317),\"\")","v":""},"","","","",null,"","","",null,"",""]
[null,null,{"$f":"IF('Teom ugm3'!A1622=\"\",\"\",C1619+1)","v":""},"",null,"",null,{"$f":"IF(ISNUMBER('Teom ugm3'!B1622),('Teom ugm3'!B1622*'Teom grams'!$F1620*0.000000028317),\"\")","v":""},{"$f":"IF(ISNUMBER('Teom ugm3'!C1622),('Teom ugm3'!C1622*'Teom grams'!$F1620*0.000000028317),\"\")","v":""},{"$f":"IF(ISNUMBER('Teom ugm3'!D1622),('Teom ugm3'!D1622*'Teom grams'!$F1620*0.000000028317),\"\")","v":""},"","","","",null,"","","",null,"",""]
[null,null,{"$f":"IF('Teom ugm3'!A1623=\"\",\"\",C1620+1)","v":""},"",null,"",null,{"$f":"IF(ISNUMBER('Teom ugm3'!B1623),('Teom ugm3'!B1623*'Teom grams'!$F1621*0.000000028317),\"\")","v":""},{"$f":"IF(ISNUMBER('Teom ugm3'!C1623),('Teom ugm3'!C1623*'Teom grams'!$F1621*0.000000028317),\"\")","v":""},{"$f":"IF(ISNUMBER('Teom ugm3'!D1623),('Teom ugm3'!D1623*'Teom grams'!$F1621*0.000000028317),\"\")","v":""},"","","","",null,"","","",null,"",""]
[null,null,{"$f":"IF('Teom ugm3'!A1624=\"\",\"\",C1621+1)","v":""},"",null,"",null,{"$f":"IF(ISNUMBER('Teom ugm3'!B1624),('Teom ugm3'!B1624*'Teom grams'!$F1622*0.000000028317),\"\")","v":""},{"$f":"IF(ISNUMBER('Teom ugm3'!C1624),('Teom ugm3'!C1624*'Teom grams'!$F1622*0.000000028317),\"\")","v":""},{"$f":"IF(ISNUMBER('Teom ugm3'!D1624),('Teom ugm3'!D1624*'Teom grams'!$F1622*0.000000028317),\"\")","v":""},"","","","",null,"","","",null,"",""]
[null,null,{"$f":"IF('Teom ugm3'!A1625=\"\",\"\",C1622+1)","v":""},"",null,"",null,{"$f":"IF(ISNUMBER('Teom ugm3'!B1625),('Teom ugm3'!B1625*'Teom grams'!$F1623*0.000000028317),\"\")","v":""},{"$f":"IF(ISNUMBER('Teom ugm3'!C1625),('Teom ugm3'!C1625*'Teom grams'!$F1623*0.000000028317),\"\")","v":""},{"$f":"IF(ISNUMBER('Teom ugm3'!D1625),('Teom ugm3'!D1625*'Teom grams'!$F1623*0.000000028317),\"\")","v":""},"","","","",null,"","","",null,"",""]
[null,null,{"$f":"IF('Teom ugm3'!A1626=\"\",\"\",C1623+1)","v":""},"",null,"",null,{"$f":"IF(ISNUMBER('Teom ugm3'!B1626),('Teom ugm3'!B1626*'Teom grams'!$F1624*0.000000028317),\"\")","v":""},{"$f":"IF(ISNUMBER('Teom ugm3'!C1626),('Teom ugm3'!C1626*'Teom grams'!$F1624*0.000000028317),\"\")","v":""},{"$f":"IF(ISNUMBER('Teom ugm3'!D1626),('Teom ugm3'!D1626*'Teom grams'!$F1624*0.000000028317),\"\")","v":""},"","","","",null,"","","",null,"",""]
[null,null,{"$f":"IF('Teom ugm3'!A1627=\"\",\"\",C1624+1)","v":""},"",null,"",null,{"$f":"IF(ISNUMBER('Teom ugm3'!B1627),('Teom ugm3'!B1627*'Teom grams'!$F1625*0.000000028317),\"\")","v":""},{"$f":"IF(ISNUMBER('Teom ugm3'!C1627),('Teom ugm3'!C1627*'Teom grams'!$F1625*0.000000028317),\"\")","v":""},{"$f":"IF(ISNUMBER('Teom ugm3'!D1627),('Teom ugm3'!D1627*'Teom grams'!$F1625*0.000000028317),\"\")","v":""},"","","","",null,"","","",null,"",""]
[null,null,{"$f":"IF('Teom ugm3'!A1628=\"\",\"\",C1625+1)","v":""},"",null,"",null,{"$f":"IF(ISNUMBER('Teom ugm3'!B1628),('Teom ugm3'!B1628*'Teom grams'!$F1626*0.000000028317),\"\")","v":""},{"$f":"IF(ISNUMBER('Teom ugm3'!C1628),('Teom ugm3'!C1628*'Teom grams'!$F1626*0.000000028317),\"\")","v":""},{"$f":"IF(ISNUMBER('Teom ugm3'!D1628),('Teom ugm3'!D1628*'Teom grams'!$F1626*0.000000028317),\"\")","v":""},"","","","",null,"","","",null,"",""]
[null,null,{"$f":"IF('Teom ugm3'!A1629=\"\",\"\",C1626+1)","v":""},"",null,"",null,{"$f":"IF(ISNUMBER('Teom ugm3'!B1629),('Teom ugm3'!B1629*'Teom grams'!$F1627*0.000000028317),\"\")","v":""},{"$f":"IF(ISNUMBER('Teom ugm3'!C1629),('Teom ugm3'!C1629*'Teom grams'!$F1627*0.000000028317),\"\")","v":""},{"$f":"IF(ISNUMBER('Teom ugm3'!D1629),('Teom ugm3'!D1629*'Teom grams'!$F1627*0.000000028317),\"\")","v":""},"","","","",null,"","","",null,"",""]
[null,null,{"$f":"IF('Teom ugm3'!A1630=\"\",\"\",C1627+1)","v":""},"",null,"",null,{"$f":"IF(ISNUMBER('Teom ugm3'!B1630),('Teom ugm3'!B1630*'Teom grams'!$F1628*0.000000028317),\"\")","v":""},{"$f":"IF(ISNUMBER('Teom ugm3'!C1630),('Teom ugm3'!C1630*'Teom grams'!$F1628*0.000000028317),\"\")","v":""},{"$f":"IF(ISNUMBER('Teom ugm3'!D1630),('Teom ugm3'!D1630*'Teom grams'!$F1628*0.000000028317),\"\")","v":""},"","","","",null,"","","",null,"",""]
[null,null,{"$f":"IF('Teom ugm3'!A1631=\"\",\"\",C1628+1)","v":""},"",null,"",null,{"$f":"IF(ISNUMBER('Teom ugm3'!B1631),('Teom ugm3'!B1631*'Teom grams'!$F1629*0.000000028317),\"\")","v":""},{"$f":"IF(ISNUMBER('Teom ugm3'!C1631),('Teom ugm3'!C1631*'Teom grams'!$F1629*0.000000028317),\"\")","v":""},{"$f":"IF(ISNUMBER('Teom ugm3'!D1631),('Teom ugm3'!D1631*'Teom grams'!$F1629*0.000000028317),\"\")","v":""},"","","","",null,"","","",null,"",""]
[null,null,{"$f":"IF('Teom ugm3'!A1632=\"\",\"\",C1629+1)","v":""},"",null,"",null,{"$f":"IF(ISNUMBER('Teom ugm3'!B1632),('Teom ugm3'!B1632*'Teom grams'!$F1630*0.000000028317),\"\")","v":""},{"$f":"IF(ISNUMBER('Teom ugm3'!C1632),('Teom ugm3'!C1632*'Teom grams'!$F1630*0.000000028317),\"\")","v":""},{"$f":"IF(ISNUMBER('Teom ugm3'!D1632),('Teom ugm3'!D1632*'Teom grams'!$F1630*0.000000028317),\"\")","v":""},"","","","",null,"","","",null,"",""]
[null,null,{"$f":"IF('Teom ugm3'!A1633=\"\",\"\",C1630+1)","v":""},"",null,"",null,{"$f":"IF(ISNUMBER('Teom ugm3'!B1633),('Teom ugm3'!B1633*'Teom grams'!$F1631*0.000000028317),\"\")","v":""},{"$f":"IF(ISNUMBER('Teom ugm3'!C1633),('Teom ugm3'!C1633*'Teom grams'!$F1631*0.000000028317),\"\")","v":""},{"$f":"IF(ISNUMBER('Teom ugm3'!D1633),('Teom ugm3'!D1633*'Teom grams'!$F1631*0.000000028317),\"\")","v":""},"","","","",null,"","","",null,"",""]
[null,null,{"$f":"IF('Teom ugm3'!A1634=\"\",\"\",C1631+1)","v":""},"",null,"",null,{"$f":"IF(ISNUMBER('Teom ugm3'!B1634),('Teom ugm3'!B1634*'Teom grams'!$F1632*0.000000028317),\"\")","v":""},{"$f":"IF(ISNUMBER('Teom ugm3'!C1634),('Teom ugm3'!C1634*'Teom grams'!$F1632*0.000000028317),\"\")","v":""},{"$f":"IF(ISNUMBER('Teom ugm3'!D1634),('Teom ugm3'!D1634*'Teom grams'!$F1632*0.000000028317),\"\")","v":""},"","","","",null,"","","",null,"",""]
[null,null,{"$f":"IF('Teom ugm3'!A1635=\"\",\"\",C1632+1)","v":""},"",null,"",null,{"$f":"IF(ISNUMBER('Teom ugm3'!B1635),('Teom ugm3'!B1635*'Teom grams'!$F1633*0.000000028317),\"\")","v":""},{"$f":"IF(ISNUMBER('Teom ugm3'!C1635),('Teom ugm3'!C1635*'Teom grams'!$F1633*0.000000028317),\"\")","v":""},{"$f":"IF(ISNUMBER('Teom ugm3'!D1635),('Teom ugm3'!D1635*'Teom grams'!$F1633*0.000000028317),\"\")","v":""},"","","","",null,"","","",null,"",""]
[null,null,{"$f":"IF('Teom ugm3'!A1636=\"\",\"\",C1633+1)","v":""},"",null,"",null,{"$f":"IF(ISNUMBER('Teom ugm3'!B1636),('Teom ugm3'!B1636*'Teom grams'!$F1634*0.000000028317),\"\")","v":""},{"$f":"IF(ISNUMBER('Teom ugm3'!C1636),('Teom ugm3'!C1636*'Teom grams'!$F1634*0.000000028317),\"\")","v":""},{"$f":"IF(ISNUMBER('Teom ugm3'!D1636),('Teom ugm3'!D1636*'Teom grams'!$F1634*0.000000028317),\"\")","v":""},"","","","",null,"","","",null,"",""]
[null,null,{"$f":"IF('Teom ugm3'!A1637=\"\",\"\",C1634+1)","v":""},"",null,"",null,{"$f":"IF(ISNUMBER('Teom ugm3'!B1637),('Teom ugm3'!B1637*'Teom grams'!$F1635*0.000000028317),\"\")","v":""},{"$f":"IF(ISNUMBER('Teom ugm3'!C1637),('Teom ugm3'!C1637*'Teom grams'!$F1635*0.000000028317),\"\")","v":""},{"$f":"IF(ISNUMBER('Teom ugm3'!D1637),('Teom ugm3'!D1637*'Teom grams'!$F1635*0.000000028317),\"\")","v":""},"","","","",null,"",{"$f":"IF(ISNUMBER(M1635),M1635*60,\"\")","v":""},{"$f":"IF(ISNUMBER(N1635),N1635*60,\"\")","v":""},null,{"$f":"IF(COUNT(C1635:C1694)>59,AVERAGE(P1635:P1694),\"\")","v":""},{"$f":"IF(COUNT(C1635:C1694)>59,AVERAGE(Q1635:Q1694),\"\")","v":""}]
[null,null,{"$f":"IF('Teom ugm3'!A1638=\"\",\"\",C1635+1)","v":""},"",null,"",null,{"$f":"IF(ISNUMBER('Teom ugm3'!B1638),('Teom ugm3'!B1638*'Teom grams'!$F1636*0.000000028317),\"\")","v":""},{"$f":"IF(ISNUMBER('Teom ugm3'!C1638),('Teom ugm3'!C1638*'Teom grams'!$F1636*0.000000028317),\"\")","v":""},{"$f":"IF(ISNUMBER('Teom ugm3'!D1638),('Teom ugm3'!D1638*'Teom grams'!$F1636*0.000000028317),\"\")","v":""},"","","","",null,"","","",null,"",""]
[null,null,{"$f":"IF('Teom ugm3'!A1639=\"\",\"\",C1636+1)","v":""},"",null,"",null,{"$f":"IF(ISNUMBER('Teom ugm3'!B1639),('Teom ugm3'!B1639*'Teom grams'!$F1637*0.000000028317),\"\")","v":""},{"$f":"IF(ISNUMBER('Teom ugm3'!C1639),('Teom ugm3'!C1639*'Teom grams'!$F1637*0.000000028317),\"\")","v":""},{"$f":"IF(ISNUMBER('Teom ugm3'!D1639),('Teom ugm3'!D1639*'Teom grams'!$F1637*0.000000028317),\"\")","v":""},"","","","",null,"","","",null,"",""]
[null,null,{"$f":"IF('Teom ugm3'!A1640=\"\",\"\",C1637+1)","v":""},"",null,"",null,{"$f":"IF(ISNUMBER('Teom ugm3'!B1640),('Teom ugm3'!B1640*'Teom grams'!$F1638*0.000000028317),\"\")","v":""},{"$f":"IF(ISNUMBER('Teom ugm3'!C1640),('Teom ugm3'!C1640*'Teom grams'!$F1638*0.000000028317),\"\")","v":""},{"$f":"IF(ISNUMBER('Teom ugm3'!D1640),('Teom ugm3'!D1640*'Teom grams'!$F1638*0.000000028317),\"\")","v":""},"","","","",null,"","","",null,"",""]
[null,null,{"$f":"IF('Teom ugm3'!A1641=\"\",\"\",C1638+1)","v":""},"",null,"",null,{"$f":"IF(ISNUMBER('Teom ugm3'!B1641),('Teom ugm3'!B1641*'Teom grams'!$F1639*0.000000028317),\"\")","v":""},{"$f":"IF(ISNUMBER('Teom ugm3'!C1641),('Teom ugm3'!C1641*'Teom grams'!$F1639*0.000000028317),\"\")","v":""},{"$f":"IF(ISNUMBER('Teom ugm3'!D1641),('Teom ugm3'!D1641*'Teom grams'!$F1639*0.000000028317),\"\")","v":""},"","","","",null,"","","",null,"",""]
[null,null,{"$f":"IF('Teom ugm3'!A1642=\"\",\"\",C1639+1)","v":""},"",null,"",null,{"$f":"IF(ISNUMBER('Teom ugm3'!B1642),('Teom ugm3'!B1642*'Teom grams'!$F1640*0.000000028317),\"\")","v":""},{"$f":"IF(ISNUMBER('Teom ugm3'!C1642),('Teom ugm3'!C1642*'Teom grams'!$F1640*0.000000028317),\"\")","v":""},{"$f":"IF(ISNUMBER('Teom ugm3'!D1642),('Teom ugm3'!D1642*'Teom grams'!$F1640*0.000000028317),\"\")","v":""},"","","","",null,"","","",null,"",""]
[null,null,{"$f":"IF('Teom ugm3'!A1643=\"\",\"\",C1640+1)","v":""},"",null,"",null,{"$f":"IF(ISNUMBER('Teom ugm3'!B1643),('Teom ugm3'!B1643*'Teom grams'!$F1641*0.000000028317),\"\")","v":""},{"$f":"IF(ISNUMBER('Teom ugm3'!C1643),('Teom ugm3'!C1643*'Teom grams'!$F1641*0.000000028317),\"\")","v":""},{"$f":"IF(ISNUMBER('Teom ugm3'!D1643),('Teom ugm3'!D1643*'Teom grams'!$F1641*0.000000028317),\"\")","v":""},"","","","",null,"","","",null,"",""]
[null,null,{"$f":"IF('Teom ugm3'!A1644=\"\",\"\",C1641+1)","v":""},"",null,"",null,{"$f":"IF(ISNUMBER('Teom ugm3'!B1644),('Teom ugm3'!B1644*'Teom grams'!$F1642*0.000000028317),\"\")","v":""},{"$f":"IF(ISNUMBER('Teom ugm3'!C1644),('Teom ugm3'!C1644*'Teom grams'!$F1642*0.000000028317),\"\")","v":""},{"$f":"IF(ISNUMBER('Teom ugm3'!D1644),('Teom ugm3'!D1644*'Teom grams'!$F1642*0.000000028317),\"\")","v":""},"","","","",null,"","","",null,"",""]
[null,null,{"$f":"IF('Teom ugm3'!A1645=\"\",\"\",C1642+1)","v":""},"",null,"",null,{"$f":"IF(ISNUMBER('Teom ugm3'!B1645),('Teom ugm3'!B1645*'Teom grams'!$F1643*0.000000028317),\"\")","v":""},{"$f":"IF(ISNUMBER('Teom ugm3'!C1645),('Teom ugm3'!C1645*'Teom grams'!$F1643*0.000000028317),\"\")","v":""},{"$f":"IF(ISNUMBER('Teom ugm3'!D1645),('Teom ugm3'!D1645*'Teom grams'!$F1643*0.000000028317),\"\")","v":""},"","","","",null,"","","",null,"",""]
[null,null,{"$f":"IF('Teom ugm3'!A1646=\"\",\"\",C1643+1)","v":""},"",null,"",null,{"$f":"IF(ISNUMBER('Teom ugm3'!B1646),('Teom ugm3'!B1646*'Teom grams'!$F1644*0.000000028317),\"\")","v":""},{"$f":"IF(ISNUMBER('Teom ugm3'!C1646),('Teom ugm3'!C1646*'Teom grams'!$F1644*0.000000028317),\"\")","v":""},{"$f":"IF(ISNUMBER('Teom ugm3'!D1646),('Teom ugm3'!D1646*'Teom grams'!$F1644*0.000000028317),\"\")","v":""},"","","","",null,"","","",null,"",""]
[null,null,{"$f":"IF('Teom ugm3'!A1647=\"\",\"\",C1644+1)","v":""},"",null,"",null,{"$f":"IF(ISNUMBER('Teom ugm3'!B1647),('Teom ugm3'!B1647*'Teom grams'!$F1645*0.000000028317),\"\")","v":""},{"$f":"IF(ISNUMBER('Teom ugm3'!C1647),('Teom ugm3'!C1647*'Teom grams'!$F1645*0.000000028317),\"\")","v":""},{"$f":"IF(ISNUMBER('Teom ugm3'!D1647),('Teom ugm3'!D1647*'Teom grams'!$F1645*0.000000028317),\"\")","v":""},"","","","",null,"","","",null,"",""]
[null,null,{"$f":"IF('Teom ugm3'!A1648=\"\",\"\",C1645+1)","v":""},"",null,"",null,{"$f":"IF(ISNUMBER('Teom ugm3'!B1648),('Teom ugm3'!B1648*'Teom grams'!$F1646*0.000000028317),\"\")","v":""},{"$f":"IF(ISNUMBER('Teom ugm3'!C1648),('Teom ugm3'!C1648*'Teom grams'!$F1646*0.000000028317),\"\")","v":""},{"$f":"IF(ISNUMBER('Teom ugm3'!D1648),('Teom ugm3'!D1648*'Teom grams'!$F1646*0.000000028317),\"\")","v":""},"","","","",null,"","","",null,"",""]
[null,null,{"$f":"IF('Teom ugm3'!A1649=\"\",\"\",C1646+1)","v":""},"",null,"",null,{"$f":"IF(ISNUMBER('Teom ugm3'!B1649),('Teom ugm3'!B1649*'Teom grams'!$F1647*0.000000028317),\"\")","v":""},{"$f":"IF(ISNUMBER('Teom ugm3'!C1649),('Teom ugm3'!C1649*'Teom grams'!$F1647*0.000000028317),\"\")","v":""},{"$f":"IF(ISNUMBER('Teom ugm3'!D1649),('Teom ugm3'!D1649*'Teom grams'!$F1647*0.000000028317),\"\")","v":""},"","","","",null,"","","",null,"",""]
[null,null,{"$f":"IF('Teom ugm3'!A1650=\"\",\"\",C1647+1)","v":""},"",null,"",null,{"$f":"IF(ISNUMBER('Teom ugm3'!B1650),('Teom ugm3'!B1650*'Teom grams'!$F1648*0.000000028317),\"\")","v":""},{"$f":"IF(ISNUMBER('Teom ugm3'!C1650),('Teom ugm3'!C1650*'Teom grams'!$F1648*0.000000028317),\"\")","v":""},{"$f":"IF(ISNUMBER('Teom ugm3'!D1650),('Teom ugm3'!D1650*'Teom grams'!$F1648*0.000000028317),\"\")","v":""},"","","","",null,"","","",null,"",""]
[null,null,{"$f":"IF('Teom ugm3'!A1651=\"\",\"\",C1648+1)","v":""},"",null,"",null,{"$f":"IF(ISNUMBER('Teom ugm3'!B1651),('Teom ugm3'!B1651*'Teom grams'!$F1649*0.000000028317),\"\")","v":""},{"$f":"IF(ISNUMBER('Teom ugm3'!C1651),('Teom ugm3'!C1651*'Teom grams'!$F1649*0.000000028317),\"\")","v":""},{"$f":"IF(ISNUMBER('Teom ugm3'!D1651),('Teom ugm3'!D1651*'Teom grams'!$F1649*0.000000028317),\"\")","v":""},"","","","",null,"","","",null,"",""]
[null,null,{"$f":"IF('Teom ugm3'!A1652=\"\",\"\",C1649+1)","v":""},"",null,"",null,{"$f":"IF(ISNUMBER('Teom ugm3'!B1652),('Teom ugm3'!B1652*'Teom grams'!$F1650*0.000000028317),\"\")","v":""},{"$f":"IF(ISNUMBER('Teom ugm3'!C1652),('Teom ugm3'!C1652*'Teom grams'!$F1650*0.000000028317),\"\")","v":""},{"$f":"IF(ISNUMBER('Teom ugm3'!D1652),('Teom ugm3'!D1652*'Teom grams'!$F1650*0.000000028317),\"\")","v":""},"","","","",null,"","","",null,"",""]
[null,null,{"$f":"IF('Teom ugm3'!A1653=\"\",\"\",C1650+1)","v":""},"",null,"",null,{"$f":"IF(ISNUMBER('Teom ugm3'!B1653),('Teom ugm3'!B1653*'Teom grams'!$F1651*0.000000028317),\"\")","v":""},{"$f":"IF(ISNUMBER('Teom ugm3'!C1653),('Teom ugm3'!C1653*'Teom grams'!$F1651*0.000000028317),\"\")","v":""},{"$f":"IF(ISNUMBER('Teom ugm3'!D1653),('Teom ugm3'!D1653*'Teom grams'!$F1651*0.000000028317),\"\")","v":""},"","","","",null,"","","",null,"",""]
[null,null,{"$f":"IF('Teom ugm3'!A1654=\"\",\"\",C1651+1)","v":""},"",null,"",null,{"$f":"IF(ISNUMBER('Teom ugm3'!B1654),('Teom ugm3'!B1654*'Teom grams'!$F1652*0.000000028317),\"\")","v":""},{"$f":"IF(ISNUMBER('Teom ugm3'!C1654),('Teom ugm3'!C1654*'Teom grams'!$F1652*0.000000028317),\"\")","v":""},{"$f":"IF(ISNUMBER('Teom ugm3'!D1654),('Teom ugm3'!D1654*'Teom grams'!$F1652*0.000000028317),\"\")","v":""},"","","","",null,"","","",null,"",""]
[null,null,{"$f":"IF('Teom ugm3'!A1655=\"\",\"\",C1652+1)","v":""},"",null,"",null,{"$f":"IF(ISNUMBER('Teom ugm3'!B1655),('Teom ugm3'!B1655*'Teom grams'!$F1653*0.000000028317),\"\")","v":""},{"$f":"IF(ISNUMBER('Teom ugm3'!C1655),('Teom ugm3'!C1655*'Teom grams'!$F1653*0.000000028317),\"\")","v":""},{"$f":"IF(ISNUMBER('Teom ugm3'!D1655),('Teom ugm3'!D1655*'Teom grams'!$F1653*0.000000028317),\"\")","v":""},"","","","",null,"","","",null,"",""]
[null,null,{"$f":"IF('Teom ugm3'!A1656=\"\",\"\",C1653+1)","v":""},"",null,"",null,{"$f":"IF(ISNUMBER('Teom ugm3'!B1656),('Teom ugm3'!B1656*'Teom grams'!$F1654*0.000000028317),\"\")","v":""},{"$f":"IF(ISNUMBER('Teom ugm3'!C1656),('Teom ugm3'!C1656*'Teom grams'!$F1654*0.000000028317),\"\")","v":""},{"$f":"IF(ISNUMBER('Teom ugm3'!D1656),('Teom ugm3'!D1656*'Teom grams'!$F1654*0.000000028317),\"\")","v":""},"","","","",null,"","","",null,"",""]
[null,null,{"$f":"IF('Teom ugm3'!A1657=\"\",\"\",C1654+1)","v":""},"",null,"",null,{"$f":"IF(ISNUMBER('Teom ugm3'!B1657),('Teom ugm3'!B1657*'Teom grams'!$F1655*0.000000028317),\"\")","v":""},{"$f":"IF(ISNUMBER('Teom ugm3'!C1657),('Teom ugm3'!C1657*'Teom grams'!$F1655*0.000000028317),\"\")","v":""},{"$f":"IF(ISNUMBER('Teom ugm3'!D1657),('Teom ugm3'!D1657*'Teom grams'!$F1655*0.000000028317),\"\")","v":""},"","","","",null,"","","",null,"",""]
[null,null,{"$f":"IF('Teom ugm3'!A1658=\"\",\"\",C1655+1)","v":""},"",null,"",null,{"$f":"IF(ISNUMBER('Teom ugm3'!B1658),('Teom ugm3'!B1658*'Teom grams'!$F1656*0.000000028317),\"\")","v":""},{"$f":"IF(ISNUMBER('Teom ugm3'!C1658),('Teom ugm3'!C1658*'Teom grams'!$F1656*0.000000028317),\"\")","v":""},{"$f":"IF(ISNUMBER('Teom ugm3'!D1658),('Teom ugm3'!D1658*'Teom grams'!$F1656*0.000000028317),\"\")","v":""},"","","","",null,"","","",null,"",""]
[null,null,{"$f":"IF('Teom ugm3'!A1659=\"\",\"\",C1656+1)","v":""},"",null,"",null,{"$f":"IF(ISNUMBER('Teom ugm3'!B1659),('Teom ugm3'!B1659*'Teom grams'!$F1657*0.000000028317),\"\")","v":""},{"$f":"IF(ISNUMBER('Teom ugm3'!C1659),('Teom ugm3'!C1659*'Teom grams'!$F1657*0.000000028317),\"\")","v":""},{"$f":"IF(ISNUMBER('Teom ugm3'!D1659),('Teom ugm3'!D1659*'Teom grams'!$F1657*0.000000028317),\"\")","v":""},"","","","",null,"","","",null,"",""]
[null,null,{"$f":"IF('Teom ugm3'!A1660=\"\",\"\",C1657+1)","v":""},"",null,"",null,{"$f":"IF(ISNUMBER('Teom ugm3'!B1660),('Teom ugm3'!B1660*'Teom grams'!$F1658*0.000000028317),\"\")","v":""},{"$f":"IF(ISNUMBER('Teom ugm3'!C1660),('Teom ugm3'!C1660*'Teom grams'!$F1658*0.000000028317),\"\")","v":""},{"$f":"IF(ISNUMBER('Teom ugm3'!D1660),('Teom ugm3'!D1660*'Teom grams'!$F1658*0.000000028317),\"\")","v":""},"","","","",null,"","","",null,"",""]
[null,null,{"$f":"IF('Teom ugm3'!A1661=\"\",\"\",C1658+1)","v":""},"",null,"",null,{"$f":"IF(ISNUMBER('Teom ugm3'!B1661),('Teom ugm3'!B1661*'Teom grams'!$F1659*0.000000028317),\"\")","v":""},{"$f":"IF(ISNUMBER('Teom ugm3'!C1661),('Teom ugm3'!C1661*'Teom grams'!$F1659*0.000000028317),\"\")","v":""},{"$f":"IF(ISNUMBER('Teom ugm3'!D1661),('Teom ugm3'!D1661*'Teom grams'!$F1659*0.000000028317),\"\")","v":""},"","","","",null,"","","",null,"",""]
[null,null,{"$f":"IF('Teom ugm3'!A1662=\"\",\"\",C1659+1)","v":""},"",null,"",null,{"$f":"IF(ISNUMBER('Teom ugm3'!B1662),('Teom ugm3'!B1662*'Teom grams'!$F1660*0.000000028317),\"\")","v":""},{"$f":"IF(ISNUMBER('Teom ugm3'!C1662),('Teom ugm3'!C1662*'Teom grams'!$F1660*0.000000028317),\"\")","v":""},{"$f":"IF(ISNUMBER('Teom ugm3'!D1662),('Teom ugm3'!D1662*'Teom grams'!$F1660*0.000000028317),\"\")","v":""},"","","","",null,"","","",null,"",""]
[null,null,{"$f":"IF('Teom ugm3'!A1663=\"\",\"\",C1660+1)","v":""},"",null,"",null,{"$f":"IF(ISNUMBER('Teom ugm3'!B1663),('Teom ugm3'!B1663*'Teom grams'!$F1661*0.000000028317),\"\")","v":""},{"$f":"IF(ISNUMBER('Teom ugm3'!C1663),('Teom ugm3'!C1663*'Teom grams'!$F1661*0.000000028317),\"\")","v":""},{"$f":"IF(ISNUMBER('Teom ugm3'!D1663),('Teom ugm3'!D1663*'Teom grams'!$F1661*0.000000028317),\"\")","v":""},"","","","",null,"","","",null,"",""]
[null,null,{"$f":"IF('Teom ugm3'!A1664=\"\",\"\",C1661+1)","v":""},"",null,"",null,{"$f":"IF(ISNUMBER('Teom ugm3'!B1664),('Teom ugm3'!B1664*'Teom grams'!$F1662*0.000000028317),\"\")","v":""},{"$f":"IF(ISNUMBER('Teom ugm3'!C1664),('Teom ugm3'!C1664*'Teom grams'!$F1662*0.000000028317),\"\")","v":""},{"$f":"IF(ISNUMBER('Teom ugm3'!D1664),('Teom ugm3'!D1664*'Teom grams'!$F1662*0.000000028317),\"\")","v":""},"","","","",null,"","","",null,"",""]
[null,null,{"$f":"IF('Teom ugm3'!A1665=\"\",\"\",C1662+1)","v":""},"",null,"",null,{"$f":"IF(ISNUMBER('Teom ugm3'!B1665),('Teom ugm3'!B1665*'Teom grams'!$F1663*0.000000028317),\"\")","v":""},{"$f":"IF(ISNUMBER('Teom ugm3'!C1665),('Teom ugm3'!C1665*'Teom grams'!$F1663*0.000000028317),\"\")","v":""},{"$f":"IF(ISNUMBER('Teom ugm3'!D1665),('Teom ugm3'!D1665*'Teom grams'!$F1663*0.000000028317),\"\")","v":""},"","","","",null,"","","",null,"",""]
[null,null,{"$f":"IF('Teom ugm3'!A1666=\"\",\"\",C1663+1)","v":""},"",null,"",null,{"$f":"IF(ISNUMBER('Teom ugm3'!B1666),('Teom ugm3'!B1666*'Teom grams'!$F1664*0.000000028317),\"\")","v":""},{"$f":"IF(ISNUMBER('Teom ugm3'!C1666),('Teom ugm3'!C1666*'Teom grams'!$F1664*0.000000028317),\"\")","v":""},{"$f":"IF(ISNUMBER('Teom ugm3'!D1666),('Teom ugm3'!D1666*'Teom grams'!$F1664*0.000000028317),\"\")","v":""},"","","","",null,"","","",null,"",""]
[null,null,{"$f":"IF('Teom ugm3'!A1667=\"\",\"\",C1664+1)","v":""},"",null,"",null,{"$f":"IF(ISNUMBER('Teom ugm3'!B1667),('Teom ugm3'!B1667*'Teom grams'!$F1665*0.000000028317),\"\")","v":""},{"$f":"IF(ISNUMBER('Teom ugm3'!C1667),('Teom ugm3'!C1667*'Teom grams'!$F1665*0.000000028317),\"\")","v":""},{"$f":"IF(ISNUMBER('Teom ugm3'!D1667),('Teom ugm3'!D1667*'Teom grams'!$F1665*0.000000028317),\"\")","v":""},"","","","",null,"","","",null,"",""]
[null,null,{"$f":"IF('Teom ugm3'!A1668=\"\",\"\",C1665+1)","v":""},"",null,"",null,{"$f":"IF(ISNUMBER('Teom ugm3'!B1668),('Teom ugm3'!B1668*'Teom grams'!$F1666*0.000000028317),\"\")","v":""},{"$f":"IF(ISNUMBER('Teom ugm3'!C1668),('Teom ugm3'!C1668*'Teom grams'!$F1666*0.000000028317),\"\")","v":""},{"$f":"IF(ISNUMBER('Teom ugm3'!D1668),('Teom ugm3'!D1668*'Teom grams'!$F1666*0.000000028317),\"\")","v":""},"","","","",null,"","","",null,"",""]
[null,null,{"$f":"IF('Teom ugm3'!A1669=\"\",\"\",C1666+1)","v":""},"",null,"",null,{"$f":"IF(ISNUMBER('Teom ugm3'!B1669),('Teom ugm3'!B1669*'Teom grams'!$F1667*0.000000028317),\"\")","v":""},{"$f":"IF(ISNUMBER('Teom ugm3'!C1669),('Teom ugm3'!C1669*'Teom grams'!$F1667*0.000000028317),\"\")","v":""},{"$f":"IF(ISNUMBER('Teom ugm3'!D1669),('Teom ugm3'!D1669*'Teom grams'!$F1667*0.000000028317),\"\")","v":""},"","","","",null,"","","",null,"",""]
[null,null,{"$f":"IF('Teom ugm3'!A1670=\"\",\"\",C1667+1)","v":""},"",null,"",null,{"$f":"IF(ISNUMBER('Teom ugm3'!B1670),('Teom ugm3'!B1670*'Teom grams'!$F1668*0.000000028317),\"\")","v":""},{"$f":"IF(ISNUMBER('Teom ugm3'!C1670),('Teom ugm3'!C1670*'Teom grams'!$F1668*0.000000028317),\"\")","v":""},{"$f":"IF(ISNUMBER('Teom ugm3'!D1670),('Teom ugm3'!D1670*'Teom grams'!$F1668*0.000000028317),\"\")","v":""},"","","",{"$f":"M1668","v":""},null,"","","",null,"",""]
[null,null,{"$f":"IF('Teom ugm3'!A1671=\"\",\"\",C1668+1)","v":""},"",null,{"$f":"IF(C1669=\"\",\"\",E1669*1.02041)","v":""},null,{"$f":"IF(ISNUMBER('Teom ugm3'!B1671),('Teom ugm3'!B1671*'Teom grams'!$F1669*0.000000028317),\"\")","v":""},{"$f":"IF(ISNUMBER('Teom ugm3'!C1671),('Teom ugm3'!C1671*'Teom grams'!$F1669*0.000000028317),\"\")","v":""},{"$f":"IF(ISNUMBER('Teom ugm3'!D1671),('Teom ugm3'!D1671*'Teom grams'!$F1669*0.000000028317),\"\")","v":""},{"$f":"IF(H1669<0,0,H1669)","v":""},"","","",null,{"$f":"IF(ISNUMBER(J1669),J1669*60,\"\")","v":""},"","",null,"",""]
[null,null,{"$f":"IF('Teom ugm3'!A1672=\"\",\"\",C1669+1)","v":""},{"$f":"IF(C1670=\"\",\"\",D1669 + TIME(0, 1, 0))","v":""},null,"",null,{"$f":"IF(ISNUMBER('Teom ugm3'!B1672),('Teom ugm3'!B1672*'Teom grams'!$F1670*0.000000028317),\"\")","v":""},{"$f":"IF(ISNUMBER('Teom ugm3'!C1672),('Teom ugm3'!C1672*'Teom grams'!$F1670*0.000000028317),\"\")","v":""},{"$f":"IF(ISNUMBER('Teom ugm3'!D1672),('Teom ugm3'!D1672*'Teom grams'!$F1670*0.000000028317),\"\")","v":""},"","","","",null,"","","",null,"",""]
[null,null,{"$f":"IF('Teom ugm3'!A1673=\"\",\"\",C1670+1)","v":""},"",null,"",null,{"$f":"IF(ISNUMBER('Teom ugm3'!B1673),('Teom ugm3'!B1673*'Teom grams'!$F1671*0.000000028317),\"\")","v":""},{"$f":"IF(ISNUMBER('Teom ugm3'!C1673),('Teom ugm3'!C1673*'Teom grams'!$F1671*0.000000028317),\"\")","v":""},{"$f":"IF(ISNUMBER('Teom ugm3'!D1673),('Teom ugm3'!D1673*'Teom grams'!$F1671*0.000000028317),\"\")","v":""},"","","","",null,"","","",null,"",""]
[null,null,{"$f":"IF('Teom ugm3'!A1674=\"\",\"\",C1671+1)","v":""},"",null,"",null,{"$f":"IF(ISNUMBER('Teom ugm3'!B1674),('Teom ugm3'!B1674*'Teom grams'!$F1672*0.000000028317),\"\")","v":""},{"$f":"IF(ISNUMBER('Teom ugm3'!C1674),('Teom ugm3'!C1674*'Teom grams'!$F1672*0.000000028317),\"\")","v":""},{"$f":"IF(ISNUMBER('Teom ugm3'!D1674),('Teom ugm3'!D1674*'Teom grams'!$F1672*0.000000028317),\"\")","v":""},"","","","",null,"","","",null,"",""]
[null,null,{"$f":"IF('Teom ugm3'!A1675=\"\",\"\",C1672+1)","v":""},"",null,"",null,{"$f":"IF(ISNUMBER('Teom ugm3'!B1675),('Teom ugm3'!B1675*'Teom grams'!$F1673*0.000000028317),\"\")","v":""},{"$f":"IF(ISNUMBER('Teom ugm3'!C1675),('Teom ugm3'!C1675*'Teom grams'!$F1673*0.000000028317),\"\")","v":""},{"$f":"IF(ISNUMBER('Teom ugm3'!D1675),('Teom ugm3'!D1675*'Teom grams'!$F1673*0.000000028317),\"\")","v":""},"","","","",null,"","","",null,"",""]
[null,null,{"$f":"IF('Teom ugm3'!A1676=\"\",\"\",C1673+1)","v":""},"",null,"",null,{"$f":"IF(ISNUMBER('Teom ugm3'!B1676),('Teom ugm3'!B1676*'Teom grams'!$F1674*0.000000028317),\"\")","v":""},{"$f":"IF(ISNUMBER('Teom ugm3'!C1676),('Teom ugm3'!C1676*'Teom grams'!$F1674*0.000000028317),\"\")","v":""},{"$f":"IF(ISNUMBER('Teom ugm3'!D1676),('Teom ugm3'!D1676*'Teom grams'!$F1674*0.000000028317),\"\")","v":""},"","","","",null,"","","",null,"",""]
[null,null,{"$f":"IF('Teom ugm3'!A1677=\"\",\"\",C1674+1)","v":""},"",null,"",null,{"$f":"IF(ISNUMBER('Teom ugm3'!B1677),('Teom ugm3'!B1677*'Teom grams'!$F1675*0.000000028317),\"\")","v":""},{"$f":"IF(ISNUMBER('Teom ugm3'!C1677),('Teom ugm3'!C1677*'Teom grams'!$F1675*0.000000028317),\"\")","v":""},{"$f":"IF(ISNUMBER('Teom ugm3'!D1677),('Teom ugm3'!D1677*'Teom grams'!$F1675*0.000000028317),\"\")","v":""},"","",{"$f":"IF(COUNT(K1675:L1675)>0,AVERAGE(K1675:L1675),\"\")","v":""},"",null,"","","",null,"",""]
[null,null,{"$f":"IF('Teom ugm3'!A1678=\"\",\"\",C1675+1)","v":""},"",null,"",null,{"$f":"IF(ISNUMBER('Teom ugm3'!B1678),('Teom ugm3'!B1678*'Teom grams'!$F1676*0.000000028317),\"\")","v":""},{"$f":"IF(ISNUMBER('Teom ugm3'!C1678),('Teom ugm3'!C1678*'Teom grams'!$F1676*0.000000028317),\"\")","v":""},{"$f":"IF(ISNUMBER('Teom ugm3'!D1678),('Teom ugm3'!D1678*'Teom grams'!$F1676*0.000000028317),\"\")","v":""},"","","","",null,"","","",null,"",""]
[null,null,{"$f":"IF('Teom ugm3'!A1679=\"\",\"\",C1676+1)","v":""},"",null,"",null,{"$f":"IF(ISNUMBER('Teom ugm3'!B1679),('Teom ugm3'!B1679*'Teom grams'!$F1677*0.000000028317),\"\")","v":""},{"$f":"IF(ISNUMBER('Teom ugm3'!C1679),('Teom ugm3'!C1679*'Teom grams'!$F1677*0.000000028317),\"\")","v":""},{"$f":"IF(ISNUMBER('Teom ugm3'!D1679),('Teom ugm3'!D1679*'Teom grams'!$F1677*0.000000028317),\"\")","v":""},"","","","",null,"","","",null,"",""]
[null,null,{"$f":"IF('Teom ugm3'!A1680=\"\",\"\",C1677+1)","v":""},"",null,"",null,{"$f":"IF(ISNUMBER('Teom ugm3'!B1680),('Teom ugm3'!B1680*'Teom grams'!$F1678*0.000000028317),\"\")","v":""},{"$f":"IF(ISNUMBER('Teom ugm3'!C1680),('Teom ugm3'!C1680*'Teom grams'!$F1678*0.000000028317),\"\")","v":""},{"$f":"IF(ISNUMBER('Teom ugm3'!D1680),('Teom ugm3'!D1680*'Teom grams'!$F1678*0.000000028317),\"\")","v":""},"","","","",null,"","","",null,"",""]
[null,null,{"$f":"IF('Teom ugm3'!A1681=\"\",\"\",C1678+1)","v":""},"",null,"",null,{"$f":"IF(ISNUMBER('Teom ugm3'!B1681),('Teom ugm3'!B1681*'Teom grams'!$F1679*0.000000028317),\"\")","v":""},{"$f":"IF(ISNUMBER('Teom ugm3'!C1681),('Teom ugm3'!C1681*'Teom grams'!$F1679*0.000000028317),\"\")","v":""},{"$f":"IF(ISNUMBER('Teom ugm3'!D1681),('Teom ugm3'!D1681*'Teom grams'!$F1679*0.000000028317),\"\")","v":""},"","","","",null,"","","",null,"",""]
[null,null,{"$f":"IF('Teom ugm3'!A1682=\"\",\"\",C1679+1)","v":""},"",null,"",null,{"$f":"IF(ISNUMBER('Teom ugm3'!B1682),('Teom ugm3'!B1682*'Teom grams'!$F1680*0.000000028317),\"\")","v":""},{"$f":"IF(ISNUMBER('Teom ugm3'!C1682),('Teom ugm3'!C1682*'Teom grams'!$F1680*0.000000028317),\"\")","v":""},{"$f":"IF(ISNUMBER('Teom ugm3'!D1682),('Teom ugm3'!D1682*'Teom grams'!$F1680*0.000000028317),\"\")","v":""},"","","","",null,"","","",null,"",""]
[null,null,{"$f":"IF('Teom ugm3'!A1683=\"\",\"\",C1680+1)","v":""},"",null,"",null,{"$f":"IF(ISNUMBER('Teom ugm3'!B1683),('Teom ugm3'!B1683*'Teom grams'!$F1681*0.000000028317),\"\")","v":""},{"$f":"IF(ISNUMBER('Teom ugm3'!C1683),('Teom ugm3'!C1683*'Teom grams'!$F1681*0.000000028317),\"\")","v":""},{"$f":"IF(ISNUMBER('Teom ugm3'!D1683),('Teom ugm3'!D1683*'Teom grams'!$F1681*0.000000028317),\"\")","v":""},"","","","",null,"","","",null,"",""]
[null,null,{"$f":"IF('Teom ugm3'!A1684=\"\",\"\",C1681+1)","v":""},"",null,"",null,{"$f":"IF(ISNUMBER('Teom ugm3'!B1684),('Teom ugm3'!B1684*'Teom grams'!$F1682*0.000000028317),\"\")","v":""},{"$f":"IF(ISNUMBER('Teom ugm3'!C1684),('Teom ugm3'!C1684*'Teom grams'!$F1682*0.000000028317),\"\")","v":""},{"$f":"IF(ISNUMBER('Teom ugm3'!D1684),('Teom ugm3'!D1684*'Teom grams'!$F1682*0.000000028317),\"\")","v":""},"","","","",null,"","","",null,"",""]
[null,null,{"$f":"IF('Teom ugm3'!A1685=\"\",\"\",C1682+1)","v":""},"",null,"",null,{"$f":"IF(ISNUMBER('Teom ugm3'!B1685),('Teom ugm3'!B1685*'Teom grams'!$F1683*0.000000028317),\"\")","v":""},{"$f":"IF(ISNUMBER('Teom ugm3'!C1685),('Teom ugm3'!C1685*'Teom grams'!$F1683*0.000000028317),\"\")","v":""},{"$f":"IF(ISNUMBER('Teom ugm3'!D1685),('Teom ugm3'!D1685*'Teom grams'!$F1683*0.000000028317),\"\")","v":""},"","","","",null,"","","",null,"",""]
[null,null,{"$f":"IF('Teom ugm3'!A1686=\"\",\"\",C1683+1)","v":""},"",null,"",null,{"$f":"IF(ISNUMBER('Teom ugm3'!B1686),('Teom ugm3'!B1686*'Teom grams'!$F1684*0.000000028317),\"\")","v":""},{"$f":"IF(ISNUMBER('Teom ugm3'!C1686),('Teom ugm3'!C1686*'Teom grams'!$F1684*0.000000028317),\"\")","v":""},{"$f":"IF(ISNUMBER('Teom ugm3'!D1686),('Teom ugm3'!D1686*'Teom grams'!$F1684*0.000000028317),\"\")","v":""},"","","","",null,"","","",null,"",""]
[null,null,{"$f":"IF('Teom ugm3'!A1687=\"\",\"\",C1684+1)","v":""},"",null,"",null,{"$f":"IF(ISNUMBER('Teom ugm3'!B1687),('Teom ugm3'!B1687*'Teom grams'!$F1685*0.000000028317),\"\")","v":""},{"$f":"IF(ISNUMBER('Teom ugm3'!C1687),('Teom ugm3'!C1687*'Teom grams'!$F1685*0.000000028317),\"\")","v":""},{"$f":"IF(ISNUMBER('Teom ugm3'!D1687),('Teom ugm3'!D1687*'Teom grams'!$F1685*0.000000028317),\"\")","v":""},"","","","",null,"","","",null,"",""]
[null,null,{"$f":"IF('Teom ugm3'!A1688=\"\",\"\",C1685+1)","v":""},"",null,"",null,{"$f":"IF(ISNUMBER('Teom ugm3'!B1688),('Teom ugm3'!B1688*'Teom grams'!$F1686*0.000000028317),\"\")","v":""},{"$f":"IF(ISNUMBER('Teom ugm3'!C1688),('Teom ugm3'!C1688*'Teom grams'!$F1686*0.000000028317),\"\")","v":""},{"$f":"IF(ISNUMBER('Teom ugm3'!D1688),('Teom ugm3'!D1688*'Teom grams'!$F1686*0.000000028317),\"\")","v":""},"","","","",null,"","","",null,"",""]
[null,null,{"$f":"IF('Teom ugm3'!A1689=\"\",\"\",C1686+1)","v":""},"",null,"",null,{"$f":"IF(ISNUMBER('Teom ugm3'!B1689),('Teom ugm3'!B1689*'Teom grams'!$F1687*0.000000028317),\"\")","v":""},{"$f":"IF(ISNUMBER('Teom ugm3'!C1689),('Teom ugm3'!C1689*'Teom grams'!$F1687*0.000000028317),\"\")","v":""},{"$f":"IF(ISNUMBER('Teom ugm3'!D1689),('Teom ugm3'!D1689*'Teom grams'!$F1687*0.000000028317),\"\")","v":""},"","","","",null,"","","",null,"",""]
[null,null,{"$f":"IF('Teom ugm3'!A1690=\"\",\"\",C1687+1)","v":""},"",null,"",null,{"$f":"IF(ISNUMBER('Teom ugm3'!B1690),('Teom ugm3'!B1690*'Teom grams'!$F1688*0.000000028317),\"\")","v":""},{"$f":"IF(ISNUMBER('Teom ugm3'!C1690),('Teom ugm3'!C1690*'Teom grams'!$F1688*0.000000028317),\"\")","v":""},{"$f":"IF(ISNUMBER('Teom ugm3'!D1690),('Teom ugm3'!D1690*'Teom grams'!$F1688*0.000000028317),\"\")","v":""},"","","","",null,"","","",null,"",""]
[null,null,{"$f":"IF('Teom ugm3'!A1691=\"\",\"\",C1688+1)","v":""},"",null,"",null,{"$f":"IF(ISNUMBER('Teom ugm3'!B1691),('Teom ugm3'!B1691*'Teom grams'!$F1689*0.000000028317),\"\")","v":""},{"$f":"IF(ISNUMBER('Teom ugm3'!C1691),('Teom ugm3'!C1691*'Teom grams'!$F1689*0.000000028317),\"\")","v":""},{"$f":"IF(ISNUMBER('Teom ugm3'!D1691),('Teom ugm3'!D1691*'Teom grams'!$F1689*0.000000028317),\"\")","v":""},"","","","",null,"","","",null,"",""]
[null,null,{"$f":"IF('Teom ugm3'!A1692=\"\",\"\",C1689+1)","v":""},"",null,"",null,{"$f":"IF(ISNUMBER('Teom ugm3'!B1692),('Teom ugm3'!B1692*'Teom grams'!$F1690*0.000000028317),\"\")","v":""},{"$f":"IF(ISNUMBER('Teom ugm3'!C1692),('Teom ugm3'!C1692*'Teom grams'!$F1690*0.000000028317),\"\")","v":""},{"$f":"IF(ISNUMBER('Teom ugm3'!D1692),('Teom ugm3'!D1692*'Teom grams'!$F1690*0.000000028317),\"\")","v":""},"","","","",null,"","","",null,"",""]
[null,null,{"$f":"IF('Teom ugm3'!A1693=\"\",\"\",C1690+1)","v":""},"",null,"",null,{"$f":"IF(ISNUMBER('Teom ugm3'!B1693),('Teom ugm3'!B1693*'Teom grams'!$F1691*0.000000028317),\"\")","v":""},{"$f":"IF(ISNUMBER('Teom ugm3'!C1693),('Teom ugm3'!C1693*'Teom grams'!$F1691*0.000000028317),\"\")","v":""},{"$f":"IF(ISNUMBER('Teom ugm3'!D1693),('Teom ugm3'!D1693*'Teom grams'!$F1691*0.000000028317),\"\")","v":""},"","","","",null,"","","",null,"",""]
[null,null,{"$f":"IF('Teom ugm3'!A1694=\"\",\"\",C1691+1)","v":""},"",null,"",null,{"$f":"IF(ISNUMBER('Teom ugm3'!B1694),('Teom ugm3'!B1694*'Teom grams'!$F1692*0.000000028317),\"\")","v":""},{"$f":"IF(ISNUMBER('Teom ugm3'!C1694),('Teom ugm3'!C1694*'Teom grams'!$F1692*0.000000028317),\"\")","v":""},{"$f":"IF(ISNUMBER('Teom ugm3'!D1694),('Teom ugm3'!D1694*'Teom grams'!$F1692*0.000000028317),\"\")","v":""},"","","","",null,"","","",null,"",""]
[null,null,{"$f":"IF('Teom ugm3'!A1695=\"\",\"\",C1692+1)","v":""},"",null,"",null,{"$f":"IF(ISNUMBER('Teom ugm3'!B1695),('Teom ugm3'!B1695*'Teom grams'!$F1693*0.000000028317),\"\")","v":""},{"$f":"IF(ISNUMBER('Teom ugm3'!C1695),('Teom ugm3'!C1695*'Teom grams'!$F1693*0.000000028317),\"\")","v":""},{"$f":"IF(ISNUMBER('Teom ugm3'!D1695),('Teom ugm3'!D1695*'Teom grams'!$F1693*0.000000028317),\"\")","v":""},"","","","",null,"","","",null,"",""]
[null,null,{"$f":"IF('Teom ugm3'!A1696=\"\",\"\",C1693+1)","v":""},"",null,"",null,{"$f":"IF(ISNUMBER('Teom ugm3'!B1696),('Teom ugm3'!B1696*'Teom grams'!$F1694*0.000000028317),\"\")","v":""},{"$f":"IF(ISNUMBER('Teom ugm3'!C1696),('Teom ugm3'!C1696*'Teom grams'!$F1694*0.000000028317),\"\")","v":""},{"$f":"IF(ISNUMBER('Teom ugm3'!D1696),('Teom ugm3'!D1696*'Teom grams'!$F1694*0.000000028317),\"\")","v":""},"","","","",null,"","","",null,"",""]
[null,null,{"$f":"IF('Teom ugm3'!A1697=\"\",\"\",C1694+1)","v":""},"",null,"",null,{"$f":"IF(ISNUMBER('Teom ugm3'!B1697),('Teom ugm3'!B1697*'Teom grams'!$F1695*0.000000028317),\"\")","v":""},{"$f":"IF(ISNUMBER('Teom ugm3'!C1697),('Teom ugm3'!C1697*'Teom grams'!$F1695*0.000000028317),\"\")","v":""},{"$f":"IF(ISNUMBER('Teom ugm3'!D1697),('Teom ugm3'!D1697*'Teom grams'!$F1695*0.000000028317),\"\")","v":""},"","","","",null,"","","",null,"",""]
[null,null,{"$f":"IF('Teom ugm3'!A1698=\"\",\"\",C1695+1)","v":""},"",null,"",null,{"$f":"IF(ISNUMBER('Teom ugm3'!B1698),('Teom ugm3'!B1698*'Teom grams'!$F1696*0.000000028317),\"\")","v":""},{"$f":"IF(ISNUMBER('Teom ugm3'!C1698),('Teom ugm3'!C1698*'Teom grams'!$F1696*0.000000028317),\"\")","v":""},{"$f":"IF(ISNUMBER('Teom ugm3'!D1698),('Teom ugm3'!D1698*'Teom grams'!$F1696*0.000000028317),\"\")","v":""},"","","","",null,"","","",null,"",""]
[null,null,{"$f":"IF('Teom ugm3'!A1699=\"\",\"\",C1696+1)","v":""},"",null,"",null,{"$f":"IF(ISNUMBER('Teom ugm3'!B1699),('Teom ugm3'!B1699*'Teom grams'!$F1697*0.000000028317),\"\")","v":""},{"$f":"IF(ISNUMBER('Teom ugm3'!C1699),('Teom ugm3'!C1699*'Teom grams'!$F1697*0.000000028317),\"\")","v":""},{"$f":"IF(ISNUMBER('Teom ugm3'!D1699),('Teom ugm3'!D1699*'Teom grams'!$F1697*0.000000028317),\"\")","v":""},"","","","",null,"","","",null,"",""]
[null,null,{"$f":"IF('Teom ugm3'!A1700=\"\",\"\",C1697+1)","v":""},"",null,"",null,{"$f":"IF(ISNUMBER('Teom ugm3'!B1700),('Teom ugm3'!B1700*'Teom grams'!$F1698*0.000000028317),\"\")","v":""},{"$f":"IF(ISNUMBER('Teom ugm3'!C1700),('Teom ugm3'!C1700*'Teom grams'!$F1698*0.000000028317),\"\")","v":""},{"$f":"IF(ISNUMBER('Teom ugm3'!D1700),('Teom ugm3'!D1700*'Teom grams'!$F1698*0.000000028317),\"\")","v":""},"","","","",null,"","","",null,"",""]
[null,null,{"$f":"IF('Teom ugm3'!A1701=\"\",\"\",C1698+1)","v":""},"",null,"",null,{"$f":"IF(ISNUMBER('Teom ugm3'!B1701),('Teom ugm3'!B1701*'Teom grams'!$F1699*0.000000028317),\"\")","v":""},{"$f":"IF(ISNUMBER('Teom ugm3'!C1701),('Teom ugm3'!C1701*'Teom grams'!$F1699*0.000000028317),\"\")","v":""},{"$f":"IF(ISNUMBER('Teom ugm3'!D1701),('Teom ugm3'!D1701*'Teom grams'!$F1699*0.000000028317),\"\")","v":""},"","","","",null,"",{"$f":"IF(ISNUMBER(M1699),M1699*60,\"\")","v":""},{"$f":"IF(ISNUMBER(N1699),N1699*60,\"\")","v":""},null,{"$f":"IF(COUNT(C1699:C1758)>59,AVERAGE(P1699:P1758),\"\")","v":""},{"$f":"IF(COUNT(C1699:C1758)>59,AVERAGE(Q1699:Q1758),\"\")","v":""}]
[null,null,{"$f":"IF('Teom ugm3'!A1702=\"\",\"\",C1699+1)","v":""},"",null,"",null,{"$f":"IF(ISNUMBER('Teom ugm3'!B1702),('Teom ugm3'!B1702*'Teom grams'!$F1700*0.000000028317),\"\")","v":""},{"$f":"IF(ISNUMBER('Teom ugm3'!C1702),('Teom ugm3'!C1702*'Teom grams'!$F1700*0.000000028317),\"\")","v":""},{"$f":"IF(ISNUMBER('Teom ugm3'!D1702),('Teom ugm3'!D1702*'Teom grams'!$F1700*0.000000028317),\"\")","v":""},"","","","",null,"","","",null,"",""]
[null,null,{"$f":"IF('Teom ugm3'!A1703=\"\",\"\",C1700+1)","v":""},"",null,"",null,{"$f":"IF(ISNUMBER('Teom ugm3'!B1703),('Teom ugm3'!B1703*'Teom grams'!$F1701*0.000000028317),\"\")","v":""},{"$f":"IF(ISNUMBER('Teom ugm3'!C1703),('Teom ugm3'!C1703*'Teom grams'!$F1701*0.000000028317),\"\")","v":""},{"$f":"IF(ISNUMBER('Teom ugm3'!D1703),('Teom ugm3'!D1703*'Teom grams'!$F1701*0.000000028317),\"\")","v":""},"","","","",null,"","","",null,"",""]
[null,null,{"$f":"IF('Teom ugm3'!A1704=\"\",\"\",C1701+1)","v":""},"",null,"",null,{"$f":"IF(ISNUMBER('Teom ugm3'!B1704),('Teom ugm3'!B1704*'Teom grams'!$F1702*0.000000028317),\"\")","v":""},{"$f":"IF(ISNUMBER('Teom ugm3'!C1704),('Teom ugm3'!C1704*'Teom grams'!$F1702*0.000000028317),\"\")","v":""},{"$f":"IF(ISNUMBER('Teom ugm3'!D1704),('Teom ugm3'!D1704*'Teom grams'!$F1702*0.000000028317),\"\")","v":""},"","","","",null,"","","",null,"",""]
[null,null,{"$f":"IF('Teom ugm3'!A1705=\"\",\"\",C1702+1)","v":""},"",null,"",null,{"$f":"IF(ISNUMBER('Teom ugm3'!B1705),('Teom ugm3'!B1705*'Teom grams'!$F1703*0.000000028317),\"\")","v":""},{"$f":"IF(ISNUMBER('Teom ugm3'!C1705),('Teom ugm3'!C1705*'Teom grams'!$F1703*0.000000028317),\"\")","v":""},{"$f":"IF(ISNUMBER('Teom ugm3'!D1705),('Teom ugm3'!D1705*'Teom grams'!$F1703*0.000000028317),\"\")","v":""},"","","","",null,"","","",null,"",""]
[null,null,{"$f":"IF('Teom ugm3'!A1706=\"\",\"\",C1703+1)","v":""},"",null,"",null,{"$f":"IF(ISNUMBER('Teom ugm3'!B1706),('Teom ugm3'!B1706*'Teom grams'!$F1704*0.000000028317),\"\")","v":""},{"$f":"IF(ISNUMBER('Teom ugm3'!C1706),('Teom ugm3'!C1706*'Teom grams'!$F1704*0.000000028317),\"\")","v":""},{"$f":"IF(ISNUMBER('Teom ugm3'!D1706),('Teom ugm3'!D1706*'Teom grams'!$F1704*0.000000028317),\"\")","v":""},"","","","",null,"","","",null,"",""]
[null,null,{"$f":"IF('Teom ugm3'!A1707=\"\",\"\",C1704+1)","v":""},"",null,"",null,{"$f":"IF(ISNUMBER('Teom ugm3'!B1707),('Teom ugm3'!B1707*'Teom grams'!$F1705*0.000000028317),\"\")","v":""},{"$f":"IF(ISNUMBER('Teom ugm3'!C1707),('Teom ugm3'!C1707*'Teom grams'!$F1705*0.000000028317),\"\")","v":""},{"$f":"IF(ISNUMBER('Teom ugm3'!D1707),('Teom ugm3'!D1707*'Teom grams'!$F1705*0.000000028317),\"\")","v":""},"","","","",null,"","","",null,"",""]
[null,null,{"$f":"IF('Teom ugm3'!A1708=\"\",\"\",C1705+1)","v":""},"",null,"",null,{"$f":"IF(ISNUMBER('Teom ugm3'!B1708),('Teom ugm3'!B1708*'Teom grams'!$F1706*0.000000028317),\"\")","v":""},{"$f":"IF(ISNUMBER('Teom ugm3'!C1708),('Teom ugm3'!C1708*'Teom grams'!$F1706*0.000000028317),\"\")","v":""},{"$f":"IF(ISNUMBER('Teom ugm3'!D1708),('Teom ugm3'!D1708*'Teom grams'!$F1706*0.000000028317),\"\")","v":""},"","","","",null,"","","",null,"",""]
[null,null,{"$f":"IF('Teom ugm3'!A1709=\"\",\"\",C1706+1)","v":""},"",null,"",null,{"$f":"IF(ISNUMBER('Teom ugm3'!B1709),('Teom ugm3'!B1709*'Teom grams'!$F1707*0.000000028317),\"\")","v":""},{"$f":"IF(ISNUMBER('Teom ugm3'!C1709),('Teom ugm3'!C1709*'Teom grams'!$F1707*0.000000028317),\"\")","v":""},{"$f":"IF(ISNUMBER('Teom ugm3'!D1709),('Teom ugm3'!D1709*'Teom grams'!$F1707*0.000000028317),\"\")","v":""},"","","","",null,"","","",null,"",""]
[null,null,{"$f":"IF('Teom ugm3'!A1710=\"\",\"\",C1707+1)","v":""},"",null,"",null,{"$f":"IF(ISNUMBER('Teom ugm3'!B1710),('Teom ugm3'!B1710*'Teom grams'!$F1708*0.000000028317),\"\")","v":""},{"$f":"IF(ISNUMBER('Teom ugm3'!C1710),('Teom ugm3'!C1710*'Teom grams'!$F1708*0.000000028317),\"\")","v":""},{"$f":"IF(ISNUMBER('Teom ugm3'!D1710),('Teom ugm3'!D1710*'Teom grams'!$F1708*0.000000028317),\"\")","v":""},"","","","",null,"","","",null,"",""]
[null,null,{"$f":"IF('Teom ugm3'!A1711=\"\",\"\",C1708+1)","v":""},"",null,"",null,{"$f":"IF(ISNUMBER('Teom ugm3'!B1711),('Teom ugm3'!B1711*'Teom grams'!$F1709*0.000000028317),\"\")","v":""},{"$f":"IF(ISNUMBER('Teom ugm3'!C1711),('Teom ugm3'!C1711*'Teom grams'!$F1709*0.000000028317),\"\")","v":""},{"$f":"IF(ISNUMBER('Teom ugm3'!D1711),('Teom ugm3'!D1711*'Teom grams'!$F1709*0.000000028317),\"\")","v":""},"","","","",null,"","","",null,"",""]
[null,null,{"$f":"IF('Teom ugm3'!A1712=\"\",\"\",C1709+1)","v":""},"",null,"",null,{"$f":"IF(ISNUMBER('Teom ugm3'!B1712),('Teom ugm3'!B1712*'Teom grams'!$F1710*0.000000028317),\"\")","v":""},{"$f":"IF(ISNUMBER('Teom ugm3'!C1712),('Teom ugm3'!C1712*'Teom grams'!$F1710*0.000000028317),\"\")","v":""},{"$f":"IF(ISNUMBER('Teom ugm3'!D1712),('Teom ugm3'!D1712*'Teom grams'!$F1710*0.000000028317),\"\")","v":""},"","","","",null,"","","",null,"",""]
[null,null,{"$f":"IF('Teom ugm3'!A1713=\"\",\"\",C1710+1)","v":""},"",null,"",null,{"$f":"IF(ISNUMBER('Teom ugm3'!B1713),('Teom ugm3'!B1713*'Teom grams'!$F1711*0.000000028317),\"\")","v":""},{"$f":"IF(ISNUMBER('Teom ugm3'!C1713),('Teom ugm3'!C1713*'Teom grams'!$F1711*0.000000028317),\"\")","v":""},{"$f":"IF(ISNUMBER('Teom ugm3'!D1713),('Teom ugm3'!D1713*'Teom grams'!$F1711*0.000000028317),\"\")","v":""},"","","","",null,"","","",null,"",""]
[null,null,{"$f":"IF('Teom ugm3'!A1714=\"\",\"\",C1711+1)","v":""},"",null,"",null,{"$f":"IF(ISNUMBER('Teom ugm3'!B1714),('Teom ugm3'!B1714*'Teom grams'!$F1712*0.000000028317),\"\")","v":""},{"$f":"IF(ISNUMBER('Teom ugm3'!C1714),('Teom ugm3'!C1714*'Teom grams'!$F1712*0.000000028317),\"\")","v":""},{"$f":"IF(ISNUMBER('Teom ugm3'!D1714),('Teom ugm3'!D1714*'Teom grams'!$F1712*0.000000028317),\"\")","v":""},"","","","",null,"","","",null,"",""]
[null,null,{"$f":"IF('Teom ugm3'!A1715=\"\",\"\",C1712+1)","v":""},"",null,"",null,{"$f":"IF(ISNUMBER('Teom ugm3'!B1715),('Teom ugm3'!B1715*'Teom grams'!$F1713*0.000000028317),\"\")","v":""},{"$f":"IF(ISNUMBER('Teom ugm3'!C1715),('Teom ugm3'!C1715*'Teom grams'!$F1713*0.000000028317),\"\")","v":""},{"$f":"IF(ISNUMBER('Teom ugm3'!D1715),('Teom ugm3'!D1715*'Teom grams'!$F1713*0.000000028317),\"\")","v":""},"","","","",null,"","","",null,"",""]
[null,null,{"$f":"IF('Teom ugm3'!A1716=\"\",\"\",C1713+1)","v":""},"",null,"",null,{"$f":"IF(ISNUMBER('Teom ugm3'!B1716),('Teom ugm3'!B1716*'Teom grams'!$F1714*0.000000028317),\"\")","v":""},{"$f":"IF(ISNUMBER('Teom ugm3'!C1716),('Teom ugm3'!C1716*'Teom grams'!$F1714*0.000000028317),\"\")","v":""},{"$f":"IF(ISNUMBER('Teom ugm3'!D1716),('Teom ugm3'!D1716*'Teom grams'!$F1714*0.000000028317),\"\")","v":""},"","","","",null,"","","",null,"",""]
[null,null,{"$f":"IF('Teom ugm3'!A1717=\"\",\"\",C1714+1)","v":""},"",null,"",null,{"$f":"IF(ISNUMBER('Teom ugm3'!B1717),('Teom ugm3'!B1717*'Teom grams'!$F1715*0.000000028317),\"\")","v":""},{"$f":"IF(ISNUMBER('Teom ugm3'!C1717),('Teom ugm3'!C1717*'Teom grams'!$F1715*0.000000028317),\"\")","v":""},{"$f":"IF(ISNUMBER('Teom ugm3'!D1717),('Teom ugm3'!D1717*'Teom grams'!$F1715*0.000000028317),\"\")","v":""},"","","","",null,"","","",null,"",""]
[null,null,{"$f":"IF('Teom ugm3'!A1718=\"\",\"\",C1715+1)","v":""},"",null,"",null,{"$f":"IF(ISNUMBER('Teom ugm3'!B1718),('Teom ugm3'!B1718*'Teom grams'!$F1716*0.000000028317),\"\")","v":""},{"$f":"IF(ISNUMBER('Teom ugm3'!C1718),('Teom ugm3'!C1718*'Teom grams'!$F1716*0.000000028317),\"\")","v":""},{"$f":"IF(ISNUMBER('Teom ugm3'!D1718),('Teom ugm3'!D1718*'Teom grams'!$F1716*0.000000028317),\"\")","v":""},"","","","",null,"","","",null,"",""]
[null,null,{"$f":"IF('Teom ugm3'!A1719=\"\",\"\",C1716+1)","v":""},"",null,"",null,{"$f":"IF(ISNUMBER('Teom ugm3'!B1719),('Teom ugm3'!B1719*'Teom grams'!$F1717*0.000000028317),\"\")","v":""},{"$f":"IF(ISNUMBER('Teom ugm3'!C1719),('Teom ugm3'!C1719*'Teom grams'!$F1717*0.000000028317),\"\")","v":""},{"$f":"IF(ISNUMBER('Teom ugm3'!D1719),('Teom ugm3'!D1719*'Teom grams'!$F1717*0.000000028317),\"\")","v":""},"","","","",null,"","","",null,"",""]
[null,null,{"$f":"IF('Teom ugm3'!A1720=\"\",\"\",C1717+1)","v":""},"",null,"",null,{"$f":"IF(ISNUMBER('Teom ugm3'!B1720),('Teom ugm3'!B1720*'Teom grams'!$F1718*0.000000028317),\"\")","v":""},{"$f":"IF(ISNUMBER('Teom ugm3'!C1720),('Teom ugm3'!C1720*'Teom grams'!$F1718*0.000000028317),\"\")","v":""},{"$f":"IF(ISNUMBER('Teom ugm3'!D1720),('Teom ugm3'!D1720*'Teom grams'!$F1718*0.000000028317),\"\")","v":""},"","","","",null,"","","",null,"",""]
[null,null,{"$f":"IF('Teom ugm3'!A1721=\"\",\"\",C1718+1)","v":""},"",null,"",null,{"$f":"IF(ISNUMBER('Teom ugm3'!B1721),('Teom ugm3'!B1721*'Teom grams'!$F1719*0.000000028317),\"\")","v":""},{"$f":"IF(ISNUMBER('Teom ugm3'!C1721),('Teom ugm3'!C1721*'Teom grams'!$F1719*0.000000028317),\"\")","v":""},{"$f":"IF(ISNUMBER('Teom ugm3'!D1721),('Teom ugm3'!D1721*'Teom grams'!$F1719*0.000000028317),\"\")","v":""},"","","","",null,"","","",null,"",""]
[null,null,{"$f":"IF('Teom ugm3'!A1722=\"\",\"\",C1719+1)","v":""},"",null,"",null,{"$f":"IF(ISNUMBER('Teom ugm3'!B1722),('Teom ugm3'!B1722*'Teom grams'!$F1720*0.000000028317),\"\")","v":""},{"$f":"IF(ISNUMBER('Teom ugm3'!C1722),('Teom ugm3'!C1722*'Teom grams'!$F1720*0.000000028317),\"\")","v":""},{"$f":"IF(ISNUMBER('Teom ugm3'!D1722),('Teom ugm3'!D1722*'Teom grams'!$F1720*0.000000028317),\"\")","v":""},"","","","",null,"","","",null,"",""]
[null,null,{"$f":"IF('Teom ugm3'!A1723=\"\",\"\",C1720+1)","v":""},"",null,"",null,{"$f":"IF(ISNUMBER('Teom ugm3'!B1723),('Teom ugm3'!B1723*'Teom grams'!$F1721*0.000000028317),\"\")","v":""},{"$f":"IF(ISNUMBER('Teom ugm3'!C1723),('Teom ugm3'!C1723*'Teom grams'!$F1721*0.000000028317),\"\")","v":""},{"$f":"IF(ISNUMBER('Teom ugm3'!D1723),('Teom ugm3'!D1723*'Teom grams'!$F1721*0.000000028317),\"\")","v":""},"","","","",null,"","","",null,"",""]
[null,null,{"$f":"IF('Teom ugm3'!A1724=\"\",\"\",C1721+1)","v":""},"",null,"",null,{"$f":"IF(ISNUMBER('Teom ugm3'!B1724),('Teom ugm3'!B1724*'Teom grams'!$F1722*0.000000028317),\"\")","v":""},{"$f":"IF(ISNUMBER('Teom ugm3'!C1724),('Teom ugm3'!C1724*'Teom grams'!$F1722*0.000000028317),\"\")","v":""},{"$f":"IF(ISNUMBER('Teom ugm3'!D1724),('Teom ugm3'!D1724*'Teom grams'!$F1722*0.000000028317),\"\")","v":""},"","","","",null,"","","",null,"",""]
[null,null,{"$f":"IF('Teom ugm3'!A1725=\"\",\"\",C1722+1)","v":""},"",null,"",null,{"$f":"IF(ISNUMBER('Teom ugm3'!B1725),('Teom ugm3'!B1725*'Teom grams'!$F1723*0.000000028317),\"\")","v":""},{"$f":"IF(ISNUMBER('Teom ugm3'!C1725),('Teom ugm3'!C1725*'Teom grams'!$F1723*0.000000028317),\"\")","v":""},{"$f":"IF(ISNUMBER('Teom ugm3'!D1725),('Teom ugm3'!D1725*'Teom grams'!$F1723*0.000000028317),\"\")","v":""},"","","","",null,"","","",null,"",""]
[null,null,{"$f":"IF('Teom ugm3'!A1726=\"\",\"\",C1723+1)","v":""},"",null,"",null,{"$f":"IF(ISNUMBER('Teom ugm3'!B1726),('Teom ugm3'!B1726*'Teom grams'!$F1724*0.000000028317),\"\")","v":""},{"$f":"IF(ISNUMBER('Teom ugm3'!C1726),('Teom ugm3'!C1726*'Teom grams'!$F1724*0.000000028317),\"\")","v":""},{"$f":"IF(ISNUMBER('Teom ugm3'!D1726),('Teom ugm3'!D1726*'Teom grams'!$F1724*0.000000028317),\"\")","v":""},"","","","",null,"","","",null,"",""]
[null,null,{"$f":"IF('Teom ugm3'!A1727=\"\",\"\",C1724+1)","v":""},"",null,"",null,{"$f":"IF(ISNUMBER('Teom ugm3'!B1727),('Teom ugm3'!B1727*'Teom grams'!$F1725*0.000000028317),\"\")","v":""},{"$f":"IF(ISNUMBER('Teom ugm3'!C1727),('Teom ugm3'!C1727*'Teom grams'!$F1725*0.000000028317),\"\")","v":""},{"$f":"IF(ISNUMBER('Teom ugm3'!D1727),('Teom ugm3'!D1727*'Teom grams'!$F1725*0.000000028317),\"\")","v":""},"","","","",null,"","","",null,"",""]
[null,null,{"$f":"IF('Teom ugm3'!A1728=\"\",\"\",C1725+1)","v":""},"",null,"",null,{"$f":"IF(ISNUMBER('Teom ugm3'!B1728),('Teom ugm3'!B1728*'Teom grams'!$F1726*0.000000028317),\"\")","v":""},{"$f":"IF(ISNUMBER('Teom ugm3'!C1728),('Teom ugm3'!C1728*'Teom grams'!$F1726*0.000000028317),\"\")","v":""},{"$f":"IF(ISNUMBER('Teom ugm3'!D1728),('Teom ugm3'!D1728*'Teom grams'!$F1726*0.000000028317),\"\")","v":""},"","","","",null,"","","",null,"",""]
[null,null,{"$f":"IF('Teom ugm3'!A1729=\"\",\"\",C1726+1)","v":""},"",null,"",null,{"$f":"IF(ISNUMBER('Teom ugm3'!B1729),('Teom ugm3'!B1729*'Teom grams'!$F1727*0.000000028317),\"\")","v":""},{"$f":"IF(ISNUMBER('Teom ugm3'!C1729),('Teom ugm3'!C1729*'Teom grams'!$F1727*0.000000028317),\"\")","v":""},{"$f":"IF(ISNUMBER('Teom ugm3'!D1729),('Teom ugm3'!D1729*'Teom grams'!$F1727*0.000000028317),\"\")","v":""},"","","","",null,"","","",null,"",""]
[null,null,{"$f":"IF('Teom ugm3'!A1730=\"\",\"\",C1727+1)","v":""},"",null,"",null,{"$f":"IF(ISNUMBER('Teom ugm3'!B1730),('Teom ugm3'!B1730*'Teom grams'!$F1728*0.000000028317),\"\")","v":""},{"$f":"IF(ISNUMBER('Teom ugm3'!C1730),('Teom ugm3'!C1730*'Teom grams'!$F1728*0.000000028317),\"\")","v":""},{"$f":"IF(ISNUMBER('Teom ugm3'!D1730),('Teom ugm3'!D1730*'Teom grams'!$F1728*0.000000028317),\"\")","v":""},"","","","",null,"","","",null,"",""]
[null,null,{"$f":"IF('Teom ugm3'!A1731=\"\",\"\",C1728+1)","v":""},"",null,"",null,{"$f":"IF(ISNUMBER('Teom ugm3'!B1731),('Teom ugm3'!B1731*'Teom grams'!$F1729*0.000000028317),\"\")","v":""},{"$f":"IF(ISNUMBER('Teom ugm3'!C1731),('Teom ugm3'!C1731*'Teom grams'!$F1729*0.000000028317),\"\")","v":""},{"$f":"IF(ISNUMBER('Teom ugm3'!D1731),('Teom ugm3'!D1731*'Teom grams'!$F1729*0.000000028317),\"\")","v":""},"","","","",null,"","","",null,"",""]
[null,null,{"$f":"IF('Teom ugm3'!A1732=\"\",\"\",C1729+1)","v":""},"",null,"",null,{"$f":"IF(ISNUMBER('Teom ugm3'!B1732),('Teom ugm3'!B1732*'Teom grams'!$F1730*0.000000028317),\"\")","v":""},{"$f":"IF(ISNUMBER('Teom ugm3'!C1732),('Teom ugm3'!C1732*'Teom grams'!$F1730*0.000000028317),\"\")","v":""},{"$f":"IF(ISNUMBER('Teom ugm3'!D1732),('Teom ugm3'!D1732*'Teom grams'!$F1730*0.000000028317),\"\")","v":""},"","","","",null,"","","",null,"",""]
[null,null,{"$f":"IF('Teom ugm3'!A1733=\"\",\"\",C1730+1)","v":""},"",null,"",null,{"$f":"IF(ISNUMBER('Teom ugm3'!B1733),('Teom ugm3'!B1733*'Teom grams'!$F1731*0.000000028317),\"\")","v":""},{"$f":"IF(ISNUMBER('Teom ugm3'!C1733),('Teom ugm3'!C1733*'Teom grams'!$F1731*0.000000028317),\"\")","v":""},{"$f":"IF(ISNUMBER('Teom ugm3'!D1733),('Teom ugm3'!D1733*'Teom grams'!$F1731*0.000000028317),\"\")","v":""},"","","","",null,"","","",null,"",""]
[null,null,{"$f":"IF('Teom ugm3'!A1734=\"\",\"\",C1731+1)","v":""},"",null,"",null,{"$f":"IF(ISNUMBER('Teom ugm3'!B1734),('Teom ugm3'!B1734*'Teom grams'!$F1732*0.000000028317),\"\")","v":""},{"$f":"IF(ISNUMBER('Teom ugm3'!C1734),('Teom ugm3'!C1734*'Teom grams'!$F1732*0.000000028317),\"\")","v":""},{"$f":"IF(ISNUMBER('Teom ugm3'!D1734),('Teom ugm3'!D1734*'Teom grams'!$F1732*0.000000028317),\"\")","v":""},"","","",{"$f":"M1732","v":""},null,"","","",null,"",""]
[null,null,{"$f":"IF('Teom ugm3'!A1735=\"\",\"\",C1732+1)","v":""},"",null,{"$f":"IF(C1733=\"\",\"\",E1733*1.02041)","v":""},null,{"$f":"IF(ISNUMBER('Teom ugm3'!B1735),('Teom ugm3'!B1735*'Teom grams'!$F1733*0.000000028317),\"\")","v":""},{"$f":"IF(ISNUMBER('Teom ugm3'!C1735),('Teom ugm3'!C1735*'Teom grams'!$F1733*0.000000028317),\"\")","v":""},{"$f":"IF(ISNUMBER('Teom ugm3'!D1735),('Teom ugm3'!D1735*'Teom grams'!$F1733*0.000000028317),\"\")","v":""},{"$f":"IF(H1733<0,0,H1733)","v":""},"","","",null,{"$f":"IF(ISNUMBER(J1733),J1733*60,\"\")","v":""},"","",null,"",""]
[null,null,{"$f":"IF('Teom ugm3'!A1736=\"\",\"\",C1733+1)","v":""},{"$f":"IF(C1734=\"\",\"\",D1733 + TIME(0, 1, 0))","v":""},null,"",null,{"$f":"IF(ISNUMBER('Teom ugm3'!B1736),('Teom ugm3'!B1736*'Teom grams'!$F1734*0.000000028317),\"\")","v":""},{"$f":"IF(ISNUMBER('Teom ugm3'!C1736),('Teom ugm3'!C1736*'Teom grams'!$F1734*0.000000028317),\"\")","v":""},{"$f":"IF(ISNUMBER('Teom ugm3'!D1736),('Teom ugm3'!D1736*'Teom grams'!$F1734*0.000000028317),\"\")","v":""},"","","","",null,"","","",null,"",""]
[null,null,{"$f":"IF('Teom ugm3'!A1737=\"\",\"\",C1734+1)","v":""},"",null,"",null,{"$f":"IF(ISNUMBER('Teom ugm3'!B1737),('Teom ugm3'!B1737*'Teom grams'!$F1735*0.000000028317),\"\")","v":""},{"$f":"IF(ISNUMBER('Teom ugm3'!C1737),('Teom ugm3'!C1737*'Teom grams'!$F1735*0.000000028317),\"\")","v":""},{"$f":"IF(ISNUMBER('Teom ugm3'!D1737),('Teom ugm3'!D1737*'Teom grams'!$F1735*0.000000028317),\"\")","v":""},"","","","",null,"","","",null,"",""]
[null,null,{"$f":"IF('Teom ugm3'!A1738=\"\",\"\",C1735+1)","v":""},"",null,"",null,{"$f":"IF(ISNUMBER('Teom ugm3'!B1738),('Teom ugm3'!B1738*'Teom grams'!$F1736*0.000000028317),\"\")","v":""},{"$f":"IF(ISNUMBER('Teom ugm3'!C1738),('Teom ugm3'!C1738*'Teom grams'!$F1736*0.000000028317),\"\")","v":""},{"$f":"IF(ISNUMBER('Teom ugm3'!D1738),('Teom ugm3'!D1738*'Teom grams'!$F1736*0.000000028317),\"\")","v":""},"","","","",null,"","","",null,"",""]
[null,null,{"$f":"IF('Teom ugm3'!A1739=\"\",\"\",C1736+1)","v":""},"",null,"",null,{"$f":"IF(ISNUMBER('Teom ugm3'!B1739),('Teom ugm3'!B1739*'Teom grams'!$F1737*0.000000028317),\"\")","v":""},{"$f":"IF(ISNUMBER('Teom ugm3'!C1739),('Teom ugm3'!C1739*'Teom grams'!$F1737*0.000000028317),\"\")","v":""},{"$f":"IF(ISNUMBER('Teom ugm3'!D1739),('Teom ugm3'!D1739*'Teom grams'!$F1737*0.000000028317),\"\")","v":""},"","","","",null,"","","",null,"",""]
[null,null,{"$f":"IF('Teom ugm3'!A1740=\"\",\"\",C1737+1)","v":""},"",null,"",null,{"$f":"IF(ISNUMBER('Teom ugm3'!B1740),('Teom ugm3'!B1740*'Teom grams'!$F1738*0.000000028317),\"\")","v":""},{"$f":"IF(ISNUMBER('Teom ugm3'!C1740),('Teom ugm3'!C1740*'Teom grams'!$F1738*0.000000028317),\"\")","v":""},{"$f":"IF(ISNUMBER('Teom ugm3'!D1740),('Teom ugm3'!D1740*'Teom grams'!$F1738*0.000000028317),\"\")","v":""},"","","","",null,"","","",null,"",""]
[null,null,{"$f":"IF('Teom ugm3'!A1741=\"\",\"\",C1738+1)","v":""},"",null,"",null,{"$f":"IF(ISNUMBER('Teom ugm3'!B1741),('Teom ugm3'!B1741*'Teom grams'!$F1739*0.000000028317),\"\")","v":""},{"$f":"IF(ISNUMBER('Teom ugm3'!C1741),('Teom ugm3'!C1741*'Teom grams'!$F1739*0.000000028317),\"\")","v":""},{"$f":"IF(ISNUMBER('Teom ugm3'!D1741),('Teom ugm3'!D1741*'Teom grams'!$F1739*0.000000028317),\"\")","v":""},"","",{"$f":"IF(COUNT(K1739:L1739)>0,AVERAGE(K1739:L1739),\"\")","v":""},"",null,"","","",null,"",""]
[null,null,{"$f":"IF('Teom ugm3'!A1742=\"\",\"\",C1739+1)","v":""},"",null,"",null,{"$f":"IF(ISNUMBER('Teom ugm3'!B1742),('Teom ugm3'!B1742*'Teom grams'!$F1740*0.000000028317),\"\")","v":""},{"$f":"IF(ISNUMBER('Teom ugm3'!C1742),('Teom ugm3'!C1742*'Teom grams'!$F1740*0.000000028317),\"\")","v":""},{"$f":"IF(ISNUMBER('Teom ugm3'!D1742),('Teom ugm3'!D1742*'Teom grams'!$F1740*0.000000028317),\"\")","v":""},"","","","",null,"","","",null,"",""]
[null,null,{"$f":"IF('Teom ugm3'!A1743=\"\",\"\",C1740+1)","v":""},"",null,"",null,{"$f":"IF(ISNUMBER('Teom ugm3'!B1743),('Teom ugm3'!B1743*'Teom grams'!$F1741*0.000000028317),\"\")","v":""},{"$f":"IF(ISNUMBER('Teom ugm3'!C1743),('Teom ugm3'!C1743*'Teom grams'!$F1741*0.000000028317),\"\")","v":""},{"$f":"IF(ISNUMBER('Teom ugm3'!D1743),('Teom ugm3'!D1743*'Teom grams'!$F1741*0.000000028317),\"\")","v":""},"","","","",null,"","","",null,"",""]
[null,null,{"$f":"IF('Teom ugm3'!A1744=\"\",\"\",C1741+1)","v":""},"",null,"",null,{"$f":"IF(ISNUMBER('Teom ugm3'!B1744),('Teom ugm3'!B1744*'Teom grams'!$F1742*0.000000028317),\"\")","v":""},{"$f":"IF(ISNUMBER('Teom ugm3'!C1744),('Teom ugm3'!C1744*'Teom grams'!$F1742*0.000000028317),\"\")","v":""},{"$f":"IF(ISNUMBER('Teom ugm3'!D1744),('Teom ugm3'!D1744*'Teom grams'!$F1742*0.000000028317),\"\")","v":""},"","","","",null,"","","",null,"",""]
[null,null,{"$f":"IF('Teom ugm3'!A1745=\"\",\"\",C1742+1)","v":""},"",null,"",null,{"$f":"IF(ISNUMBER('Teom ugm3'!B1745),('Teom ugm3'!B1745*'Teom grams'!$F1743*0.000000028317),\"\")","v":""},{"$f":"IF(ISNUMBER('Teom ugm3'!C1745),('Teom ugm3'!C1745*'Teom grams'!$F1743*0.000000028317),\"\")","v":""},{"$f":"IF(ISNUMBER('Teom ugm3'!D1745),('Teom ugm3'!D1745*'Teom grams'!$F1743*0.000000028317),\"\")","v":""},"","","","",null,"","","",null,"",""]
[null,null,{"$f":"IF('Teom ugm3'!A1746=\"\",\"\",C1743+1)","v":""},"",null,"",null,{"$f":"IF(ISNUMBER('Teom ugm3'!B1746),('Teom ugm3'!B1746*'Teom grams'!$F1744*0.000000028317),\"\")","v":""},{"$f":"IF(ISNUMBER('Teom ugm3'!C1746),('Teom ugm3'!C1746*'Teom grams'!$F1744*0.000000028317),\"\")","v":""},{"$f":"IF(ISNUMBER('Teom ugm3'!D1746),('Teom ugm3'!D1746*'Teom grams'!$F1744*0.000000028317),\"\")","v":""},"","","","",null,"","","",null,"",""]
[null,null,{"$f":"IF('Teom ugm3'!A1747=\"\",\"\",C1744+1)","v":""},"",null,"",null,{"$f":"IF(ISNUMBER('Teom ugm3'!B1747),('Teom ugm3'!B1747*'Teom grams'!$F1745*0.000000028317),\"\")","v":""},{"$f":"IF(ISNUMBER('Teom ugm3'!C1747),('Teom ugm3'!C1747*'Teom grams'!$F1745*0.000000028317),\"\")","v":""},{"$f":"IF(ISNUMBER('Teom ugm3'!D1747),('Teom ugm3'!D1747*'Teom grams'!$F1745*0.000000028317),\"\")","v":""},"","","","",null,"","","",null,"",""]
[null,null,{"$f":"IF('Teom ugm3'!A1748=\"\",\"\",C1745+1)","v":""},"",null,"",null,{"$f":"IF(ISNUMBER('Teom ugm3'!B1748),('Teom ugm3'!B1748*'Teom grams'!$F1746*0.000000028317),\"\")","v":""},{"$f":"IF(ISNUMBER('Teom ugm3'!C1748),('Teom ugm3'!C1748*'Teom grams'!$F1746*0.000000028317),\"\")","v":""},{"$f":"IF(ISNUMBER('Teom ugm3'!D1748),('Teom ugm3'!D1748*'Teom grams'!$F1746*0.000000028317),\"\")","v":""},"","","","",null,"","","",null,"",""]
[null,null,{"$f":"IF('Teom ugm3'!A1749=\"\",\"\",C1746+1)","v":""},"",null,"",null,{"$f":"IF(ISNUMBER('Teom ugm3'!B1749),('Teom ugm3'!B1749*'Teom grams'!$F1747*0.000000028317),\"\")","v":""},{"$f":"IF(ISNUMBER('Teom ugm3'!C1749),('Teom ugm3'!C1749*'Teom grams'!$F1747*0.000000028317),\"\")","v":""},{"$f":"IF(ISNUMBER('Teom ugm3'!D1749),('Teom ugm3'!D1749*'Teom grams'!$F1747*0.000000028317),\"\")","v":""},"","","","",null,"","","",null,"",""]
[null,null,{"$f":"IF('Teom ugm3'!A1750=\"\",\"\",C1747+1)","v":""},"",null,"",null,{"$f":"IF(ISNUMBER('Teom ugm3'!B1750),('Teom ugm3'!B1750*'Teom grams'!$F1748*0.000000028317),\"\")","v":""},{"$f":"IF(ISNUMBER('Teom ugm3'!C1750),('Teom ugm3'!C1750*'Teom grams'!$F1748*0.000000028317),\"\")","v":""},{"$f":"IF(ISNUMBER('Teom ugm3'!D1750),('Teom ugm3'!D1750*'Teom grams'!$F1748*0.000000028317),\"\")","v":""},"","","","",null,"","","",null,"",""]
[null,null,{"$f":"IF('Teom ugm3'!A1751=\"\",\"\",C1748+1)","v":""},"",null,"",null,{"$f":"IF(ISNUMBER('Teom ugm3'!B1751),('Teom ugm3'!B1751*'Teom grams'!$F1749*0.000000028317),\"\")","v":""},{"$f":"IF(ISNUMBER('Teom ugm3'!C1751),('Teom ugm3'!C1751*'Teom grams'!$F1749*0.000000028317),\"\")","v":""},{"$f":"IF(ISNUMBER('Teom ugm3'!D1751),('Teom ugm3'!D1751*'Teom grams'!$F1749*0.000000028317),\"\")","v":""},"","","","",null,"","","",null,"",""]
[null,null,{"$f":"IF('Teom ugm3'!A1752=\"\",\"\",C1749+1)","v":""},"",null,"",null,{"$f":"IF(ISNUMBER('Teom ugm3'!B1752),('Teom ugm3'!B1752*'Teom grams'!$F1750*0.000000028317),\"\")","v":""},{"$f":"IF(ISNUMBER('Teom ugm3'!C1752),('Teom ugm3'!C1752*'Teom grams'!$F1750*0.000000028317),\"\")","v":""},{"$f":"IF(ISNUMBER('Teom ugm3'!D1752),('Teom ugm3'!D1752*'Teom grams'!$F1750*0.000000028317),\"\")","v":""},"","","","",null,"","","",null,"",""]
[null,null,{"$f":"IF('Teom ugm3'!A1753=\"\",\"\",C1750+1)","v":""},"",null,"",null,{"$f":"IF(ISNUMBER('Teom ugm3'!B1753),('Teom ugm3'!B1753*'Teom grams'!$F1751*0.000000028317),\"\")","v":""},{"$f":"IF(ISNUMBER('Teom ugm3'!C1753),('Teom ugm3'!C1753*'Teom grams'!$F1751*0.000000028317),\"\")","v":""},{"$f":"IF(ISNUMBER('Teom ugm3'!D1753),('Teom ugm3'!D1753*'Teom grams'!$F1751*0.000000028317),\"\")","v":""},"","","","",null,"","","",null,"",""]
[null,null,{"$f":"IF('Teom ugm3'!A1754=\"\",\"\",C1751+1)","v":""},"",null,"",null,{"$f":"IF(ISNUMBER('Teom ugm3'!B1754),('Teom ugm3'!B1754*'Teom grams'!$F1752*0.000000028317),\"\")","v":""},{"$f":"IF(ISNUMBER('Teom ugm3'!C1754),('Teom ugm3'!C1754*'Teom grams'!$F1752*0.000000028317),\"\")","v":""},{"$f":"IF(ISNUMBER('Teom ugm3'!D1754),('Teom ugm3'!D1754*'Teom grams'!$F1752*0.000000028317),\"\")","v":""},"","","","",null,"","","",null,"",""]
[null,null,{"$f":"IF('Teom ugm3'!A1755=\"\",\"\",C1752+1)","v":""},"",null,"",null,{"$f":"IF(ISNUMBER('Teom ugm3'!B1755),('Teom ugm3'!B1755*'Teom grams'!$F1753*0.000000028317),\"\")","v":""},{"$f":"IF(ISNUMBER('Teom ugm3'!C1755),('Teom ugm3'!C1755*'Teom grams'!$F1753*0.000000028317),\"\")","v":""},{"$f":"IF(ISNUMBER('Teom ugm3'!D1755),('Teom ugm3'!D1755*'Teom grams'!$F1753*0.000000028317),\"\")","v":""},"","","","",null,"","","",null,"",""]
[null,null,{"$f":"IF('Teom ugm3'!A1756=\"\",\"\",C1753+1)","v":""},"",null,"",null,{"$f":"IF(ISNUMBER('Teom ugm3'!B1756),('Teom ugm3'!B1756*'Teom grams'!$F1754*0.000000028317),\"\")","v":""},{"$f":"IF(ISNUMBER('Teom ugm3'!C1756),('Teom ugm3'!C1756*'Teom grams'!$F1754*0.000000028317),\"\")","v":""},{"$f":"IF(ISNUMBER('Teom ugm3'!D1756),('Teom ugm3'!D1756*'Teom grams'!$F1754*0.000000028317),\"\")","v":""},"","","","",null,"","","",null,"",""]
[null,null,{"$f":"IF('Teom ugm3'!A1757=\"\",\"\",C1754+1)","v":""},"",null,"",null,{"$f":"IF(ISNUMBER('Teom ugm3'!B1757),('Teom ugm3'!B1757*'Teom grams'!$F1755*0.000000028317),\"\")","v":""},{"$f":"IF(ISNUMBER('Teom ugm3'!C1757),('Teom ugm3'!C1757*'Teom grams'!$F1755*0.000000028317),\"\")","v":""},{"$f":"IF(ISNUMBER('Teom ugm3'!D1757),('Teom ugm3'!D1757*'Teom grams'!$F1755*0.000000028317),\"\")","v":""},"","","","",null,"","","",null,"",""]
[null,null,{"$f":"IF('Teom ugm3'!A1758=\"\",\"\",C1755+1)","v":""},"",null,"",null,{"$f":"IF(ISNUMBER('Teom ugm3'!B1758),('Teom ugm3'!B1758*'Teom grams'!$F1756*0.000000028317),\"\")","v":""},{"$f":"IF(ISNUMBER('Teom ugm3'!C1758),('Teom ugm3'!C1758*'Teom grams'!$F1756*0.000000028317),\"\")","v":""},{"$f":"IF(ISNUMBER('Teom ugm3'!D1758),('Teom ugm3'!D1758*'Teom grams'!$F1756*0.000000028317),\"\")","v":""},"","","","",null,"","","",null,"",""]
[null,null,{"$f":"IF('Teom ugm3'!A1759=\"\",\"\",C1756+1)","v":""},"",null,"",null,{"$f":"IF(ISNUMBER('Teom ugm3'!B1759),('Teom ugm3'!B1759*'Teom grams'!$F1757*0.000000028317),\"\")","v":""},{"$f":"IF(ISNUMBER('Teom ugm3'!C1759),('Teom ugm3'!C1759*'Teom grams'!$F1757*0.000000028317),\"\")","v":""},{"$f":"IF(ISNUMBER('Teom ugm3'!D1759),('Teom ugm3'!D1759*'Teom grams'!$F1757*0.000000028317),\"\")","v":""},"","","","",null,"","","",null,"",""]
[null,null,{"$f":"IF('Teom ugm3'!A1760=\"\",\"\",C1757+1)","v":""},"",null,"",null,{"$f":"IF(ISNUMBER('Teom ugm3'!B1760),('Teom ugm3'!B1760*'Teom grams'!$F1758*0.000000028317),\"\")","v":""},{"$f":"IF(ISNUMBER('Teom ugm3'!C1760),('Teom ugm3'!C1760*'Teom grams'!$F1758*0.000000028317),\"\")","v":""},{"$f":"IF(ISNUMBER('Teom ugm3'!D1760),('Teom ugm3'!D1760*'Teom grams'!$F1758*0.000000028317),\"\")","v":""},"","","","",null,"","","",null,"",""]
[null,null,{"$f":"IF('Teom ugm3'!A1761=\"\",\"\",C1758+1)","v":""},"",null,"",null,{"$f":"IF(ISNUMBER('Teom ugm3'!B1761),('Teom ugm3'!B1761*'Teom grams'!$F1759*0.000000028317),\"\")","v":""},{"$f":"IF(ISNUMBER('Teom ugm3'!C1761),('Teom ugm3'!C1761*'Teom grams'!$F1759*0.000000028317),\"\")","v":""},{"$f":"IF(ISNUMBER('Teom ugm3'!D1761),('Teom ugm3'!D1761*'Teom grams'!$F1759*0.000000028317),\"\")","v":""},"","","","",null,"","","",null,"",""]
[null,null,{"$f":"IF('Teom ugm3'!A1762=\"\",\"\",C1759+1)","v":""},"",null,"",null,{"$f":"IF(ISNUMBER('Teom ugm3'!B1762),('Teom ugm3'!B1762*'Teom grams'!$F1760*0.000000028317),\"\")","v":""},{"$f":"IF(ISNUMBER('Teom ugm3'!C1762),('Teom ugm3'!C1762*'Teom grams'!$F1760*0.000000028317),\"\")","v":""},{"$f":"IF(ISNUMBER('Teom ugm3'!D1762),('Teom ugm3'!D1762*'Teom grams'!$F1760*0.000000028317),\"\")","v":""},"","","","",null,"","","",null,"",""]
[null,null,{"$f":"IF('Teom ugm3'!A1763=\"\",\"\",C1760+1)","v":""},"",null,"",null,{"$f":"IF(ISNUMBER('Teom ugm3'!B1763),('Teom ugm3'!B1763*'Teom grams'!$F1761*0.000000028317),\"\")","v":""},{"$f":"IF(ISNUMBER('Teom ugm3'!C1763),('Teom ugm3'!C1763*'Teom grams'!$F1761*0.000000028317),\"\")","v":""},{"$f":"IF(ISNUMBER('Teom ugm3'!D1763),('Teom ugm3'!D1763*'Teom grams'!$F1761*0.000000028317),\"\")","v":""},"","","","",null,"","","",null,"",""]
[null,null,{"$f":"IF('Teom ugm3'!A1764=\"\",\"\",C1761+1)","v":""},"",null,"",null,{"$f":"IF(ISNUMBER('Teom ugm3'!B1764),('Teom ugm3'!B1764*'Teom grams'!$F1762*0.000000028317),\"\")","v":""},{"$f":"IF(ISNUMBER('Teom ugm3'!C1764),('Teom ugm3'!C1764*'Teom grams'!$F1762*0.000000028317),\"\")","v":""},{"$f":"IF(ISNUMBER('Teom ugm3'!D1764),('Teom ugm3'!D1764*'Teom grams'!$F1762*0.000000028317),\"\")","v":""},"","","","",null,"","","",null,"",""]
[null,null,{"$f":"IF('Teom ugm3'!A1765=\"\",\"\",C1762+1)","v":""},"",null,"",null,{"$f":"IF(ISNUMBER('Teom ugm3'!B1765),('Teom ugm3'!B1765*'Teom grams'!$F1763*0.000000028317),\"\")","v":""},{"$f":"IF(ISNUMBER('Teom ugm3'!C1765),('Teom ugm3'!C1765*'Teom grams'!$F1763*0.000000028317),\"\")","v":""},{"$f":"IF(ISNUMBER('Teom ugm3'!D1765),('Teom ugm3'!D1765*'Teom grams'!$F1763*0.000000028317),\"\")","v":""},"","","","",null,"",{"$f":"IF(ISNUMBER(M1763),M1763*60,\"\")","v":""},{"$f":"IF(ISNUMBER(N1763),N1763*60,\"\")","v":""},null,{"$f":"IF(COUNT(C1763:C1822)>59,AVERAGE(P1763:P1822),\"\")","v":""},{"$f":"IF(COUNT(C1763:C1822)>59,AVERAGE(Q1763:Q1822),\"\")","v":""}]
[null,null,{"$f":"IF('Teom ugm3'!A1766=\"\",\"\",C1763+1)","v":""},"",null,"",null,{"$f":"IF(ISNUMBER('Teom ugm3'!B1766),('Teom ugm3'!B1766*'Teom grams'!$F1764*0.000000028317),\"\")","v":""},{"$f":"IF(ISNUMBER('Teom ugm3'!C1766),('Teom ugm3'!C1766*'Teom grams'!$F1764*0.000000028317),\"\")","v":""},{"$f":"IF(ISNUMBER('Teom ugm3'!D1766),('Teom ugm3'!D1766*'Teom grams'!$F1764*0.000000028317),\"\")","v":""},"","","","",null,"","","",null,"",""]
[null,null,{"$f":"IF('Teom ugm3'!A1767=\"\",\"\",C1764+1)","v":""},"",null,"",null,{"$f":"IF(ISNUMBER('Teom ugm3'!B1767),('Teom ugm3'!B1767*'Teom grams'!$F1765*0.000000028317),\"\")","v":""},{"$f":"IF(ISNUMBER('Teom ugm3'!C1767),('Teom ugm3'!C1767*'Teom grams'!$F1765*0.000000028317),\"\")","v":""},{"$f":"IF(ISNUMBER('Teom ugm3'!D1767),('Teom ugm3'!D1767*'Teom grams'!$F1765*0.000000028317),\"\")","v":""},"","","","",null,"","","",null,"",""]
[null,null,{"$f":"IF('Teom ugm3'!A1768=\"\",\"\",C1765+1)","v":""},"",null,"",null,{"$f":"IF(ISNUMBER('Teom ugm3'!B1768),('Teom ugm3'!B1768*'Teom grams'!$F1766*0.000000028317),\"\")","v":""},{"$f":"IF(ISNUMBER('Teom ugm3'!C1768),('Teom ugm3'!C1768*'Teom grams'!$F1766*0.000000028317),\"\")","v":""},{"$f":"IF(ISNUMBER('Teom ugm3'!D1768),('Teom ugm3'!D1768*'Teom grams'!$F1766*0.000000028317),\"\")","v":""},"","","","",null,"","","",null,"",""]
[null,null,{"$f":"IF('Teom ugm3'!A1769=\"\",\"\",C1766+1)","v":""},"",null,"",null,{"$f":"IF(ISNUMBER('Teom ugm3'!B1769),('Teom ugm3'!B1769*'Teom grams'!$F1767*0.000000028317),\"\")","v":""},{"$f":"IF(ISNUMBER('Teom ugm3'!C1769),('Teom ugm3'!C1769*'Teom grams'!$F1767*0.000000028317),\"\")","v":""},{"$f":"IF(ISNUMBER('Teom ugm3'!D1769),('Teom ugm3'!D1769*'Teom grams'!$F1767*0.000000028317),\"\")","v":""},"","","","",null,"","","",null,"",""]
[null,null,{"$f":"IF('Teom ugm3'!A1770=\"\",\"\",C1767+1)","v":""},"",null,"",null,{"$f":"IF(ISNUMBER('Teom ugm3'!B1770),('Teom ugm3'!B1770*'Teom grams'!$F1768*0.000000028317),\"\")","v":""},{"$f":"IF(ISNUMBER('Teom ugm3'!C1770),('Teom ugm3'!C1770*'Teom grams'!$F1768*0.000000028317),\"\")","v":""},{"$f":"IF(ISNUMBER('Teom ugm3'!D1770),('Teom ugm3'!D1770*'Teom grams'!$F1768*0.000000028317),\"\")","v":""},"","","","",null,"","","",null,"",""]
[null,null,{"$f":"IF('Teom ugm3'!A1771=\"\",\"\",C1768+1)","v":""},"",null,"",null,{"$f":"IF(ISNUMBER('Teom ugm3'!B1771),('Teom ugm3'!B1771*'Teom grams'!$F1769*0.000000028317),\"\")","v":""},{"$f":"IF(ISNUMBER('Teom ugm3'!C1771),('Teom ugm3'!C1771*'Teom grams'!$F1769*0.000000028317),\"\")","v":""},{"$f":"IF(ISNUMBER('Teom ugm3'!D1771),('Teom ugm3'!D1771*'Teom grams'!$F1769*0.000000028317),\"\")","v":""},"","","","",null,"","","",null,"",""]
[null,null,{"$f":"IF('Teom ugm3'!A1772=\"\",\"\",C1769+1)","v":""},"",null,"",null,{"$f":"IF(ISNUMBER('Teom ugm3'!B1772),('Teom ugm3'!B1772*'Teom grams'!$F1770*0.000000028317),\"\")","v":""},{"$f":"IF(ISNUMBER('Teom ugm3'!C1772),('Teom ugm3'!C1772*'Teom grams'!$F1770*0.000000028317),\"\")","v":""},{"$f":"IF(ISNUMBER('Teom ugm3'!D1772),('Teom ugm3'!D1772*'Teom grams'!$F1770*0.000000028317),\"\")","v":""},"","","","",null,"","","",null,"",""]
[null,null,{"$f":"IF('Teom ugm3'!A1773=\"\",\"\",C1770+1)","v":""},"",null,"",null,{"$f":"IF(ISNUMBER('Teom ugm3'!B1773),('Teom ugm3'!B1773*'Teom grams'!$F1771*0.000000028317),\"\")","v":""},{"$f":"IF(ISNUMBER('Teom ugm3'!C1773),('Teom ugm3'!C1773*'Teom grams'!$F1771*0.000000028317),\"\")","v":""},{"$f":"IF(ISNUMBER('Teom ugm3'!D1773),('Teom ugm3'!D1773*'Teom grams'!$F1771*0.000000028317),\"\")","v":""},"","","","",null,"","","",null,"",""]
[null,null,{"$f":"IF('Teom ugm3'!A1774=\"\",\"\",C1771+1)","v":""},"",null,"",null,{"$f":"IF(ISNUMBER('Teom ugm3'!B1774),('Teom ugm3'!B1774*'Teom grams'!$F1772*0.000000028317),\"\")","v":""},{"$f":"IF(ISNUMBER('Teom ugm3'!C1774),('Teom ugm3'!C1774*'Teom grams'!$F1772*0.000000028317),\"\")","v":""},{"$f":"IF(ISNUMBER('Teom ugm3'!D1774),('Teom ugm3'!D1774*'Teom grams'!$F1772*0.000000028317),\"\")","v":""},"","","","",null,"","","",null,"",""]
[null,null,{"$f":"IF('Teom ugm3'!A1775=\"\",\"\",C1772+1)","v":""},"",null,"",null,{"$f":"IF(ISNUMBER('Teom ugm3'!B1775),('Teom ugm3'!B1775*'Teom grams'!$F1773*0.000000028317),\"\")","v":""},{"$f":"IF(ISNUMBER('Teom ugm3'!C1775),('Teom ugm3'!C1775*'Teom grams'!$F1773*0.000000028317),\"\")","v":""},{"$f":"IF(ISNUMBER('Teom ugm3'!D1775),('Teom ugm3'!D1775*'Teom grams'!$F1773*0.000000028317),\"\")","v":""},"","","","",null,"","","",null,"",""]
[null,null,{"$f":"IF('Teom ugm3'!A1776=\"\",\"\",C1773+1)","v":""},"",null,"",null,{"$f":"IF(ISNUMBER('Teom ugm3'!B1776),('Teom ugm3'!B1776*'Teom grams'!$F1774*0.000000028317),\"\")","v":""},{"$f":"IF(ISNUMBER('Teom ugm3'!C1776),('Teom ugm3'!C1776*'Teom grams'!$F1774*0.000000028317),\"\")","v":""},{"$f":"IF(ISNUMBER('Teom ugm3'!D1776),('Teom ugm3'!D1776*'Teom grams'!$F1774*0.000000028317),\"\")","v":""},"","","","",null,"","","",null,"",""]
[null,null,{"$f":"IF('Teom ugm3'!A1777=\"\",\"\",C1774+1)","v":""},"",null,"",null,{"$f":"IF(ISNUMBER('Teom ugm3'!B1777),('Teom ugm3'!B1777*'Teom grams'!$F1775*0.000000028317),\"\")","v":""},{"$f":"IF(ISNUMBER('Teom ugm3'!C1777),('Teom ugm3'!C1777*'Teom grams'!$F1775*0.000000028317),\"\")","v":""},{"$f":"IF(ISNUMBER('Teom ugm3'!D1777),('Teom ugm3'!D1777*'Teom grams'!$F1775*0.000000028317),\"\")","v":""},"","","","",null,"","","",null,"",""]
[null,null,{"$f":"IF('Teom ugm3'!A1778=\"\",\"\",C1775+1)","v":""},"",null,"",null,{"$f":"IF(ISNUMBER('Teom ugm3'!B1778),('Teom ugm3'!B1778*'Teom grams'!$F1776*0.000000028317),\"\")","v":""},{"$f":"IF(ISNUMBER('Teom ugm3'!C1778),('Teom ugm3'!C1778*'Teom grams'!$F1776*0.000000028317),\"\")","v":""},{"$f":"IF(ISNUMBER('Teom ugm3'!D1778),('Teom ugm3'!D1778*'Teom grams'!$F1776*0.000000028317),\"\")","v":""},"","","","",null,"","","",null,"",""]
[null,null,{"$f":"IF('Teom ugm3'!A1779=\"\",\"\",C1776+1)","v":""},"",null,"",null,{"$f":"IF(ISNUMBER('Teom ugm3'!B1779),('Teom ugm3'!B1779*'Teom grams'!$F1777*0.000000028317),\"\")","v":""},{"$f":"IF(ISNUMBER('Teom ugm3'!C1779),('Teom ugm3'!C1779*'Teom grams'!$F1777*0.000000028317),\"\")","v":""},{"$f":"IF(ISNUMBER('Teom ugm3'!D1779),('Teom ugm3'!D1779*'Teom grams'!$F1777*0.000000028317),\"\")","v":""},"","","","",null,"","","",null,"",""]
[null,null,{"$f":"IF('Teom ugm3'!A1780=\"\",\"\",C1777+1)","v":""},"",null,"",null,{"$f":"IF(ISNUMBER('Teom ugm3'!B1780),('Teom ugm3'!B1780*'Teom grams'!$F1778*0.000000028317),\"\")","v":""},{"$f":"IF(ISNUMBER('Teom ugm3'!C1780),('Teom ugm3'!C1780*'Teom grams'!$F1778*0.000000028317),\"\")","v":""},{"$f":"IF(ISNUMBER('Teom ugm3'!D1780),('Teom ugm3'!D1780*'Teom grams'!$F1778*0.000000028317),\"\")","v":""},"","","","",null,"","","",null,"",""]
[null,null,{"$f":"IF('Teom ugm3'!A1781=\"\",\"\",C1778+1)","v":""},"",null,"",null,{"$f":"IF(ISNUMBER('Teom ugm3'!B1781),('Teom ugm3'!B1781*'Teom grams'!$F1779*0.000000028317),\"\")","v":""},{"$f":"IF(ISNUMBER('Teom ugm3'!C1781),('Teom ugm3'!C1781*'Teom grams'!$F1779*0.000000028317),\"\")","v":""},{"$f":"IF(ISNUMBER('Teom ugm3'!D1781),('Teom ugm3'!D1781*'Teom grams'!$F1779*0.000000028317),\"\")","v":""},"","","","",null,"","","",null,"",""]
[null,null,{"$f":"IF('Teom ugm3'!A1782=\"\",\"\",C1779+1)","v":""},"",null,"",null,{"$f":"IF(ISNUMBER('Teom ugm3'!B1782),('Teom ugm3'!B1782*'Teom grams'!$F1780*0.000000028317),\"\")","v":""},{"$f":"IF(ISNUMBER('Teom ugm3'!C1782),('Teom ugm3'!C1782*'Teom grams'!$F1780*0.000000028317),\"\")","v":""},{"$f":"IF(ISNUMBER('Teom ugm3'!D1782),('Teom ugm3'!D1782*'Teom grams'!$F1780*0.000000028317),\"\")","v":""},"","","","",null,"","","",null,"",""]
[null,null,{"$f":"IF('Teom ugm3'!A1783=\"\",\"\",C1780+1)","v":""},"",null,"",null,{"$f":"IF(ISNUMBER('Teom ugm3'!B1783),('Teom ugm3'!B1783*'Teom grams'!$F1781*0.000000028317),\"\")","v":""},{"$f":"IF(ISNUMBER('Teom ugm3'!C1783),('Teom ugm3'!C1783*'Teom grams'!$F1781*0.000000028317),\"\")","v":""},{"$f":"IF(ISNUMBER('Teom ugm3'!D1783),('Teom ugm3'!D1783*'Teom grams'!$F1781*0.000000028317),\"\")","v":""},"","","","",null,"","","",null,"",""]
[null,null,{"$f":"IF('Teom ugm3'!A1784=\"\",\"\",C1781+1)","v":""},"",null,"",null,{"$f":"IF(ISNUMBER('Teom ugm3'!B1784),('Teom ugm3'!B1784*'Teom grams'!$F1782*0.000000028317),\"\")","v":""},{"$f":"IF(ISNUMBER('Teom ugm3'!C1784),('Teom ugm3'!C1784*'Teom grams'!$F1782*0.000000028317),\"\")","v":""},{"$f":"IF(ISNUMBER('Teom ugm3'!D1784),('Teom ugm3'!D1784*'Teom grams'!$F1782*0.000000028317),\"\")","v":""},"","","","",null,"","","",null,"",""]
[null,null,{"$f":"IF('Teom ugm3'!A1785=\"\",\"\",C1782+1)","v":""},"",null,"",null,{"$f":"IF(ISNUMBER('Teom ugm3'!B1785),('Teom ugm3'!B1785*'Teom grams'!$F1783*0.000000028317),\"\")","v":""},{"$f":"IF(ISNUMBER('Teom ugm3'!C1785),('Teom ugm3'!C1785*'Teom grams'!$F1783*0.000000028317),\"\")","v":""},{"$f":"IF(ISNUMBER('Teom ugm3'!D1785),('Teom ugm3'!D1785*'Teom grams'!$F1783*0.000000028317),\"\")","v":""},"","","","",null,"","","",null,"",""]
[null,null,{"$f":"IF('Teom ugm3'!A1786=\"\",\"\",C1783+1)","v":""},"",null,"",null,{"$f":"IF(ISNUMBER('Teom ugm3'!B1786),('Teom ugm3'!B1786*'Teom grams'!$F1784*0.000000028317),\"\")","v":""},{"$f":"IF(ISNUMBER('Teom ugm3'!C1786),('Teom ugm3'!C1786*'Teom grams'!$F1784*0.000000028317),\"\")","v":""},{"$f":"IF(ISNUMBER('Teom ugm3'!D1786),('Teom ugm3'!D1786*'Teom grams'!$F1784*0.000000028317),\"\")","v":""},"","","","",null,"","","",null,"",""]
[null,null,{"$f":"IF('Teom ugm3'!A1787=\"\",\"\",C1784+1)","v":""},"",null,"",null,{"$f":"IF(ISNUMBER('Teom ugm3'!B1787),('Teom ugm3'!B1787*'Teom grams'!$F1785*0.000000028317),\"\")","v":""},{"$f":"IF(ISNUMBER('Teom ugm3'!C1787),('Teom ugm3'!C1787*'Teom grams'!$F1785*0.000000028317),\"\")","v":""},{"$f":"IF(ISNUMBER('Teom ugm3'!D1787),('Teom ugm3'!D1787*'Teom grams'!$F1785*0.000000028317),\"\")","v":""},"","","","",null,"","","",null,"",""]
[null,null,{"$f":"IF('Teom ugm3'!A1788=\"\",\"\",C1785+1)","v":""},"",null,"",null,{"$f":"IF(ISNUMBER('Teom ugm3'!B1788),('Teom ugm3'!B1788*'Teom grams'!$F1786*0.000000028317),\"\")","v":""},{"$f":"IF(ISNUMBER('Teom ugm3'!C1788),('Teom ugm3'!C1788*'Teom grams'!$F1786*0.000000028317),\"\")","v":""},{"$f":"IF(ISNUMBER('Teom ugm3'!D1788),('Teom ugm3'!D1788*'Teom grams'!$F1786*0.000000028317),\"\")","v":""},"","","","",null,"","","",null,"",""]
[null,null,{"$f":"IF('Teom ugm3'!A1789=\"\",\"\",C1786+1)","v":""},"",null,"",null,{"$f":"IF(ISNUMBER('Teom ugm3'!B1789),('Teom ugm3'!B1789*'Teom grams'!$F1787*0.000000028317),\"\")","v":""},{"$f":"IF(ISNUMBER('Teom ugm3'!C1789),('Teom ugm3'!C1789*'Teom grams'!$F1787*0.000000028317),\"\")","v":""},{"$f":"IF(ISNUMBER('Teom ugm3'!D1789),('Teom ugm3'!D1789*'Teom grams'!$F1787*0.000000028317),\"\")","v":""},"","","","",null,"","","",null,"",""]
[null,null,{"$f":"IF('Teom ugm3'!A1790=\"\",\"\",C1787+1)","v":""},"",null,"",null,{"$f":"IF(ISNUMBER('Teom ugm3'!B1790),('Teom ugm3'!B1790*'Teom grams'!$F1788*0.000000028317),\"\")","v":""},{"$f":"IF(ISNUMBER('Teom ugm3'!C1790),('Teom ugm3'!C1790*'Teom grams'!$F1788*0.000000028317),\"\")","v":""},{"$f":"IF(ISNUMBER('Teom ugm3'!D1790),('Teom ugm3'!D1790*'Teom grams'!$F1788*0.000000028317),\"\")","v":""},"","","","",null,"","","",null,"",""]
[null,null,{"$f":"IF('Teom ugm3'!A1791=\"\",\"\",C1788+1)","v":""},"",null,"",null,{"$f":"IF(ISNUMBER('Teom ugm3'!B1791),('Teom ugm3'!B1791*'Teom grams'!$F1789*0.000000028317),\"\")","v":""},{"$f":"IF(ISNUMBER('Teom ugm3'!C1791),('Teom ugm3'!C1791*'Teom grams'!$F1789*0.000000028317),\"\")","v":""},{"$f":"IF(ISNUMBER('Teom ugm3'!D1791),('Teom ugm3'!D1791*'Teom grams'!$F1789*0.000000028317),\"\")","v":""},"","","","",null,"","","",null,"",""]
[null,null,{"$f":"IF('Teom ugm3'!A1792=\"\",\"\",C1789+1)","v":""},"",null,"",null,{"$f":"IF(ISNUMBER('Teom ugm3'!B1792),('Teom ugm3'!B1792*'Teom grams'!$F1790*0.000000028317),\"\")","v":""},{"$f":"IF(ISNUMBER('Teom ugm3'!C1792),('Teom ugm3'!C1792*'Teom grams'!$F1790*0.000000028317),\"\")","v":""},{"$f":"IF(ISNUMBER('Teom ugm3'!D1792),('Teom ugm3'!D1792*'Teom grams'!$F1790*0.000000028317),\"\")","v":""},"","","","",null,"","","",null,"",""]
[null,null,{"$f":"IF('Teom ugm3'!A1793=\"\",\"\",C1790+1)","v":""},"",null,"",null,{"$f":"IF(ISNUMBER('Teom ugm3'!B1793),('Teom ugm3'!B1793*'Teom grams'!$F1791*0.000000028317),\"\")","v":""},{"$f":"IF(ISNUMBER('Teom ugm3'!C1793),('Teom ugm3'!C1793*'Teom grams'!$F1791*0.000000028317),\"\")","v":""},{"$f":"IF(ISNUMBER('Teom ugm3'!D1793),('Teom ugm3'!D1793*'Teom grams'!$F1791*0.000000028317),\"\")","v":""},"","","","",null,"","","",null,"",""]
[null,null,{"$f":"IF('Teom ugm3'!A1794=\"\",\"\",C1791+1)","v":""},"",null,"",null,{"$f":"IF(ISNUMBER('Teom ugm3'!B1794),('Teom ugm3'!B1794*'Teom grams'!$F1792*0.000000028317),\"\")","v":""},{"$f":"IF(ISNUMBER('Teom ugm3'!C1794),('Teom ugm3'!C1794*'Teom grams'!$F1792*0.000000028317),\"\")","v":""},{"$f":"IF(ISNUMBER('Teom ugm3'!D1794),('Teom ugm3'!D1794*'Teom grams'!$F1792*0.000000028317),\"\")","v":""},"","","","",null,"","","",null,"",""]
[null,null,{"$f":"IF('Teom ugm3'!A1795=\"\",\"\",C1792+1)","v":""},"",null,"",null,{"$f":"IF(ISNUMBER('Teom ugm3'!B1795),('Teom ugm3'!B1795*'Teom grams'!$F1793*0.000000028317),\"\")","v":""},{"$f":"IF(ISNUMBER('Teom ugm3'!C1795),('Teom ugm3'!C1795*'Teom grams'!$F1793*0.000000028317),\"\")","v":""},{"$f":"IF(ISNUMBER('Teom ugm3'!D1795),('Teom ugm3'!D1795*'Teom grams'!$F1793*0.000000028317),\"\")","v":""},"","","","",null,"","","",null,"",""]
[null,null,{"$f":"IF('Teom ugm3'!A1796=\"\",\"\",C1793+1)","v":""},"",null,"",null,{"$f":"IF(ISNUMBER('Teom ugm3'!B1796),('Teom ugm3'!B1796*'Teom grams'!$F1794*0.000000028317),\"\")","v":""},{"$f":"IF(ISNUMBER('Teom ugm3'!C1796),('Teom ugm3'!C1796*'Teom grams'!$F1794*0.000000028317),\"\")","v":""},{"$f":"IF(ISNUMBER('Teom ugm3'!D1796),('Teom ugm3'!D1796*'Teom grams'!$F1794*0.000000028317),\"\")","v":""},"","","","",null,"","","",null,"",""]
[null,null,{"$f":"IF('Teom ugm3'!A1797=\"\",\"\",C1794+1)","v":""},"",null,"",null,{"$f":"IF(ISNUMBER('Teom ugm3'!B1797),('Teom ugm3'!B1797*'Teom grams'!$F1795*0.000000028317),\"\")","v":""},{"$f":"IF(ISNUMBER('Teom ugm3'!C1797),('Teom ugm3'!C1797*'Teom grams'!$F1795*0.000000028317),\"\")","v":""},{"$f":"IF(ISNUMBER('Teom ugm3'!D1797),('Teom ugm3'!D1797*'Teom grams'!$F1795*0.000000028317),\"\")","v":""},"","","","",null,"","","",null,"",""]
[null,null,{"$f":"IF('Teom ugm3'!A1798=\"\",\"\",C1795+1)","v":""},"",null,"",null,{"$f":"IF(ISNUMBER('Teom ugm3'!B1798),('Teom ugm3'!B1798*'Teom grams'!$F1796*0.000000028317),\"\")","v":""},{"$f":"IF(ISNUMBER('Teom ugm3'!C1798),('Teom ugm3'!C1798*'Teom grams'!$F1796*0.000000028317),\"\")","v":""},{"$f":"IF(ISNUMBER('Teom ugm3'!D1798),('Teom ugm3'!D1798*'Teom grams'!$F1796*0.000000028317),\"\")","v":""},"","","",{"$f":"M1796","v":""},null,"","","",null,"",""]
[null,null,{"$f":"IF('Teom ugm3'!A1799=\"\",\"\",C1796+1)","v":""},"",null,{"$f":"IF(C1797=\"\",\"\",E1797*1.02041)","v":""},null,{"$f":"IF(ISNUMBER('Teom ugm3'!B1799),('Teom ugm3'!B1799*'Teom grams'!$F1797*0.000000028317),\"\")","v":""},{"$f":"IF(ISNUMBER('Teom ugm3'!C1799),('Teom ugm3'!C1799*'Teom grams'!$F1797*0.000000028317),\"\")","v":""},{"$f":"IF(ISNUMBER('Teom ugm3'!D1799),('Teom ugm3'!D1799*'Teom grams'!$F1797*0.000000028317),\"\")","v":""},{"$f":"IF(H1797<0,0,H1797)","v":""},"","","",null,{"$f":"IF(ISNUMBER(J1797),J1797*60,\"\")","v":""},"","",null,"",""]
[null,null,{"$f":"IF('Teom ugm3'!A1800=\"\",\"\",C1797+1)","v":""},{"$f":"IF(C1798=\"\",\"\",D1797 + TIME(0, 1, 0))","v":""},null,"",null,{"$f":"IF(ISNUMBER('Teom ugm3'!B1800),('Teom ugm3'!B1800*'Teom grams'!$F1798*0.000000028317),\"\")","v":""},{"$f":"IF(ISNUMBER('Teom ugm3'!C1800),('Teom ugm3'!C1800*'Teom grams'!$F1798*0.000000028317),\"\")","v":""},{"$f":"IF(ISNUMBER('Teom ugm3'!D1800),('Teom ugm3'!D1800*'Teom grams'!$F1798*0.000000028317),\"\")","v":""},"","","","",null,"","","",null,"",""]
[null,null,{"$f":"IF('Teom ugm3'!A1801=\"\",\"\",C1798+1)","v":""},"",null,"",null,{"$f":"IF(ISNUMBER('Teom ugm3'!B1801),('Teom ugm3'!B1801*'Teom grams'!$F1799*0.000000028317),\"\")","v":""},{"$f":"IF(ISNUMBER('Teom ugm3'!C1801),('Teom ugm3'!C1801*'Teom grams'!$F1799*0.000000028317),\"\")","v":""},{"$f":"IF(ISNUMBER('Teom ugm3'!D1801),('Teom ugm3'!D1801*'Teom grams'!$F1799*0.000000028317),\"\")","v":""},"","","","",null,"","","",null,"",""]
[null,null,{"$f":"IF('Teom ugm3'!A1802=\"\",\"\",C1799+1)","v":""},"",null,"",null,{"$f":"IF(ISNUMBER('Teom ugm3'!B1802),('Teom ugm3'!B1802*'Teom grams'!$F1800*0.000000028317),\"\")","v":""},{"$f":"IF(ISNUMBER('Teom ugm3'!C1802),('Teom ugm3'!C1802*'Teom grams'!$F1800*0.000000028317),\"\")","v":""},{"$f":"IF(ISNUMBER('Teom ugm3'!D1802),('Teom ugm3'!D1802*'Teom grams'!$F1800*0.000000028317),\"\")","v":""},"","","","",null,"","","",null,"",""]
[null,null,{"$f":"IF('Teom ugm3'!A1803=\"\",\"\",C1800+1)","v":""},"",null,"",null,{"$f":"IF(ISNUMBER('Teom ugm3'!B1803),('Teom ugm3'!B1803*'Teom grams'!$F1801*0.000000028317),\"\")","v":""},{"$f":"IF(ISNUMBER('Teom ugm3'!C1803),('Teom ugm3'!C1803*'Teom grams'!$F1801*0.000000028317),\"\")","v":""},{"$f":"IF(ISNUMBER('Teom ugm3'!D1803),('Teom ugm3'!D1803*'Teom grams'!$F1801*0.000000028317),\"\")","v":""},"","","","",null,"","","",null,"",""]
[null,null,{"$f":"IF('Teom ugm3'!A1804=\"\",\"\",C1801+1)","v":""},"",null,"",null,{"$f":"IF(ISNUMBER('Teom ugm3'!B1804),('Teom ugm3'!B1804*'Teom grams'!$F1802*0.000000028317),\"\")","v":""},{"$f":"IF(ISNUMBER('Teom ugm3'!C1804),('Teom ugm3'!C1804*'Teom grams'!$F1802*0.000000028317),\"\")","v":""},{"$f":"IF(ISNUMBER('Teom ugm3'!D1804),('Teom ugm3'!D1804*'Teom grams'!$F1802*0.000000028317),\"\")","v":""},"","","","",null,"","","",null,"",""]
[null,null,{"$f":"IF('Teom ugm3'!A1805=\"\",\"\",C1802+1)","v":""},"",null,"",null,{"$f":"IF(ISNUMBER('Teom ugm3'!B1805),('Teom ugm3'!B1805*'Teom grams'!$F1803*0.000000028317),\"\")","v":""},{"$f":"IF(ISNUMBER('Teom ugm3'!C1805),('Teom ugm3'!C1805*'Teom grams'!$F1803*0.000000028317),\"\")","v":""},{"$f":"IF(ISNUMBER('Teom ugm3'!D1805),('Teom ugm3'!D1805*'Teom grams'!$F1803*0.000000028317),\"\")","v":""},"","",{"$f":"IF(COUNT(K1803:L1803)>0,AVERAGE(K1803:L1803),\"\")","v":""},"",null,"","","",null,"",""]
[null,null,{"$f":"IF('Teom ugm3'!A1806=\"\",\"\",C1803+1)","v":""},"",null,"",null,{"$f":"IF(ISNUMBER('Teom ugm3'!B1806),('Teom ugm3'!B1806*'Teom grams'!$F1804*0.000000028317),\"\")","v":""},{"$f":"IF(ISNUMBER('Teom ugm3'!C1806),('Teom ugm3'!C1806*'Teom grams'!$F1804*0.000000028317),\"\")","v":""},{"$f":"IF(ISNUMBER('Teom ugm3'!D1806),('Teom ugm3'!D1806*'Teom grams'!$F1804*0.000000028317),\"\")","v":""},"","","","",null,"","","",null,"",""]
[null,null,{"$f":"IF('Teom ugm3'!A1807=\"\",\"\",C1804+1)","v":""},"",null,"",null,{"$f":"IF(ISNUMBER('Teom ugm3'!B1807),('Teom ugm3'!B1807*'Teom grams'!$F1805*0.000000028317),\"\")","v":""},{"$f":"IF(ISNUMBER('Teom ugm3'!C1807),('Teom ugm3'!C1807*'Teom grams'!$F1805*0.000000028317),\"\")","v":""},{"$f":"IF(ISNUMBER('Teom ugm3'!D1807),('Teom ugm3'!D1807*'Teom grams'!$F1805*0.000000028317),\"\")","v":""},"","","","",null,"","","",null,"",""]
[null,null,{"$f":"IF('Teom ugm3'!A1808=\"\",\"\",C1805+1)","v":""},"",null,"",null,{"$f":"IF(ISNUMBER('Teom ugm3'!B1808),('Teom ugm3'!B1808*'Teom grams'!$F1806*0.000000028317),\"\")","v":""},{"$f":"IF(ISNUMBER('Teom ugm3'!C1808),('Teom ugm3'!C1808*'Teom grams'!$F1806*0.000000028317),\"\")","v":""},{"$f":"IF(ISNUMBER('Teom ugm3'!D1808),('Teom ugm3'!D1808*'Teom grams'!$F1806*0.000000028317),\"\")","v":""},"","","","",null,"","","",null,"",""]
[null,null,{"$f":"IF('Teom ugm3'!A1809=\"\",\"\",C1806+1)","v":""},"",null,"",null,{"$f":"IF(ISNUMBER('Teom ugm3'!B1809),('Teom ugm3'!B1809*'Teom grams'!$F1807*0.000000028317),\"\")","v":""},{"$f":"IF(ISNUMBER('Teom ugm3'!C1809),('Teom ugm3'!C1809*'Teom grams'!$F1807*0.000000028317),\"\")","v":""},{"$f":"IF(ISNUMBER('Teom ugm3'!D1809),('Teom ugm3'!D1809*'Teom grams'!$F1807*0.000000028317),\"\")","v":""},"","","","",null,"","","",null,"",""]
[null,null,{"$f":"IF('Teom ugm3'!A1810=\"\",\"\",C1807+1)","v":""},"",null,"",null,{"$f":"IF(ISNUMBER('Teom ugm3'!B1810),('Teom ugm3'!B1810*'Teom grams'!$F1808*0.000000028317),\"\")","v":""},{"$f":"IF(ISNUMBER('Teom ugm3'!C1810),('Teom ugm3'!C1810*'Teom grams'!$F1808*0.000000028317),\"\")","v":""},{"$f":"IF(ISNUMBER('Teom ugm3'!D1810),('Teom ugm3'!D1810*'Teom grams'!$F1808*0.000000028317),\"\")","v":""},"","","","",null,"","","",null,"",""]
[null,null,{"$f":"IF('Teom ugm3'!A1811=\"\",\"\",C1808+1)","v":""},"",null,"",null,{"$f":"IF(ISNUMBER('Teom ugm3'!B1811),('Teom ugm3'!B1811*'Teom grams'!$F1809*0.000000028317),\"\")","v":""},{"$f":"IF(ISNUMBER('Teom ugm3'!C1811),('Teom ugm3'!C1811*'Teom grams'!$F1809*0.000000028317),\"\")","v":""},{"$f":"IF(ISNUMBER('Teom ugm3'!D1811),('Teom ugm3'!D1811*'Teom grams'!$F1809*0.000000028317),\"\")","v":""},"","","","",null,"","","",null,"",""]
[null,null,{"$f":"IF('Teom ugm3'!A1812=\"\",\"\",C1809+1)","v":""},"",null,"",null,{"$f":"IF(ISNUMBER('Teom ugm3'!B1812),('Teom ugm3'!B1812*'Teom grams'!$F1810*0.000000028317),\"\")","v":""},{"$f":"IF(ISNUMBER('Teom ugm3'!C1812),('Teom ugm3'!C1812*'Teom grams'!$F1810*0.000000028317),\"\")","v":""},{"$f":"IF(ISNUMBER('Teom ugm3'!D1812),('Teom ugm3'!D1812*'Teom grams'!$F1810*0.000000028317),\"\")","v":""},"","","","",null,"","","",null,"",""]
[null,null,{"$f":"IF('Teom ugm3'!A1813=\"\",\"\",C1810+1)","v":""},"",null,"",null,{"$f":"IF(ISNUMBER('Teom ugm3'!B1813),('Teom ugm3'!B1813*'Teom grams'!$F1811*0.000000028317),\"\")","v":""},{"$f":"IF(ISNUMBER('Teom ugm3'!C1813),('Teom ugm3'!C1813*'Teom grams'!$F1811*0.000000028317),\"\")","v":""},{"$f":"IF(ISNUMBER('Teom ugm3'!D1813),('Teom ugm3'!D1813*'Teom grams'!$F1811*0.000000028317),\"\")","v":""},"","","","",null,"","","",null,"",""]
[null,null,{"$f":"IF('Teom ugm3'!A1814=\"\",\"\",C1811+1)","v":""},"",null,"",null,{"$f":"IF(ISNUMBER('Teom ugm3'!B1814),('Teom ugm3'!B1814*'Teom grams'!$F1812*0.000000028317),\"\")","v":""},{"$f":"IF(ISNUMBER('Teom ugm3'!C1814),('Teom ugm3'!C1814*'Teom grams'!$F1812*0.000000028317),\"\")","v":""},{"$f":"IF(ISNUMBER('Teom ugm3'!D1814),('Teom ugm3'!D1814*'Teom grams'!$F1812*0.000000028317),\"\")","v":""},"","","","",null,"","","",null,"",""]
[null,null,{"$f":"IF('Teom ugm3'!A1815=\"\",\"\",C1812+1)","v":""},"",null,"",null,{"$f":"IF(ISNUMBER('Teom ugm3'!B1815),('Teom ugm3'!B1815*'Teom grams'!$F1813*0.000000028317),\"\")","v":""},{"$f":"IF(ISNUMBER('Teom ugm3'!C1815),('Teom ugm3'!C1815*'Teom grams'!$F1813*0.000000028317),\"\")","v":""},{"$f":"IF(ISNUMBER('Teom ugm3'!D1815),('Teom ugm3'!D1815*'Teom grams'!$F1813*0.000000028317),\"\")","v":""},"","","","",null,"","","",null,"",""]
[null,null,{"$f":"IF('Teom ugm3'!A1816=\"\",\"\",C1813+1)","v":""},"",null,"",null,{"$f":"IF(ISNUMBER('Teom ugm3'!B1816),('Teom ugm3'!B1816*'Teom grams'!$F1814*0.000000028317),\"\")","v":""},{"$f":"IF(ISNUMBER('Teom ugm3'!C1816),('Teom ugm3'!C1816*'Teom grams'!$F1814*0.000000028317),\"\")","v":""},{"$f":"IF(ISNUMBER('Teom ugm3'!D1816),('Teom ugm3'!D1816*'Teom grams'!$F1814*0.000000028317),\"\")","v":""},"","","","",null,"","","",null,"",""]
[null,null,{"$f":"IF('Teom ugm3'!A1817=\"\",\"\",C1814+1)","v":""},"",null,"",null,{"$f":"IF(ISNUMBER('Teom ugm3'!B1817),('Teom ugm3'!B1817*'Teom grams'!$F1815*0.000000028317),\"\")","v":""},{"$f":"IF(ISNUMBER('Teom ugm3'!C1817),('Teom ugm3'!C1817*'Teom grams'!$F1815*0.000000028317),\"\")","v":""},{"$f":"IF(ISNUMBER('Teom ugm3'!D1817),('Teom ugm3'!D1817*'Teom grams'!$F1815*0.000000028317),\"\")","v":""},"","","","",null,"","","",null,"",""]
[null,null,{"$f":"IF('Teom ugm3'!A1818=\"\",\"\",C1815+1)","v":""},"",null,"",null,{"$f":"IF(ISNUMBER('Teom ugm3'!B1818),('Teom ugm3'!B1818*'Teom grams'!$F1816*0.000000028317),\"\")","v":""},{"$f":"IF(ISNUMBER('Teom ugm3'!C1818),('Teom ugm3'!C1818*'Teom grams'!$F1816*0.000000028317),\"\")","v":""},{"$f":"IF(ISNUMBER('Teom ugm3'!D1818),('Teom ugm3'!D1818*'Teom grams'!$F1816*0.000000028317),\"\")","v":""},"","","","",null,"","","",null,"",""]
[null,null,{"$f":"IF('Teom ugm3'!A1819=\"\",\"\",C1816+1)","v":""},"",null,"",null,{"$f":"IF(ISNUMBER('Teom ugm3'!B1819),('Teom ugm3'!B1819*'Teom grams'!$F1817*0.000000028317),\"\")","v":""},{"$f":"IF(ISNUMBER('Teom ugm3'!C1819),('Teom ugm3'!C1819*'Teom grams'!$F1817*0.000000028317),\"\")","v":""},{"$f":"IF(ISNUMBER('Teom ugm3'!D1819),('Teom ugm3'!D1819*'Teom grams'!$F1817*0.000000028317),\"\")","v":""},"","","","",null,"","","",null,"",""]
[null,null,{"$f":"IF('Teom ugm3'!A1820=\"\",\"\",C1817+1)","v":""},"",null,"",null,{"$f":"IF(ISNUMBER('Teom ugm3'!B1820),('Teom ugm3'!B1820*'Teom grams'!$F1818*0.000000028317),\"\")","v":""},{"$f":"IF(ISNUMBER('Teom ugm3'!C1820),('Teom ugm3'!C1820*'Teom grams'!$F1818*0.000000028317),\"\")","v":""},{"$f":"IF(ISNUMBER('Teom ugm3'!D1820),('Teom ugm3'!D1820*'Teom grams'!$F1818*0.000000028317),\"\")","v":""},"","","","",null,"","","",null,"",""]
[null,null,{"$f":"IF('Teom ugm3'!A1821=\"\",\"\",C1818+1)","v":""},"",null,"",null,{"$f":"IF(ISNUMBER('Teom ugm3'!B1821),('Teom ugm3'!B1821*'Teom grams'!$F1819*0.000000028317),\"\")","v":""},{"$f":"IF(ISNUMBER('Teom ugm3'!C1821),('Teom ugm3'!C1821*'Teom grams'!$F1819*0.000000028317),\"\")","v":""},{"$f":"IF(ISNUMBER('Teom ugm3'!D1821),('Teom ugm3'!D1821*'Teom grams'!$F1819*0.000000028317),\"\")","v":""},"","","","",null,"","","",null,"",""]
[null,null,{"$f":"IF('Teom ugm3'!A1822=\"\",\"\",C1819+1)","v":""},"",null,"",null,{"$f":"IF(ISNUMBER('Teom ugm3'!B1822),('Teom ugm3'!B1822*'Teom grams'!$F1820*0.000000028317),\"\")","v":""},{"$f":"IF(ISNUMBER('Teom ugm3'!C1822),('Teom ugm3'!C1822*'Teom grams'!$F1820*0.000000028317),\"\")","v":""},{"$f":"IF(ISNUMBER('Teom ugm3'!D1822),('Teom ugm3'!D1822*'Teom grams'!$F1820*0.000000028317),\"\")","v":""},"","","","",null,"","","",null,"",""]
[null,null,{"$f":"IF('Teom ugm3'!A1823=\"\",\"\",C1820+1)","v":""},"",null,"",null,{"$f":"IF(ISNUMBER('Teom ugm3'!B1823),('Teom ugm3'!B1823*'Teom grams'!$F1821*0.000000028317),\"\")","v":""},{"$f":"IF(ISNUMBER('Teom ugm3'!C1823),('Teom ugm3'!C1823*'Teom grams'!$F1821*0.000000028317),\"\")","v":""},{"$f":"IF(ISNUMBER('Teom ugm3'!D1823),('Teom ugm3'!D1823*'Teom grams'!$F1821*0.000000028317),\"\")","v":""},"","","","",null,"","","",null,"",""]
[null,null,{"$f":"IF('Teom ugm3'!A1824=\"\",\"\",C1821+1)","v":""},"",null,"",null,{"$f":"IF(ISNUMBER('Teom ugm3'!B1824),('Teom ugm3'!B1824*'Teom grams'!$F1822*0.000000028317),\"\")","v":""},{"$f":"IF(ISNUMBER('Teom ugm3'!C1824),('Teom ugm3'!C1824*'Teom grams'!$F1822*0.000000028317),\"\")","v":""},{"$f":"IF(ISNUMBER('Teom ugm3'!D1824),('Teom ugm3'!D1824*'Teom grams'!$F1822*0.000000028317),\"\")","v":""},"","","","",null,"","","",null,"",""]
[null,null,{"$f":"IF('Teom ugm3'!A1825=\"\",\"\",C1822+1)","v":""},"",null,"",null,{"$f":"IF(ISNUMBER('Teom ugm3'!B1825),('Teom ugm3'!B1825*'Teom grams'!$F1823*0.000000028317),\"\")","v":""},{"$f":"IF(ISNUMBER('Teom ugm3'!C1825),('Teom ugm3'!C1825*'Teom grams'!$F1823*0.000000028317),\"\")","v":""},{"$f":"IF(ISNUMBER('Teom ugm3'!D1825),('Teom ugm3'!D1825*'Teom grams'!$F1823*0.000000028317),\"\")","v":""},"","","","",null,"","","",null,"",""]
[null,null,{"$f":"IF('Teom ugm3'!A1826=\"\",\"\",C1823+1)","v":""},"",null,"",null,{"$f":"IF(ISNUMBER('Teom ugm3'!B1826),('Teom ugm3'!B1826*'Teom grams'!$F1824*0.000000028317),\"\")","v":""},{"$f":"IF(ISNUMBER('Teom ugm3'!C1826),('Teom ugm3'!C1826*'Teom grams'!$F1824*0.000000028317),\"\")","v":""},{"$f":"IF(ISNUMBER('Teom ugm3'!D1826),('Teom ugm3'!D1826*'Teom grams'!$F1824*0.000000028317),\"\")","v":""},"","","","",null,"","","",null,"",""]
[null,null,{"$f":"IF('Teom ugm3'!A1827=\"\",\"\",C1824+1)","v":""},"",null,"",null,{"$f":"IF(ISNUMBER('Teom ugm3'!B1827),('Teom ugm3'!B1827*'Teom grams'!$F1825*0.000000028317),\"\")","v":""},{"$f":"IF(ISNUMBER('Teom ugm3'!C1827),('Teom ugm3'!C1827*'Teom grams'!$F1825*0.000000028317),\"\")","v":""},{"$f":"IF(ISNUMBER('Teom ugm3'!D1827),('Teom ugm3'!D1827*'Teom grams'!$F1825*0.000000028317),\"\")","v":""},"","","","",null,"","","",null,"",""]
[null,null,{"$f":"IF('Teom ugm3'!A1828=\"\",\"\",C1825+1)","v":""},"",null,"",null,{"$f":"IF(ISNUMBER('Teom ugm3'!B1828),('Teom ugm3'!B1828*'Teom grams'!$F1826*0.000000028317),\"\")","v":""},{"$f":"IF(ISNUMBER('Teom ugm3'!C1828),('Teom ugm3'!C1828*'Teom grams'!$F1826*0.000000028317),\"\")","v":""},{"$f":"IF(ISNUMBER('Teom ugm3'!D1828),('Teom ugm3'!D1828*'Teom grams'!$F1826*0.000000028317),\"\")","v":""},"","","","",null,"","","",null,"",""]
[null,null,{"$f":"IF('Teom ugm3'!A1829=\"\",\"\",C1826+1)","v":""},"",null,"",null,{"$f":"IF(ISNUMBER('Teom ugm3'!B1829),('Teom ugm3'!B1829*'Teom grams'!$F1827*0.000000028317),\"\")","v":""},{"$f":"IF(ISNUMBER('Teom ugm3'!C1829),('Teom ugm3'!C1829*'Teom grams'!$F1827*0.000000028317),\"\")","v":""},{"$f":"IF(ISNUMBER('Teom ugm3'!D1829),('Teom ugm3'!D1829*'Teom grams'!$F1827*0.000000028317),\"\")","v":""},"","","","",null,"",{"$f":"IF(ISNUMBER(M1827),M1827*60,\"\")","v":""},{"$f":"IF(ISNUMBER(N1827),N1827*60,\"\")","v":""},null,{"$f":"IF(COUNT(C1827:C1886)>59,AVERAGE(P1827:P1886),\"\")","v":""},{"$f":"IF(COUNT(C1827:C1886)>59,AVERAGE(Q1827:Q1886),\"\")","v":""}]
[null,null,{"$f":"IF('Teom ugm3'!A1830=\"\",\"\",C1827+1)","v":""},"",null,"",null,{"$f":"IF(ISNUMBER('Teom ugm3'!B1830),('Teom ugm3'!B1830*'Teom grams'!$F1828*0.000000028317),\"\")","v":""},{"$f":"IF(ISNUMBER('Teom ugm3'!C1830),('Teom ugm3'!C1830*'Teom grams'!$F1828*0.000000028317),\"\")","v":""},{"$f":"IF(ISNUMBER('Teom ugm3'!D1830),('Teom ugm3'!D1830*'Teom grams'!$F1828*0.000000028317),\"\")","v":""},"","","","",null,"","","",null,"",""]
[null,null,{"$f":"IF('Teom ugm3'!A1831=\"\",\"\",C1828+1)","v":""},"",null,"",null,{"$f":"IF(ISNUMBER('Teom ugm3'!B1831),('Teom ugm3'!B1831*'Teom grams'!$F1829*0.000000028317),\"\")","v":""},{"$f":"IF(ISNUMBER('Teom ugm3'!C1831),('Teom ugm3'!C1831*'Teom grams'!$F1829*0.000000028317),\"\")","v":""},{"$f":"IF(ISNUMBER('Teom ugm3'!D1831),('Teom ugm3'!D1831*'Teom grams'!$F1829*0.000000028317),\"\")","v":""},"","","","",null,"","","",null,"",""]
[null,null,{"$f":"IF('Teom ugm3'!A1832=\"\",\"\",C1829+1)","v":""},"",null,"",null,{"$f":"IF(ISNUMBER('Teom ugm3'!B1832),('Teom ugm3'!B1832*'Teom grams'!$F1830*0.000000028317),\"\")","v":""},{"$f":"IF(ISNUMBER('Teom ugm3'!C1832),('Teom ugm3'!C1832*'Teom grams'!$F1830*0.000000028317),\"\")","v":""},{"$f":"IF(ISNUMBER('Teom ugm3'!D1832),('Teom ugm3'!D1832*'Teom grams'!$F1830*0.000000028317),\"\")","v":""},"","","","",null,"","","",null,"",""]
[null,null,{"$f":"IF('Teom ugm3'!A1833=\"\",\"\",C1830+1)","v":""},"",null,"",null,{"$f":"IF(ISNUMBER('Teom ugm3'!B1833),('Teom ugm3'!B1833*'Teom grams'!$F1831*0.000000028317),\"\")","v":""},{"$f":"IF(ISNUMBER('Teom ugm3'!C1833),('Teom ugm3'!C1833*'Teom grams'!$F1831*0.000000028317),\"\")","v":""},{"$f":"IF(ISNUMBER('Teom ugm3'!D1833),('Teom ugm3'!D1833*'Teom grams'!$F1831*0.000000028317),\"\")","v":""},"","","","",null,"","","",null,"",""]
[null,null,{"$f":"IF('Teom ugm3'!A1834=\"\",\"\",C1831+1)","v":""},"",null,"",null,{"$f":"IF(ISNUMBER('Teom ugm3'!B1834),('Teom ugm3'!B1834*'Teom grams'!$F1832*0.000000028317),\"\")","v":""},{"$f":"IF(ISNUMBER('Teom ugm3'!C1834),('Teom ugm3'!C1834*'Teom grams'!$F1832*0.000000028317),\"\")","v":""},{"$f":"IF(ISNUMBER('Teom ugm3'!D1834),('Teom ugm3'!D1834*'Teom grams'!$F1832*0.000000028317),\"\")","v":""},"","","","",null,"","","",null,"",""]
[null,null,{"$f":"IF('Teom ugm3'!A1835=\"\",\"\",C1832+1)","v":""},"",null,"",null,{"$f":"IF(ISNUMBER('Teom ugm3'!B1835),('Teom ugm3'!B1835*'Teom grams'!$F1833*0.000000028317),\"\")","v":""},{"$f":"IF(ISNUMBER('Teom ugm3'!C1835),('Teom ugm3'!C1835*'Teom grams'!$F1833*0.000000028317),\"\")","v":""},{"$f":"IF(ISNUMBER('Teom ugm3'!D1835),('Teom ugm3'!D1835*'Teom grams'!$F1833*0.000000028317),\"\")","v":""},"","","","",null,"","","",null,"",""]
[null,null,{"$f":"IF('Teom ugm3'!A1836=\"\",\"\",C1833+1)","v":""},"",null,"",null,{"$f":"IF(ISNUMBER('Teom ugm3'!B1836),('Teom ugm3'!B1836*'Teom grams'!$F1834*0.000000028317),\"\")","v":""},{"$f":"IF(ISNUMBER('Teom ugm3'!C1836),('Teom ugm3'!C1836*'Teom grams'!$F1834*0.000000028317),\"\")","v":""},{"$f":"IF(ISNUMBER('Teom ugm3'!D1836),('Teom ugm3'!D1836*'Teom grams'!$F1834*0.000000028317),\"\")","v":""},"","","","",null,"","","",null,"",""]
[null,null,{"$f":"IF('Teom ugm3'!A1837=\"\",\"\",C1834+1)","v":""},"",null,"",null,{"$f":"IF(ISNUMBER('Teom ugm3'!B1837),('Teom ugm3'!B1837*'Teom grams'!$F1835*0.000000028317),\"\")","v":""},{"$f":"IF(ISNUMBER('Teom ugm3'!C1837),('Teom ugm3'!C1837*'Teom grams'!$F1835*0.000000028317),\"\")","v":""},{"$f":"IF(ISNUMBER('Teom ugm3'!D1837),('Teom ugm3'!D1837*'Teom grams'!$F1835*0.000000028317),\"\")","v":""},"","","","",null,"","","",null,"",""]
[null,null,{"$f":"IF('Teom ugm3'!A1838=\"\",\"\",C1835+1)","v":""},"",null,"",null,{"$f":"IF(ISNUMBER('Teom ugm3'!B1838),('Teom ugm3'!B1838*'Teom grams'!$F1836*0.000000028317),\"\")","v":""},{"$f":"IF(ISNUMBER('Teom ugm3'!C1838),('Teom ugm3'!C1838*'Teom grams'!$F1836*0.000000028317),\"\")","v":""},{"$f":"IF(ISNUMBER('Teom ugm3'!D1838),('Teom ugm3'!D1838*'Teom grams'!$F1836*0.000000028317),\"\")","v":""},"","","","",null,"","","",null,"",""]
[null,null,{"$f":"IF('Teom ugm3'!A1839=\"\",\"\",C1836+1)","v":""},"",null,"",null,{"$f":"IF(ISNUMBER('Teom ugm3'!B1839),('Teom ugm3'!B1839*'Teom grams'!$F1837*0.000000028317),\"\")","v":""},{"$f":"IF(ISNUMBER('Teom ugm3'!C1839),('Teom ugm3'!C1839*'Teom grams'!$F1837*0.000000028317),\"\")","v":""},{"$f":"IF(ISNUMBER('Teom ugm3'!D1839),('Teom ugm3'!D1839*'Teom grams'!$F1837*0.000000028317),\"\")","v":""},"","","","",null,"","","",null,"",""]
[null,null,{"$f":"IF('Teom ugm3'!A1840=\"\",\"\",C1837+1)","v":""},"",null,"",null,{"$f":"IF(ISNUMBER('Teom ugm3'!B1840),('Teom ugm3'!B1840*'Teom grams'!$F1838*0.000000028317),\"\")","v":""},{"$f":"IF(ISNUMBER('Teom ugm3'!C1840),('Teom ugm3'!C1840*'Teom grams'!$F1838*0.000000028317),\"\")","v":""},{"$f":"IF(ISNUMBER('Teom ugm3'!D1840),('Teom ugm3'!D1840*'Teom grams'!$F1838*0.000000028317),\"\")","v":""},"","","","",null,"","","",null,"",""]
[null,null,{"$f":"IF('Teom ugm3'!A1841=\"\",\"\",C1838+1)","v":""},"",null,"",null,{"$f":"IF(ISNUMBER('Teom ugm3'!B1841),('Teom ugm3'!B1841*'Teom grams'!$F1839*0.000000028317),\"\")","v":""},{"$f":"IF(ISNUMBER('Teom ugm3'!C1841),('Teom ugm3'!C1841*'Teom grams'!$F1839*0.000000028317),\"\")","v":""},{"$f":"IF(ISNUMBER('Teom ugm3'!D1841),('Teom ugm3'!D1841*'Teom grams'!$F1839*0.000000028317),\"\")","v":""},"","","","",null,"","","",null,"",""]
[null,null,{"$f":"IF('Teom ugm3'!A1842=\"\",\"\",C1839+1)","v":""},"",null,"",null,{"$f":"IF(ISNUMBER('Teom ugm3'!B1842),('Teom ugm3'!B1842*'Teom grams'!$F1840*0.000000028317),\"\")","v":""},{"$f":"IF(ISNUMBER('Teom ugm3'!C1842),('Teom ugm3'!C1842*'Teom grams'!$F1840*0.000000028317),\"\")","v":""},{"$f":"IF(ISNUMBER('Teom ugm3'!D1842),('Teom ugm3'!D1842*'Teom grams'!$F1840*0.000000028317),\"\")","v":""},"","","","",null,"","","",null,"",""]
[null,null,{"$f":"IF('Teom ugm3'!A1843=\"\",\"\",C1840+1)","v":""},"",null,"",null,{"$f":"IF(ISNUMBER('Teom ugm3'!B1843),('Teom ugm3'!B1843*'Teom grams'!$F1841*0.000000028317),\"\")","v":""},{"$f":"IF(ISNUMBER('Teom ugm3'!C1843),('Teom ugm3'!C1843*'Teom grams'!$F1841*0.000000028317),\"\")","v":""},{"$f":"IF(ISNUMBER('Teom ugm3'!D1843),('Teom ugm3'!D1843*'Teom grams'!$F1841*0.000000028317),\"\")","v":""},"","","","",null,"","","",null,"",""]
[null,null,{"$f":"IF('Teom ugm3'!A1844=\"\",\"\",C1841+1)","v":""},"",null,"",null,{"$f":"IF(ISNUMBER('Teom ugm3'!B1844),('Teom ugm3'!B1844*'Teom grams'!$F1842*0.000000028317),\"\")","v":""},{"$f":"IF(ISNUMBER('Teom ugm3'!C1844),('Teom ugm3'!C1844*'Teom grams'!$F1842*0.000000028317),\"\")","v":""},{"$f":"IF(ISNUMBER('Teom ugm3'!D1844),('Teom ugm3'!D1844*'Teom grams'!$F1842*0.000000028317),\"\")","v":""},"","","","",null,"","","",null,"",""]
[null,null,{"$f":"IF('Teom ugm3'!A1845=\"\",\"\",C1842+1)","v":""},"",null,"",null,{"$f":"IF(ISNUMBER('Teom ugm3'!B1845),('Teom ugm3'!B1845*'Teom grams'!$F1843*0.000000028317),\"\")","v":""},{"$f":"IF(ISNUMBER('Teom ugm3'!C1845),('Teom ugm3'!C1845*'Teom grams'!$F1843*0.000000028317),\"\")","v":""},{"$f":"IF(ISNUMBER('Teom ugm3'!D1845),('Teom ugm3'!D1845*'Teom grams'!$F1843*0.000000028317),\"\")","v":""},"","","","",null,"","","",null,"",""]
[null,null,{"$f":"IF('Teom ugm3'!A1846=\"\",\"\",C1843+1)","v":""},"",null,"",null,{"$f":"IF(ISNUMBER('Teom ugm3'!B1846),('Teom ugm3'!B1846*'Teom grams'!$F1844*0.000000028317),\"\")","v":""},{"$f":"IF(ISNUMBER('Teom ugm3'!C1846),('Teom ugm3'!C1846*'Teom grams'!$F1844*0.000000028317),\"\")","v":""},{"$f":"IF(ISNUMBER('Teom ugm3'!D1846),('Teom ugm3'!D1846*'Teom grams'!$F1844*0.000000028317),\"\")","v":""},"","","","",null,"","","",null,"",""]
[null,null,{"$f":"IF('Teom ugm3'!A1847=\"\",\"\",C1844+1)","v":""},"",null,"",null,{"$f":"IF(ISNUMBER('Teom ugm3'!B1847),('Teom ugm3'!B1847*'Teom grams'!$F1845*0.000000028317),\"\")","v":""},{"$f":"IF(ISNUMBER('Teom ugm3'!C1847),('Teom ugm3'!C1847*'Teom grams'!$F1845*0.000000028317),\"\")","v":""},{"$f":"IF(ISNUMBER('Teom ugm3'!D1847),('Teom ugm3'!D1847*'Teom grams'!$F1845*0.000000028317),\"\")","v":""},"","","","",null,"","","",null,"",""]
[null,null,{"$f":"IF('Teom ugm3'!A1848=\"\",\"\",C1845+1)","v":""},"",null,"",null,{"$f":"IF(ISNUMBER('Teom ugm3'!B1848),('Teom ugm3'!B1848*'Teom grams'!$F1846*0.000000028317),\"\")","v":""},{"$f":"IF(ISNUMBER('Teom ugm3'!C1848),('Teom ugm3'!C1848*'Teom grams'!$F1846*0.000000028317),\"\")","v":""},{"$f":"IF(ISNUMBER('Teom ugm3'!D1848),('Teom ugm3'!D1848*'Teom grams'!$F1846*0.000000028317),\"\")","v":""},"","","","",null,"","","",null,"",""]
[null,null,{"$f":"IF('Teom ugm3'!A1849=\"\",\"\",C1846+1)","v":""},"",null,"",null,{"$f":"IF(ISNUMBER('Teom ugm3'!B1849),('Teom ugm3'!B1849*'Teom grams'!$F1847*0.000000028317),\"\")","v":""},{"$f":"IF(ISNUMBER('Teom ugm3'!C1849),('Teom ugm3'!C1849*'Teom grams'!$F1847*0.000000028317),\"\")","v":""},{"$f":"IF(ISNUMBER('Teom ugm3'!D1849),('Teom ugm3'!D1849*'Teom grams'!$F1847*0.000000028317),\"\")","v":""},"","","","",null,"","","",null,"",""]
[null,null,{"$f":"IF('Teom ugm3'!A1850=\"\",\"\",C1847+1)","v":""},"",null,"",null,{"$f":"IF(ISNUMBER('Teom ugm3'!B1850),('Teom ugm3'!B1850*'Teom grams'!$F1848*0.000000028317),\"\")","v":""},{"$f":"IF(ISNUMBER('Teom ugm3'!C1850),('Teom ugm3'!C1850*'Teom grams'!$F1848*0.000000028317),\"\")","v":""},{"$f":"IF(ISNUMBER('Teom ugm3'!D1850),('Teom ugm3'!D1850*'Teom grams'!$F1848*0.000000028317),\"\")","v":""},"","","","",null,"","","",null,"",""]
[null,null,{"$f":"IF('Teom ugm3'!A1851=\"\",\"\",C1848+1)","v":""},"",null,"",null,{"$f":"IF(ISNUMBER('Teom ugm3'!B1851),('Teom ugm3'!B1851*'Teom grams'!$F1849*0.000000028317),\"\")","v":""},{"$f":"IF(ISNUMBER('Teom ugm3'!C1851),('Teom ugm3'!C1851*'Teom grams'!$F1849*0.000000028317),\"\")","v":""},{"$f":"IF(ISNUMBER('Teom ugm3'!D1851),('Teom ugm3'!D1851*'Teom grams'!$F1849*0.000000028317),\"\")","v":""},"","","","",null,"","","",null,"",""]
[null,null,{"$f":"IF('Teom ugm3'!A1852=\"\",\"\",C1849+1)","v":""},"",null,"",null,{"$f":"IF(ISNUMBER('Teom ugm3'!B1852),('Teom ugm3'!B1852*'Teom grams'!$F1850*0.000000028317),\"\")","v":""},{"$f":"IF(ISNUMBER('Teom ugm3'!C1852),('Teom ugm3'!C1852*'Teom grams'!$F1850*0.000000028317),\"\")","v":""},{"$f":"IF(ISNUMBER('Teom ugm3'!D1852),('Teom ugm3'!D1852*'Teom grams'!$F1850*0.000000028317),\"\")","v":""},"","","","",null,"","","",null,"",""]
[null,null,{"$f":"IF('Teom ugm3'!A1853=\"\",\"\",C1850+1)","v":""},"",null,"",null,{"$f":"IF(ISNUMBER('Teom ugm3'!B1853),('Teom ugm3'!B1853*'Teom grams'!$F1851*0.000000028317),\"\")","v":""},{"$f":"IF(ISNUMBER('Teom ugm3'!C1853),('Teom ugm3'!C1853*'Teom grams'!$F1851*0.000000028317),\"\")","v":""},{"$f":"IF(ISNUMBER('Teom ugm3'!D1853),('Teom ugm3'!D1853*'Teom grams'!$F1851*0.000000028317),\"\")","v":""},"","","","",null,"","","",null,"",""]
[null,null,{"$f":"IF('Teom ugm3'!A1854=\"\",\"\",C1851+1)","v":""},"",null,"",null,{"$f":"IF(ISNUMBER('Teom ugm3'!B1854),('Teom ugm3'!B1854*'Teom grams'!$F1852*0.000000028317),\"\")","v":""},{"$f":"IF(ISNUMBER('Teom ugm3'!C1854),('Teom ugm3'!C1854*'Teom grams'!$F1852*0.000000028317),\"\")","v":""},{"$f":"IF(ISNUMBER('Teom ugm3'!D1854),('Teom ugm3'!D1854*'Teom grams'!$F1852*0.000000028317),\"\")","v":""},"","","","",null,"","","",null,"",""]
[null,null,{"$f":"IF('Teom ugm3'!A1855=\"\",\"\",C1852+1)","v":""},"",null,"",null,{"$f":"IF(ISNUMBER('Teom ugm3'!B1855),('Teom ugm3'!B1855*'Teom grams'!$F1853*0.000000028317),\"\")","v":""},{"$f":"IF(ISNUMBER('Teom ugm3'!C1855),('Teom ugm3'!C1855*'Teom grams'!$F1853*0.000000028317),\"\")","v":""},{"$f":"IF(ISNUMBER('Teom ugm3'!D1855),('Teom ugm3'!D1855*'Teom grams'!$F1853*0.000000028317),\"\")","v":""},"","","","",null,"","","",null,"",""]
[null,null,{"$f":"IF('Teom ugm3'!A1856=\"\",\"\",C1853+1)","v":""},"",null,"",null,{"$f":"IF(ISNUMBER('Teom ugm3'!B1856),('Teom ugm3'!B1856*'Teom grams'!$F1854*0.000000028317),\"\")","v":""},{"$f":"IF(ISNUMBER('Teom ugm3'!C1856),('Teom ugm3'!C1856*'Teom grams'!$F1854*0.000000028317),\"\")","v":""},{"$f":"IF(ISNUMBER('Teom ugm3'!D1856),('Teom ugm3'!D1856*'Teom grams'!$F1854*0.000000028317),\"\")","v":""},"","","","",null,"","","",null,"",""]
[null,null,{"$f":"IF('Teom ugm3'!A1857=\"\",\"\",C1854+1)","v":""},"",null,"",null,{"$f":"IF(ISNUMBER('Teom ugm3'!B1857),('Teom ugm3'!B1857*'Teom grams'!$F1855*0.000000028317),\"\")","v":""},{"$f":"IF(ISNUMBER('Teom ugm3'!C1857),('Teom ugm3'!C1857*'Teom grams'!$F1855*0.000000028317),\"\")","v":""},{"$f":"IF(ISNUMBER('Teom ugm3'!D1857),('Teom ugm3'!D1857*'Teom grams'!$F1855*0.000000028317),\"\")","v":""},"","","","",null,"","","",null,"",""]
[null,null,{"$f":"IF('Teom ugm3'!A1858=\"\",\"\",C1855+1)","v":""},"",null,"",null,{"$f":"IF(ISNUMBER('Teom ugm3'!B1858),('Teom ugm3'!B1858*'Teom grams'!$F1856*0.000000028317),\"\")","v":""},{"$f":"IF(ISNUMBER('Teom ugm3'!C1858),('Teom ugm3'!C1858*'Teom grams'!$F1856*0.000000028317),\"\")","v":""},{"$f":"IF(ISNUMBER('Teom ugm3'!D1858),('Teom ugm3'!D1858*'Teom grams'!$F1856*0.000000028317),\"\")","v":""},"","","","",null,"","","",null,"",""]
[null,null,{"$f":"IF('Teom ugm3'!A1859=\"\",\"\",C1856+1)","v":""},"",null,"",null,{"$f":"IF(ISNUMBER('Teom ugm3'!B1859),('Teom ugm3'!B1859*'Teom grams'!$F1857*0.000000028317),\"\")","v":""},{"$f":"IF(ISNUMBER('Teom ugm3'!C1859),('Teom ugm3'!C1859*'Teom grams'!$F1857*0.000000028317),\"\")","v":""},{"$f":"IF(ISNUMBER('Teom ugm3'!D1859),('Teom ugm3'!D1859*'Teom grams'!$F1857*0.000000028317),\"\")","v":""},"","","","",null,"","","",null,"",""]
[null,null,{"$f":"IF('Teom ugm3'!A1860=\"\",\"\",C1857+1)","v":""},"",null,"",null,{"$f":"IF(ISNUMBER('Teom ugm3'!B1860),('Teom ugm3'!B1860*'Teom grams'!$F1858*0.000000028317),\"\")","v":""},{"$f":"IF(ISNUMBER('Teom ugm3'!C1860),('Teom ugm3'!C1860*'Teom grams'!$F1858*0.000000028317),\"\")","v":""},{"$f":"IF(ISNUMBER('Teom ugm3'!D1860),('Teom ugm3'!D1860*'Teom grams'!$F1858*0.000000028317),\"\")","v":""},"","","","",null,"","","",null,"",""]
[null,null,{"$f":"IF('Teom ugm3'!A1861=\"\",\"\",C1858+1)","v":""},"",null,"",null,{"$f":"IF(ISNUMBER('Teom ugm3'!B1861),('Teom ugm3'!B1861*'Teom grams'!$F1859*0.000000028317),\"\")","v":""},{"$f":"IF(ISNUMBER('Teom ugm3'!C1861),('Teom ugm3'!C1861*'Teom grams'!$F1859*0.000000028317),\"\")","v":""},{"$f":"IF(ISNUMBER('Teom ugm3'!D1861),('Teom ugm3'!D1861*'Teom grams'!$F1859*0.000000028317),\"\")","v":""},"","","","",null,"","","",null,"",""]
[null,null,{"$f":"IF('Teom ugm3'!A1862=\"\",\"\",C1859+1)","v":""},"",null,"",null,{"$f":"IF(ISNUMBER('Teom ugm3'!B1862),('Teom ugm3'!B1862*'Teom grams'!$F1860*0.000000028317),\"\")","v":""},{"$f":"IF(ISNUMBER('Teom ugm3'!C1862),('Teom ugm3'!C1862*'Teom grams'!$F1860*0.000000028317),\"\")","v":""},{"$f":"IF(ISNUMBER('Teom ugm3'!D1862),('Teom ugm3'!D1862*'Teom grams'!$F1860*0.000000028317),\"\")","v":""},"","","",{"$f":"M1860","v":""},null,"","","",null,"",""]
[null,null,{"$f":"IF('Teom ugm3'!A1863=\"\",\"\",C1860+1)","v":""},"",null,{"$f":"IF(C1861=\"\",\"\",E1861*1.02041)","v":""},null,{"$f":"IF(ISNUMBER('Teom ugm3'!B1863),('Teom ugm3'!B1863*'Teom grams'!$F1861*0.000000028317),\"\")","v":""},{"$f":"IF(ISNUMBER('Teom ugm3'!C1863),('Teom ugm3'!C1863*'Teom grams'!$F1861*0.000000028317),\"\")","v":""},{"$f":"IF(ISNUMBER('Teom ugm3'!D1863),('Teom ugm3'!D1863*'Teom grams'!$F1861*0.000000028317),\"\")","v":""},{"$f":"IF(H1861<0,0,H1861)","v":""},"","","",null,{"$f":"IF(ISNUMBER(J1861),J1861*60,\"\")","v":""},"","",null,"",""]
[null,null,{"$f":"IF('Teom ugm3'!A1864=\"\",\"\",C1861+1)","v":""},{"$f":"IF(C1862=\"\",\"\",D1861 + TIME(0, 1, 0))","v":""},null,"",null,{"$f":"IF(ISNUMBER('Teom ugm3'!B1864),('Teom ugm3'!B1864*'Teom grams'!$F1862*0.000000028317),\"\")","v":""},{"$f":"IF(ISNUMBER('Teom ugm3'!C1864),('Teom ugm3'!C1864*'Teom grams'!$F1862*0.000000028317),\"\")","v":""},{"$f":"IF(ISNUMBER('Teom ugm3'!D1864),('Teom ugm3'!D1864*'Teom grams'!$F1862*0.000000028317),\"\")","v":""},"","","","",null,"","","",null,"",""]
[null,null,{"$f":"IF('Teom ugm3'!A1865=\"\",\"\",C1862+1)","v":""},"",null,"",null,{"$f":"IF(ISNUMBER('Teom ugm3'!B1865),('Teom ugm3'!B1865*'Teom grams'!$F1863*0.000000028317),\"\")","v":""},{"$f":"IF(ISNUMBER('Teom ugm3'!C1865),('Teom ugm3'!C1865*'Teom grams'!$F1863*0.000000028317),\"\")","v":""},{"$f":"IF(ISNUMBER('Teom ugm3'!D1865),('Teom ugm3'!D1865*'Teom grams'!$F1863*0.000000028317),\"\")","v":""},"","","","",null,"","","",null,"",""]
[null,null,{"$f":"IF('Teom ugm3'!A1866=\"\",\"\",C1863+1)","v":""},"",null,"",null,{"$f":"IF(ISNUMBER('Teom ugm3'!B1866),('Teom ugm3'!B1866*'Teom grams'!$F1864*0.000000028317),\"\")","v":""},{"$f":"IF(ISNUMBER('Teom ugm3'!C1866),('Teom ugm3'!C1866*'Teom grams'!$F1864*0.000000028317),\"\")","v":""},{"$f":"IF(ISNUMBER('Teom ugm3'!D1866),('Teom ugm3'!D1866*'Teom grams'!$F1864*0.000000028317),\"\")","v":""},"","","","",null,"","","",null,"",""]
[null,null,{"$f":"IF('Teom ugm3'!A1867=\"\",\"\",C1864+1)","v":""},"",null,"",null,{"$f":"IF(ISNUMBER('Teom ugm3'!B1867),('Teom ugm3'!B1867*'Teom grams'!$F1865*0.000000028317),\"\")","v":""},{"$f":"IF(ISNUMBER('Teom ugm3'!C1867),('Teom ugm3'!C1867*'Teom grams'!$F1865*0.000000028317),\"\")","v":""},{"$f":"IF(ISNUMBER('Teom ugm3'!D1867),('Teom ugm3'!D1867*'Teom grams'!$F1865*0.000000028317),\"\")","v":""},"","","","",null,"","","",null,"",""]
[null,null,{"$f":"IF('Teom ugm3'!A1868=\"\",\"\",C1865+1)","v":""},"",null,"",null,{"$f":"IF(ISNUMBER('Teom ugm3'!B1868),('Teom ugm3'!B1868*'Teom grams'!$F1866*0.000000028317),\"\")","v":""},{"$f":"IF(ISNUMBER('Teom ugm3'!C1868),('Teom ugm3'!C1868*'Teom grams'!$F1866*0.000000028317),\"\")","v":""},{"$f":"IF(ISNUMBER('Teom ugm3'!D1868),('Teom ugm3'!D1868*'Teom grams'!$F1866*0.000000028317),\"\")","v":""},"","","","",null,"","","",null,"",""]
[null,null,{"$f":"IF('Teom ugm3'!A1869=\"\",\"\",C1866+1)","v":""},"",null,"",null,{"$f":"IF(ISNUMBER('Teom ugm3'!B1869),('Teom ugm3'!B1869*'Teom grams'!$F1867*0.000000028317),\"\")","v":""},{"$f":"IF(ISNUMBER('Teom ugm3'!C1869),('Teom ugm3'!C1869*'Teom grams'!$F1867*0.000000028317),\"\")","v":""},{"$f":"IF(ISNUMBER('Teom ugm3'!D1869),('Teom ugm3'!D1869*'Teom grams'!$F1867*0.000000028317),\"\")","v":""},"","",{"$f":"IF(COUNT(K1867:L1867)>0,AVERAGE(K1867:L1867),\"\")","v":""},"",null,"","","",null,"",""]
[null,null,{"$f":"IF('Teom ugm3'!A1870=\"\",\"\",C1867+1)","v":""},"",null,"",null,{"$f":"IF(ISNUMBER('Teom ugm3'!B1870),('Teom ugm3'!B1870*'Teom grams'!$F1868*0.000000028317),\"\")","v":""},{"$f":"IF(ISNUMBER('Teom ugm3'!C1870),('Teom ugm3'!C1870*'Teom grams'!$F1868*0.000000028317),\"\")","v":""},{"$f":"IF(ISNUMBER('Teom ugm3'!D1870),('Teom ugm3'!D1870*'Teom grams'!$F1868*0.000000028317),\"\")","v":""},"","","","",null,"","","",null,"",""]
[null,null,{"$f":"IF('Teom ugm3'!A1871=\"\",\"\",C1868+1)","v":""},"",null,"",null,{"$f":"IF(ISNUMBER('Teom ugm3'!B1871),('Teom ugm3'!B1871*'Teom grams'!$F1869*0.000000028317),\"\")","v":""},{"$f":"IF(ISNUMBER('Teom ugm3'!C1871),('Teom ugm3'!C1871*'Teom grams'!$F1869*0.000000028317),\"\")","v":""},{"$f":"IF(ISNUMBER('Teom ugm3'!D1871),('Teom ugm3'!D1871*'Teom grams'!$F1869*0.000000028317),\"\")","v":""},"","","","",null,"","","",null,"",""]
[null,null,{"$f":"IF('Teom ugm3'!A1872=\"\",\"\",C1869+1)","v":""},"",null,"",null,{"$f":"IF(ISNUMBER('Teom ugm3'!B1872),('Teom ugm3'!B1872*'Teom grams'!$F1870*0.000000028317),\"\")","v":""},{"$f":"IF(ISNUMBER('Teom ugm3'!C1872),('Teom ugm3'!C1872*'Teom grams'!$F1870*0.000000028317),\"\")","v":""},{"$f":"IF(ISNUMBER('Teom ugm3'!D1872),('Teom ugm3'!D1872*'Teom grams'!$F1870*0.000000028317),\"\")","v":""},"","","","",null,"","","",null,"",""]
[null,null,{"$f":"IF('Teom ugm3'!A1873=\"\",\"\",C1870+1)","v":""},"",null,"",null,{"$f":"IF(ISNUMBER('Teom ugm3'!B1873),('Teom ugm3'!B1873*'Teom grams'!$F1871*0.000000028317),\"\")","v":""},{"$f":"IF(ISNUMBER('Teom ugm3'!C1873),('Teom ugm3'!C1873*'Teom grams'!$F1871*0.000000028317),\"\")","v":""},{"$f":"IF(ISNUMBER('Teom ugm3'!D1873),('Teom ugm3'!D1873*'Teom grams'!$F1871*0.000000028317),\"\")","v":""},"","","","",null,"","","",null,"",""]
[null,null,{"$f":"IF('Teom ugm3'!A1874=\"\",\"\",C1871+1)","v":""},"",null,"",null,{"$f":"IF(ISNUMBER('Teom ugm3'!B1874),('Teom ugm3'!B1874*'Teom grams'!$F1872*0.000000028317),\"\")","v":""},{"$f":"IF(ISNUMBER('Teom ugm3'!C1874),('Teom ugm3'!C1874*'Teom grams'!$F1872*0.000000028317),\"\")","v":""},{"$f":"IF(ISNUMBER('Teom ugm3'!D1874),('Teom ugm3'!D1874*'Teom grams'!$F1872*0.000000028317),\"\")","v":""},"","","","",null,"","","",null,"",""]
[null,null,{"$f":"IF('Teom ugm3'!A1875=\"\",\"\",C1872+1)","v":""},"",null,"",null,{"$f":"IF(ISNUMBER('Teom ugm3'!B1875),('Teom ugm3'!B1875*'Teom grams'!$F1873*0.000000028317),\"\")","v":""},{"$f":"IF(ISNUMBER('Teom ugm3'!C1875),('Teom ugm3'!C1875*'Teom grams'!$F1873*0.000000028317),\"\")","v":""},{"$f":"IF(ISNUMBER('Teom ugm3'!D1875),('Teom ugm3'!D1875*'Teom grams'!$F1873*0.000000028317),\"\")","v":""},"","","","",null,"","","",null,"",""]
[null,null,{"$f":"IF('Teom ugm3'!A1876=\"\",\"\",C1873+1)","v":""},"",null,"",null,{"$f":"IF(ISNUMBER('Teom ugm3'!B1876),('Teom ugm3'!B1876*'Teom grams'!$F1874*0.000000028317),\"\")","v":""},{"$f":"IF(ISNUMBER('Teom ugm3'!C1876),('Teom ugm3'!C1876*'Teom grams'!$F1874*0.000000028317),\"\")","v":""},{"$f":"IF(ISNUMBER('Teom ugm3'!D1876),('Teom ugm3'!D1876*'Teom grams'!$F1874*0.000000028317),\"\")","v":""},"","","","",null,"","","",null,"",""]
[null,null,{"$f":"IF('Teom ugm3'!A1877=\"\",\"\",C1874+1)","v":""},"",null,"",null,{"$f":"IF(ISNUMBER('Teom ugm3'!B1877),('Teom ugm3'!B1877*'Teom grams'!$F1875*0.000000028317),\"\")","v":""},{"$f":"IF(ISNUMBER('Teom ugm3'!C1877),('Teom ugm3'!C1877*'Teom grams'!$F1875*0.000000028317),\"\")","v":""},{"$f":"IF(ISNUMBER('Teom ugm3'!D1877),('Teom ugm3'!D1877*'Teom grams'!$F1875*0.000000028317),\"\")","v":""},"","","","",null,"","","",null,"",""]
[null,null,{"$f":"IF('Teom ugm3'!A1878=\"\",\"\",C1875+1)","v":""},"",null,"",null,{"$f":"IF(ISNUMBER('Teom ugm3'!B1878),('Teom ugm3'!B1878*'Teom grams'!$F1876*0.000000028317),\"\")","v":""},{"$f":"IF(ISNUMBER('Teom ugm3'!C1878),('Teom ugm3'!C1878*'Teom grams'!$F1876*0.000000028317),\"\")","v":""},{"$f":"IF(ISNUMBER('Teom ugm3'!D1878),('Teom ugm3'!D1878*'Teom grams'!$F1876*0.000000028317),\"\")","v":""},"","","","",null,"","","",null,"",""]
[null,null,{"$f":"IF('Teom ugm3'!A1879=\"\",\"\",C1876+1)","v":""},"",null,"",null,{"$f":"IF(ISNUMBER('Teom ugm3'!B1879),('Teom ugm3'!B1879*'Teom grams'!$F1877*0.000000028317),\"\")","v":""},{"$f":"IF(ISNUMBER('Teom ugm3'!C1879),('Teom ugm3'!C1879*'Teom grams'!$F1877*0.000000028317),\"\")","v":""},{"$f":"IF(ISNUMBER('Teom ugm3'!D1879),('Teom ugm3'!D1879*'Teom grams'!$F1877*0.000000028317),\"\")","v":""},"","","","",null,"","","",null,"",""]
[null,null,{"$f":"IF('Teom ugm3'!A1880=\"\",\"\",C1877+1)","v":""},"",null,"",null,{"$f":"IF(ISNUMBER('Teom ugm3'!B1880),('Teom ugm3'!B1880*'Teom grams'!$F1878*0.000000028317),\"\")","v":""},{"$f":"IF(ISNUMBER('Teom ugm3'!C1880),('Teom ugm3'!C1880*'Teom grams'!$F1878*0.000000028317),\"\")","v":""},{"$f":"IF(ISNUMBER('Teom ugm3'!D1880),('Teom ugm3'!D1880*'Teom grams'!$F1878*0.000000028317),\"\")","v":""},"","","","",null,"","","",null,"",""]
[null,null,{"$f":"IF('Teom ugm3'!A1881=\"\",\"\",C1878+1)","v":""},"",null,"",null,{"$f":"IF(ISNUMBER('Teom ugm3'!B1881),('Teom ugm3'!B1881*'Teom grams'!$F1879*0.000000028317),\"\")","v":""},{"$f":"IF(ISNUMBER('Teom ugm3'!C1881),('Teom ugm3'!C1881*'Teom grams'!$F1879*0.000000028317),\"\")","v":""},{"$f":"IF(ISNUMBER('Teom ugm3'!D1881),('Teom ugm3'!D1881*'Teom grams'!$F1879*0.000000028317),\"\")","v":""},"","","","",null,"","","",null,"",""]
[null,null,{"$f":"IF('Teom ugm3'!A1882=\"\",\"\",C1879+1)","v":""},"",null,"",null,{"$f":"IF(ISNUMBER('Teom ugm3'!B1882),('Teom ugm3'!B1882*'Teom grams'!$F1880*0.000000028317),\"\")","v":""},{"$f":"IF(ISNUMBER('Teom ugm3'!C1882),('Teom ugm3'!C1882*'Teom grams'!$F1880*0.000000028317),\"\")","v":""},{"$f":"IF(ISNUMBER('Teom ugm3'!D1882),('Teom ugm3'!D1882*'Teom grams'!$F1880*0.000000028317),\"\")","v":""},"","","","",null,"","","",null,"",""]
[null,null,{"$f":"IF('Teom ugm3'!A1883=\"\",\"\",C1880+1)","v":""},"",null,"",null,{"$f":"IF(ISNUMBER('Teom ugm3'!B1883),('Teom ugm3'!B1883*'Teom grams'!$F1881*0.000000028317),\"\")","v":""},{"$f":"IF(ISNUMBER('Teom ugm3'!C1883),('Teom ugm3'!C1883*'Teom grams'!$F1881*0.000000028317),\"\")","v":""},{"$f":"IF(ISNUMBER('Teom ugm3'!D1883),('Teom ugm3'!D1883*'Teom grams'!$F1881*0.000000028317),\"\")","v":""},"","","","",null,"","","",null,"",""]
[null,null,{"$f":"IF('Teom ugm3'!A1884=\"\",\"\",C1881+1)","v":""},"",null,"",null,{"$f":"IF(ISNUMBER('Teom ugm3'!B1884),('Teom ugm3'!B1884*'Teom grams'!$F1882*0.000000028317),\"\")","v":""},{"$f":"IF(ISNUMBER('Teom ugm3'!C1884),('Teom ugm3'!C1884*'Teom grams'!$F1882*0.000000028317),\"\")","v":""},{"$f":"IF(ISNUMBER('Teom ugm3'!D1884),('Teom ugm3'!D1884*'Teom grams'!$F1882*0.000000028317),\"\")","v":""},"","","","",null,"","","",null,"",""]
[null,null,{"$f":"IF('Teom ugm3'!A1885=\"\",\"\",C1882+1)","v":""},"",null,"",null,{"$f":"IF(ISNUMBER('Teom ugm3'!B1885),('Teom ugm3'!B1885*'Teom grams'!$F1883*0.000000028317),\"\")","v":""},{"$f":"IF(ISNUMBER('Teom ugm3'!C1885),('Teom ugm3'!C1885*'Teom grams'!$F1883*0.000000028317),\"\")","v":""},{"$f":"IF(ISNUMBER('Teom ugm3'!D1885),('Teom ugm3'!D1885*'Teom grams'!$F1883*0.000000028317),\"\")","v":""},"","","","",null,"","","",null,"",""]
[null,null,{"$f":"IF('Teom ugm3'!A1886=\"\",\"\",C1883+1)","v":""},"",null,"",null,{"$f":"IF(ISNUMBER('Teom ugm3'!B1886),('Teom ugm3'!B1886*'Teom grams'!$F1884*0.000000028317),\"\")","v":""},{"$f":"IF(ISNUMBER('Teom ugm3'!C1886),('Teom ugm3'!C1886*'Teom grams'!$F1884*0.000000028317),\"\")","v":""},{"$f":"IF(ISNUMBER('Teom ugm3'!D1886),('Teom ugm3'!D1886*'Teom grams'!$F1884*0.000000028317),\"\")","v":""},"","","","",null,"","","",null,"",""]
[null,null,{"$f":"IF('Teom ugm3'!A1887=\"\",\"\",C1884+1)","v":""},"",null,"",null,{"$f":"IF(ISNUMBER('Teom ugm3'!B1887),('Teom ugm3'!B1887*'Teom grams'!$F1885*0.000000028317),\"\")","v":""},{"$f":"IF(ISNUMBER('Teom ugm3'!C1887),('Teom ugm3'!C1887*'Teom grams'!$F1885*0.000000028317),\"\")","v":""},{"$f":"IF(ISNUMBER('Teom ugm3'!D1887),('Teom ugm3'!D1887*'Teom grams'!$F1885*0.000000028317),\"\")","v":""},"","","","",null,"","","",null,"",""]
[null,null,{"$f":"IF('Teom ugm3'!A1888=\"\",\"\",C1885+1)","v":""},"",null,"",null,{"$f":"IF(ISNUMBER('Teom ugm3'!B1888),('Teom ugm3'!B1888*'Teom grams'!$F1886*0.000000028317),\"\")","v":""},{"$f":"IF(ISNUMBER('Teom ugm3'!C1888),('Teom ugm3'!C1888*'Teom grams'!$F1886*0.000000028317),\"\")","v":""},{"$f":"IF(ISNUMBER('Teom ugm3'!D1888),('Teom ugm3'!D1888*'Teom grams'!$F1886*0.000000028317),\"\")","v":""},"","","","",null,"","","",null,"",""]
[null,null,{"$f":"IF('Teom ugm3'!A1889=\"\",\"\",C1886+1)","v":""},"",null,"",null,{"$f":"IF(ISNUMBER('Teom ugm3'!B1889),('Teom ugm3'!B1889*'Teom grams'!$F1887*0.000000028317),\"\")","v":""},{"$f":"IF(ISNUMBER('Teom ugm3'!C1889),('Teom ugm3'!C1889*'Teom grams'!$F1887*0.000000028317),\"\")","v":""},{"$f":"IF(ISNUMBER('Teom ugm3'!D1889),('Teom ugm3'!D1889*'Teom grams'!$F1887*0.000000028317),\"\")","v":""},"","","","",null,"","","",null,"",""]
[null,null,{"$f":"IF('Teom ugm3'!A1890=\"\",\"\",C1887+1)","v":""},"",null,"",null,{"$f":"IF(ISNUMBER('Teom ugm3'!B1890),('Teom ugm3'!B1890*'Teom grams'!$F1888*0.000000028317),\"\")","v":""},{"$f":"IF(ISNUMBER('Teom ugm3'!C1890),('Teom ugm3'!C1890*'Teom grams'!$F1888*0.000000028317),\"\")","v":""},{"$f":"IF(ISNUMBER('Teom ugm3'!D1890),('Teom ugm3'!D1890*'Teom grams'!$F1888*0.000000028317),\"\")","v":""},"","","","",null,"","","",null,"",""]
[null,null,{"$f":"IF('Teom ugm3'!A1891=\"\",\"\",C1888+1)","v":""},"",null,"",null,{"$f":"IF(ISNUMBER('Teom ugm3'!B1891),('Teom ugm3'!B1891*'Teom grams'!$F1889*0.000000028317),\"\")","v":""},{"$f":"IF(ISNUMBER('Teom ugm3'!C1891),('Teom ugm3'!C1891*'Teom grams'!$F1889*0.000000028317),\"\")","v":""},{"$f":"IF(ISNUMBER('Teom ugm3'!D1891),('Teom ugm3'!D1891*'Teom grams'!$F1889*0.000000028317),\"\")","v":""},"","","","",null,"","","",null,"",""]
[null,null,{"$f":"IF('Teom ugm3'!A1892=\"\",\"\",C1889+1)","v":""},"",null,"",null,{"$f":"IF(ISNUMBER('Teom ugm3'!B1892),('Teom ugm3'!B1892*'Teom grams'!$F1890*0.000000028317),\"\")","v":""},{"$f":"IF(ISNUMBER('Teom ugm3'!C1892),('Teom ugm3'!C1892*'Teom grams'!$F1890*0.000000028317),\"\")","v":""},{"$f":"IF(ISNUMBER('Teom ugm3'!D1892),('Teom ugm3'!D1892*'Teom grams'!$F1890*0.000000028317),\"\")","v":""},"","","","",null,"","","",null,"",""]
[null,null,{"$f":"IF('Teom ugm3'!A1893=\"\",\"\",C1890+1)","v":""},"",null,"",null,{"$f":"IF(ISNUMBER('Teom ugm3'!B1893),('Teom ugm3'!B1893*'Teom grams'!$F1891*0.000000028317),\"\")","v":""},{"$f":"IF(ISNUMBER('Teom ugm3'!C1893),('Teom ugm3'!C1893*'Teom grams'!$F1891*0.000000028317),\"\")","v":""},{"$f":"IF(ISNUMBER('Teom ugm3'!D1893),('Teom ugm3'!D1893*'Teom grams'!$F1891*0.000000028317),\"\")","v":""},"","","","",null,"",{"$f":"IF(ISNUMBER(M1891),M1891*60,\"\")","v":""},{"$f":"IF(ISNUMBER(N1891),N1891*60,\"\")","v":""},null,{"$f":"IF(COUNT(C1891:C1950)>59,AVERAGE(P1891:P1950),\"\")","v":""},{"$f":"IF(COUNT(C1891:C1950)>59,AVERAGE(Q1891:Q1950),\"\")","v":""}]
[null,null,{"$f":"IF('Teom ugm3'!A1894=\"\",\"\",C1891+1)","v":""},"",null,"",null,{"$f":"IF(ISNUMBER('Teom ugm3'!B1894),('Teom ugm3'!B1894*'Teom grams'!$F1892*0.000000028317),\"\")","v":""},{"$f":"IF(ISNUMBER('Teom ugm3'!C1894),('Teom ugm3'!C1894*'Teom grams'!$F1892*0.000000028317),\"\")","v":""},{"$f":"IF(ISNUMBER('Teom ugm3'!D1894),('Teom ugm3'!D1894*'Teom grams'!$F1892*0.000000028317),\"\")","v":""},"","","","",null,"","","",null,"",""]
[null,null,{"$f":"IF('Teom ugm3'!A1895=\"\",\"\",C1892+1)","v":""},"",null,"",null,{"$f":"IF(ISNUMBER('Teom ugm3'!B1895),('Teom ugm3'!B1895*'Teom grams'!$F1893*0.000000028317),\"\")","v":""},{"$f":"IF(ISNUMBER('Teom ugm3'!C1895),('Teom ugm3'!C1895*'Teom grams'!$F1893*0.000000028317),\"\")","v":""},{"$f":"IF(ISNUMBER('Teom ugm3'!D1895),('Teom ugm3'!D1895*'Teom grams'!$F1893*0.000000028317),\"\")","v":""},"","","","",null,"","","",null,"",""]
[null,null,{"$f":"IF('Teom ugm3'!A1896=\"\",\"\",C1893+1)","v":""},"",null,"",null,{"$f":"IF(ISNUMBER('Teom ugm3'!B1896),('Teom ugm3'!B1896*'Teom grams'!$F1894*0.000000028317),\"\")","v":""},{"$f":"IF(ISNUMBER('Teom ugm3'!C1896),('Teom ugm3'!C1896*'Teom grams'!$F1894*0.000000028317),\"\")","v":""},{"$f":"IF(ISNUMBER('Teom ugm3'!D1896),('Teom ugm3'!D1896*'Teom grams'!$F1894*0.000000028317),\"\")","v":""},"","","","",null,"","","",null,"",""]
[null,null,{"$f":"IF('Teom ugm3'!A1897=\"\",\"\",C1894+1)","v":""},"",null,"",null,{"$f":"IF(ISNUMBER('Teom ugm3'!B1897),('Teom ugm3'!B1897*'Teom grams'!$F1895*0.000000028317),\"\")","v":""},{"$f":"IF(ISNUMBER('Teom ugm3'!C1897),('Teom ugm3'!C1897*'Teom grams'!$F1895*0.000000028317),\"\")","v":""},{"$f":"IF(ISNUMBER('Teom ugm3'!D1897),('Teom ugm3'!D1897*'Teom grams'!$F1895*0.000000028317),\"\")","v":""},"","","","",null,"","","",null,"",""]
[null,null,{"$f":"IF('Teom ugm3'!A1898=\"\",\"\",C1895+1)","v":""},"",null,"",null,{"$f":"IF(ISNUMBER('Teom ugm3'!B1898),('Teom ugm3'!B1898*'Teom grams'!$F1896*0.000000028317),\"\")","v":""},{"$f":"IF(ISNUMBER('Teom ugm3'!C1898),('Teom ugm3'!C1898*'Teom grams'!$F1896*0.000000028317),\"\")","v":""},{"$f":"IF(ISNUMBER('Teom ugm3'!D1898),('Teom ugm3'!D1898*'Teom grams'!$F1896*0.000000028317),\"\")","v":""},"","","","",null,"","","",null,"",""]
[null,null,{"$f":"IF('Teom ugm3'!A1899=\"\",\"\",C1896+1)","v":""},"",null,"",null,{"$f":"IF(ISNUMBER('Teom ugm3'!B1899),('Teom ugm3'!B1899*'Teom grams'!$F1897*0.000000028317),\"\")","v":""},{"$f":"IF(ISNUMBER('Teom ugm3'!C1899),('Teom ugm3'!C1899*'Teom grams'!$F1897*0.000000028317),\"\")","v":""},{"$f":"IF(ISNUMBER('Teom ugm3'!D1899),('Teom ugm3'!D1899*'Teom grams'!$F1897*0.000000028317),\"\")","v":""},"","","","",null,"","","",null,"",""]
[null,null,{"$f":"IF('Teom ugm3'!A1900=\"\",\"\",C1897+1)","v":""},"",null,"",null,{"$f":"IF(ISNUMBER('Teom ugm3'!B1900),('Teom ugm3'!B1900*'Teom grams'!$F1898*0.000000028317),\"\")","v":""},{"$f":"IF(ISNUMBER('Teom ugm3'!C1900),('Teom ugm3'!C1900*'Teom grams'!$F1898*0.000000028317),\"\")","v":""},{"$f":"IF(ISNUMBER('Teom ugm3'!D1900),('Teom ugm3'!D1900*'Teom grams'!$F1898*0.000000028317),\"\")","v":""},"","","","",null,"","","",null,"",""]
[null,null,{"$f":"IF('Teom ugm3'!A1901=\"\",\"\",C1898+1)","v":""},"",null,"",null,{"$f":"IF(ISNUMBER('Teom ugm3'!B1901),('Teom ugm3'!B1901*'Teom grams'!$F1899*0.000000028317),\"\")","v":""},{"$f":"IF(ISNUMBER('Teom ugm3'!C1901),('Teom ugm3'!C1901*'Teom grams'!$F1899*0.000000028317),\"\")","v":""},{"$f":"IF(ISNUMBER('Teom ugm3'!D1901),('Teom ugm3'!D1901*'Teom grams'!$F1899*0.000000028317),\"\")","v":""},"","","","",null,"","","",null,"",""]
[null,null,{"$f":"IF('Teom ugm3'!A1902=\"\",\"\",C1899+1)","v":""},"",null,"",null,{"$f":"IF(ISNUMBER('Teom ugm3'!B1902),('Teom ugm3'!B1902*'Teom grams'!$F1900*0.000000028317),\"\")","v":""},{"$f":"IF(ISNUMBER('Teom ugm3'!C1902),('Teom ugm3'!C1902*'Teom grams'!$F1900*0.000000028317),\"\")","v":""},{"$f":"IF(ISNUMBER('Teom ugm3'!D1902),('Teom ugm3'!D1902*'Teom grams'!$F1900*0.000000028317),\"\")","v":""},"","","","",null,"","","",null,"",""]
[null,null,{"$f":"IF('Teom ugm3'!A1903=\"\",\"\",C1900+1)","v":""},"",null,"",null,{"$f":"IF(ISNUMBER('Teom ugm3'!B1903),('Teom ugm3'!B1903*'Teom grams'!$F1901*0.000000028317),\"\")","v":""},{"$f":"IF(ISNUMBER('Teom ugm3'!C1903),('Teom ugm3'!C1903*'Teom grams'!$F1901*0.000000028317),\"\")","v":""},{"$f":"IF(ISNUMBER('Teom ugm3'!D1903),('Teom ugm3'!D1903*'Teom grams'!$F1901*0.000000028317),\"\")","v":""},"","","","",null,"","","",null,"",""]
[null,null,{"$f":"IF('Teom ugm3'!A1904=\"\",\"\",C1901+1)","v":""},"",null,"",null,{"$f":"IF(ISNUMBER('Teom ugm3'!B1904),('Teom ugm3'!B1904*'Teom grams'!$F1902*0.000000028317),\"\")","v":""},{"$f":"IF(ISNUMBER('Teom ugm3'!C1904),('Teom ugm3'!C1904*'Teom grams'!$F1902*0.000000028317),\"\")","v":""},{"$f":"IF(ISNUMBER('Teom ugm3'!D1904),('Teom ugm3'!D1904*'Teom grams'!$F1902*0.000000028317),\"\")","v":""},"","","","",null,"","","",null,"",""]
[null,null,{"$f":"IF('Teom ugm3'!A1905=\"\",\"\",C1902+1)","v":""},"",null,"",null,{"$f":"IF(ISNUMBER('Teom ugm3'!B1905),('Teom ugm3'!B1905*'Teom grams'!$F1903*0.000000028317),\"\")","v":""},{"$f":"IF(ISNUMBER('Teom ugm3'!C1905),('Teom ugm3'!C1905*'Teom grams'!$F1903*0.000000028317),\"\")","v":""},{"$f":"IF(ISNUMBER('Teom ugm3'!D1905),('Teom ugm3'!D1905*'Teom grams'!$F1903*0.000000028317),\"\")","v":""},"","","","",null,"","","",null,"",""]
[null,null,{"$f":"IF('Teom ugm3'!A1906=\"\",\"\",C1903+1)","v":""},"",null,"",null,{"$f":"IF(ISNUMBER('Teom ugm3'!B1906),('Teom ugm3'!B1906*'Teom grams'!$F1904*0.000000028317),\"\")","v":""},{"$f":"IF(ISNUMBER('Teom ugm3'!C1906),('Teom ugm3'!C1906*'Teom grams'!$F1904*0.000000028317),\"\")","v":""},{"$f":"IF(ISNUMBER('Teom ugm3'!D1906),('Teom ugm3'!D1906*'Teom grams'!$F1904*0.000000028317),\"\")","v":""},"","","","",null,"","","",null,"",""]
[null,null,{"$f":"IF('Teom ugm3'!A1907=\"\",\"\",C1904+1)","v":""},"",null,"",null,{"$f":"IF(ISNUMBER('Teom ugm3'!B1907),('Teom ugm3'!B1907*'Teom grams'!$F1905*0.000000028317),\"\")","v":""},{"$f":"IF(ISNUMBER('Teom ugm3'!C1907),('Teom ugm3'!C1907*'Teom grams'!$F1905*0.000000028317),\"\")","v":""},{"$f":"IF(ISNUMBER('Teom ugm3'!D1907),('Teom ugm3'!D1907*'Teom grams'!$F1905*0.000000028317),\"\")","v":""},"","","","",null,"","","",null,"",""]
[null,null,{"$f":"IF('Teom ugm3'!A1908=\"\",\"\",C1905+1)","v":""},"",null,"",null,{"$f":"IF(ISNUMBER('Teom ugm3'!B1908),('Teom ugm3'!B1908*'Teom grams'!$F1906*0.000000028317),\"\")","v":""},{"$f":"IF(ISNUMBER('Teom ugm3'!C1908),('Teom ugm3'!C1908*'Teom grams'!$F1906*0.000000028317),\"\")","v":""},{"$f":"IF(ISNUMBER('Teom ugm3'!D1908),('Teom ugm3'!D1908*'Teom grams'!$F1906*0.000000028317),\"\")","v":""},"","","","",null,"","","",null,"",""]
[null,null,{"$f":"IF('Teom ugm3'!A1909=\"\",\"\",C1906+1)","v":""},"",null,"",null,{"$f":"IF(ISNUMBER('Teom ugm3'!B1909),('Teom ugm3'!B1909*'Teom grams'!$F1907*0.000000028317),\"\")","v":""},{"$f":"IF(ISNUMBER('Teom ugm3'!C1909),('Teom ugm3'!C1909*'Teom grams'!$F1907*0.000000028317),\"\")","v":""},{"$f":"IF(ISNUMBER('Teom ugm3'!D1909),('Teom ugm3'!D1909*'Teom grams'!$F1907*0.000000028317),\"\")","v":""},"","","","",null,"","","",null,"",""]
[null,null,{"$f":"IF('Teom ugm3'!A1910=\"\",\"\",C1907+1)","v":""},"",null,"",null,{"$f":"IF(ISNUMBER('Teom ugm3'!B1910),('Teom ugm3'!B1910*'Teom grams'!$F1908*0.000000028317),\"\")","v":""},{"$f":"IF(ISNUMBER('Teom ugm3'!C1910),('Teom ugm3'!C1910*'Teom grams'!$F1908*0.000000028317),\"\")","v":""},{"$f":"IF(ISNUMBER('Teom ugm3'!D1910),('Teom ugm3'!D1910*'Teom grams'!$F1908*0.000000028317),\"\")","v":""},"","","","",null,"","","",null,"",""]
[null,null,{"$f":"IF('Teom ugm3'!A1911=\"\",\"\",C1908+1)","v":""},"",null,"",null,{"$f":"IF(ISNUMBER('Teom ugm3'!B1911),('Teom ugm3'!B1911*'Teom grams'!$F1909*0.000000028317),\"\")","v":""},{"$f":"IF(ISNUMBER('Teom ugm3'!C1911),('Teom ugm3'!C1911*'Teom grams'!$F1909*0.000000028317),\"\")","v":""},{"$f":"IF(ISNUMBER('Teom ugm3'!D1911),('Teom ugm3'!D1911*'Teom grams'!$F1909*0.000000028317),\"\")","v":""},"","","","",null,"","","",null,"",""]
[null,null,{"$f":"IF('Teom ugm3'!A1912=\"\",\"\",C1909+1)","v":""},"",null,"",null,{"$f":"IF(ISNUMBER('Teom ugm3'!B1912),('Teom ugm3'!B1912*'Teom grams'!$F1910*0.000000028317),\"\")","v":""},{"$f":"IF(ISNUMBER('Teom ugm3'!C1912),('Teom ugm3'!C1912*'Teom grams'!$F1910*0.000000028317),\"\")","v":""},{"$f":"IF(ISNUMBER('Teom ugm3'!D1912),('Teom ugm3'!D1912*'Teom grams'!$F1910*0.000000028317),\"\")","v":""},"","","","",null,"","","",null,"",""]
[null,null,{"$f":"IF('Teom ugm3'!A1913=\"\",\"\",C1910+1)","v":""},"",null,"",null,{"$f":"IF(ISNUMBER('Teom ugm3'!B1913),('Teom ugm3'!B1913*'Teom grams'!$F1911*0.000000028317),\"\")","v":""},{"$f":"IF(ISNUMBER('Teom ugm3'!C1913),('Teom ugm3'!C1913*'Teom grams'!$F1911*0.000000028317),\"\")","v":""},{"$f":"IF(ISNUMBER('Teom ugm3'!D1913),('Teom ugm3'!D1913*'Teom grams'!$F1911*0.000000028317),\"\")","v":""},"","","","",null,"","","",null,"",""]
[null,null,{"$f":"IF('Teom ugm3'!A1914=\"\",\"\",C1911+1)","v":""},"",null,"",null,{"$f":"IF(ISNUMBER('Teom ugm3'!B1914),('Teom ugm3'!B1914*'Teom grams'!$F1912*0.000000028317),\"\")","v":""},{"$f":"IF(ISNUMBER('Teom ugm3'!C1914),('Teom ugm3'!C1914*'Teom grams'!$F1912*0.000000028317),\"\")","v":""},{"$f":"IF(ISNUMBER('Teom ugm3'!D1914),('Teom ugm3'!D1914*'Teom grams'!$F1912*0.000000028317),\"\")","v":""},"","","","",null,"","","",null,"",""]
[null,null,{"$f":"IF('Teom ugm3'!A1915=\"\",\"\",C1912+1)","v":""},"",null,"",null,{"$f":"IF(ISNUMBER('Teom ugm3'!B1915),('Teom ugm3'!B1915*'Teom grams'!$F1913*0.000000028317),\"\")","v":""},{"$f":"IF(ISNUMBER('Teom ugm3'!C1915),('Teom ugm3'!C1915*'Teom grams'!$F1913*0.000000028317),\"\")","v":""},{"$f":"IF(ISNUMBER('Teom ugm3'!D1915),('Teom ugm3'!D1915*'Teom grams'!$F1913*0.000000028317),\"\")","v":""},"","","","",null,"","","",null,"",""]
[null,null,{"$f":"IF('Teom ugm3'!A1916=\"\",\"\",C1913+1)","v":""},"",null,"",null,{"$f":"IF(ISNUMBER('Teom ugm3'!B1916),('Teom ugm3'!B1916*'Teom grams'!$F1914*0.000000028317),\"\")","v":""},{"$f":"IF(ISNUMBER('Teom ugm3'!C1916),('Teom ugm3'!C1916*'Teom grams'!$F1914*0.000000028317),\"\")","v":""},{"$f":"IF(ISNUMBER('Teom ugm3'!D1916),('Teom ugm3'!D1916*'Teom grams'!$F1914*0.000000028317),\"\")","v":""},"","","","",null,"","","",null,"",""]
[null,null,{"$f":"IF('Teom ugm3'!A1917=\"\",\"\",C1914+1)","v":""},"",null,"",null,{"$f":"IF(ISNUMBER('Teom ugm3'!B1917),('Teom ugm3'!B1917*'Teom grams'!$F1915*0.000000028317),\"\")","v":""},{"$f":"IF(ISNUMBER('Teom ugm3'!C1917),('Teom ugm3'!C1917*'Teom grams'!$F1915*0.000000028317),\"\")","v":""},{"$f":"IF(ISNUMBER('Teom ugm3'!D1917),('Teom ugm3'!D1917*'Teom grams'!$F1915*0.000000028317),\"\")","v":""},"","","","",null,"","","",null,"",""]
[null,null,{"$f":"IF('Teom ugm3'!A1918=\"\",\"\",C1915+1)","v":""},"",null,"",null,{"$f":"IF(ISNUMBER('Teom ugm3'!B1918),('Teom ugm3'!B1918*'Teom grams'!$F1916*0.000000028317),\"\")","v":""},{"$f":"IF(ISNUMBER('Teom ugm3'!C1918),('Teom ugm3'!C1918*'Teom grams'!$F1916*0.000000028317),\"\")","v":""},{"$f":"IF(ISNUMBER('Teom ugm3'!D1918),('Teom ugm3'!D1918*'Teom grams'!$F1916*0.000000028317),\"\")","v":""},"","","","",null,"","","",null,"",""]
[null,null,{"$f":"IF('Teom ugm3'!A1919=\"\",\"\",C1916+1)","v":""},"",null,"",null,{"$f":"IF(ISNUMBER('Teom ugm3'!B1919),('Teom ugm3'!B1919*'Teom grams'!$F1917*0.000000028317),\"\")","v":""},{"$f":"IF(ISNUMBER('Teom ugm3'!C1919),('Teom ugm3'!C1919*'Teom grams'!$F1917*0.000000028317),\"\")","v":""},{"$f":"IF(ISNUMBER('Teom ugm3'!D1919),('Teom ugm3'!D1919*'Teom grams'!$F1917*0.000000028317),\"\")","v":""},"","","","",null,"","","",null,"",""]
[null,null,{"$f":"IF('Teom ugm3'!A1920=\"\",\"\",C1917+1)","v":""},"",null,"",null,{"$f":"IF(ISNUMBER('Teom ugm3'!B1920),('Teom ugm3'!B1920*'Teom grams'!$F1918*0.000000028317),\"\")","v":""},{"$f":"IF(ISNUMBER('Teom ugm3'!C1920),('Teom ugm3'!C1920*'Teom grams'!$F1918*0.000000028317),\"\")","v":""},{"$f":"IF(ISNUMBER('Teom ugm3'!D1920),('Teom ugm3'!D1920*'Teom grams'!$F1918*0.000000028317),\"\")","v":""},"","","","",null,"","","",null,"",""]
[null,null,{"$f":"IF('Teom ugm3'!A1921=\"\",\"\",C1918+1)","v":""},"",null,"",null,{"$f":"IF(ISNUMBER('Teom ugm3'!B1921),('Teom ugm3'!B1921*'Teom grams'!$F1919*0.000000028317),\"\")","v":""},{"$f":"IF(ISNUMBER('Teom ugm3'!C1921),('Teom ugm3'!C1921*'Teom grams'!$F1919*0.000000028317),\"\")","v":""},{"$f":"IF(ISNUMBER('Teom ugm3'!D1921),('Teom ugm3'!D1921*'Teom grams'!$F1919*0.000000028317),\"\")","v":""},"","","","",null,"","","",null,"",""]
[null,null,{"$f":"IF('Teom ugm3'!A1922=\"\",\"\",C1919+1)","v":""},"",null,"",null,{"$f":"IF(ISNUMBER('Teom ugm3'!B1922),('Teom ugm3'!B1922*'Teom grams'!$F1920*0.000000028317),\"\")","v":""},{"$f":"IF(ISNUMBER('Teom ugm3'!C1922),('Teom ugm3'!C1922*'Teom grams'!$F1920*0.000000028317),\"\")","v":""},{"$f":"IF(ISNUMBER('Teom ugm3'!D1922),('Teom ugm3'!D1922*'Teom grams'!$F1920*0.000000028317),\"\")","v":""},"","","","",null,"","","",null,"",""]
[null,null,{"$f":"IF('Teom ugm3'!A1923=\"\",\"\",C1920+1)","v":""},"",null,"",null,{"$f":"IF(ISNUMBER('Teom ugm3'!B1923),('Teom ugm3'!B1923*'Teom grams'!$F1921*0.000000028317),\"\")","v":""},{"$f":"IF(ISNUMBER('Teom ugm3'!C1923),('Teom ugm3'!C1923*'Teom grams'!$F1921*0.000000028317),\"\")","v":""},{"$f":"IF(ISNUMBER('Teom ugm3'!D1923),('Teom ugm3'!D1923*'Teom grams'!$F1921*0.000000028317),\"\")","v":""},"","","","",null,"","","",null,"",""]
[null,null,{"$f":"IF('Teom ugm3'!A1924=\"\",\"\",C1921+1)","v":""},"",null,"",null,{"$f":"IF(ISNUMBER('Teom ugm3'!B1924),('Teom ugm3'!B1924*'Teom grams'!$F1922*0.000000028317),\"\")","v":""},{"$f":"IF(ISNUMBER('Teom ugm3'!C1924),('Teom ugm3'!C1924*'Teom grams'!$F1922*0.000000028317),\"\")","v":""},{"$f":"IF(ISNUMBER('Teom ugm3'!D1924),('Teom ugm3'!D1924*'Teom grams'!$F1922*0.000000028317),\"\")","v":""},"","","","",null,"","","",null,"",""]
[null,null,{"$f":"IF('Teom ugm3'!A1925=\"\",\"\",C1922+1)","v":""},"",null,"",null,{"$f":"IF(ISNUMBER('Teom ugm3'!B1925),('Teom ugm3'!B1925*'Teom grams'!$F1923*0.000000028317),\"\")","v":""},{"$f":"IF(ISNUMBER('Teom ugm3'!C1925),('Teom ugm3'!C1925*'Teom grams'!$F1923*0.000000028317),\"\")","v":""},{"$f":"IF(ISNUMBER('Teom ugm3'!D1925),('Teom ugm3'!D1925*'Teom grams'!$F1923*0.000000028317),\"\")","v":""},"","","","",null,"","","",null,"",""]
[null,null,{"$f":"IF('Teom ugm3'!A1926=\"\",\"\",C1923+1)","v":""},"",null,"",null,{"$f":"IF(ISNUMBER('Teom ugm3'!B1926),('Teom ugm3'!B1926*'Teom grams'!$F1924*0.000000028317),\"\")","v":""},{"$f":"IF(ISNUMBER('Teom ugm3'!C1926),('Teom ugm3'!C1926*'Teom grams'!$F1924*0.000000028317),\"\")","v":""},{"$f":"IF(ISNUMBER('Teom ugm3'!D1926),('Teom ugm3'!D1926*'Teom grams'!$F1924*0.000000028317),\"\")","v":""},"","","",{"$f":"M1924","v":""},null,"","","",null,"",""]
[null,null,{"$f":"IF('Teom ugm3'!A1927=\"\",\"\",C1924+1)","v":""},"",null,{"$f":"IF(C1925=\"\",\"\",E1925*1.02041)","v":""},null,{"$f":"IF(ISNUMBER('Teom ugm3'!B1927),('Teom ugm3'!B1927*'Teom grams'!$F1925*0.000000028317),\"\")","v":""},{"$f":"IF(ISNUMBER('Teom ugm3'!C1927),('Teom ugm3'!C1927*'Teom grams'!$F1925*0.000000028317),\"\")","v":""},{"$f":"IF(ISNUMBER('Teom ugm3'!D1927),('Teom ugm3'!D1927*'Teom grams'!$F1925*0.000000028317),\"\")","v":""},{"$f":"IF(H1925<0,0,H1925)","v":""},"","","",null,{"$f":"IF(ISNUMBER(J1925),J1925*60,\"\")","v":""},"","",null,"",""]
[null,null,{"$f":"IF('Teom ugm3'!A1928=\"\",\"\",C1925+1)","v":""},{"$f":"IF(C1926=\"\",\"\",D1925 + TIME(0, 1, 0))","v":""},null,"",null,{"$f":"IF(ISNUMBER('Teom ugm3'!B1928),('Teom ugm3'!B1928*'Teom grams'!$F1926*0.000000028317),\"\")","v":""},{"$f":"IF(ISNUMBER('Teom ugm3'!C1928),('Teom ugm3'!C1928*'Teom grams'!$F1926*0.000000028317),\"\")","v":""},{"$f":"IF(ISNUMBER('Teom ugm3'!D1928),('Teom ugm3'!D1928*'Teom grams'!$F1926*0.000000028317),\"\")","v":""},"","","","",null,"","","",null,"",""]
[null,null,{"$f":"IF('Teom ugm3'!A1929=\"\",\"\",C1926+1)","v":""},"",null,"",null,{"$f":"IF(ISNUMBER('Teom ugm3'!B1929),('Teom ugm3'!B1929*'Teom grams'!$F1927*0.000000028317),\"\")","v":""},{"$f":"IF(ISNUMBER('Teom ugm3'!C1929),('Teom ugm3'!C1929*'Teom grams'!$F1927*0.000000028317),\"\")","v":""},{"$f":"IF(ISNUMBER('Teom ugm3'!D1929),('Teom ugm3'!D1929*'Teom grams'!$F1927*0.000000028317),\"\")","v":""},"","","","",null,"","","",null,"",""]
[null,null,{"$f":"IF('Teom ugm3'!A1930=\"\",\"\",C1927+1)","v":""},"",null,"",null,{"$f":"IF(ISNUMBER('Teom ugm3'!B1930),('Teom ugm3'!B1930*'Teom grams'!$F1928*0.000000028317),\"\")","v":""},{"$f":"IF(ISNUMBER('Teom ugm3'!C1930),('Teom ugm3'!C1930*'Teom grams'!$F1928*0.000000028317),\"\")","v":""},{"$f":"IF(ISNUMBER('Teom ugm3'!D1930),('Teom ugm3'!D1930*'Teom grams'!$F1928*0.000000028317),\"\")","v":""},"","","","",null,"","","",null,"",""]
[null,null,{"$f":"IF('Teom ugm3'!A1931=\"\",\"\",C1928+1)","v":""},"",null,"",null,{"$f":"IF(ISNUMBER('Teom ugm3'!B1931),('Teom ugm3'!B1931*'Teom grams'!$F1929*0.000000028317),\"\")","v":""},{"$f":"IF(ISNUMBER('Teom ugm3'!C1931),('Teom ugm3'!C1931*'Teom grams'!$F1929*0.000000028317),\"\")","v":""},{"$f":"IF(ISNUMBER('Teom ugm3'!D1931),('Teom ugm3'!D1931*'Teom grams'!$F1929*0.000000028317),\"\")","v":""},"","","","",null,"","","",null,"",""]
[null,null,{"$f":"IF('Teom ugm3'!A1932=\"\",\"\",C1929+1)","v":""},"",null,"",null,{"$f":"IF(ISNUMBER('Teom ugm3'!B1932),('Teom ugm3'!B1932*'Teom grams'!$F1930*0.000000028317),\"\")","v":""},{"$f":"IF(ISNUMBER('Teom ugm3'!C1932),('Teom ugm3'!C1932*'Teom grams'!$F1930*0.000000028317),\"\")","v":""},{"$f":"IF(ISNUMBER('Teom ugm3'!D1932),('Teom ugm3'!D1932*'Teom grams'!$F1930*0.000000028317),\"\")","v":""},"","","","",null,"","","",null,"",""]
[null,null,{"$f":"IF('Teom ugm3'!A1933=\"\",\"\",C1930+1)","v":""},"",null,"",null,{"$f":"IF(ISNUMBER('Teom ugm3'!B1933),('Teom ugm3'!B1933*'Teom grams'!$F1931*0.000000028317),\"\")","v":""},{"$f":"IF(ISNUMBER('Teom ugm3'!C1933),('Teom ugm3'!C1933*'Teom grams'!$F1931*0.000000028317),\"\")","v":""},{"$f":"IF(ISNUMBER('Teom ugm3'!D1933),('Teom ugm3'!D1933*'Teom grams'!$F1931*0.000000028317),\"\")","v":""},"","",{"$f":"IF(COUNT(K1931:L1931)>0,AVERAGE(K1931:L1931),\"\")","v":""},"",null,"","","",null,"",""]
[null,null,{"$f":"IF('Teom ugm3'!A1934=\"\",\"\",C1931+1)","v":""},"",null,"",null,{"$f":"IF(ISNUMBER('Teom ugm3'!B1934),('Teom ugm3'!B1934*'Teom grams'!$F1932*0.000000028317),\"\")","v":""},{"$f":"IF(ISNUMBER('Teom ugm3'!C1934),('Teom ugm3'!C1934*'Teom grams'!$F1932*0.000000028317),\"\")","v":""},{"$f":"IF(ISNUMBER('Teom ugm3'!D1934),('Teom ugm3'!D1934*'Teom grams'!$F1932*0.000000028317),\"\")","v":""},"","","","",null,"","","",null,"",""]
[null,null,{"$f":"IF('Teom ugm3'!A1935=\"\",\"\",C1932+1)","v":""},"",null,"",null,{"$f":"IF(ISNUMBER('Teom ugm3'!B1935),('Teom ugm3'!B1935*'Teom grams'!$F1933*0.000000028317),\"\")","v":""},{"$f":"IF(ISNUMBER('Teom ugm3'!C1935),('Teom ugm3'!C1935*'Teom grams'!$F1933*0.000000028317),\"\")","v":""},{"$f":"IF(ISNUMBER('Teom ugm3'!D1935),('Teom ugm3'!D1935*'Teom grams'!$F1933*0.000000028317),\"\")","v":""},"","","","",null,"","","",null,"",""]
[null,null,{"$f":"IF('Teom ugm3'!A1936=\"\",\"\",C1933+1)","v":""},"",null,"",null,{"$f":"IF(ISNUMBER('Teom ugm3'!B1936),('Teom ugm3'!B1936*'Teom grams'!$F1934*0.000000028317),\"\")","v":""},{"$f":"IF(ISNUMBER('Teom ugm3'!C1936),('Teom ugm3'!C1936*'Teom grams'!$F1934*0.000000028317),\"\")","v":""},{"$f":"IF(ISNUMBER('Teom ugm3'!D1936),('Teom ugm3'!D1936*'Teom grams'!$F1934*0.000000028317),\"\")","v":""},"","","","",null,"","","",null,"",""]
[null,null,{"$f":"IF('Teom ugm3'!A1937=\"\",\"\",C1934+1)","v":""},"",null,"",null,{"$f":"IF(ISNUMBER('Teom ugm3'!B1937),('Teom ugm3'!B1937*'Teom grams'!$F1935*0.000000028317),\"\")","v":""},{"$f":"IF(ISNUMBER('Teom ugm3'!C1937),('Teom ugm3'!C1937*'Teom grams'!$F1935*0.000000028317),\"\")","v":""},{"$f":"IF(ISNUMBER('Teom ugm3'!D1937),('Teom ugm3'!D1937*'Teom grams'!$F1935*0.000000028317),\"\")","v":""},"","","","",null,"","","",null,"",""]
[null,null,{"$f":"IF('Teom ugm3'!A1938=\"\",\"\",C1935+1)","v":""},"",null,"",null,{"$f":"IF(ISNUMBER('Teom ugm3'!B1938),('Teom ugm3'!B1938*'Teom grams'!$F1936*0.000000028317),\"\")","v":""},{"$f":"IF(ISNUMBER('Teom ugm3'!C1938),('Teom ugm3'!C1938*'Teom grams'!$F1936*0.000000028317),\"\")","v":""},{"$f":"IF(ISNUMBER('Teom ugm3'!D1938),('Teom ugm3'!D1938*'Teom grams'!$F1936*0.000000028317),\"\")","v":""},"","","","",null,"","","",null,"",""]
[null,null,{"$f":"IF('Teom ugm3'!A1939=\"\",\"\",C1936+1)","v":""},"",null,"",null,{"$f":"IF(ISNUMBER('Teom ugm3'!B1939),('Teom ugm3'!B1939*'Teom grams'!$F1937*0.000000028317),\"\")","v":""},{"$f":"IF(ISNUMBER('Teom ugm3'!C1939),('Teom ugm3'!C1939*'Teom grams'!$F1937*0.000000028317),\"\")","v":""},{"$f":"IF(ISNUMBER('Teom ugm3'!D1939),('Teom ugm3'!D1939*'Teom grams'!$F1937*0.000000028317),\"\")","v":""},"","","","",null,"","","",null,"",""]
[null,null,{"$f":"IF('Teom ugm3'!A1940=\"\",\"\",C1937+1)","v":""},"",null,"",null,{"$f":"IF(ISNUMBER('Teom ugm3'!B1940),('Teom ugm3'!B1940*'Teom grams'!$F1938*0.000000028317),\"\")","v":""},{"$f":"IF(ISNUMBER('Teom ugm3'!C1940),('Teom ugm3'!C1940*'Teom grams'!$F1938*0.000000028317),\"\")","v":""},{"$f":"IF(ISNUMBER('Teom ugm3'!D1940),('Teom ugm3'!D1940*'Teom grams'!$F1938*0.000000028317),\"\")","v":""},"","","","",null,"","","",null,"",""]
[null,null,{"$f":"IF('Teom ugm3'!A1941=\"\",\"\",C1938+1)","v":""},"",null,"",null,{"$f":"IF(ISNUMBER('Teom ugm3'!B1941),('Teom ugm3'!B1941*'Teom grams'!$F1939*0.000000028317),\"\")","v":""},{"$f":"IF(ISNUMBER('Teom ugm3'!C1941),('Teom ugm3'!C1941*'Teom grams'!$F1939*0.000000028317),\"\")","v":""},{"$f":"IF(ISNUMBER('Teom ugm3'!D1941),('Teom ugm3'!D1941*'Teom grams'!$F1939*0.000000028317),\"\")","v":""},"","","","",null,"","","",null,"",""]
[null,null,{"$f":"IF('Teom ugm3'!A1942=\"\",\"\",C1939+1)","v":""},"",null,"",null,{"$f":"IF(ISNUMBER('Teom ugm3'!B1942),('Teom ugm3'!B1942*'Teom grams'!$F1940*0.000000028317),\"\")","v":""},{"$f":"IF(ISNUMBER('Teom ugm3'!C1942),('Teom ugm3'!C1942*'Teom grams'!$F1940*0.000000028317),\"\")","v":""},{"$f":"IF(ISNUMBER('Teom ugm3'!D1942),('Teom ugm3'!D1942*'Teom grams'!$F1940*0.000000028317),\"\")","v":""},"","","","",null,"","","",null,"",""]
[null,null,{"$f":"IF('Teom ugm3'!A1943=\"\",\"\",C1940+1)","v":""},"",null,"",null,{"$f":"IF(ISNUMBER('Teom ugm3'!B1943),('Teom ugm3'!B1943*'Teom grams'!$F1941*0.000000028317),\"\")","v":""},{"$f":"IF(ISNUMBER('Teom ugm3'!C1943),('Teom ugm3'!C1943*'Teom grams'!$F1941*0.000000028317),\"\")","v":""},{"$f":"IF(ISNUMBER('Teom ugm3'!D1943),('Teom ugm3'!D1943*'Teom grams'!$F1941*0.000000028317),\"\")","v":""},"","","","",null,"","","",null,"",""]
[null,null,{"$f":"IF('Teom ugm3'!A1944=\"\",\"\",C1941+1)","v":""},"",null,"",null,{"$f":"IF(ISNUMBER('Teom ugm3'!B1944),('Teom ugm3'!B1944*'Teom grams'!$F1942*0.000000028317),\"\")","v":""},{"$f":"IF(ISNUMBER('Teom ugm3'!C1944),('Teom ugm3'!C1944*'Teom grams'!$F1942*0.000000028317),\"\")","v":""},{"$f":"IF(ISNUMBER('Teom ugm3'!D1944),('Teom ugm3'!D1944*'Teom grams'!$F1942*0.000000028317),\"\")","v":""},"","","","",null,"","","",null,"",""]
[null,null,{"$f":"IF('Teom ugm3'!A1945=\"\",\"\",C1942+1)","v":""},"",null,"",null,{"$f":"IF(ISNUMBER('Teom ugm3'!B1945),('Teom ugm3'!B1945*'Teom grams'!$F1943*0.000000028317),\"\")","v":""},{"$f":"IF(ISNUMBER('Teom ugm3'!C1945),('Teom ugm3'!C1945*'Teom grams'!$F1943*0.000000028317),\"\")","v":""},{"$f":"IF(ISNUMBER('Teom ugm3'!D1945),('Teom ugm3'!D1945*'Teom grams'!$F1943*0.000000028317),\"\")","v":""},"","","","",null,"","","",null,"",""]
[null,null,{"$f":"IF('Teom ugm3'!A1946=\"\",\"\",C1943+1)","v":""},"",null,"",null,{"$f":"IF(ISNUMBER('Teom ugm3'!B1946),('Teom ugm3'!B1946*'Teom grams'!$F1944*0.000000028317),\"\")","v":""},{"$f":"IF(ISNUMBER('Teom ugm3'!C1946),('Teom ugm3'!C1946*'Teom grams'!$F1944*0.000000028317),\"\")","v":""},{"$f":"IF(ISNUMBER('Teom ugm3'!D1946),('Teom ugm3'!D1946*'Teom grams'!$F1944*0.000000028317),\"\")","v":""},"","","","",null,"","","",null,"",""]
[null,null,{"$f":"IF('Teom ugm3'!A1947=\"\",\"\",C1944+1)","v":""},"",null,"",null,{"$f":"IF(ISNUMBER('Teom ugm3'!B1947),('Teom ugm3'!B1947*'Teom grams'!$F1945*0.000000028317),\"\")","v":""},{"$f":"IF(ISNUMBER('Teom ugm3'!C1947),('Teom ugm3'!C1947*'Teom grams'!$F1945*0.000000028317),\"\")","v":""},{"$f":"IF(ISNUMBER('Teom ugm3'!D1947),('Teom ugm3'!D1947*'Teom grams'!$F1945*0.000000028317),\"\")","v":""},"","","","",null,"","","",null,"",""]
[null,null,{"$f":"IF('Teom ugm3'!A1948=\"\",\"\",C1945+1)","v":""},"",null,"",null,{"$f":"IF(ISNUMBER('Teom ugm3'!B1948),('Teom ugm3'!B1948*'Teom grams'!$F1946*0.000000028317),\"\")","v":""},{"$f":"IF(ISNUMBER('Teom ugm3'!C1948),('Teom ugm3'!C1948*'Teom grams'!$F1946*0.000000028317),\"\")","v":""},{"$f":"IF(ISNUMBER('Teom ugm3'!D1948),('Teom ugm3'!D1948*'Teom grams'!$F1946*0.000000028317),\"\")","v":""},"","","","",null,"","","",null,"",""]
[null,null,{"$f":"IF('Teom ugm3'!A1949=\"\",\"\",C1946+1)","v":""},"",null,"",null,{"$f":"IF(ISNUMBER('Teom ugm3'!B1949),('Teom ugm3'!B1949*'Teom grams'!$F1947*0.000000028317),\"\")","v":""},{"$f":"IF(ISNUMBER('Teom ugm3'!C1949),('Teom ugm3'!C1949*'Teom grams'!$F1947*0.000000028317),\"\")","v":""},{"$f":"IF(ISNUMBER('Teom ugm3'!D1949),('Teom ugm3'!D1949*'Teom grams'!$F1947*0.000000028317),\"\")","v":""},"","","","",null,"","","",null,"",""]
[null,null,{"$f":"IF('Teom ugm3'!A1950=\"\",\"\",C1947+1)","v":""},"",null,"",null,{"$f":"IF(ISNUMBER('Teom ugm3'!B1950),('Teom ugm3'!B1950*'Teom grams'!$F1948*0.000000028317),\"\")","v":""},{"$f":"IF(ISNUMBER('Teom ugm3'!C1950),('Teom ugm3'!C1950*'Teom grams'!$F1948*0.000000028317),\"\")","v":""},{"$f":"IF(ISNUMBER('Teom ugm3'!D1950),('Teom ugm3'!D1950*'Teom grams'!$F1948*0.000000028317),\"\")","v":""},"","","","",null,"","","",null,"",""]
[null,null,{"$f":"IF('Teom ugm3'!A1951=\"\",\"\",C1948+1)","v":""},"",null,"",null,{"$f":"IF(ISNUMBER('Teom ugm3'!B1951),('Teom ugm3'!B1951*'Teom grams'!$F1949*0.000000028317),\"\")","v":""},{"$f":"IF(ISNUMBER('Teom ugm3'!C1951),('Teom ugm3'!C1951*'Teom grams'!$F1949*0.000000028317),\"\")","v":""},{"$f":"IF(ISNUMBER('Teom ugm3'!D1951),('Teom ugm3'!D1951*'Teom grams'!$F1949*0.000000028317),\"\")","v":""},"","","","",null,"","","",null,"",""]
[null,null,{"$f":"IF('Teom ugm3'!A1952=\"\",\"\",C1949+1)","v":""},"",null,"",null,{"$f":"IF(ISNUMBER('Teom ugm3'!B1952),('Teom ugm3'!B1952*'Teom grams'!$F1950*0.000000028317),\"\")","v":""},{"$f":"IF(ISNUMBER('Teom ugm3'!C1952),('Teom ugm3'!C1952*'Teom grams'!$F1950*0.000000028317),\"\")","v":""},{"$f":"IF(ISNUMBER('Teom ugm3'!D1952),('Teom ugm3'!D1952*'Teom grams'!$F1950*0.000000028317),\"\")","v":""},"","","","",null,"","","",null,"",""]
[null,null,{"$f":"IF('Teom ugm3'!A1953=\"\",\"\",C1950+1)","v":""},"",null,"",null,{"$f":"IF(ISNUMBER('Teom ugm3'!B1953),('Teom ugm3'!B1953*'Teom grams'!$F1951*0.000000028317),\"\")","v":""},{"$f":"IF(ISNUMBER('Teom ugm3'!C1953),('Teom ugm3'!C1953*'Teom grams'!$F1951*0.000000028317),\"\")","v":""},{"$f":"IF(ISNUMBER('Teom ugm3'!D1953),('Teom ugm3'!D1953*'Teom grams'!$F1951*0.000000028317),\"\")","v":""},"","","","",null,"","","",null,"",""]
[null,null,{"$f":"IF('Teom ugm3'!A1954=\"\",\"\",C1951+1)","v":""},"",null,"",null,{"$f":"IF(ISNUMBER('Teom ugm3'!B1954),('Teom ugm3'!B1954*'Teom grams'!$F1952*0.000000028317),\"\")","v":""},{"$f":"IF(ISNUMBER('Teom ugm3'!C1954),('Teom ugm3'!C1954*'Teom grams'!$F1952*0.000000028317),\"\")","v":""},{"$f":"IF(ISNUMBER('Teom ugm3'!D1954),('Teom ugm3'!D1954*'Teom grams'!$F1952*0.000000028317),\"\")","v":""},"","","","",null,"","","",null,"",""]
[null,null,{"$f":"IF('Teom ugm3'!A1955=\"\",\"\",C1952+1)","v":""},"",null,"",null,{"$f":"IF(ISNUMBER('Teom ugm3'!B1955),('Teom ugm3'!B1955*'Teom grams'!$F1953*0.000000028317),\"\")","v":""},{"$f":"IF(ISNUMBER('Teom ugm3'!C1955),('Teom ugm3'!C1955*'Teom grams'!$F1953*0.000000028317),\"\")","v":""},{"$f":"IF(ISNUMBER('Teom ugm3'!D1955),('Teom ugm3'!D1955*'Teom grams'!$F1953*0.000000028317),\"\")","v":""},"","","","",null,"","","",null,"",""]
[null,null,{"$f":"IF('Teom ugm3'!A1956=\"\",\"\",C1953+1)","v":""},"",null,"",null,{"$f":"IF(ISNUMBER('Teom ugm3'!B1956),('Teom ugm3'!B1956*'Teom grams'!$F1954*0.000000028317),\"\")","v":""},{"$f":"IF(ISNUMBER('Teom ugm3'!C1956),('Teom ugm3'!C1956*'Teom grams'!$F1954*0.000000028317),\"\")","v":""},{"$f":"IF(ISNUMBER('Teom ugm3'!D1956),('Teom ugm3'!D1956*'Teom grams'!$F1954*0.000000028317),\"\")","v":""},"","","","",null,"","","",null,"",""]
[null,null,{"$f":"IF('Teom ugm3'!A1957=\"\",\"\",C1954+1)","v":""},"",null,"",null,{"$f":"IF(ISNUMBER('Teom ugm3'!B1957),('Teom ugm3'!B1957*'Teom grams'!$F1955*0.000000028317),\"\")","v":""},{"$f":"IF(ISNUMBER('Teom ugm3'!C1957),('Teom ugm3'!C1957*'Teom grams'!$F1955*0.000000028317),\"\")","v":""},{"$f":"IF(ISNUMBER('Teom ugm3'!D1957),('Teom ugm3'!D1957*'Teom grams'!$F1955*0.000000028317),\"\")","v":""},"","","","",null,"",{"$f":"IF(ISNUMBER(M1955),M1955*60,\"\")","v":""},{"$f":"IF(ISNUMBER(N1955),N1955*60,\"\")","v":""},null,{"$f":"IF(COUNT(C1955:C2014)>59,AVERAGE(P1955:P2014),\"\")","v":""},{"$f":"IF(COUNT(C1955:C2014)>59,AVERAGE(Q1955:Q2014),\"\")","v":""}]
[null,null,{"$f":"IF('Teom ugm3'!A1958=\"\",\"\",C1955+1)","v":""},"",null,"",null,{"$f":"IF(ISNUMBER('Teom ugm3'!B1958),('Teom ugm3'!B1958*'Teom grams'!$F1956*0.000000028317),\"\")","v":""},{"$f":"IF(ISNUMBER('Teom ugm3'!C1958),('Teom ugm3'!C1958*'Teom grams'!$F1956*0.000000028317),\"\")","v":""},{"$f":"IF(ISNUMBER('Teom ugm3'!D1958),('Teom ugm3'!D1958*'Teom grams'!$F1956*0.000000028317),\"\")","v":""},"","","","",null,"","","",null,"",""]
[null,null,{"$f":"IF('Teom ugm3'!A1959=\"\",\"\",C1956+1)","v":""},"",null,"",null,{"$f":"IF(ISNUMBER('Teom ugm3'!B1959),('Teom ugm3'!B1959*'Teom grams'!$F1957*0.000000028317),\"\")","v":""},{"$f":"IF(ISNUMBER('Teom ugm3'!C1959),('Teom ugm3'!C1959*'Teom grams'!$F1957*0.000000028317),\"\")","v":""},{"$f":"IF(ISNUMBER('Teom ugm3'!D1959),('Teom ugm3'!D1959*'Teom grams'!$F1957*0.000000028317),\"\")","v":""},"","","","",null,"","","",null,"",""]
[null,null,{"$f":"IF('Teom ugm3'!A1960=\"\",\"\",C1957+1)","v":""},"",null,"",null,{"$f":"IF(ISNUMBER('Teom ugm3'!B1960),('Teom ugm3'!B1960*'Teom grams'!$F1958*0.000000028317),\"\")","v":""},{"$f":"IF(ISNUMBER('Teom ugm3'!C1960),('Teom ugm3'!C1960*'Teom grams'!$F1958*0.000000028317),\"\")","v":""},{"$f":"IF(ISNUMBER('Teom ugm3'!D1960),('Teom ugm3'!D1960*'Teom grams'!$F1958*0.000000028317),\"\")","v":""},"","","","",null,"","","",null,"",""]
[null,null,{"$f":"IF('Teom ugm3'!A1961=\"\",\"\",C1958+1)","v":""},"",null,"",null,{"$f":"IF(ISNUMBER('Teom ugm3'!B1961),('Teom ugm3'!B1961*'Teom grams'!$F1959*0.000000028317),\"\")","v":""},{"$f":"IF(ISNUMBER('Teom ugm3'!C1961),('Teom ugm3'!C1961*'Teom grams'!$F1959*0.000000028317),\"\")","v":""},{"$f":"IF(ISNUMBER('Teom ugm3'!D1961),('Teom ugm3'!D1961*'Teom grams'!$F1959*0.000000028317),\"\")","v":""},"","","","",null,"","","",null,"",""]
[null,null,{"$f":"IF('Teom ugm3'!A1962=\"\",\"\",C1959+1)","v":""},"",null,"",null,{"$f":"IF(ISNUMBER('Teom ugm3'!B1962),('Teom ugm3'!B1962*'Teom grams'!$F1960*0.000000028317),\"\")","v":""},{"$f":"IF(ISNUMBER('Teom ugm3'!C1962),('Teom ugm3'!C1962*'Teom grams'!$F1960*0.000000028317),\"\")","v":""},{"$f":"IF(ISNUMBER('Teom ugm3'!D1962),('Teom ugm3'!D1962*'Teom grams'!$F1960*0.000000028317),\"\")","v":""},"","","","",null,"","","",null,"",""]
[null,null,{"$f":"IF('Teom ugm3'!A1963=\"\",\"\",C1960+1)","v":""},"",null,"",null,{"$f":"IF(ISNUMBER('Teom ugm3'!B1963),('Teom ugm3'!B1963*'Teom grams'!$F1961*0.000000028317),\"\")","v":""},{"$f":"IF(ISNUMBER('Teom ugm3'!C1963),('Teom ugm3'!C1963*'Teom grams'!$F1961*0.000000028317),\"\")","v":""},{"$f":"IF(ISNUMBER('Teom ugm3'!D1963),('Teom ugm3'!D1963*'Teom grams'!$F1961*0.000000028317),\"\")","v":""},"","","","",null,"","","",null,"",""]
[null,null,{"$f":"IF('Teom ugm3'!A1964=\"\",\"\",C1961+1)","v":""},"",null,"",null,{"$f":"IF(ISNUMBER('Teom ugm3'!B1964),('Teom ugm3'!B1964*'Teom grams'!$F1962*0.000000028317),\"\")","v":""},{"$f":"IF(ISNUMBER('Teom ugm3'!C1964),('Teom ugm3'!C1964*'Teom grams'!$F1962*0.000000028317),\"\")","v":""},{"$f":"IF(ISNUMBER('Teom ugm3'!D1964),('Teom ugm3'!D1964*'Teom grams'!$F1962*0.000000028317),\"\")","v":""},"","","","",null,"","","",null,"",""]
[null,null,{"$f":"IF('Teom ugm3'!A1965=\"\",\"\",C1962+1)","v":""},"",null,"",null,{"$f":"IF(ISNUMBER('Teom ugm3'!B1965),('Teom ugm3'!B1965*'Teom grams'!$F1963*0.000000028317),\"\")","v":""},{"$f":"IF(ISNUMBER('Teom ugm3'!C1965),('Teom ugm3'!C1965*'Teom grams'!$F1963*0.000000028317),\"\")","v":""},{"$f":"IF(ISNUMBER('Teom ugm3'!D1965),('Teom ugm3'!D1965*'Teom grams'!$F1963*0.000000028317),\"\")","v":""},"","","","",null,"","","",null,"",""]
[null,null,{"$f":"IF('Teom ugm3'!A1966=\"\",\"\",C1963+1)","v":""},"",null,"",null,{"$f":"IF(ISNUMBER('Teom ugm3'!B1966),('Teom ugm3'!B1966*'Teom grams'!$F1964*0.000000028317),\"\")","v":""},{"$f":"IF(ISNUMBER('Teom ugm3'!C1966),('Teom ugm3'!C1966*'Teom grams'!$F1964*0.000000028317),\"\")","v":""},{"$f":"IF(ISNUMBER('Teom ugm3'!D1966),('Teom ugm3'!D1966*'Teom grams'!$F1964*0.000000028317),\"\")","v":""},"","","","",null,"","","",null,"",""]
[null,null,{"$f":"IF('Teom ugm3'!A1967=\"\",\"\",C1964+1)","v":""},"",null,"",null,{"$f":"IF(ISNUMBER('Teom ugm3'!B1967),('Teom ugm3'!B1967*'Teom grams'!$F1965*0.000000028317),\"\")","v":""},{"$f":"IF(ISNUMBER('Teom ugm3'!C1967),('Teom ugm3'!C1967*'Teom grams'!$F1965*0.000000028317),\"\")","v":""},{"$f":"IF(ISNUMBER('Teom ugm3'!D1967),('Teom ugm3'!D1967*'Teom grams'!$F1965*0.000000028317),\"\")","v":""},"","","","",null,"","","",null,"",""]
[null,null,{"$f":"IF('Teom ugm3'!A1968=\"\",\"\",C1965+1)","v":""},"",null,"",null,{"$f":"IF(ISNUMBER('Teom ugm3'!B1968),('Teom ugm3'!B1968*'Teom grams'!$F1966*0.000000028317),\"\")","v":""},{"$f":"IF(ISNUMBER('Teom ugm3'!C1968),('Teom ugm3'!C1968*'Teom grams'!$F1966*0.000000028317),\"\")","v":""},{"$f":"IF(ISNUMBER('Teom ugm3'!D1968),('Teom ugm3'!D1968*'Teom grams'!$F1966*0.000000028317),\"\")","v":""},"","","","",null,"","","",null,"",""]
[null,null,{"$f":"IF('Teom ugm3'!A1969=\"\",\"\",C1966+1)","v":""},"",null,"",null,{"$f":"IF(ISNUMBER('Teom ugm3'!B1969),('Teom ugm3'!B1969*'Teom grams'!$F1967*0.000000028317),\"\")","v":""},{"$f":"IF(ISNUMBER('Teom ugm3'!C1969),('Teom ugm3'!C1969*'Teom grams'!$F1967*0.000000028317),\"\")","v":""},{"$f":"IF(ISNUMBER('Teom ugm3'!D1969),('Teom ugm3'!D1969*'Teom grams'!$F1967*0.000000028317),\"\")","v":""},"","","","",null,"","","",null,"",""]
[null,null,{"$f":"IF('Teom ugm3'!A1970=\"\",\"\",C1967+1)","v":""},"",null,"",null,{"$f":"IF(ISNUMBER('Teom ugm3'!B1970),('Teom ugm3'!B1970*'Teom grams'!$F1968*0.000000028317),\"\")","v":""},{"$f":"IF(ISNUMBER('Teom ugm3'!C1970),('Teom ugm3'!C1970*'Teom grams'!$F1968*0.000000028317),\"\")","v":""},{"$f":"IF(ISNUMBER('Teom ugm3'!D1970),('Teom ugm3'!D1970*'Teom grams'!$F1968*0.000000028317),\"\")","v":""},"","","","",null,"","","",null,"",""]
[null,null,{"$f":"IF('Teom ugm3'!A1971=\"\",\"\",C1968+1)","v":""},"",null,"",null,{"$f":"IF(ISNUMBER('Teom ugm3'!B1971),('Teom ugm3'!B1971*'Teom grams'!$F1969*0.000000028317),\"\")","v":""},{"$f":"IF(ISNUMBER('Teom ugm3'!C1971),('Teom ugm3'!C1971*'Teom grams'!$F1969*0.000000028317),\"\")","v":""},{"$f":"IF(ISNUMBER('Teom ugm3'!D1971),('Teom ugm3'!D1971*'Teom grams'!$F1969*0.000000028317),\"\")","v":""},"","","","",null,"","","",null,"",""]
[null,null,{"$f":"IF('Teom ugm3'!A1972=\"\",\"\",C1969+1)","v":""},"",null,"",null,{"$f":"IF(ISNUMBER('Teom ugm3'!B1972),('Teom ugm3'!B1972*'Teom grams'!$F1970*0.000000028317),\"\")","v":""},{"$f":"IF(ISNUMBER('Teom ugm3'!C1972),('Teom ugm3'!C1972*'Teom grams'!$F1970*0.000000028317),\"\")","v":""},{"$f":"IF(ISNUMBER('Teom ugm3'!D1972),('Teom ugm3'!D1972*'Teom grams'!$F1970*0.000000028317),\"\")","v":""},"","","","",null,"","","",null,"",""]
[null,null,{"$f":"IF('Teom ugm3'!A1973=\"\",\"\",C1970+1)","v":""},"",null,"",null,{"$f":"IF(ISNUMBER('Teom ugm3'!B1973),('Teom ugm3'!B1973*'Teom grams'!$F1971*0.000000028317),\"\")","v":""},{"$f":"IF(ISNUMBER('Teom ugm3'!C1973),('Teom ugm3'!C1973*'Teom grams'!$F1971*0.000000028317),\"\")","v":""},{"$f":"IF(ISNUMBER('Teom ugm3'!D1973),('Teom ugm3'!D1973*'Teom grams'!$F1971*0.000000028317),\"\")","v":""},"","","","",null,"","","",null,"",""]
[null,null,{"$f":"IF('Teom ugm3'!A1974=\"\",\"\",C1971+1)","v":""},"",null,"",null,{"$f":"IF(ISNUMBER('Teom ugm3'!B1974),('Teom ugm3'!B1974*'Teom grams'!$F1972*0.000000028317),\"\")","v":""},{"$f":"IF(ISNUMBER('Teom ugm3'!C1974),('Teom ugm3'!C1974*'Teom grams'!$F1972*0.000000028317),\"\")","v":""},{"$f":"IF(ISNUMBER('Teom ugm3'!D1974),('Teom ugm3'!D1974*'Teom grams'!$F1972*0.000000028317),\"\")","v":""},"","","","",null,"","","",null,"",""]
[null,null,{"$f":"IF('Teom ugm3'!A1975=\"\",\"\",C1972+1)","v":""},"",null,"",null,{"$f":"IF(ISNUMBER('Teom ugm3'!B1975),('Teom ugm3'!B1975*'Teom grams'!$F1973*0.000000028317),\"\")","v":""},{"$f":"IF(ISNUMBER('Teom ugm3'!C1975),('Teom ugm3'!C1975*'Teom grams'!$F1973*0.000000028317),\"\")","v":""},{"$f":"IF(ISNUMBER('Teom ugm3'!D1975),('Teom ugm3'!D1975*'Teom grams'!$F1973*0.000000028317),\"\")","v":""},"","","","",null,"","","",null,"",""]
[null,null,{"$f":"IF('Teom ugm3'!A1976=\"\",\"\",C1973+1)","v":""},"",null,"",null,{"$f":"IF(ISNUMBER('Teom ugm3'!B1976),('Teom ugm3'!B1976*'Teom grams'!$F1974*0.000000028317),\"\")","v":""},{"$f":"IF(ISNUMBER('Teom ugm3'!C1976),('Teom ugm3'!C1976*'Teom grams'!$F1974*0.000000028317),\"\")","v":""},{"$f":"IF(ISNUMBER('Teom ugm3'!D1976),('Teom ugm3'!D1976*'Teom grams'!$F1974*0.000000028317),\"\")","v":""},"","","","",null,"","","",null,"",""]
[null,null,{"$f":"IF('Teom ugm3'!A1977=\"\",\"\",C1974+1)","v":""},"",null,"",null,{"$f":"IF(ISNUMBER('Teom ugm3'!B1977),('Teom ugm3'!B1977*'Teom grams'!$F1975*0.000000028317),\"\")","v":""},{"$f":"IF(ISNUMBER('Teom ugm3'!C1977),('Teom ugm3'!C1977*'Teom grams'!$F1975*0.000000028317),\"\")","v":""},{"$f":"IF(ISNUMBER('Teom ugm3'!D1977),('Teom ugm3'!D1977*'Teom grams'!$F1975*0.000000028317),\"\")","v":""},"","","","",null,"","","",null,"",""]
[null,null,{"$f":"IF('Teom ugm3'!A1978=\"\",\"\",C1975+1)","v":""},"",null,"",null,{"$f":"IF(ISNUMBER('Teom ugm3'!B1978),('Teom ugm3'!B1978*'Teom grams'!$F1976*0.000000028317),\"\")","v":""},{"$f":"IF(ISNUMBER('Teom ugm3'!C1978),('Teom ugm3'!C1978*'Teom grams'!$F1976*0.000000028317),\"\")","v":""},{"$f":"IF(ISNUMBER('Teom ugm3'!D1978),('Teom ugm3'!D1978*'Teom grams'!$F1976*0.000000028317),\"\")","v":""},"","","","",null,"","","",null,"",""]
[null,null,{"$f":"IF('Teom ugm3'!A1979=\"\",\"\",C1976+1)","v":""},"",null,"",null,{"$f":"IF(ISNUMBER('Teom ugm3'!B1979),('Teom ugm3'!B1979*'Teom grams'!$F1977*0.000000028317),\"\")","v":""},{"$f":"IF(ISNUMBER('Teom ugm3'!C1979),('Teom ugm3'!C1979*'Teom grams'!$F1977*0.000000028317),\"\")","v":""},{"$f":"IF(ISNUMBER('Teom ugm3'!D1979),('Teom ugm3'!D1979*'Teom grams'!$F1977*0.000000028317),\"\")","v":""},"","","","",null,"","","",null,"",""]
[null,null,{"$f":"IF('Teom ugm3'!A1980=\"\",\"\",C1977+1)","v":""},"",null,"",null,{"$f":"IF(ISNUMBER('Teom ugm3'!B1980),('Teom ugm3'!B1980*'Teom grams'!$F1978*0.000000028317),\"\")","v":""},{"$f":"IF(ISNUMBER('Teom ugm3'!C1980),('Teom ugm3'!C1980*'Teom grams'!$F1978*0.000000028317),\"\")","v":""},{"$f":"IF(ISNUMBER('Teom ugm3'!D1980),('Teom ugm3'!D1980*'Teom grams'!$F1978*0.000000028317),\"\")","v":""},"","","","",null,"","","",null,"",""]
[null,null,{"$f":"IF('Teom ugm3'!A1981=\"\",\"\",C1978+1)","v":""},"",null,"",null,{"$f":"IF(ISNUMBER('Teom ugm3'!B1981),('Teom ugm3'!B1981*'Teom grams'!$F1979*0.000000028317),\"\")","v":""},{"$f":"IF(ISNUMBER('Teom ugm3'!C1981),('Teom ugm3'!C1981*'Teom grams'!$F1979*0.000000028317),\"\")","v":""},{"$f":"IF(ISNUMBER('Teom ugm3'!D1981),('Teom ugm3'!D1981*'Teom grams'!$F1979*0.000000028317),\"\")","v":""},"","","","",null,"","","",null,"",""]
[null,null,{"$f":"IF('Teom ugm3'!A1982=\"\",\"\",C1979+1)","v":""},"",null,"",null,{"$f":"IF(ISNUMBER('Teom ugm3'!B1982),('Teom ugm3'!B1982*'Teom grams'!$F1980*0.000000028317),\"\")","v":""},{"$f":"IF(ISNUMBER('Teom ugm3'!C1982),('Teom ugm3'!C1982*'Teom grams'!$F1980*0.000000028317),\"\")","v":""},{"$f":"IF(ISNUMBER('Teom ugm3'!D1982),('Teom ugm3'!D1982*'Teom grams'!$F1980*0.000000028317),\"\")","v":""},"","","","",null,"","","",null,"",""]
[null,null,{"$f":"IF('Teom ugm3'!A1983=\"\",\"\",C1980+1)","v":""},"",null,"",null,{"$f":"IF(ISNUMBER('Teom ugm3'!B1983),('Teom ugm3'!B1983*'Teom grams'!$F1981*0.000000028317),\"\")","v":""},{"$f":"IF(ISNUMBER('Teom ugm3'!C1983),('Teom ugm3'!C1983*'Teom grams'!$F1981*0.000000028317),\"\")","v":""},{"$f":"IF(ISNUMBER('Teom ugm3'!D1983),('Teom ugm3'!D1983*'Teom grams'!$F1981*0.000000028317),\"\")","v":""},"","","","",null,"","","",null,"",""]
[null,null,{"$f":"IF('Teom ugm3'!A1984=\"\",\"\",C1981+1)","v":""},"",null,"",null,{"$f":"IF(ISNUMBER('Teom ugm3'!B1984),('Teom ugm3'!B1984*'Teom grams'!$F1982*0.000000028317),\"\")","v":""},{"$f":"IF(ISNUMBER('Teom ugm3'!C1984),('Teom ugm3'!C1984*'Teom grams'!$F1982*0.000000028317),\"\")","v":""},{"$f":"IF(ISNUMBER('Teom ugm3'!D1984),('Teom ugm3'!D1984*'Teom grams'!$F1982*0.000000028317),\"\")","v":""},"","","","",null,"","","",null,"",""]
[null,null,{"$f":"IF('Teom ugm3'!A1985=\"\",\"\",C1982+1)","v":""},"",null,"",null,{"$f":"IF(ISNUMBER('Teom ugm3'!B1985),('Teom ugm3'!B1985*'Teom grams'!$F1983*0.000000028317),\"\")","v":""},{"$f":"IF(ISNUMBER('Teom ugm3'!C1985),('Teom ugm3'!C1985*'Teom grams'!$F1983*0.000000028317),\"\")","v":""},{"$f":"IF(ISNUMBER('Teom ugm3'!D1985),('Teom ugm3'!D1985*'Teom grams'!$F1983*0.000000028317),\"\")","v":""},"","","","",null,"","","",null,"",""]
[null,null,{"$f":"IF('Teom ugm3'!A1986=\"\",\"\",C1983+1)","v":""},"",null,"",null,{"$f":"IF(ISNUMBER('Teom ugm3'!B1986),('Teom ugm3'!B1986*'Teom grams'!$F1984*0.000000028317),\"\")","v":""},{"$f":"IF(ISNUMBER('Teom ugm3'!C1986),('Teom ugm3'!C1986*'Teom grams'!$F1984*0.000000028317),\"\")","v":""},{"$f":"IF(ISNUMBER('Teom ugm3'!D1986),('Teom ugm3'!D1986*'Teom grams'!$F1984*0.000000028317),\"\")","v":""},"","","","",null,"","","",null,"",""]
[null,null,{"$f":"IF('Teom ugm3'!A1987=\"\",\"\",C1984+1)","v":""},"",null,"",null,{"$f":"IF(ISNUMBER('Teom ugm3'!B1987),('Teom ugm3'!B1987*'Teom grams'!$F1985*0.000000028317),\"\")","v":""},{"$f":"IF(ISNUMBER('Teom ugm3'!C1987),('Teom ugm3'!C1987*'Teom grams'!$F1985*0.000000028317),\"\")","v":""},{"$f":"IF(ISNUMBER('Teom ugm3'!D1987),('Teom ugm3'!D1987*'Teom grams'!$F1985*0.000000028317),\"\")","v":""},"","","","",null,"","","",null,"",""]
[null,null,{"$f":"IF('Teom ugm3'!A1988=\"\",\"\",C1985+1)","v":""},"",null,"",null,{"$f":"IF(ISNUMBER('Teom ugm3'!B1988),('Teom ugm3'!B1988*'Teom grams'!$F1986*0.000000028317),\"\")","v":""},{"$f":"IF(ISNUMBER('Teom ugm3'!C1988),('Teom ugm3'!C1988*'Teom grams'!$F1986*0.000000028317),\"\")","v":""},{"$f":"IF(ISNUMBER('Teom ugm3'!D1988),('Teom ugm3'!D1988*'Teom grams'!$F1986*0.000000028317),\"\")","v":""},"","","","",null,"","","",null,"",""]
[null,null,{"$f":"IF('Teom ugm3'!A1989=\"\",\"\",C1986+1)","v":""},"",null,"",null,{"$f":"IF(ISNUMBER('Teom ugm3'!B1989),('Teom ugm3'!B1989*'Teom grams'!$F1987*0.000000028317),\"\")","v":""},{"$f":"IF(ISNUMBER('Teom ugm3'!C1989),('Teom ugm3'!C1989*'Teom grams'!$F1987*0.000000028317),\"\")","v":""},{"$f":"IF(ISNUMBER('Teom ugm3'!D1989),('Teom ugm3'!D1989*'Teom grams'!$F1987*0.000000028317),\"\")","v":""},"","","","",null,"","","",null,"",""]
[null,null,{"$f":"IF('Teom ugm3'!A1990=\"\",\"\",C1987+1)","v":""},"",null,"",null,{"$f":"IF(ISNUMBER('Teom ugm3'!B1990),('Teom ugm3'!B1990*'Teom grams'!$F1988*0.000000028317),\"\")","v":""},{"$f":"IF(ISNUMBER('Teom ugm3'!C1990),('Teom ugm3'!C1990*'Teom grams'!$F1988*0.000000028317),\"\")","v":""},{"$f":"IF(ISNUMBER('Teom ugm3'!D1990),('Teom ugm3'!D1990*'Teom grams'!$F1988*0.000000028317),\"\")","v":""},"","","",{"$f":"M1988","v":""},null,"","","",null,"",""]
[null,null,{"$f":"IF('Teom ugm3'!A1991=\"\",\"\",C1988+1)","v":""},"",null,{"$f":"IF(C1989=\"\",\"\",E1989*1.02041)","v":""},null,{"$f":"IF(ISNUMBER('Teom ugm3'!B1991),('Teom ugm3'!B1991*'Teom grams'!$F1989*0.000000028317),\"\")","v":""},{"$f":"IF(ISNUMBER('Teom ugm3'!C1991),('Teom ugm3'!C1991*'Teom grams'!$F1989*0.000000028317),\"\")","v":""},{"$f":"IF(ISNUMBER('Teom ugm3'!D1991),('Teom ugm3'!D1991*'Teom grams'!$F1989*0.000000028317),\"\")","v":""},{"$f":"IF(H1989<0,0,H1989)","v":""},"","","",null,{"$f":"IF(ISNUMBER(J1989),J1989*60,\"\")","v":""},"","",null,"",""]
[null,null,{"$f":"IF('Teom ugm3'!A1992=\"\",\"\",C1989+1)","v":""},{"$f":"IF(C1990=\"\",\"\",D1989 + TIME(0, 1, 0))","v":""},null,"",null,{"$f":"IF(ISNUMBER('Teom ugm3'!B1992),('Teom ugm3'!B1992*'Teom grams'!$F1990*0.000000028317),\"\")","v":""},{"$f":"IF(ISNUMBER('Teom ugm3'!C1992),('Teom ugm3'!C1992*'Teom grams'!$F1990*0.000000028317),\"\")","v":""},{"$f":"IF(ISNUMBER('Teom ugm3'!D1992),('Teom ugm3'!D1992*'Teom grams'!$F1990*0.000000028317),\"\")","v":""},"","","","",null,"","","",null,"",""]
[null,null,{"$f":"IF('Teom ugm3'!A1993=\"\",\"\",C1990+1)","v":""},"",null,"",null,{"$f":"IF(ISNUMBER('Teom ugm3'!B1993),('Teom ugm3'!B1993*'Teom grams'!$F1991*0.000000028317),\"\")","v":""},{"$f":"IF(ISNUMBER('Teom ugm3'!C1993),('Teom ugm3'!C1993*'Teom grams'!$F1991*0.000000028317),\"\")","v":""},{"$f":"IF(ISNUMBER('Teom ugm3'!D1993),('Teom ugm3'!D1993*'Teom grams'!$F1991*0.000000028317),\"\")","v":""},"","","","",null,"","","",null,"",""]
[null,null,{"$f":"IF('Teom ugm3'!A1994=\"\",\"\",C1991+1)","v":""},"",null,"",null,{"$f":"IF(ISNUMBER('Teom ugm3'!B1994),('Teom ugm3'!B1994*'Teom grams'!$F1992*0.000000028317),\"\")","v":""},{"$f":"IF(ISNUMBER('Teom ugm3'!C1994),('Teom ugm3'!C1994*'Teom grams'!$F1992*0.000000028317),\"\")","v":""},{"$f":"IF(ISNUMBER('Teom ugm3'!D1994),('Teom ugm3'!D1994*'Teom grams'!$F1992*0.000000028317),\"\")","v":""},"","","","",null,"","","",null,"",""]
[null,null,{"$f":"IF('Teom ugm3'!A1995=\"\",\"\",C1992+1)","v":""},"",null,"",null,{"$f":"IF(ISNUMBER('Teom ugm3'!B1995),('Teom ugm3'!B1995*'Teom grams'!$F1993*0.000000028317),\"\")","v":""},{"$f":"IF(ISNUMBER('Teom ugm3'!C1995),('Teom ugm3'!C1995*'Teom grams'!$F1993*0.000000028317),\"\")","v":""},{"$f":"IF(ISNUMBER('Teom ugm3'!D1995),('Teom ugm3'!D1995*'Teom grams'!$F1993*0.000000028317),\"\")","v":""},"","","","",null,"","","",null,"",""]
[null,null,{"$f":"IF('Teom ugm3'!A1996=\"\",\"\",C1993+1)","v":""},"",null,"",null,{"$f":"IF(ISNUMBER('Teom ugm3'!B1996),('Teom ugm3'!B1996*'Teom grams'!$F1994*0.000000028317),\"\")","v":""},{"$f":"IF(ISNUMBER('Teom ugm3'!C1996),('Teom ugm3'!C1996*'Teom grams'!$F1994*0.000000028317),\"\")","v":""},{"$f":"IF(ISNUMBER('Teom ugm3'!D1996),('Teom ugm3'!D1996*'Teom grams'!$F1994*0.000000028317),\"\")","v":""},"","","","",null,"","","",null,"",""]
[null,null,{"$f":"IF('Teom ugm3'!A1997=\"\",\"\",C1994+1)","v":""},"",null,"",null,{"$f":"IF(ISNUMBER('Teom ugm3'!B1997),('Teom ugm3'!B1997*'Teom grams'!$F1995*0.000000028317),\"\")","v":""},{"$f":"IF(ISNUMBER('Teom ugm3'!C1997),('Teom ugm3'!C1997*'Teom grams'!$F1995*0.000000028317),\"\")","v":""},{"$f":"IF(ISNUMBER('Teom ugm3'!D1997),('Teom ugm3'!D1997*'Teom grams'!$F1995*0.000000028317),\"\")","v":""},"","",{"$f":"IF(COUNT(K1995:L1995)>0,AVERAGE(K1995:L1995),\"\")","v":""},"",null,"","","",null,"",""]
[null,null,{"$f":"IF('Teom ugm3'!A1998=\"\",\"\",C1995+1)","v":""},"",null,"",null,{"$f":"IF(ISNUMBER('Teom ugm3'!B1998),('Teom ugm3'!B1998*'Teom grams'!$F1996*0.000000028317),\"\")","v":""},{"$f":"IF(ISNUMBER('Teom ugm3'!C1998),('Teom ugm3'!C1998*'Teom grams'!$F1996*0.000000028317),\"\")","v":""},{"$f":"IF(ISNUMBER('Teom ugm3'!D1998),('Teom ugm3'!D1998*'Teom grams'!$F1996*0.000000028317),\"\")","v":""},"","","","",null,"","","",null,"",""]
[null,null,{"$f":"IF('Teom ugm3'!A1999=\"\",\"\",C1996+1)","v":""},"",null,"",null,{"$f":"IF(ISNUMBER('Teom ugm3'!B1999),('Teom ugm3'!B1999*'Teom grams'!$F1997*0.000000028317),\"\")","v":""},{"$f":"IF(ISNUMBER('Teom ugm3'!C1999),('Teom ugm3'!C1999*'Teom grams'!$F1997*0.000000028317),\"\")","v":""},{"$f":"IF(ISNUMBER('Teom ugm3'!D1999),('Teom ugm3'!D1999*'Teom grams'!$F1997*0.000000028317),\"\")","v":""},"","","","",null,"","","",null,"",""]
[null,null,{"$f":"IF('Teom ugm3'!A2000=\"\",\"\",C1997+1)","v":""},"",null,"",null,{"$f":"IF(ISNUMBER('Teom ugm3'!B2000),('Teom ugm3'!B2000*'Teom grams'!$F1998*0.000000028317),\"\")","v":""},{"$f":"IF(ISNUMBER('Teom ugm3'!C2000),('Teom ugm3'!C2000*'Teom grams'!$F1998*0.000000028317),\"\")","v":""},{"$f":"IF(ISNUMBER('Teom ugm3'!D2000),('Teom ugm3'!D2000*'Teom grams'!$F1998*0.000000028317),\"\")","v":""},"","","","",null,"","","",null,"",""]
[null,null,{"$f":"IF('Teom ugm3'!A2001=\"\",\"\",C1998+1)","v":""},"",null,"",null,{"$f":"IF(ISNUMBER('Teom ugm3'!B2001),('Teom ugm3'!B2001*'Teom grams'!$F1999*0.000000028317),\"\")","v":""},{"$f":"IF(ISNUMBER('Teom ugm3'!C2001),('Teom ugm3'!C2001*'Teom grams'!$F1999*0.000000028317),\"\")","v":""},{"$f":"IF(ISNUMBER('Teom ugm3'!D2001),('Teom ugm3'!D2001*'Teom grams'!$F1999*0.000000028317),\"\")","v":""},"","","","",null,"","","",null,"",""]
[null,null,{"$f":"IF('Teom ugm3'!A2002=\"\",\"\",C1999+1)","v":""},"",null,"",null,{"$f":"IF(ISNUMBER('Teom ugm3'!B2002),('Teom ugm3'!B2002*'Teom grams'!$F2000*0.000000028317),\"\")","v":""},{"$f":"IF(ISNUMBER('Teom ugm3'!C2002),('Teom ugm3'!C2002*'Teom grams'!$F2000*0.000000028317),\"\")","v":""},{"$f":"IF(ISNUMBER('Teom ugm3'!D2002),('Teom ugm3'!D2002*'Teom grams'!$F2000*0.000000028317),\"\")","v":""},"","","","",null,"","","",null,"",""]
[null,null,{"$f":"IF('Teom ugm3'!A2003=\"\",\"\",C2000+1)","v":""},"",null,"",null,{"$f":"IF(ISNUMBER('Teom ugm3'!B2003),('Teom ugm3'!B2003*'Teom grams'!$F2001*0.000000028317),\"\")","v":""},{"$f":"IF(ISNUMBER('Teom ugm3'!C2003),('Teom ugm3'!C2003*'Teom grams'!$F2001*0.000000028317),\"\")","v":""},{"$f":"IF(ISNUMBER('Teom ugm3'!D2003),('Teom ugm3'!D2003*'Teom grams'!$F2001*0.000000028317),\"\")","v":""},"","","","",null,"","","",null,"",""]
[null,null,{"$f":"IF('Teom ugm3'!A2004=\"\",\"\",C2001+1)","v":""},"",null,"",null,{"$f":"IF(ISNUMBER('Teom ugm3'!B2004),('Teom ugm3'!B2004*'Teom grams'!$F2002*0.000000028317),\"\")","v":""},{"$f":"IF(ISNUMBER('Teom ugm3'!C2004),('Teom ugm3'!C2004*'Teom grams'!$F2002*0.000000028317),\"\")","v":""},{"$f":"IF(ISNUMBER('Teom ugm3'!D2004),('Teom ugm3'!D2004*'Teom grams'!$F2002*0.000000028317),\"\")","v":""},"","","","",null,"","","",null,"",""]
[null,null,{"$f":"IF('Teom ugm3'!A2005=\"\",\"\",C2002+1)","v":""},"",null,"",null,{"$f":"IF(ISNUMBER('Teom ugm3'!B2005),('Teom ugm3'!B2005*'Teom grams'!$F2003*0.000000028317),\"\")","v":""},{"$f":"IF(ISNUMBER('Teom ugm3'!C2005),('Teom ugm3'!C2005*'Teom grams'!$F2003*0.000000028317),\"\")","v":""},{"$f":"IF(ISNUMBER('Teom ugm3'!D2005),('Teom ugm3'!D2005*'Teom grams'!$F2003*0.000000028317),\"\")","v":""},"","","","",null,"","","",null,"",""]

{"sheet":"Summary Phase Data","index":3,"n_rows":36,"n_cols":19,"rows_kept":36,"cut":false,"hidden":false,"merged":[[21,16,21,18],[22,16,22,18],[3,0,3,2],[21,1,21,3],[22,1,22,3],[21,4,21,6],[22,4,22,6],[21,7,21,9],[22,7,22,9],[21,10,21,12],[22,10,22,12],[21,13,21,15],[22,13,22,15]]}
["Stove #:",{"$f":"'Teom grams'!B1","v":0},null,null,null,"Yellow cells: data entry from fuel calc",{"$nulls":9},"Caution:   If you change 'Teom ugm3' or 'Teom grams' sheet names, or the order of columns or rows,"]
["Date:",{"$f":"'Teom grams'!B2","v":"00:00:00"},null,"StartTime QC:",null,"Green cells: QC checks",{"$nulls":9},"all \"INDIRECT\" functions in this sheet must be modified. Affected cells:"]
["Start:",{"$f":"'Teom grams'!B3","v":"00:00:00"},null,{"$f":"ABS((MOD('Teom ugm3'!A6,1)-B3))*1440","v":0},"Must be <0.5; checks fuel calc time vs Teom time.",{"$nulls":10},"E6:E13, \"C26:C33\", \"F26:F33\", \"I26:I23\", \"L26:L23\", \"O26:O23\", and \"R26:R23\""]
["Phase Times",{"$nulls":7},"dry lb","dry kg",null,null,"DBR"]
["Phase","Start","End","Test min","Teom min","% data capture",null,null,"burned","burned"," g/kg unadj"," g/kg adj","kg/h",null,"Max Rolling 1-h average"]
[1,{"$f":"'Teom grams'!B3","v":"00:00:00"},null,{"$f":"IF(OR(B6=\"\",C6=\"\"),\"\",IF(B6>C6,1440+(C6-B6)*1440,(C6-B6)*1440))","v":""},{"$f":"IF(OR(B6=\"\",C6=\"\"),\"\",SUMPRODUCT(--(LEN(INDIRECT(\"'Teom ugm3'!$H$6:$H$\"&TEXT(D6+5,\"0\")))>0)))","v":""},{"$f":"100*E6/D6","v":{"$error":"#VALUE!"}},{"$f":"IF(F6<85,\"fail\",\"pass\")","v":{"$error":"#VALUE!"}},null,null,{"$f":"IF(ISNUMBER(I6),I6/2.20462,\"\")","v":""},{"$f":"IF(ISNUMBER(E6),I26/J6,\"\")","v":""},{"$f":"IF(ISNUMBER(E6),R26/J6,\"\")","v":""},{"$f":"IF(ISNUMBER(E6),J6/(D6/60),\"\")","v":""},null,"unadj g/h",{"$f":"MAX('Teom grams'!T4:T2003)","v":0}]
[2,{"$f":"IF(ISBLANK(C7),\"\",C6)","v":""},null,{"$f":"IF(OR(B7=\"\",C7=\"\"),\"\",IF(B7>C7,1440+((C7-B7)*1440),(C7-B7)*1440))","v":""},{"$f":"IF(OR(B7=\"\",C7=\"\"),\"\",SUMPRODUCT(--(LEN(INDIRECT(\"'Teom ugm3'!$H$\"&TEXT(SUM($D$6:D6)+6,\"0\")&\":$H$\"&TEXT(SUM($D$6:D7)+5,\"0\")))>0)))","v":""},{"$f":"100*E7/D7","v":{"$error":"#VALUE!"}},{"$f":"IF(F7<85,\"fail\",\"pass\")","v":{"$error":"#VALUE!"}},null,null,{"$f":"IF(ISNUMBER(I7),I7/2.20462,\"\")","v":""},"","",{"$f":"IF(ISNUMBER(E7),J7/(D7/60),\"\")","v":""},null,"adj g/h",{"$f":"MAX('Teom grams'!U4:U2003)","v":0}]
[3,{"$f":"IF(ISBLANK(C8),\"\",C7)","v":""},null,{"$f":"IF(OR(B8=\"\",C8=\"\"),\"\",IF(B8>C8,1440+((C8-B8)*1440),(C8-B8)*1440))","v":""},{"$f":"IF(OR(B8=\"\",C8=\"\"),\"\",SUMPRODUCT(--(LEN(INDIRECT(\"'Teom ugm3'!$H$\"&TEXT(SUM($D$6:D7)+6,\"0\")&\":$H$\"&TEXT(SUM($D$6:D8)+5,\"0\")))>0)))","v":""},{"$error":"#VALUE!"},{"$error":"#VALUE!"},null,null,"","","",""]
[4,"",null,"",{"$f":"IF(OR(B9=\"\",C9=\"\"),\"\",SUMPRODUCT(--(LEN(INDIRECT(\"'Teom ugm3'!$H$\"&TEXT(SUM($D$6:D8)+6,\"0\")&\":$H$\"&TEXT(SUM($D$6:D9)+5,\"0\")))>0)))","v":""},{"$error":"#VALUE!"},{"$error":"#VALUE!"},null,null,"","","",""]
[5,"",null,"",{"$f":"IF(OR(B10=\"\",C10=\"\"),\"\",SUMPRODUCT(--(LEN(INDIRECT(\"'Teom ugm3'!$H$\"&TEXT(SUM($D$6:D9)+6,\"0\")&\":$H$\"&TEXT(SUM($D$6:D10)+5,\"0\")))>0)))","v":""},{"$f":"IF(ISNUMBER(E10),100*E10/D10,\"\")","v":""},{"$f":"IF(ISNUMBER(E10),IF(F10<85,\"fail\",\"pass\"),\"\")","v":""},null,null,"","","",""]
[6,"",null,"",{"$f":"IF(OR(B11=\"\",C11=\"\"),\"\",SUMPRODUCT(--(LEN(INDIRECT(\"'Teom ugm3'!$H$\"&TEXT(SUM($D$6:D10)+6,\"0\")&\":$H$\"&TEXT(SUM($D$6:D11)+5,\"0\")))>0)))","v":""},{"$f":"IF(ISNUMBER(E11),100*E11/D11,\"\")","v":""},{"$f":"IF(ISNUMBER(E11),IF(F11<85,\"fail\",\"pass\"),\"\")","v":""},null,null,"","","",""]
[7,"",null,"",{"$f":"IF(OR(B12=\"\",C12=\"\"),\"\",SUMPRODUCT(--(LEN(INDIRECT(\"'Teom ugm3'!$H$\"&TEXT(SUM($D$6:D11)+6,\"0\")&\":$H$\"&TEXT(SUM($D$6:D12)+5,\"0\")))>0)))","v":""},"","",null,null,"","","",""]
[8,"",null,"",{"$f":"IF(OR(B13=\"\",C13=\"\"),\"\",SUMPRODUCT(--(LEN(INDIRECT(\"'Teom ugm3'!$H$\"&TEXT(SUM($D$6:D12)+6,\"0\")&\":$H$\"&TEXT(SUM($D$6:D13)+5,\"0\")))>0)))","v":""},"","",null,null,"","","",""]
[null,null,"Time QC Sum:",{"$f":"SUM(D6:D13)","v":0},{"$f":"SUM(E6:E13)","v":0},{"$error":"#DIV/0!"},null,"Full Run:",{"$f":"SUM(I6:I13)","v":0},{"$f":"SUM(J6:J13)","v":0},{"$f":"I34/J14","v":{"$error":"#DIV/0!"}},{"$f":"R34/J14","v":{"$error":"#DIV/0!"}},{"$f":"J14/(D14/60)","v":{"$error":"#DIV/0!"}}]
[null,null,"Time QC check:",{"$f":"MAX('Teom grams'!C4:C2003)+1","v":1},{"$f":"COUNT('Teom ugm3'!D6:D2003)","v":0}]
[]
[]
["================================================================================================================================================================================================================================================"]
[]
["RESULTS:",null,"Teom %D QC:",{"$f":"100*ABS('Teom ugm3'!B2-'Teom ugm3'!C2)/AVERAGE('Teom ugm3'!B2:C2)","v":{"$error":"#DIV/0!"}},{"$f":"IF(D20>7.5,\"FAIL\",\"Pass\")","v":{"$error":"#DIV/0!"}}]
[]
[null,"Un-adjusted PM 2.5",null,null,"Un-adjusted PM-c",null,null,"Un-adjusted Avg. PM",null,null,"adjusted PM 2.5",null,null,"adjusted PM-c",null,null,"adjusted Avg. PM"]
[null,"Un-adjusted results with negatives",null,null,"Un-adjusted results with negatives",null,null,"Un-adjusted results with negatives",null,null,"Adjusted results; <0 set to 0",null,null,"Adjusted results; <0 set to 0",null,null,"Adjusted results; <0 set to 0"]
[null,"Teom","Teom","% PM","Teom","Teom","% PM","Teom","Teom","% PM","Teom","Teom","% PM","Teom","Teom","% PM","Teom","Teom","% PM"]
["Phase","g/h","PM, g","of Total","g/h","PM, g","of Total","g/h","PM, g","of Total","g/h","PM, g","of Total","g/h","PM, g","of Total","g/h","PM, g","of Total"]
[1,{"$f":"IFERROR(C26/($E6/60),\"\")","v":""},{"$f":"IF(OR($B6=\"\",$C6=\"\"),\"\",SUM(INDIRECT(\"'Teom grams'!$H$4:$H$\"&TEXT($D6+3,\"0\"))))","v":""},{"$f":"IFERROR(100*C26/C$34,\"\")","v":""},{"$f":"IFERROR(F26/($E6/60),\"\")","v":""},{"$f":"IF(OR($B6=\"\",$C6=\"\"),\"\",SUM(INDIRECT(\"'Teom grams'!$I$4:$I$\"&TEXT($D6+3,\"0\"))))","v":""},{"$f":"IFERROR(100*F26/F$34,\"\")","v":""},{"$f":"IFERROR(I26/($E6/60),\"\")","v":""},{"$f":"IF(OR($B6=\"\",$C6=\"\"),\"\",SUM(INDIRECT(\"'Teom grams'!$J$4:$J$\"&TEXT($D6+3,\"0\"))))","v":""},{"$f":"IFERROR(100*I26/I$34,\"\")","v":""},{"$f":"IFERROR(L26/($E6/60),\"\")","v":""},{"$f":"IF(OR($B6=\"\",$C6=\"\"),\"\",SUM(INDIRECT(\"'Teom grams'!$K$4:$K$\"&TEXT($D6+3,\"0\"))))","v":""},{"$f":"IFERROR(100*L26/L$34,\"\")","v":""},{"$f":"IFERROR(O26/($E6/60),\"\")","v":""},{"$f":"IF(OR($B6=\"\",$C6=\"\"),\"\",SUM(INDIRECT(\"'Teom grams'!$L$4:$L$\"&TEXT($D6+3,\"0\"))))","v":""},{"$f":"IFERROR(100*O26/O$34,\"\")","v":""},{"$f":"IFERROR(R26/($E6/60),\"\")","v":""},{"$f":"IF(OR($B6=\"\",$C6=\"\"),\"\",SUM(INDIRECT(\"'Teom grams'!$M$4:$M$\"&TEXT($D6+3,\"0\"))))","v":""},{"$f":"IFERROR(100*R26/R$34,\"\")","v":""}]
[2,{"$f":"IFERROR(C27/($E7/60),\"\")","v":""},{"$f":"IF(OR($B7=\"\",$C7=\"\"),\"\",SUM(INDIRECT(\"'Teom grams'!$H$\"&TEXT(SUM($D$6:$D6)+4,\"0\")&\":$H$\"&TEXT(SUM($D$6:$D7)+3,\"0\"))))","v":""},{"$f":"IFERROR(100*C27/C$34,\"\")","v":""},"",{"$f":"IF(OR($B7=\"\",$C7=\"\"),\"\",SUM(INDIRECT(\"'Teom grams'!$I$\"&TEXT(SUM($D$6:$D6)+4,\"0\")&\":$I$\"&TEXT(SUM($D$6:$D7)+3,\"0\"))))","v":""},{"$f":"IFERROR(100*F27/F$34,\"\")","v":""},"",{"$f":"IF(OR($B7=\"\",$C7=\"\"),\"\",SUM(INDIRECT(\"'Teom grams'!$J$\"&TEXT(SUM($D$6:$D6)+4,\"0\")&\":$J$\"&TEXT(SUM($D$6:$D7)+3,\"0\"))))","v":""},{"$f":"IFERROR(100*I27/I$34,\"\")","v":""},"",{"$f":"IF(OR($B7=\"\",$C7=\"\"),\"\",SUM(INDIRECT(\"'Teom grams'!$K$\"&TEXT(SUM($D$6:$D6)+4,\"0\")&\":$K$\"&TEXT(SUM($D$6:$D7)+3,\"0\"))))","v":""},{"$f":"IFERROR(100*L27/L$34,\"\")","v":""},"",{"$f":"IF(OR($B7=\"\",$C7=\"\"),\"\",SUM(INDIRECT(\"'Teom grams'!$L$\"&TEXT(SUM($D$6:$D6)+4,\"0\")&\":$L$\"&TEXT(SUM($D$6:$D7)+3,\"0\"))))","v":""},{"$f":"IFERROR(100*O27/O$34,\"\")","v":""},"",{"$f":"IF(OR($B7=\"\",$C7=\"\"),\"\",SUM(INDIRECT(\"'Teom grams'!$M$\"&TEXT(SUM($D$6:$D6)+4,\"0\")&\":$M$\"&TEXT(SUM($D$6:$D7)+3,\"0\"))))","v":""},{"$f":"IFERROR(100*R27/R$34,\"\")","v":""}]
[3,"",{"$f":"IF(OR($B8=\"\",$C8=\"\"),\"\",SUM(INDIRECT(\"'Teom grams'!$H$\"&TEXT(SUM($D$6:$D7)+4,\"0\")&\":$H$\"&TEXT(SUM($D$6:$D8)+3,\"0\"))))","v":""},"","",{"$f":"IF(OR($B8=\"\",$C8=\"\"),\"\",SUM(INDIRECT(\"'Teom grams'!$I$\"&TEXT(SUM($D$6:$D7)+4,\"0\")&\":$I$\"&TEXT(SUM($D$6:$D8)+3,\"0\"))))","v":""},"","",{"$f":"IF(OR($B8=\"\",$C8=\"\"),\"\",SUM(INDIRECT(\"'Teom grams'!$J$\"&TEXT(SUM($D$6:$D7)+4,\"0\")&\":$J$\"&TEXT(SUM($D$6:$D8)+3,\"0\"))))","v":""},"","",{"$f":"IF(OR($B8=\"\",$C8=\"\"),\"\",SUM(INDIRECT(\"'Teom grams'!$K$\"&TEXT(SUM($D$6:$D7)+4,\"0\")&\":$K$\"&TEXT(SUM($D$6:$D8)+3,\"0\"))))","v":""},"","",{"$f":"IF(OR($B8=\"\",$C8=\"\"),\"\",SUM(INDIRECT(\"'Teom grams'!$L$\"&TEXT(SUM($D$6:$D7)+4,\"0\")&\":$L$\"&TEXT(SUM($D$6:$D8)+3,\"0\"))))","v":""},"","",{"$f":"IF(OR($B8=\"\",$C8=\"\"),\"\",SUM(INDIRECT(\"'Teom grams'!$M$\"&TEXT(SUM($D$6:$D7)+4,\"0\")&\":$M$\"&TEXT(SUM($D$6:$D8)+3,\"0\"))))","v":""},""]
[4,"",{"$f":"IF(OR($B9=\"\",$C9=\"\"),\"\",SUM(INDIRECT(\"'Teom grams'!$H$\"&TEXT(SUM($D$6:$D8)+4,\"0\")&\":$H$\"&TEXT(SUM($D$6:$D9)+3,\"0\"))))","v":""},"","",{"$f":"IF(OR($B9=\"\",$C9=\"\"),\"\",SUM(INDIRECT(\"'Teom grams'!$I$\"&TEXT(SUM($D$6:$D8)+4,\"0\")&\":$I$\"&TEXT(SUM($D$6:$D9)+3,\"0\"))))","v":""},"","",{"$f":"IF(OR($B9=\"\",$C9=\"\"),\"\",SUM(INDIRECT(\"'Teom grams'!$J$\"&TEXT(SUM($D$6:$D8)+4,\"0\")&\":$J$\"&TEXT(SUM($D$6:$D9)+3,\"0\"))))","v":""},"","",{"$f":"IF(OR($B9=\"\",$C9=\"\"),\"\",SUM(INDIRECT(\"'Teom grams'!$K$\"&TEXT(SUM($D$6:$D8)+4,\"0\")&\":$K$\"&TEXT(SUM($D$6:$D9)+3,\"0\"))))","v":""},"","",{"$f":"IF(OR($B9=\"\",$C9=\"\"),\"\",SUM(INDIRECT(\"'Teom grams'!$L$\"&TEXT(SUM($D$6:$D8)+4,\"0\")&\":$L$\"&TEXT(SUM($D$6:$D9)+3,\"0\"))))","v":""},"","",{"$f":"IF(OR($B9=\"\",$C9=\"\"),\"\",SUM(INDIRECT(\"'Teom grams'!$M$\"&TEXT(SUM($D$6:$D8)+4,\"0\")&\":$M$\"&TEXT(SUM($D$6:$D9)+3,\"0\"))))","v":""},""]
[5,"",{"$f":"IF(OR($B10=\"\",$C10=\"\"),\"\",SUM(INDIRECT(\"'Teom grams'!$H$\"&TEXT(SUM($D$6:$D9)+4,\"0\")&\":$H$\"&TEXT(SUM($D$6:$D10)+3,\"0\"))))","v":""},"","",{"$f":"IF(OR($B10=\"\",$C10=\"\"),\"\",SUM(INDIRECT(\"'Teom grams'!$I$\"&TEXT(SUM($D$6:$D9)+4,\"0\")&\":$I$\"&TEXT(SUM($D$6:$D10)+3,\"0\"))))","v":""},"","",{"$f":"IF(OR($B10=\"\",$C10=\"\"),\"\",SUM(INDIRECT(\"'Teom grams'!$J$\"&TEXT(SUM($D$6:$D9)+4,\"0\")&\":$J$\"&TEXT(SUM($D$6:$D10)+3,\"0\"))))","v":""},"","",{"$f":"IF(OR($B10=\"\",$C10=\"\"),\"\",SUM(INDIRECT(\"'Teom grams'!$K$\"&TEXT(SUM($D$6:$D9)+4,\"0\")&\":$K$\"&TEXT(SUM($D$6:$D10)+3,\"0\"))))","v":""},"","",{"$f":"IF(OR($B10=\"\",$C10=\"\"),\"\",SUM(INDIRECT(\"'Teom grams'!$L$\"&TEXT(SUM($D$6:$D9)+4,\"0\")&\":$L$\"&TEXT(SUM($D$6:$D10)+3,\"0\"))))","v":""},"","",{"$f":"IF(OR($B10=\"\",$C10=\"\"),\"\",SUM(INDIRECT(\"'Teom grams'!$M$\"&TEXT(SUM($D$6:$D9)+4,\"0\")&\":$M$\"&TEXT(SUM($D$6:$D10)+3,\"0\"))))","v":""},""]
[6,"",{"$f":"IF(OR($B11=\"\",$C11=\"\"),\"\",SUM(INDIRECT(\"'Teom grams'!$H$\"&TEXT(SUM($D$6:$D10)+4,\"0\")&\":$H$\"&TEXT(SUM($D$6:$D11)+3,\"0\"))))","v":""},"","",{"$f":"IF(OR($B11=\"\",$C11=\"\"),\"\",SUM(INDIRECT(\"'Teom grams'!$I$\"&TEXT(SUM($D$6:$D10)+4,\"0\")&\":$I$\"&TEXT(SUM($D$6:$D11)+3,\"0\"))))","v":""},"","",{"$f":"IF(OR($B11=\"\",$C11=\"\"),\"\",SUM(INDIRECT(\"'Teom grams'!$J$\"&TEXT(SUM($D$6:$D10)+4,\"0\")&\":$J$\"&TEXT(SUM($D$6:$D11)+3,\"0\"))))","v":""},"","",{"$f":"IF(OR($B11=\"\",$C11=\"\"),\"\",SUM(INDIRECT(\"'Teom grams'!$K$\"&TEXT(SUM($D$6:$D10)+4,\"0\")&\":$K$\"&TEXT(SUM($D$6:$D11)+3,\"0\"))))","v":""},"","",{"$f":"IF(OR($B11=\"\",$C11=\"\"),\"\",SUM(INDIRECT(\"'Teom grams'!$L$\"&TEXT(SUM($D$6:$D10)+4,\"0\")&\":$L$\"&TEXT(SUM($D$6:$D11)+3,\"0\"))))","v":""},"","",{"$f":"IF(OR($B11=\"\",$C11=\"\"),\"\",SUM(INDIRECT(\"'Teom grams'!$M$\"&TEXT(SUM($D$6:$D10)+4,\"0\")&\":$M$\"&TEXT(SUM($D$6:$D11)+3,\"0\"))))","v":""},""]
[7,"",{"$f":"IF(OR($B12=\"\",$C12=\"\"),\"\",SUM(INDIRECT(\"'Teom grams'!$H$\"&TEXT(SUM($D$6:$D11)+4,\"0\")&\":$H$\"&TEXT(SUM($D$6:$D12)+3,\"0\"))))","v":""},"","",{"$f":"IF(OR($B12=\"\",$C12=\"\"),\"\",SUM(INDIRECT(\"'Teom grams'!$I$\"&TEXT(SUM($D$6:$D11)+4,\"0\")&\":$I$\"&TEXT(SUM($D$6:$D12)+3,\"0\"))))","v":""},"","",{"$f":"IF(OR($B12=\"\",$C12=\"\"),\"\",SUM(INDIRECT(\"'Teom grams'!$J$\"&TEXT(SUM($D$6:$D11)+4,\"0\")&\":$J$\"&TEXT(SUM($D$6:$D12)+3,\"0\"))))","v":""},"","",{"$f":"IF(OR($B12=\"\",$C12=\"\"),\"\",SUM(INDIRECT(\"'Teom grams'!$K$\"&TEXT(SUM($D$6:$D11)+4,\"0\")&\":$K$\"&TEXT(SUM($D$6:$D12)+3,\"0\"))))","v":""},"","",{"$f":"IF(OR($B12=\"\",$C12=\"\"),\"\",SUM(INDIRECT(\"'Teom grams'!$L$\"&TEXT(SUM($D$6:$D11)+4,\"0\")&\":$L$\"&TEXT(SUM($D$6:$D12)+3,\"0\"))))","v":""},"","",{"$f":"IF(OR($B12=\"\",$C12=\"\"),\"\",SUM(INDIRECT(\"'Teom grams'!$M$\"&TEXT(SUM($D$6:$D11)+4,\"0\")&\":$M$\"&TEXT(SUM($D$6:$D12)+3,\"0\"))))","v":""},""]
[8,"",{"$f":"IF(OR($B13=\"\",$C13=\"\"),\"\",SUM(INDIRECT(\"'Teom grams'!$H$\"&TEXT(SUM($D$6:$D12)+4,\"0\")&\":$H$\"&TEXT(SUM($D$6:$D13)+3,\"0\"))))","v":""},"","",{"$f":"IF(OR($B13=\"\",$C13=\"\"),\"\",SUM(INDIRECT(\"'Teom grams'!$I$\"&TEXT(SUM($D$6:$D12)+4,\"0\")&\":$I$\"&TEXT(SUM($D$6:$D13)+3,\"0\"))))","v":""},"","",{"$f":"IF(OR($B13=\"\",$C13=\"\"),\"\",SUM(INDIRECT(\"'Teom grams'!$J$\"&TEXT(SUM($D$6:$D12)+4,\"0\")&\":$J$\"&TEXT(SUM($D$6:$D13)+3,\"0\"))))","v":""},"","",{"$f":"IF(OR($B13=\"\",$C13=\"\"),\"\",SUM(INDIRECT(\"'Teom grams'!$K$\"&TEXT(SUM($D$6:$D12)+4,\"0\")&\":$K$\"&TEXT(SUM($D$6:$D13)+3,\"0\"))))","v":""},"","",{"$f":"IF(OR($B13=\"\",$C13=\"\"),\"\",SUM(INDIRECT(\"'Teom grams'!$L$\"&TEXT(SUM($D$6:$D12)+4,\"0\")&\":$L$\"&TEXT(SUM($D$6:$D13)+3,\"0\"))))","v":""},"","",{"$f":"IF(OR($B13=\"\",$C13=\"\"),\"\",SUM(INDIRECT(\"'Teom grams'!$M$\"&TEXT(SUM($D$6:$D12)+4,\"0\")&\":$M$\"&TEXT(SUM($D$6:$D13)+3,\"0\"))))","v":""},""]
["Sum",null,{"$f":"SUM(C26:C33)","v":0},{"$f":"SUM(D26:D33)","v":0},null,{"$f":"SUM(F26:F33)","v":0},{"$f":"SUM(G26:G33)","v":0},null,{"$f":"SUM(I26:I33)","v":0},{"$f":"SUM(J26:J33)","v":0},null,{"$f":"SUM(L26:L33)","v":0},{"$f":"SUM(M26:M33)","v":0},null,{"$f":"SUM(O26:O33)","v":0},{"$f":"SUM(P26:P33)","v":0},null,{"$f":"SUM(R26:R33)","v":0},{"$f":"SUM(S26:S33)","v":0}]
[null,"QC g sum:",{"$f":"SUM('Teom grams'!H4:H2003)","v":0},null,null,{"$f":"SUM('Teom grams'!I4:I2003)","v":0},null,null,{"$f":"SUM('Teom grams'!J4:J2003)","v":0},null,null,{"$f":"SUM('Teom grams'!K4:K2003)","v":0},null,null,{"$f":"SUM('Teom grams'!L4:L2003)","v":0},null,null,{"$f":"SUM('Teom grams'!M4:M2003)","v":0}]
["Avg g/h:",{"$f":"C34/($E$14/60)","v":{"$error":"#DIV/0!"}},null,null,{"$f":"F34/($E$14/60)","v":{"$error":"#DIV/0!"}},null,null,{"$f":"I34/($E$14/60)","v":{"$error":"#DIV/0!"}},null,null,{"$f":"L34/($E$14/60)","v":{"$error":"#DIV/0!"}},null,null,{"$f":"O34/($E$14/60)","v":{"$error":"#DIV/0!"}},null,null,{"$f":"R34/($E$14/60)","v":{"$error":"#DIV/0!"}}]

{"sheet":"change log","index":4,"n_rows":12,"n_cols":1,"rows_kept":12,"cut":false,"hidden":false,"merged":[]}
["7/5/24. Version 0.9,  grams by phase and not including missing Teom minutes."]
["7/24/24. Version 0.95,  grams by phase and not including missing Teom minutes."]
["8/23/24. Version 1.0,  grams by phase and not including missing Teom minutes."]
["9/27/24. Ver 1.01.  Added runavg g/h on Summary Phase Data tab to bottom of results table.  Fixed spelling."]
["10/11/24. Ver 1.02.  Added comment describing Teom %D QC value in Summary phase tab, cell D20.  Pass/Fail is Teom SOP 7.5%, not ASTM 15%."]
["10/22/24. Ver 1.03.  Fixed lookup on phase summary tab, formulas for cells E6-E13."]
["1/3/25. Ver 1.04. Moved standard T adjustment to Teom data template."]
["4/30/25. Ver 1.05.  Removed lab air.  Calcs are the same as before with lab air = 0.  Added 1-h max rolling g and g/h, and phase g/kg.  Removed old unused hidden columns."]
["5/19/25. Ver 1.06. Added DBR calc to summary tab."]
["5/29/25. Ver 1.07. Fixed QC formula in Row 35 in summary tab. Removed rolling 1-h grams calc."]
["7/9/25. Ver 1.08.  Updated comment on Teom ugm3 tab to point to correct columns in Teom data template. No calc changes."]
["7/11/25. Ver 1.09.  Changed fuel entery from kg to # to match fuel calc data.  Dislplay all fuel related data to 2 decimal places."]

{"sheet":"NYSERDA permission and limits","index":5,"n_rows":0,"n_cols":0,"rows_kept":0,"cut":false,"hidden":false,"merged":[]}